Dist-Zilla-Plugin-Git v2.051 Perl 5 v5.41.5 x86_64-dragonfly-thread-multi
- Status
- Pass
- From
- Carlos Guevara
- Dist
-
Dist-Zilla-Plugin-Git v2.051
- Platform
- Perl 5 v5.41.5 x86_64-dragonfly-thread-multi
- Date
- 2024-10-05 08:01:18
- ID
- 0080c4e2-82f0-11ef-96c4-86559a15e42a
This distribution has been tested as part of the CPAN Testers
project, supporting the Perl programming language. See
http://wiki.cpantesters.org/ for more information or email
questions to cpan-testers-discuss@perl.org
--
Dear Karen Etheridge,
This is a computer-generated report for Dist-Zilla-Plugin-Git-2.051
on perl 5.41.5, created by CPAN-Reporter-1.2020.
Thank you for uploading your work to CPAN. Congratulations!
All tests were successful.
Sections of this report:
* Tester comments
* Program output
* Prerequisites
* Environment and other context
------------------------------
TESTER COMMENTS
------------------------------
Additional comments from tester:
this report is from an automated smoke testing program
and was not reviewed by a human for accuracy
------------------------------
PROGRAM OUTPUT
------------------------------
Output from '/usr/bin/make test':
"/home/cpan/bin/perl/bin/perl5.41.5" "-Iblib/arch" "-Iblib/lib" Makefile_git.PL Makefile_git
PERL_DL_NONLAZY=1 "/home/cpan/bin/perl/bin/perl5.41.5" "-MExtUtils::Command::MM" "-MTest::Harness" "-e" "undef *Test::Harness::Switches; test_harness(0, 'blib/lib', 'blib/arch')" t/*.t
#
# Versions for all modules listed in MYMETA.json (including optional ones):
#
# === Configure Requires ===
#
# Module Want Have
# ------------------- ----- --------
# ExtUtils::MakeMaker any 7.70
# Text::ParseWords any 3.31
# perl 5.010 5.041005
# version any 0.9933
#
# === Build Requires ===
#
# Module Want Have
# ------------------- ---- ----
# ExtUtils::MakeMaker any 7.70
#
# === Test Requires ===
#
# Module Want Have
# -------------------------------- ----- --------
# CPAN::Meta::Check 0.011 0.018
# CPAN::Meta::Requirements any 2.143
# Dist::Zilla::File::InMemory any 6.032
# Dist::Zilla::Plugin::Config::Git any 0.92
# Dist::Zilla::Role::Releaser any 6.032
# Dist::Zilla::Tester any 6.032
# Encode any 3.21
# Exporter any 5.78
# ExtUtils::MakeMaker any 7.70
# File::Copy any 2.41
# File::Copy::Recursive any 0.45
# File::Path 2.07 2.18
# File::Spec any 3.93
# File::Which any 1.27
# File::pushd any 1.016
# Log::Dispatchouli any 3.007
# Test::DZil any 6.032
# Test::Fatal any 0.017
# Test::More 0.88 1.302204
# lib any 0.65
# perl 5.010 5.041005
# utf8 any 1.27
#
# === Test Recommends ===
#
# Module Want Have
# ---------- -------- --------
# CPAN::Meta 2.120900 2.150010
#
# === Runtime Requires ===
#
# Module Want Have
# ---------------------------------- -------- --------
# Cwd any 3.92
# DateTime any 1.65
# Dist::Zilla 4 6.032
# Dist::Zilla::Plugin::GatherDir 4.200016 6.032
# Dist::Zilla::Role::AfterBuild any 6.032
# Dist::Zilla::Role::AfterMint any 6.032
# Dist::Zilla::Role::AfterRelease any 6.032
# Dist::Zilla::Role::BeforeRelease any 6.032
# Dist::Zilla::Role::FilePruner any 6.032
# Dist::Zilla::Role::GitConfig any 0.92
# Dist::Zilla::Role::PluginBundle any 6.032
# Dist::Zilla::Role::VersionProvider any 6.032
# File::Spec::Functions any 3.93
# File::Temp any 0.2311
# File::chdir any 0.1011
# Git::Wrapper 0.021 0.048
# IPC::Open3 any 1.23
# IPC::System::Simple any 1.30
# List::Util 1.45 1.66
# Module::Runtime any 0.016
# Moose any 2.2207
# Moose::Role any 2.2207
# MooseX::Has::Sugar any 1.000006
# Path::Tiny 0.048 0.146
# String::Formatter any 1.235
# Try::Tiny any 0.32
# Type::Utils any 2.006000
# Types::Path::Tiny any 0.006
# Types::Standard any 2.006000
# Version::Next any 1.000
# constant any 1.33
# namespace::autoclean 0.09 0.29
# perl 5.010 5.041005
# strict any 1.13
# version 0.80 0.9933
# warnings any 1.70
#
# === Other Modules ===
#
# Module Have
# --------------- ------
# Encode 3.21
# File::Temp 0.2311
# JSON::PP 4.16
# Module::Runtime 0.016
# Pod::Coverage 0.23
# Sub::Name 0.27
# YAML 1.31
# autodie 2.37
#
t/00-report-prereqs.t ........... ok
# git version 2.43.0
t/000-report-git-version.t ...... ok
t/check.t ....................... ok
t/commit-build-custom.t ......... ok
t/commit-build-src-as-parent.t .. ok
t/commit-build.t ................ ok
t/commit-dirtydir.t ............. ok
t/commit-message.t .............. ok
t/commit-signoff.t .............. ok
t/commit-utf8.t ................. ok
t/commit-ws.t ................... ok
t/commit.t ...................... ok
t/gatherdir-multi.t ............. ok
t/gatherdir.t ................... ok
t/push-gitconfig.t .............. ok
t/push-multi.t .................. ok
t/push.t ........................ ok
t/repo-dir.t .................... ok
t/tag-signed.t .................. ok
t/tag.t ......................... ok
t/version-by-branch.t ........... ok
t/version-default.t ............. ok
t/version-extraction.t .......... ok
t/version-regexp.t .............. ok
t/zzz-check-breaks.t ............ ok
All tests successful.
Files=25, Tests=211, 23 wallclock secs ( 0.10 usr 0.04 sys + 15.62 cusr 6.85 csys = 22.62 CPU)
Result: PASS
------------------------------
PREREQUISITES
------------------------------
Prerequisite modules loaded:
requires:
Module Need Have
---------------------------------- -------- --------
constant 0 1.33
Cwd 0 3.92
DateTime 0 1.65
Dist::Zilla 4 6.032
Dist::Zilla::Plugin::GatherDir 4.200016 6.032
Dist::Zilla::Role::AfterBuild 0 6.032
Dist::Zilla::Role::AfterMint 0 6.032
Dist::Zilla::Role::AfterRelease 0 6.032
Dist::Zilla::Role::BeforeRelease 0 6.032
Dist::Zilla::Role::FilePruner 0 6.032
Dist::Zilla::Role::GitConfig 0 0.92
Dist::Zilla::Role::PluginBundle 0 6.032
Dist::Zilla::Role::VersionProvider 0 6.032
File::chdir 0 0.1011
File::Spec::Functions 0 3.93
File::Temp 0 0.2311
Git::Wrapper 0.021 0.048
IPC::Open3 0 1.23
IPC::System::Simple 0 1.30
List::Util 1.45 1.66
Module::Runtime 0 0.016
Moose 0 2.2207
Moose::Role 0 2.2207
MooseX::Has::Sugar 0 1.000006
namespace::autoclean 0.09 0.29
Path::Tiny 0.048 0.146
perl 5.010 5.041005
strict 0 1.13
String::Formatter 0 1.235
Try::Tiny 0 0.32
Type::Utils 0 2.006000
Types::Path::Tiny 0 0.006
Types::Standard 0 2.006000
version 0.80 0.9933
Version::Next 0 1.000
warnings 0 1.70
build_requires:
Module Need Have
---------------------------------- -------- --------
CPAN::Meta::Check 0.011 0.018
CPAN::Meta::Requirements 0 2.143
Dist::Zilla::File::InMemory 0 6.032
Dist::Zilla::Plugin::Config::Git 0 0.92
Dist::Zilla::Role::Releaser 0 6.032
Dist::Zilla::Tester 0 6.032
Encode 0 3.21
Exporter 0 5.78
ExtUtils::MakeMaker 0 7.70
File::Copy 0 2.41
File::Copy::Recursive 0 0.45
File::Path 2.07 2.18
File::pushd 0 1.016
File::Spec 0 3.93
File::Which 0 1.27
lib 0 0.65
Log::Dispatchouli 0 3.007
Test::DZil 0 6.032
Test::Fatal 0 0.017
Test::More 0.88 1.302204
utf8 0 1.27
configure_requires:
Module Need Have
---------------------------------- -------- --------
ExtUtils::MakeMaker 0 7.70
perl 5.010 5.041005
Text::ParseWords 0 3.31
version 0 0.9933
------------------------------
ENVIRONMENT AND OTHER CONTEXT
------------------------------
Environment variables:
AUTOMATED_TESTING = 1
DATE_MANIP_TEST_DM5 = 1
LC_ALL = C
NONINTERACTIVE_TESTING = 1
NO_NETWORK_TESTING = 1
PATH = /home/cpan/bin/perl/bin:/home/cpan/bin:/sbin:/bin:/usr/sbin:/usr/bin:/usr/games:/usr/local/sbin:/usr/local/bin:/usr/pkg/sbin:/usr/pkg/bin:/home/cpan/bin
PERL5LIB =
PERL5OPT =
PERL5_CPANPLUS_IS_RUNNING = 299932
PERL5_CPAN_IS_RUNNING = 299932
PERL_MM_USE_DEFAULT = 1
PERL_USE_UNSAFE_INC = 1
SHELL = /usr/local/bin/bash
TERM = screen
TMPDIR = /home/cpan/tmp
Perl special variables (and OS-specific diagnostics, for MSWin32):
$^X = /home/cpan/bin/perl/bin/perl5.41.5
$UID/$EUID = 1002 / 1002
$GID = 1002 1002
$EGID = 1002 1002
Perl module toolchain versions installed:
Module Have
------------------- --------
CPAN 2.37
CPAN::Meta 2.150010
Cwd 3.92
ExtUtils::CBuilder 0.280240
ExtUtils::Command 7.70
ExtUtils::Install 2.22
ExtUtils::MakeMaker 7.70
ExtUtils::Manifest 1.75
ExtUtils::ParseXS 3.54
File::Spec 3.93
JSON 4.10
JSON::PP 4.16
Module::Build 0.4234
Module::Signature n/a
Parse::CPAN::Meta 2.150010
Test2 1.302204
Test::Harness 3.50
Test::More 1.302204
YAML 1.31
YAML::Syck n/a
version 0.9933
--
Summary of my perl5 (revision 5 version 41 subversion 5) configuration:
Commit id: b66abe3878e48c99de059364b052d96c7be8ee75
Platform:
osname=dragonfly
osvers=6.4-release
archname=x86_64-dragonfly-thread-multi
uname='dragonfly cjg-dragonfly6 6.4-release dragonfly v6.4.0-release #54: fri dec 30 09:06:50 pst 2022 root@pkgbox64.dragonflybsd.org:usrobjusrsrcsysx86_64_generic x86_64 '
config_args='-des -Dprefix=/home/cpan/bin/perl -Dscriptdir=/home/cpan/bin/perl/bin -Dusedevel -Duse64bitall -Duseithreads'
hint=recommended
useposix=true
d_sigaction=define
useithreads=define
usemultiplicity=define
use64bitint=define
use64bitall=define
uselongdouble=undef
usemymalloc=n
default_inc_excludes_dot=define
Compiler:
cc='cc'
ccflags ='-DHAS_FPSETMASK -DHAS_FLOATINGPOINT_H -DNO_POSIX_2008_LOCALE -fwrapv -fno-strict-aliasing -pipe -fstack-protector-strong -I/usr/local/include -D_FORTIFY_SOURCE=2'
optimize='-O2'
cppflags='-DHAS_FPSETMASK -DHAS_FLOATINGPOINT_H -DNO_POSIX_2008_LOCALE -fwrapv -fno-strict-aliasing -pipe -fstack-protector-strong -I/usr/local/include'
ccversion=''
gccversion='8.3 [DragonFly] Release/2019-02-22'
gccosandvers=''
intsize=4
longsize=8
ptrsize=8
doublesize=8
byteorder=12345678
doublekind=3
d_longlong=define
longlongsize=8
d_longdbl=define
longdblsize=16
longdblkind=3
ivtype='long'
ivsize=8
nvtype='double'
nvsize=8
Off_t='off_t'
lseeksize=8
alignbytes=8
prototype=define
Linker and Libraries:
ld='cc'
ldflags ='-pthread -Wl,-E -fstack-protector-strong -L/usr/local/lib'
libpth=/usr/lib /usr/local/lib
libs=-lpthread -lgdbm -ldl -lm -lcrypt -lutil -lc
perllibs=-lpthread -ldl -lm -lcrypt -lutil -lc
libc=
so=so
useshrplib=false
libperl=libperl.a
gnulibc_version=''
Dynamic Linking:
dlsrc=dl_dlopen.xs
dlext=so
d_dlsymun=undef
ccdlflags=' '
cccdlflags='-DPIC -fPIC'
lddlflags='-shared -L/usr/local/lib -fstack-protector-strong'
Characteristics of this binary (from libperl):
Compile-time options:
HAS_LONG_DOUBLE
HAS_STRTOLD
HAS_TIMES
MULTIPLICITY
PERLIO_LAYERS
PERL_COPY_ON_WRITE
PERL_DONT_CREATE_GVSV
PERL_HASH_FUNC_SIPHASH13
PERL_HASH_USE_SBOX32
PERL_MALLOC_WRAP
PERL_OP_PARENT
PERL_PRESERVE_IVUV
PERL_USE_DEVEL
PERL_USE_SAFE_PUTENV
USE_64_BIT_ALL
USE_64_BIT_INT
USE_ITHREADS
USE_LARGE_FILES
USE_LOCALE
USE_LOCALE_COLLATE
USE_LOCALE_CTYPE
USE_LOCALE_NUMERIC
USE_LOCALE_TIME
USE_PERLIO
USE_PERL_ATOF
USE_REENTRANT_API
Built under dragonfly
Compiled at Oct 5 2024 00:55:36
%ENV:
PERL5LIB=""
PERL5OPT=""
PERL5_CPANPLUS_IS_RUNNING="299932"
PERL5_CPAN_IS_RUNNING="299932"
PERL_MM_USE_DEFAULT="1"
PERL_USE_UNSAFE_INC="1"
@INC:
/home/cpan/bin/perl/lib/site_perl/5.41.5/x86_64-dragonfly-thread-multi
/home/cpan/bin/perl/lib/site_perl/5.41.5
/home/cpan/bin/perl/lib/5.41.5/x86_64-dragonfly-thread-multi
/home/cpan/bin/perl/lib/5.41.5
.