Ceph-Lib-Rbd v0.02 Perl 5 v5.12.5 OpenBSD.amd64-openbsd

Status
Pass
From
Chris Williams (BINGOS)
Dist
Ceph-Lib-Rbd v0.02
Platform
Perl 5 v5.12.5 OpenBSD.amd64-openbsd
Date
2015-12-03T03:00:25
ID
00497614-996a-11e5-b891-6b81aef69d38
This distribution has been tested as part of the CPAN Testers
project, supporting the Perl programming language.  See
http://wiki.cpantesters.org/ for more information or email
questions to cpan-testers-discuss@perl.org


--

Dear PYH,

This is a computer-generated error report created automatically by
CPANPLUS, version 0.9156. Testers personal comments may appear
at the end of this report.


Thank you for uploading your work to CPAN.  Congratulations!
All tests were successful.

TEST RESULTS:

Below is the error stack from stage 'make test':

PERL_DL_NONLAZY=1 "/home/cpan/pit/bare/perl-5.12.5/bin/perl" "-MExtUtils::Command::MM" "-MTest::Harness" "-e" "undef *Test::Harness::Switches; test_harness(0, 'blib/lib', 'blib/arch')" t/*.t
# Testing Ceph::Lib::Rbd 0.02, Perl 5.012005, /home/cpan/pit/bare/perl-5.12.5/bin/perl
t/00-load.t ....... ok
t/boilerplate.t ... ok
t/manifest.t ...... skipped: Author tests not required for installation
t/pod-coverage.t .. skipped: Test::Pod::Coverage 1.08 required for testing POD coverage
t/pod.t ........... skipped: Test::Pod 1.22 required for testing POD
All tests successful.

Test Summary Report
-------------------
t/boilerplate.t (Wstat: 0 Tests: 3 Failed: 0)
  TODO passed:   2-3
Files=5, Tests=4,  0 wallclock secs ( 0.01 usr  0.06 sys +  0.11 cusr  0.02 csys =  0.20 CPU)
Result: PASS


PREREQUISITES:

Here is a list of prerequisites you specified and versions we
managed to load:

	  Module Name                        Have     Want
	  ExtUtils::MakeMaker                7.10        0
	  Test::More                     1.001014        0

Perl module toolchain versions installed:
	Module Name                        Have
	CPANPLUS                         0.9156
	CPANPLUS::Dist::Build              0.78
	Cwd                                3.47
	ExtUtils::CBuilder             0.280224
	ExtUtils::Command                  7.10
	ExtUtils::Install                  2.04
	ExtUtils::MakeMaker                7.10
	ExtUtils::Manifest                 1.70
	ExtUtils::ParseXS                  3.30
	File::Spec                         3.47
	Module::Build                    0.4214
	Pod::Parser                        1.37
	Pod::Simple                        3.14
	Test::Harness                      3.35
	Test::More                     1.001014
	version                          0.9912

******************************** NOTE ********************************
The comments above are created mechanically, possibly without manual
checking by the sender.  As there are many people performing automatic
tests on each upload to CPAN, it is likely that you will receive
identical messages about the same problem.

If you believe that the message is mistaken, please reply to the first
one with correction and/or additional informations, and do not take
it personally.  We appreciate your patience. :)
**********************************************************************

Additional comments:


This report was machine-generated by CPANPLUS::Dist::YACSmoke 0.94.
Powered by minismokebox version 0.58

------------------------------
ENVIRONMENT AND OTHER CONTEXT
------------------------------

Environment variables:

    AUTOMATED_TESTING = 1
    NONINTERACTIVE_TESTING = 1
    PATH = /home/cpan/bin:/bin:/sbin:/usr/bin:/usr/sbin:/usr/X11R6/bin:/usr/local/bin:/usr/local/sbin:/usr/games:.
    PERL5LIB = :/home/cpan/pit/bare/conf/perl-5.12.5/.cpanplus/5.12.5/build/res8qX8S19/Ceph-Lib-Rbd/blib/lib:/home/cpan/pit/bare/conf/perl-5.12.5/.cpanplus/5.12.5/build/res8qX8S19/Ceph-Lib-Rbd/blib/arch
    PERL5_CPANPLUS_IS_RUNNING = 5515
    PERL5_CPANPLUS_IS_VERSION = 0.9156
    PERL5_MINISMOKEBOX = 0.58
    PERL5_YACSMOKE_BASE = /home/cpan/pit/bare/conf/perl-5.12.5
    PERL_EXTUTILS_AUTOINSTALL = --defaultdeps
    PERL_MM_USE_DEFAULT = 1
    SHELL = /usr/local/bin/bash
    TERM = screen

Perl special variables (and OS-specific diagnostics, for MSWin32):

    Perl: $^X = /home/cpan/pit/bare/perl-5.12.5/bin/perl
    UID:  $<  = 1001
    EUID: $>  = 1001
    GID:  $(  = 1001 1001
    EGID: $)  = 1001 1001


-------------------------------


--

Summary of my perl5 (revision 5 version 12 subversion 5) configuration:
   
  Platform:
    osname=openbsd, osvers=5.7, archname=OpenBSD.amd64-openbsd
    uname='openbsd ocsygen.bingosnet.co.uk 5.7 generic#825 amd64 '
    config_args='-des -Dprefix=/home/cpan/pit/bare/perl-5.12.5'
    hint=recommended, useposix=true, d_sigaction=define
    useithreads=undef, usemultiplicity=undef
    useperlio=define, d_sfio=undef, uselargefiles=define, usesocks=undef
    use64bitint=define, use64bitall=define, uselongdouble=undef
    usemymalloc=n, bincompat5005=undef
  Compiler:
    cc='cc', ccflags ='-fno-strict-aliasing -pipe -fstack-protector -I/usr/local/include',
    optimize='-O2',
    cppflags='-fno-strict-aliasing -pipe -fstack-protector -I/usr/local/include'
    ccversion='', gccversion='4.2.1 20070719 ', gccosandvers='openbsd5.7'
    intsize=4, longsize=8, ptrsize=8, doublesize=8, byteorder=12345678
    d_longlong=define, longlongsize=8, d_longdbl=define, longdblsize=16
    ivtype='long', ivsize=8, nvtype='double', nvsize=8, Off_t='off_t', lseeksize=8
    alignbytes=8, prototype=define
  Linker and Libraries:
    ld='cc', ldflags ='-Wl,-E  -fstack-protector -L/usr/local/lib'
    libpth=/usr/local/lib /usr/lib
    libs=-lgdbm -lm -lutil -lc
    perllibs=-lm -lutil -lc
    libc=/usr/lib/libc.so.78.1, so=so, useshrplib=false, libperl=libperl.a
    gnulibc_version=''
  Dynamic Linking:
    dlsrc=dl_dlopen.xs, dlext=so, d_dlsymun=undef, ccdlflags=' '
    cccdlflags='-DPIC -fPIC ', lddlflags='-shared -fPIC  -L/usr/local/lib -fstack-protector'


Characteristics of this binary (from libperl): 
  Compile-time options: PERL_DONT_CREATE_GVSV PERL_MALLOC_WRAP USE_64_BIT_ALL
                        USE_64_BIT_INT USE_LARGE_FILES USE_PERLIO
                        USE_PERL_ATOF
  Locally applied patches:
	Devel::PatchPerl 1.34
  Built under openbsd
  Compiled at May 24 2015 17:04:52
  %ENV:
    PERL5LIB=":/home/cpan/pit/bare/conf/perl-5.12.5/.cpanplus/5.12.5/build/res8qX8S19/Ceph-Lib-Rbd/blib/lib:/home/cpan/pit/bare/conf/perl-5.12.5/.cpanplus/5.12.5/build/res8qX8S19/Ceph-Lib-Rbd/blib/arch"
    PERL5_CPANPLUS_IS_RUNNING="5515"
    PERL5_CPANPLUS_IS_VERSION="0.9156"
    PERL5_MINISMOKEBOX="0.58"
    PERL5_YACSMOKE_BASE="/home/cpan/pit/bare/conf/perl-5.12.5"
    PERL_EXTUTILS_AUTOINSTALL="--defaultdeps"
    PERL_MM_USE_DEFAULT="1"
  @INC:
    /home/cpan/pit/bare/conf/perl-5.12.5/.cpanplus/5.12.5/build/res8qX8S19/Ceph-Lib-Rbd/blib/lib
    /home/cpan/pit/bare/conf/perl-5.12.5/.cpanplus/5.12.5/build/res8qX8S19/Ceph-Lib-Rbd/blib/arch
    /home/cpan/pit/bare/perl-5.12.5/lib/site_perl/5.12.5/OpenBSD.amd64-openbsd
    /home/cpan/pit/bare/perl-5.12.5/lib/site_perl/5.12.5
    /home/cpan/pit/bare/perl-5.12.5/lib/5.12.5/OpenBSD.amd64-openbsd
    /home/cpan/pit/bare/perl-5.12.5/lib/5.12.5
    .