Test-Class-Moose v0.98 Perl 5 v5.18.4 x86_64-linux

Status
Pass
From
Slaven Rezić (SREZIC)
Dist
Test-Class-Moose v0.98
Platform
Perl 5 v5.18.4 x86_64-linux
Date
2020-05-06 22:14:49
ID
0039395c-8fe7-11ea-a64d-a21b1f24ea8f
This distribution has been tested as part of the CPAN Testers
project, supporting the Perl programming language.  See
http://wiki.cpantesters.org/ for more information or email
questions to cpan-testers-discuss@perl.org


--
Dear Dave Rolsky,

This is a computer-generated report for Test-Class-Moose-0.98
on perl 5.18.4, created by CPAN-Reporter-1.2018.

Thank you for uploading your work to CPAN.  Congratulations!
All tests were successful.

Sections of this report:

    * Tester comments
    * Program output
    * Prerequisites
    * Environment and other context

------------------------------
TESTER COMMENTS
------------------------------

Additional comments from tester:

none provided

------------------------------
PROGRAM OUTPUT
------------------------------

Output from '/usr/bin/make test':

PERL_DL_NONLAZY=1 "/opt/perl-5.18.4/bin/perl" "-MExtUtils::Command::MM" "-MTest::Harness" "-e" "undef *Test::Harness::Switches; test_harness(0, 'blib/lib', 'blib/arch')" t/*.t
# 
# Versions for all modules listed in MYMETA.json (including optional ones):
# 
# === Configure Requires ===
# 
#     Module              Want Have
#     ------------------- ---- ----
#     ExtUtils::MakeMaker  any 7.44
# 
# === Build Requires ===
# 
#     Module              Want Have
#     ------------------- ---- ----
#     ExtUtils::MakeMaker  any 7.44
# 
# === Test Requires ===
# 
#     Module                    Want     Have
#     --------------------- -------- --------
#     ExtUtils::MakeMaker        any     7.44
#     File::Spec                 any     3.75
#     File::Temp                 any   0.2309
#     Test2::Tools::Basic        any 0.000129
#     Test2::Tools::Class        any 0.000129
#     Test2::Tools::Compare      any 0.000129
#     Test2::Tools::Subtest      any 0.000129
#     Test2::V0                  any 0.000129
#     Test::Builder              any 1.302175
#     Test::More            1.302015 1.302175
#     Test::Requires             any     0.10
#     Test::Warnings             any    0.030
#     lib                        any     0.63
# 
# === Test Recommends ===
# 
#     Module           Want     Have
#     ------------ -------- --------
#     CPAN::Meta   2.120900 2.150010
#     Test::Output   0.0005    1.031
# 
# === Runtime Requires ===
# 
#     Module                           Want     Have
#     ---------------------------- -------- --------
#     Benchmark                         any     1.15
#     Carp                              any     1.29
#     Class::MOP                        any   2.2012
#     Exporter                          any     5.74
#     File::Find                        any     1.23
#     File::Spec                        any     3.75
#     Import::Into                      any 1.002005
#     JSON::MaybeXS                     any 1.004001
#     List::SomeUtils                   any     0.58
#     List::Util                        any     1.55
#     Module::Runtime                   any    0.016
#     Module::Util                      any     1.09
#     Moose                          2.0000   2.2012
#     Moose::Role                    2.0000   2.2012
#     Moose::Util                       any   2.2012
#     Moose::Util::TypeConstraints      any   2.2012
#     MooseX::Getopt                   0.71     0.74
#     MooseX::Getopt::Dashes            any     0.74
#     Package::DeprecationManager      0.16     0.17
#     Parallel::ForkManager             any     2.02
#     Scalar::Util                      any     1.55
#     Sub::Attribute                    any     0.07
#     TAP::Formatter::Color            3.29     3.42
#     Test2                        1.302118 1.302175
#     Test2::API                        any 1.302175
#     Test2::AsyncSubtest          0.000018 0.000129
#     Test2::IPC                        any 1.302175
#     Test2::Tools::AsyncSubtest        any 0.000129
#     Test::Most                        any     0.37
#     Try::Tiny                         any     0.30
#     namespace::autoclean              any     0.29
#     strict                            any     1.07
#     warnings                          any     1.18
# 
# === Runtime Recommends ===
# 
#     Module                  Want Have
#     --------------------- ------ ----
#     Parallel::ForkManager v0.7.6 2.02
# 
t/00-report-prereqs.t .......... ok
t/autouse.t .................... ok
t/bad_subclass.t ............... ok
Prototype mismatch: sub main::warnings (&) vs (;&) at t/bare.t line 5.
t/bare.t ....................... ok
t/basic.t ...................... ok
Can't stat t/lib/Local: No such file or directory
 at /home/cpansand/.cpan/build/2020050622/Test-Class-Moose-0.98-0/blib/lib/Test/Class/Moose/Load.pm line 73.
t/cli.t ........................ ok
t/environment.t ................ ok
t/executor_roles.t ............. ok
t/include_classes.t ............ ok
t/include_exclude.t ............ ok
t/load-special-characters.t .... ok
t/load.t ....................... ok
t/no_tests_run.t ............... ok
t/non_randomize_classes.t ...... ok
......................XX..t/parallel.t ................... ok
t/parameterized.t .............. ok
t/plans.t ...................... ok
t/process_name.t ............... ok
t/reportpassed.t ............... ok
t/skip.t ....................... ok
t/tags.t ....................... ok
t/test_class_is_not_loaded.t ... ok
t/test_control_methods.t ....... ok
t/test_control_methods_skip.t .. ok
t/timing.t ..................... ok
t/todo.t ....................... ok
All tests successful.
Files=26, Tests=215, 16 wallclock secs ( 0.11 usr  0.20 sys +  7.30 cusr  1.81 csys =  9.42 CPU)
Result: PASS

------------------------------
PREREQUISITES
------------------------------

Prerequisite modules loaded:

requires:

    Module                       Need     Have    
    ---------------------------- -------- --------
    Benchmark                    0        1.15    
    Carp                         0        1.29    
    Class::MOP                   0        2.2012  
    Exporter                     0        5.74    
    File::Find                   0        1.23    
    File::Spec                   0        3.75    
    Import::Into                 0        1.002005
    JSON::MaybeXS                0        1.004001
    List::SomeUtils              0        0.58    
    List::Util                   0        1.55    
    Module::Runtime              0        0.016   
    Module::Util                 0        1.09    
    Moose                        2.0000   2.2012  
    Moose::Role                  2.0000   2.2012  
    Moose::Util                  0        2.2012  
    Moose::Util::TypeConstraints 0        2.2012  
    MooseX::Getopt               0.71     0.74    
    MooseX::Getopt::Dashes       0        0.74    
    namespace::autoclean         0        0.29    
    Package::DeprecationManager  0.16     0.17    
    Parallel::ForkManager        0        2.02    
    perl                         5.010000 5.018004
    Scalar::Util                 0        1.55    
    strict                       0        1.07    
    Sub::Attribute               0        0.07    
    TAP::Formatter::Color        3.29     3.42    
    Test2                        1.302118 1.302175
    Test2::API                   0        1.302175
    Test2::AsyncSubtest          0.000018 0.000129
    Test2::IPC                   0        1.302175
    Test2::Tools::AsyncSubtest   0        0.000129
    Test::Most                   0        0.37    
    Try::Tiny                    0        0.30    
    warnings                     0        1.18    

build_requires:

    Module                       Need     Have    
    ---------------------------- -------- --------
    ExtUtils::MakeMaker          0        7.44    
    File::Spec                   0        3.75    
    File::Temp                   0        0.2309  
    lib                          0        0.63    
    Test2::Tools::Basic          0        0.000129
    Test2::Tools::Class          0        0.000129
    Test2::Tools::Compare        0        0.000129
    Test2::Tools::Subtest        0        0.000129
    Test2::V0                    0        0.000129
    Test::Builder                0        1.302175
    Test::More                   1.302015 1.302175
    Test::Requires               0        0.10    
    Test::Warnings               0        0.030   

configure_requires:

    Module                       Need     Have    
    ---------------------------- -------- --------
    ExtUtils::MakeMaker          0        7.44    


------------------------------
ENVIRONMENT AND OTHER CONTEXT
------------------------------

Environment variables:

    LANG = C
    PATH = /usr/local/bin:/usr/bin:/bin:/usr/local/sbin:/usr/sbin:/sbin:/home/cpansand/bin/linux-gnu:/home/cpansand/bin/sh:/home/cpansand/bin:/usr/games:/home/cpansand/devel:/home/eserte/src/srezic-misc/scripts
    PERL5LIB = 
    PERL5OPT = 
    PERL5_CPANPLUS_IS_RUNNING = 19755
    PERL5_CPAN_IS_RUNNING = 19755
    PERL5_CPAN_IS_RUNNING_IN_RECURSION = 19611,19755
    PERLDOC = -MPod::Perldoc::ToTextOverstrike
    PERL_BATCH = yes
    PERL_CANARY_STABILITY_NOPROMPT = 1
    PERL_CPAN_REPORTER_CONFIG = /var/tmp/cpansmoker-1023/2020050622/cpanreporter_000_config.ini
    PERL_EXTUTILS_AUTOINSTALL = --defaultdeps
    PERL_USE_UNSAFE_INC = 1
    SHELL = /usr/bin/zsh
    TERM = screen
    TMPDIR = /var/tmp/cpansmoker-1023/2020050622

Perl special variables (and OS-specific diagnostics, for MSWin32):

    $^X = /opt/perl-5.18.4/bin/perl
    $UID/$EUID = 1023 / 1023
    $GID = 1023 1023
    $EGID = 1023 1023

Perl module toolchain versions installed:

    Module              Have    
    ------------------- --------
    CPAN                2.27    
    CPAN::Meta          2.150010
    Cwd                 3.75    
    ExtUtils::CBuilder  0.280234
    ExtUtils::Command   7.44    
    ExtUtils::Install   2.06    
    ExtUtils::MakeMaker 7.44    
    ExtUtils::Manifest  1.72    
    ExtUtils::ParseXS   3.35    
    File::Spec          3.75    
    JSON                4.02    
    JSON::PP            4.04    
    Module::Build       0.4231  
    Module::Signature   0.83    
    Parse::CPAN::Meta   2.150010
    Test::Harness       3.42    
    Test::More          1.302175
    YAML                1.30    
    YAML::Syck          1.32    
    version             0.9924  


--

Summary of my perl5 (revision 5 version 18 subversion 4) configuration:
   
  Platform:
    osname=linux, osvers=4.19.0-8-amd64, archname=x86_64-linux
    uname='linux debian10 4.19.0-8-amd64 #1 smp debian 4.19.98-1 (2020-01-26) x86_64 gnulinux '
    config_args='-ds -e -Dprefix=/opt/perl-5.18.4 -Dcf_email=srezic@cpan.org'
    hint=recommended, useposix=true, d_sigaction=define
    useithreads=undef, usemultiplicity=undef
    useperlio=define, d_sfio=undef, uselargefiles=define, usesocks=undef
    use64bitint=define, use64bitall=define, uselongdouble=undef
    usemymalloc=n, bincompat5005=undef
  Compiler:
    cc='cc', ccflags ='-fwrapv -fno-strict-aliasing -pipe -fstack-protector -I/usr/local/include -D_LARGEFILE_SOURCE -D_FILE_OFFSET_BITS=64',
    optimize='-O2',
    cppflags='-fwrapv -fno-strict-aliasing -pipe -fstack-protector -I/usr/local/include'
    ccversion='', gccversion='8.3.0', gccosandvers=''
    intsize=4, longsize=8, ptrsize=8, doublesize=8, byteorder=12345678
    d_longlong=define, longlongsize=8, d_longdbl=define, longdblsize=16
    ivtype='long', ivsize=8, nvtype='double', nvsize=8, Off_t='off_t', lseeksize=8
    alignbytes=8, prototype=define
  Linker and Libraries:
    ld='cc', ldflags =' -fstack-protector -L/usr/local/lib'
    libpth=/usr/local/lib /lib/x86_64-linux-gnu /lib/../lib /usr/lib/x86_64-linux-gnu /usr/lib/../lib /lib /usr/lib
    libs=-lnsl -lgdbm -ldb -ldl -lm -lcrypt -lutil -lc
    perllibs=-lnsl -ldl -lm -lcrypt -lutil -lc
    libc=libc-2.28.so, so=so, useshrplib=false, libperl=libperl.a
    gnulibc_version='2.28'
  Dynamic Linking:
    dlsrc=dl_dlopen.xs, dlext=so, d_dlsymun=undef, ccdlflags='-Wl,-E'
    cccdlflags='-fPIC', lddlflags='-shared -O2 -L/usr/local/lib -fstack-protector'


Characteristics of this binary (from libperl): 
  Compile-time options: HAS_TIMES PERLIO_LAYERS PERL_DONT_CREATE_GVSV
                        PERL_HASH_FUNC_ONE_AT_A_TIME_HARD PERL_MALLOC_WRAP
                        PERL_PRESERVE_IVUV PERL_SAWAMPERSAND USE_64_BIT_ALL
                        USE_64_BIT_INT USE_LARGE_FILES USE_LOCALE
                        USE_LOCALE_COLLATE USE_LOCALE_CTYPE
                        USE_LOCALE_NUMERIC USE_PERLIO USE_PERL_ATOF
  Locally applied patches:
	Devel::PatchPerl 1.90
  Built under linux
  Compiled at Mar 31 2020 20:33:31
  %ENV:
    PERL5LIB=""
    PERL5OPT=""
    PERL5_CPANPLUS_IS_RUNNING="19755"
    PERL5_CPAN_IS_RUNNING="19755"
    PERL5_CPAN_IS_RUNNING_IN_RECURSION="19611,19755"
    PERLDOC="-MPod::Perldoc::ToTextOverstrike"
    PERL_BATCH="yes"
    PERL_CANARY_STABILITY_NOPROMPT="1"
    PERL_CPAN_REPORTER_CONFIG="/var/tmp/cpansmoker-1023/2020050622/cpanreporter_000_config.ini"
    PERL_EXTUTILS_AUTOINSTALL="--defaultdeps"
    PERL_USE_UNSAFE_INC="1"
  @INC:
    /opt/perl-5.18.4/lib/site_perl/5.18.4/x86_64-linux
    /opt/perl-5.18.4/lib/site_perl/5.18.4
    /opt/perl-5.18.4/lib/5.18.4/x86_64-linux
    /opt/perl-5.18.4/lib/5.18.4
    .