Wikibase-Datatype v0.37 Perl 5 v5.32.1 x86_64-linux-gnu-thread-multi

Status
Pass
From
Slaven Rezić
Dist
Wikibase-Datatype v0.37
Platform
Perl 5 v5.32.1 x86_64-linux-gnu-thread-multi
Date
2025-01-05 16:34:57
ID
000bb9d2-cb83-11ef-b7a7-423b6e8775ea
This distribution has been tested as part of the CPAN Testers
project, supporting the Perl programming language.  See
http://wiki.cpantesters.org/ for more information or email
questions to cpan-testers-discuss@perl.org


--
Dear Michal Josef Spacek,

This is a computer-generated report for Wikibase-Datatype-0.37
on perl 5.32.1, created by CPAN-Reporter-1.2018.

Thank you for uploading your work to CPAN.  Congratulations!
All tests were successful.

Sections of this report:

    * Tester comments
    * Program output
    * Prerequisites
    * Environment and other context

------------------------------
TESTER COMMENTS
------------------------------

Additional comments from tester:

none provided

------------------------------
PROGRAM OUTPUT
------------------------------

Output from '/usr/bin/make test':

PERL_DL_NONLAZY=1 "/usr/bin/perl" "-MExtUtils::Command::MM" "-MTest::Harness" "-e" "undef *Test::Harness::Switches; test_harness(0, 'inc', 'blib/lib', 'blib/arch')" t/Test-Shared-Fixture-Wikibase-Datatype-Form-Wikidata-DogCzechSingular/*.t t/Test-Shared-Fixture-Wikibase-Datatype-Item-Wikidata-Dog/*.t t/Test-Shared-Fixture-Wikibase-Datatype-Item-Wikidata-Dorota/*.t t/Test-Shared-Fixture-Wikibase-Datatype-Item-Wikidata-DouglasAdams/*.t t/Test-Shared-Fixture-Wikibase-Datatype-Lexeme-Wikidata-DogCzechNoun/*.t t/Test-Shared-Fixture-Wikibase-Datatype-Mediainfo-Commons-ImageOfHuman/*.t t/Test-Shared-Fixture-Wikibase-Datatype-MediainfoSnak-Commons-Depicts-Human/*.t t/Test-Shared-Fixture-Wikibase-Datatype-MediainfoStatement-Commons-Depicts-Human/*.t t/Test-Shared-Fixture-Wikibase-Datatype-Property-Wikidata-InstanceOf/*.t t/Test-Shared-Fixture-Wikibase-Datatype-Reference-Wikidata-ReferenceURL/*.t t/Test-Shared-Fixture-Wikibase-Datatype-Reference-Wikidata-VIAF/*.t t/Test-Shared-Fixture-Wikibase-Datatype-Sense-Wikidata-Dog/*.t t/Test-Shared-Fixture-Wikibase-Datatype-Snak-Wikidata-GivenName-Douglas/*.t t/Test-Shared-Fixture-Wikibase-Datatype-Snak-Wikidata-GivenName-Michal/*.t t/Test-Shared-Fixture-Wikibase-Datatype-Snak-Wikidata-GrammaticalGender-Masculine/*.t t/Test-Shared-Fixture-Wikibase-Datatype-Snak-Wikidata-Image-Dog/*.t t/Test-Shared-Fixture-Wikibase-Datatype-Snak-Wikidata-InstanceOf-FemaleGivenName/*.t t/Test-Shared-Fixture-Wikibase-Datatype-Snak-Wikidata-InstanceOf-Human/*.t t/Test-Shared-Fixture-Wikibase-Datatype-Snak-Wikidata-InstanceOf-VersionEditionOrTranslation/*.t t/Test-Shared-Fixture-Wikibase-Datatype-Snak-Wikidata-InstanceOf-WikidataProperty/*.t t/Test-Shared-Fixture-Wikibase-Datatype-Snak-Wikidata-ItemForThisSense-Dog/*.t t/Test-Shared-Fixture-Wikibase-Datatype-Snak-Wikidata-NumberOfLimbs-Four/*.t t/Test-Shared-Fixture-Wikibase-Datatype-Snak-Wikidata-NumberOfLimbs-FourTolerance/*.t t/Test-Shared-Fixture-Wikibase-Datatype-Snak-Wikidata-Of-Poem/*.t t/Test-Shared-Fixture-Wikibase-Datatype-Snak-Wikidata-ReferenceURL-Fixture1/*.t t/Test-Shared-Fixture-Wikibase-Datatype-Snak-Wikidata-Retrieved-Fixture1/*.t t/Test-Shared-Fixture-Wikibase-Datatype-Snak-Wikidata-SexOrGender-Male/*.t t/Test-Shared-Fixture-Wikibase-Datatype-Snak-Wikidata-StatedIn-VIAF/*.t t/Test-Shared-Fixture-Wikibase-Datatype-Snak-Wikidata-SubjectLexeme-Dorota/*.t t/Test-Shared-Fixture-Wikibase-Datatype-Statement-Wikidata-GivenName-Douglas/*.t t/Test-Shared-Fixture-Wikibase-Datatype-Statement-Wikidata-GivenName-Michal/*.t t/Test-Shared-Fixture-Wikibase-Datatype-Statement-Wikidata-GrammaticalGender-Masculine/*.t t/Test-Shared-Fixture-Wikibase-Datatype-Statement-Wikidata-Image-Dog/*.t t/Test-Shared-Fixture-Wikibase-Datatype-Statement-Wikidata-InstanceOf-CommonLivingOrganism/*.t t/Test-Shared-Fixture-Wikibase-Datatype-Statement-Wikidata-InstanceOf-FemaleGivenName/*.t t/Test-Shared-Fixture-Wikibase-Datatype-Statement-Wikidata-InstanceOf-Human/*.t t/Test-Shared-Fixture-Wikibase-Datatype-Statement-Wikidata-InstanceOf-VersionEditionOrTranslation/*.t t/Test-Shared-Fixture-Wikibase-Datatype-Statement-Wikidata-InstanceOf-WikidataProperty/*.t t/Test-Shared-Fixture-Wikibase-Datatype-Statement-Wikidata-ItemForThisSense-Dog/*.t t/Test-Shared-Fixture-Wikibase-Datatype-Statement-Wikidata-NumberOfLimbs-Four/*.t t/Test-Shared-Fixture-Wikibase-Datatype-Statement-Wikidata-NumberOfLimbs-FourTolerance/*.t t/Test-Shared-Fixture-Wikibase-Datatype-Statement-Wikidata-SexOrGender-Male/*.t t/Test-Shared-Fixture-Wikibase-Datatype-Statement-Wikidata-SubjectLexeme-Dorota/*.t t/Test-Shared-Fixture-Wikibase-Datatype-Value-Item-Wikidata-Dog/*.t t/Test-Shared-Fixture-Wikibase-Datatype-Value-Item-Wikidata-Douglas/*.t t/Test-Shared-Fixture-Wikibase-Datatype-Value-Item-Wikidata-DouglasAdams/*.t t/Test-Shared-Fixture-Wikibase-Datatype-Value-Item-Wikidata-FemaleGivenName/*.t t/Test-Shared-Fixture-Wikibase-Datatype-Value-Item-Wikidata-Human/*.t t/Test-Shared-Fixture-Wikibase-Datatype-Value-Item-Wikidata-Male/*.t t/Test-Shared-Fixture-Wikibase-Datatype-Value-Item-Wikidata-Masculine/*.t t/Test-Shared-Fixture-Wikibase-Datatype-Value-Item-Wikidata-Michal/*.t t/Test-Shared-Fixture-Wikibase-Datatype-Value-Item-Wikidata-Poem/*.t t/Test-Shared-Fixture-Wikibase-Datatype-Value-Item-Wikidata-VIAF/*.t t/Test-Shared-Fixture-Wikibase-Datatype-Value-Item-Wikidata-VersionEditionOrTranslation/*.t t/Test-Shared-Fixture-Wikibase-Datatype-Value-Item-Wikidata-WikidataEntity/*.t t/Test-Shared-Fixture-Wikibase-Datatype-Value-Lexeme-Wikidata-Dorota/*.t t/Wikibase-Datatype-Form/*.t t/Wikibase-Datatype-Item/*.t t/Wikibase-Datatype-Languages/*.t t/Wikibase-Datatype-Lexeme/*.t t/Wikibase-Datatype-Mediainfo/*.t t/Wikibase-Datatype-MediainfoSnak/*.t t/Wikibase-Datatype-MediainfoStatement/*.t t/Wikibase-Datatype-Property/*.t t/Wikibase-Datatype-Reference/*.t t/Wikibase-Datatype-Sense/*.t t/Wikibase-Datatype-Sitelink/*.t t/Wikibase-Datatype-Snak/*.t t/Wikibase-Datatype-Statement/*.t t/Wikibase-Datatype-Utils/*.t t/Wikibase-Datatype-Value-Globecoordinate/*.t t/Wikibase-Datatype-Value-Item/*.t t/Wikibase-Datatype-Value-Lexeme/*.t t/Wikibase-Datatype-Value-Monolingual/*.t t/Wikibase-Datatype-Value-Property/*.t t/Wikibase-Datatype-Value-Quantity/*.t t/Wikibase-Datatype-Value-Sense/*.t t/Wikibase-Datatype-Value-String/*.t t/Wikibase-Datatype-Value-Time/*.t t/Wikibase-Datatype-Value/*.t t/Wikibase-Datatype/*.t
t/Test-Shared-Fixture-Wikibase-Datatype-Form-Wikidata-DogCzechSingular/01-use.t ................................. ok
t/Test-Shared-Fixture-Wikibase-Datatype-Form-Wikidata-DogCzechSingular/02-version.t ............................. ok
t/Test-Shared-Fixture-Wikibase-Datatype-Form-Wikidata-DogCzechSingular/03-new.t ................................. ok
t/Test-Shared-Fixture-Wikibase-Datatype-Item-Wikidata-Dog/01-use.t .............................................. ok
t/Test-Shared-Fixture-Wikibase-Datatype-Item-Wikidata-Dog/02-version.t .......................................... ok
t/Test-Shared-Fixture-Wikibase-Datatype-Item-Wikidata-Dog/03-new.t .............................................. ok
t/Test-Shared-Fixture-Wikibase-Datatype-Item-Wikidata-Dorota/01-use.t ........................................... ok
t/Test-Shared-Fixture-Wikibase-Datatype-Item-Wikidata-Dorota/02-version.t ....................................... ok
t/Test-Shared-Fixture-Wikibase-Datatype-Item-Wikidata-Dorota/03-new.t ........................................... ok
t/Test-Shared-Fixture-Wikibase-Datatype-Item-Wikidata-DouglasAdams/01-use.t ..................................... ok
t/Test-Shared-Fixture-Wikibase-Datatype-Item-Wikidata-DouglasAdams/02-version.t ................................. ok
t/Test-Shared-Fixture-Wikibase-Datatype-Item-Wikidata-DouglasAdams/03-new.t ..................................... ok
t/Test-Shared-Fixture-Wikibase-Datatype-Lexeme-Wikidata-DogCzechNoun/01-use.t ................................... ok
t/Test-Shared-Fixture-Wikibase-Datatype-Lexeme-Wikidata-DogCzechNoun/02-version.t ............................... ok
t/Test-Shared-Fixture-Wikibase-Datatype-Lexeme-Wikidata-DogCzechNoun/03-new.t ................................... ok
t/Test-Shared-Fixture-Wikibase-Datatype-Mediainfo-Commons-ImageOfHuman/01-use.t ................................. ok
t/Test-Shared-Fixture-Wikibase-Datatype-Mediainfo-Commons-ImageOfHuman/02-version.t ............................. ok
t/Test-Shared-Fixture-Wikibase-Datatype-Mediainfo-Commons-ImageOfHuman/03-new.t ................................. ok
t/Test-Shared-Fixture-Wikibase-Datatype-MediainfoSnak-Commons-Depicts-Human/01-use.t ............................ ok
t/Test-Shared-Fixture-Wikibase-Datatype-MediainfoSnak-Commons-Depicts-Human/02-version.t ........................ ok
t/Test-Shared-Fixture-Wikibase-Datatype-MediainfoSnak-Commons-Depicts-Human/03-new.t ............................ ok
t/Test-Shared-Fixture-Wikibase-Datatype-MediainfoStatement-Commons-Depicts-Human/01-use.t ....................... ok
t/Test-Shared-Fixture-Wikibase-Datatype-MediainfoStatement-Commons-Depicts-Human/02-version.t ................... ok
t/Test-Shared-Fixture-Wikibase-Datatype-MediainfoStatement-Commons-Depicts-Human/03-new.t ....................... ok
t/Test-Shared-Fixture-Wikibase-Datatype-Property-Wikidata-InstanceOf/01-use.t ................................... ok
t/Test-Shared-Fixture-Wikibase-Datatype-Property-Wikidata-InstanceOf/02-version.t ............................... ok
t/Test-Shared-Fixture-Wikibase-Datatype-Property-Wikidata-InstanceOf/03-new.t ................................... ok
t/Test-Shared-Fixture-Wikibase-Datatype-Reference-Wikidata-ReferenceURL/01-use.t ................................ ok
t/Test-Shared-Fixture-Wikibase-Datatype-Reference-Wikidata-ReferenceURL/02-version.t ............................ ok
t/Test-Shared-Fixture-Wikibase-Datatype-Reference-Wikidata-ReferenceURL/03-new.t ................................ ok
t/Test-Shared-Fixture-Wikibase-Datatype-Reference-Wikidata-VIAF/01-use.t ........................................ ok
t/Test-Shared-Fixture-Wikibase-Datatype-Reference-Wikidata-VIAF/02-version.t .................................... ok
t/Test-Shared-Fixture-Wikibase-Datatype-Reference-Wikidata-VIAF/03-new.t ........................................ ok
t/Test-Shared-Fixture-Wikibase-Datatype-Sense-Wikidata-Dog/01-use.t ............................................. ok
t/Test-Shared-Fixture-Wikibase-Datatype-Sense-Wikidata-Dog/02-version.t ......................................... ok
t/Test-Shared-Fixture-Wikibase-Datatype-Sense-Wikidata-Dog/03-new.t ............................................. ok
t/Test-Shared-Fixture-Wikibase-Datatype-Snak-Wikidata-GivenName-Douglas/01-use.t ................................ ok
t/Test-Shared-Fixture-Wikibase-Datatype-Snak-Wikidata-GivenName-Douglas/02-version.t ............................ ok
t/Test-Shared-Fixture-Wikibase-Datatype-Snak-Wikidata-GivenName-Douglas/03-new.t ................................ ok
t/Test-Shared-Fixture-Wikibase-Datatype-Snak-Wikidata-GivenName-Michal/01-use.t ................................. ok
t/Test-Shared-Fixture-Wikibase-Datatype-Snak-Wikidata-GivenName-Michal/02-version.t ............................. ok
t/Test-Shared-Fixture-Wikibase-Datatype-Snak-Wikidata-GivenName-Michal/03-new.t ................................. ok
t/Test-Shared-Fixture-Wikibase-Datatype-Snak-Wikidata-GrammaticalGender-Masculine/01-use.t ...................... ok
t/Test-Shared-Fixture-Wikibase-Datatype-Snak-Wikidata-GrammaticalGender-Masculine/02-version.t .................. ok
t/Test-Shared-Fixture-Wikibase-Datatype-Snak-Wikidata-GrammaticalGender-Masculine/03-new.t ...................... ok
t/Test-Shared-Fixture-Wikibase-Datatype-Snak-Wikidata-Image-Dog/01-use.t ........................................ ok
t/Test-Shared-Fixture-Wikibase-Datatype-Snak-Wikidata-Image-Dog/02-version.t .................................... ok
t/Test-Shared-Fixture-Wikibase-Datatype-Snak-Wikidata-Image-Dog/03-new.t ........................................ ok
t/Test-Shared-Fixture-Wikibase-Datatype-Snak-Wikidata-InstanceOf-FemaleGivenName/01-use.t ....................... ok
t/Test-Shared-Fixture-Wikibase-Datatype-Snak-Wikidata-InstanceOf-FemaleGivenName/02-version.t ................... ok
t/Test-Shared-Fixture-Wikibase-Datatype-Snak-Wikidata-InstanceOf-FemaleGivenName/03-new.t ....................... ok
t/Test-Shared-Fixture-Wikibase-Datatype-Snak-Wikidata-InstanceOf-Human/01-use.t ................................. ok
t/Test-Shared-Fixture-Wikibase-Datatype-Snak-Wikidata-InstanceOf-Human/02-version.t ............................. ok
t/Test-Shared-Fixture-Wikibase-Datatype-Snak-Wikidata-InstanceOf-Human/03-new.t ................................. ok
t/Test-Shared-Fixture-Wikibase-Datatype-Snak-Wikidata-InstanceOf-VersionEditionOrTranslation/01-use.t ........... ok
t/Test-Shared-Fixture-Wikibase-Datatype-Snak-Wikidata-InstanceOf-VersionEditionOrTranslation/02-version.t ....... ok
t/Test-Shared-Fixture-Wikibase-Datatype-Snak-Wikidata-InstanceOf-VersionEditionOrTranslation/03-new.t ........... ok
t/Test-Shared-Fixture-Wikibase-Datatype-Snak-Wikidata-InstanceOf-WikidataProperty/01-use.t ...................... ok
t/Test-Shared-Fixture-Wikibase-Datatype-Snak-Wikidata-InstanceOf-WikidataProperty/02-version.t .................. ok
t/Test-Shared-Fixture-Wikibase-Datatype-Snak-Wikidata-InstanceOf-WikidataProperty/03-new.t ...................... ok
t/Test-Shared-Fixture-Wikibase-Datatype-Snak-Wikidata-ItemForThisSense-Dog/01-use.t ............................. ok
t/Test-Shared-Fixture-Wikibase-Datatype-Snak-Wikidata-ItemForThisSense-Dog/02-version.t ......................... ok
t/Test-Shared-Fixture-Wikibase-Datatype-Snak-Wikidata-ItemForThisSense-Dog/03-new.t ............................. ok
t/Test-Shared-Fixture-Wikibase-Datatype-Snak-Wikidata-NumberOfLimbs-Four/01-use.t ............................... ok
t/Test-Shared-Fixture-Wikibase-Datatype-Snak-Wikidata-NumberOfLimbs-Four/02-version.t ........................... ok
t/Test-Shared-Fixture-Wikibase-Datatype-Snak-Wikidata-NumberOfLimbs-Four/03-new.t ............................... ok
t/Test-Shared-Fixture-Wikibase-Datatype-Snak-Wikidata-NumberOfLimbs-FourTolerance/01-use.t ...................... ok
t/Test-Shared-Fixture-Wikibase-Datatype-Snak-Wikidata-NumberOfLimbs-FourTolerance/02-version.t .................. ok
t/Test-Shared-Fixture-Wikibase-Datatype-Snak-Wikidata-NumberOfLimbs-FourTolerance/03-new.t ...................... ok
t/Test-Shared-Fixture-Wikibase-Datatype-Snak-Wikidata-Of-Poem/01-use.t .......................................... ok
t/Test-Shared-Fixture-Wikibase-Datatype-Snak-Wikidata-Of-Poem/02-version.t ...................................... ok
t/Test-Shared-Fixture-Wikibase-Datatype-Snak-Wikidata-Of-Poem/03-new.t .......................................... ok
t/Test-Shared-Fixture-Wikibase-Datatype-Snak-Wikidata-ReferenceURL-Fixture1/01-use.t ............................ ok
t/Test-Shared-Fixture-Wikibase-Datatype-Snak-Wikidata-ReferenceURL-Fixture1/02-version.t ........................ ok
t/Test-Shared-Fixture-Wikibase-Datatype-Snak-Wikidata-ReferenceURL-Fixture1/03-new.t ............................ ok
t/Test-Shared-Fixture-Wikibase-Datatype-Snak-Wikidata-Retrieved-Fixture1/01-use.t ............................... ok
t/Test-Shared-Fixture-Wikibase-Datatype-Snak-Wikidata-Retrieved-Fixture1/02-version.t ........................... ok
t/Test-Shared-Fixture-Wikibase-Datatype-Snak-Wikidata-Retrieved-Fixture1/03-new.t ............................... ok
t/Test-Shared-Fixture-Wikibase-Datatype-Snak-Wikidata-SexOrGender-Male/01-use.t ................................. ok
t/Test-Shared-Fixture-Wikibase-Datatype-Snak-Wikidata-SexOrGender-Male/02-version.t ............................. ok
t/Test-Shared-Fixture-Wikibase-Datatype-Snak-Wikidata-SexOrGender-Male/03-new.t ................................. ok
t/Test-Shared-Fixture-Wikibase-Datatype-Snak-Wikidata-StatedIn-VIAF/01-use.t .................................... ok
t/Test-Shared-Fixture-Wikibase-Datatype-Snak-Wikidata-StatedIn-VIAF/02-version.t ................................ ok
t/Test-Shared-Fixture-Wikibase-Datatype-Snak-Wikidata-StatedIn-VIAF/03-new.t .................................... ok
t/Test-Shared-Fixture-Wikibase-Datatype-Snak-Wikidata-SubjectLexeme-Dorota/01-use.t ............................. ok
t/Test-Shared-Fixture-Wikibase-Datatype-Snak-Wikidata-SubjectLexeme-Dorota/02-version.t ......................... ok
t/Test-Shared-Fixture-Wikibase-Datatype-Snak-Wikidata-SubjectLexeme-Dorota/03-new.t ............................. ok
t/Test-Shared-Fixture-Wikibase-Datatype-Statement-Wikidata-GivenName-Douglas/01-use.t ........................... ok
t/Test-Shared-Fixture-Wikibase-Datatype-Statement-Wikidata-GivenName-Douglas/02-version.t ....................... ok
t/Test-Shared-Fixture-Wikibase-Datatype-Statement-Wikidata-GivenName-Douglas/03-new.t ........................... ok
t/Test-Shared-Fixture-Wikibase-Datatype-Statement-Wikidata-GivenName-Michal/01-use.t ............................ ok
t/Test-Shared-Fixture-Wikibase-Datatype-Statement-Wikidata-GivenName-Michal/02-version.t ........................ ok
t/Test-Shared-Fixture-Wikibase-Datatype-Statement-Wikidata-GivenName-Michal/03-new.t ............................ ok
t/Test-Shared-Fixture-Wikibase-Datatype-Statement-Wikidata-GrammaticalGender-Masculine/01-use.t ................. ok
t/Test-Shared-Fixture-Wikibase-Datatype-Statement-Wikidata-GrammaticalGender-Masculine/02-version.t ............. ok
t/Test-Shared-Fixture-Wikibase-Datatype-Statement-Wikidata-GrammaticalGender-Masculine/03-new.t ................. ok
t/Test-Shared-Fixture-Wikibase-Datatype-Statement-Wikidata-Image-Dog/01-use.t ................................... ok
t/Test-Shared-Fixture-Wikibase-Datatype-Statement-Wikidata-Image-Dog/02-version.t ............................... ok
t/Test-Shared-Fixture-Wikibase-Datatype-Statement-Wikidata-Image-Dog/03-new.t ................................... ok
t/Test-Shared-Fixture-Wikibase-Datatype-Statement-Wikidata-InstanceOf-CommonLivingOrganism/01-use.t ............. ok
t/Test-Shared-Fixture-Wikibase-Datatype-Statement-Wikidata-InstanceOf-CommonLivingOrganism/02-version.t ......... ok
t/Test-Shared-Fixture-Wikibase-Datatype-Statement-Wikidata-InstanceOf-CommonLivingOrganism/03-new.t ............. ok
t/Test-Shared-Fixture-Wikibase-Datatype-Statement-Wikidata-InstanceOf-FemaleGivenName/01-use.t .................. ok
t/Test-Shared-Fixture-Wikibase-Datatype-Statement-Wikidata-InstanceOf-FemaleGivenName/02-version.t .............. ok
t/Test-Shared-Fixture-Wikibase-Datatype-Statement-Wikidata-InstanceOf-FemaleGivenName/03-new.t .................. ok
t/Test-Shared-Fixture-Wikibase-Datatype-Statement-Wikidata-InstanceOf-Human/01-use.t ............................ ok
t/Test-Shared-Fixture-Wikibase-Datatype-Statement-Wikidata-InstanceOf-Human/02-version.t ........................ ok
t/Test-Shared-Fixture-Wikibase-Datatype-Statement-Wikidata-InstanceOf-Human/03-new.t ............................ ok
t/Test-Shared-Fixture-Wikibase-Datatype-Statement-Wikidata-InstanceOf-VersionEditionOrTranslation/01-use.t ...... ok
t/Test-Shared-Fixture-Wikibase-Datatype-Statement-Wikidata-InstanceOf-VersionEditionOrTranslation/02-version.t .. ok
t/Test-Shared-Fixture-Wikibase-Datatype-Statement-Wikidata-InstanceOf-VersionEditionOrTranslation/03-new.t ...... ok
t/Test-Shared-Fixture-Wikibase-Datatype-Statement-Wikidata-InstanceOf-WikidataProperty/01-use.t ................. ok
t/Test-Shared-Fixture-Wikibase-Datatype-Statement-Wikidata-InstanceOf-WikidataProperty/02-version.t ............. ok
t/Test-Shared-Fixture-Wikibase-Datatype-Statement-Wikidata-InstanceOf-WikidataProperty/03-new.t ................. ok
t/Test-Shared-Fixture-Wikibase-Datatype-Statement-Wikidata-ItemForThisSense-Dog/01-use.t ........................ ok
t/Test-Shared-Fixture-Wikibase-Datatype-Statement-Wikidata-ItemForThisSense-Dog/02-version.t .................... ok
t/Test-Shared-Fixture-Wikibase-Datatype-Statement-Wikidata-ItemForThisSense-Dog/03-new.t ........................ ok
t/Test-Shared-Fixture-Wikibase-Datatype-Statement-Wikidata-NumberOfLimbs-Four/01-use.t .......................... ok
t/Test-Shared-Fixture-Wikibase-Datatype-Statement-Wikidata-NumberOfLimbs-Four/02-version.t ...................... ok
t/Test-Shared-Fixture-Wikibase-Datatype-Statement-Wikidata-NumberOfLimbs-Four/03-new.t .......................... ok
t/Test-Shared-Fixture-Wikibase-Datatype-Statement-Wikidata-NumberOfLimbs-FourTolerance/01-use.t ................. ok
t/Test-Shared-Fixture-Wikibase-Datatype-Statement-Wikidata-NumberOfLimbs-FourTolerance/02-version.t ............. ok
t/Test-Shared-Fixture-Wikibase-Datatype-Statement-Wikidata-NumberOfLimbs-FourTolerance/03-new.t ................. ok
t/Test-Shared-Fixture-Wikibase-Datatype-Statement-Wikidata-SexOrGender-Male/01-use.t ............................ ok
t/Test-Shared-Fixture-Wikibase-Datatype-Statement-Wikidata-SexOrGender-Male/02-version.t ........................ ok
t/Test-Shared-Fixture-Wikibase-Datatype-Statement-Wikidata-SexOrGender-Male/03-new.t ............................ ok
t/Test-Shared-Fixture-Wikibase-Datatype-Statement-Wikidata-SubjectLexeme-Dorota/01-use.t ........................ ok
t/Test-Shared-Fixture-Wikibase-Datatype-Statement-Wikidata-SubjectLexeme-Dorota/02-version.t .................... ok
t/Test-Shared-Fixture-Wikibase-Datatype-Statement-Wikidata-SubjectLexeme-Dorota/03-new.t ........................ ok
t/Test-Shared-Fixture-Wikibase-Datatype-Value-Item-Wikidata-Dog/01-use.t ........................................ ok
t/Test-Shared-Fixture-Wikibase-Datatype-Value-Item-Wikidata-Dog/02-version.t .................................... ok
t/Test-Shared-Fixture-Wikibase-Datatype-Value-Item-Wikidata-Dog/03-new.t ........................................ ok
t/Test-Shared-Fixture-Wikibase-Datatype-Value-Item-Wikidata-Douglas/01-use.t .................................... ok
t/Test-Shared-Fixture-Wikibase-Datatype-Value-Item-Wikidata-Douglas/02-version.t ................................ ok
t/Test-Shared-Fixture-Wikibase-Datatype-Value-Item-Wikidata-Douglas/03-new.t .................................... ok
t/Test-Shared-Fixture-Wikibase-Datatype-Value-Item-Wikidata-DouglasAdams/01-use.t ............................... ok
t/Test-Shared-Fixture-Wikibase-Datatype-Value-Item-Wikidata-DouglasAdams/02-version.t ........................... ok
t/Test-Shared-Fixture-Wikibase-Datatype-Value-Item-Wikidata-DouglasAdams/03-new.t ............................... ok
t/Test-Shared-Fixture-Wikibase-Datatype-Value-Item-Wikidata-FemaleGivenName/01-use.t ............................ ok
t/Test-Shared-Fixture-Wikibase-Datatype-Value-Item-Wikidata-FemaleGivenName/02-version.t ........................ ok
t/Test-Shared-Fixture-Wikibase-Datatype-Value-Item-Wikidata-FemaleGivenName/03-new.t ............................ ok
t/Test-Shared-Fixture-Wikibase-Datatype-Value-Item-Wikidata-Human/01-use.t ...................................... ok
t/Test-Shared-Fixture-Wikibase-Datatype-Value-Item-Wikidata-Human/02-version.t .................................. ok
t/Test-Shared-Fixture-Wikibase-Datatype-Value-Item-Wikidata-Human/03-new.t ...................................... ok
t/Test-Shared-Fixture-Wikibase-Datatype-Value-Item-Wikidata-Male/01-use.t ....................................... ok
t/Test-Shared-Fixture-Wikibase-Datatype-Value-Item-Wikidata-Male/02-version.t ................................... ok
t/Test-Shared-Fixture-Wikibase-Datatype-Value-Item-Wikidata-Male/03-new.t ....................................... ok
t/Test-Shared-Fixture-Wikibase-Datatype-Value-Item-Wikidata-Masculine/01-use.t .................................. ok
t/Test-Shared-Fixture-Wikibase-Datatype-Value-Item-Wikidata-Masculine/02-version.t .............................. ok
t/Test-Shared-Fixture-Wikibase-Datatype-Value-Item-Wikidata-Masculine/03-new.t .................................. ok
t/Test-Shared-Fixture-Wikibase-Datatype-Value-Item-Wikidata-Michal/01-use.t ..................................... ok
t/Test-Shared-Fixture-Wikibase-Datatype-Value-Item-Wikidata-Michal/02-version.t ................................. ok
t/Test-Shared-Fixture-Wikibase-Datatype-Value-Item-Wikidata-Michal/03-new.t ..................................... ok
t/Test-Shared-Fixture-Wikibase-Datatype-Value-Item-Wikidata-Poem/01-use.t ....................................... ok
t/Test-Shared-Fixture-Wikibase-Datatype-Value-Item-Wikidata-Poem/02-version.t ................................... ok
t/Test-Shared-Fixture-Wikibase-Datatype-Value-Item-Wikidata-Poem/03-new.t ....................................... ok
t/Test-Shared-Fixture-Wikibase-Datatype-Value-Item-Wikidata-VersionEditionOrTranslation/01-use.t ................ ok
t/Test-Shared-Fixture-Wikibase-Datatype-Value-Item-Wikidata-VersionEditionOrTranslation/02-version.t ............ ok
t/Test-Shared-Fixture-Wikibase-Datatype-Value-Item-Wikidata-VersionEditionOrTranslation/03-new.t ................ ok
t/Test-Shared-Fixture-Wikibase-Datatype-Value-Item-Wikidata-VIAF/01-use.t ....................................... ok
t/Test-Shared-Fixture-Wikibase-Datatype-Value-Item-Wikidata-VIAF/02-version.t ................................... ok
t/Test-Shared-Fixture-Wikibase-Datatype-Value-Item-Wikidata-VIAF/03-new.t ....................................... ok
t/Test-Shared-Fixture-Wikibase-Datatype-Value-Item-Wikidata-WikidataEntity/01-use.t ............................. ok
t/Test-Shared-Fixture-Wikibase-Datatype-Value-Item-Wikidata-WikidataEntity/02-version.t ......................... ok
t/Test-Shared-Fixture-Wikibase-Datatype-Value-Item-Wikidata-WikidataEntity/03-new.t ............................. ok
t/Test-Shared-Fixture-Wikibase-Datatype-Value-Lexeme-Wikidata-Dorota/01-use.t ................................... ok
t/Test-Shared-Fixture-Wikibase-Datatype-Value-Lexeme-Wikidata-Dorota/02-version.t ............................... ok
t/Test-Shared-Fixture-Wikibase-Datatype-Value-Lexeme-Wikidata-Dorota/03-new.t ................................... ok
t/Wikibase-Datatype-Form/01-use.t ............................................................................... ok
t/Wikibase-Datatype-Form/02-version.t ........................................................................... ok
t/Wikibase-Datatype-Form/03-new.t ............................................................................... ok
t/Wikibase-Datatype-Form/04-grammatical_features.t .............................................................. ok
t/Wikibase-Datatype-Form/05-id.t ................................................................................ ok
t/Wikibase-Datatype-Form/06-representations.t ................................................................... ok
t/Wikibase-Datatype-Form/07-statements.t ........................................................................ ok
t/Wikibase-Datatype-Item/01-use.t ............................................................................... ok
t/Wikibase-Datatype-Item/02-version.t ........................................................................... ok
t/Wikibase-Datatype-Item/03-new.t ............................................................................... ok
t/Wikibase-Datatype-Item/04-aliases.t ........................................................................... ok
t/Wikibase-Datatype-Item/05-descriptions.t ...................................................................... ok
t/Wikibase-Datatype-Item/06-id.t ................................................................................ ok
t/Wikibase-Datatype-Item/07-labels.t ............................................................................ ok
t/Wikibase-Datatype-Item/08-lastrevid.t ......................................................................... ok
t/Wikibase-Datatype-Item/09-modified.t .......................................................................... ok
t/Wikibase-Datatype-Item/10-ns.t ................................................................................ ok
t/Wikibase-Datatype-Item/11-page_id.t ........................................................................... ok
t/Wikibase-Datatype-Item/12-sitelinks.t ......................................................................... ok
t/Wikibase-Datatype-Item/13-statements.t ........................................................................ ok
t/Wikibase-Datatype-Item/14-title.t ............................................................................. ok
t/Wikibase-Datatype-Languages/01-use.t .......................................................................... ok
t/Wikibase-Datatype-Languages/02-version.t ...................................................................... ok
t/Wikibase-Datatype-Lexeme/01-use.t ............................................................................. ok
t/Wikibase-Datatype-Lexeme/02-version.t ......................................................................... ok
t/Wikibase-Datatype-Lexeme/03-new.t ............................................................................. ok
t/Wikibase-Datatype-Lexeme/04-forms.t ........................................................................... ok
t/Wikibase-Datatype-Lexeme/05-id.t .............................................................................. ok
t/Wikibase-Datatype-Lexeme/06-language.t ........................................................................ ok
t/Wikibase-Datatype-Lexeme/07-lastrevid.t ....................................................................... ok
t/Wikibase-Datatype-Lexeme/08-lemmas.t .......................................................................... ok
t/Wikibase-Datatype-Lexeme/09-lexical_category.t ................................................................ ok
t/Wikibase-Datatype-Lexeme/10-modified.t ........................................................................ ok
t/Wikibase-Datatype-Lexeme/11-ns.t .............................................................................. ok
t/Wikibase-Datatype-Lexeme/12-page_id.t ......................................................................... ok
t/Wikibase-Datatype-Lexeme/13-senses.t .......................................................................... ok
t/Wikibase-Datatype-Lexeme/14-statements.t ...................................................................... ok
t/Wikibase-Datatype-Lexeme/15-title.t ........................................................................... ok
t/Wikibase-Datatype-Mediainfo/01-use.t .......................................................................... ok
t/Wikibase-Datatype-Mediainfo/02-version.t ...................................................................... ok
t/Wikibase-Datatype-Mediainfo/03-new.t .......................................................................... ok
t/Wikibase-Datatype-Mediainfo/04-descriptions.t ................................................................. ok
t/Wikibase-Datatype-Mediainfo/05-id.t ........................................................................... ok
t/Wikibase-Datatype-Mediainfo/06-labels.t ....................................................................... ok
t/Wikibase-Datatype-Mediainfo/07-lastrevid.t .................................................................... ok
t/Wikibase-Datatype-Mediainfo/08-modified.t ..................................................................... ok
t/Wikibase-Datatype-Mediainfo/09-ns.t ........................................................................... ok
t/Wikibase-Datatype-Mediainfo/10-page_id.t ...................................................................... ok
t/Wikibase-Datatype-Mediainfo/11-statements.t ................................................................... ok
t/Wikibase-Datatype-Mediainfo/12-title.t ........................................................................ ok
t/Wikibase-Datatype-MediainfoSnak/01-use.t ...................................................................... ok
t/Wikibase-Datatype-MediainfoSnak/02-version.t .................................................................. ok
t/Wikibase-Datatype-MediainfoSnak/03-new.t ...................................................................... ok
t/Wikibase-Datatype-MediainfoSnak/04-datavalue.t ................................................................ ok
t/Wikibase-Datatype-MediainfoSnak/05-property.t ................................................................. ok
t/Wikibase-Datatype-MediainfoSnak/06-snaktype.t ................................................................. ok
t/Wikibase-Datatype-MediainfoStatement/01-use.t ................................................................. ok
t/Wikibase-Datatype-MediainfoStatement/02-version.t ............................................................. ok
t/Wikibase-Datatype-MediainfoStatement/03-new.t ................................................................. ok
t/Wikibase-Datatype-MediainfoStatement/04-id.t .................................................................. ok
t/Wikibase-Datatype-MediainfoStatement/05-property_snaks.t ...................................................... ok
t/Wikibase-Datatype-MediainfoStatement/06-rank.t ................................................................ ok
t/Wikibase-Datatype-MediainfoStatement/07-snak.t ................................................................ ok
t/Wikibase-Datatype-Property/01-use.t ........................................................................... ok
t/Wikibase-Datatype-Property/02-version.t ....................................................................... ok
t/Wikibase-Datatype-Property/03-new.t ........................................................................... ok
t/Wikibase-Datatype-Property/04-aliases.t ....................................................................... ok
t/Wikibase-Datatype-Property/05-datatype.t ...................................................................... ok
t/Wikibase-Datatype-Property/06-descriptions.t .................................................................. ok
t/Wikibase-Datatype-Property/07-id.t ............................................................................ ok
t/Wikibase-Datatype-Property/08-labels.t ........................................................................ ok
t/Wikibase-Datatype-Property/09-lastrevid.t ..................................................................... ok
t/Wikibase-Datatype-Property/10-modified.t ...................................................................... ok
t/Wikibase-Datatype-Property/11-ns.t ............................................................................ ok
t/Wikibase-Datatype-Property/12-page_id.t ....................................................................... ok
t/Wikibase-Datatype-Property/13-statements.t .................................................................... ok
t/Wikibase-Datatype-Property/14-title.t ......................................................................... ok
t/Wikibase-Datatype-Reference/01-use.t .......................................................................... ok
t/Wikibase-Datatype-Reference/02-version.t ...................................................................... ok
t/Wikibase-Datatype-Reference/03-new.t .......................................................................... ok
t/Wikibase-Datatype-Reference/04-snaks.t ........................................................................ ok
t/Wikibase-Datatype-Sense/01-use.t .............................................................................. ok
t/Wikibase-Datatype-Sense/02-version.t .......................................................................... ok
t/Wikibase-Datatype-Sense/03-new.t .............................................................................. ok
t/Wikibase-Datatype-Sense/04-glosses.t .......................................................................... ok
t/Wikibase-Datatype-Sense/05-id.t ............................................................................... ok
t/Wikibase-Datatype-Sense/06-statements.t ....................................................................... ok
t/Wikibase-Datatype-Sitelink/01-use.t ........................................................................... ok
t/Wikibase-Datatype-Sitelink/02-version.t ....................................................................... ok
t/Wikibase-Datatype-Sitelink/03-new.t ........................................................................... ok
t/Wikibase-Datatype-Sitelink/04-badges.t ........................................................................ ok
t/Wikibase-Datatype-Sitelink/05-site.t .......................................................................... ok
t/Wikibase-Datatype-Sitelink/06-title.t ......................................................................... ok
t/Wikibase-Datatype-Snak/01-use.t ............................................................................... ok
t/Wikibase-Datatype-Snak/02-version.t ........................................................................... ok
t/Wikibase-Datatype-Snak/03-new.t ............................................................................... ok
t/Wikibase-Datatype-Snak/04-datavalue.t ......................................................................... ok
t/Wikibase-Datatype-Snak/05-datatype.t .......................................................................... ok
t/Wikibase-Datatype-Snak/06-property.t .......................................................................... ok
t/Wikibase-Datatype-Snak/07-snaktype.t .......................................................................... ok
t/Wikibase-Datatype-Statement/01-use.t .......................................................................... ok
t/Wikibase-Datatype-Statement/02-version.t ...................................................................... ok
t/Wikibase-Datatype-Statement/03-new.t .......................................................................... ok
t/Wikibase-Datatype-Statement/04-id.t ........................................................................... ok
t/Wikibase-Datatype-Statement/05-property_snaks.t ............................................................... ok
t/Wikibase-Datatype-Statement/06-rank.t ......................................................................... ok
t/Wikibase-Datatype-Statement/07-references.t ................................................................... ok
t/Wikibase-Datatype-Statement/08-snak.t ......................................................................... ok
t/Wikibase-Datatype-Utils/01-use.t .............................................................................. ok
t/Wikibase-Datatype-Utils/02-version.t .......................................................................... ok
t/Wikibase-Datatype-Utils/03-check_datetime.t ................................................................... ok
t/Wikibase-Datatype-Utils/04-check_entity.t ..................................................................... ok
t/Wikibase-Datatype-Utils/05-check_language.t ................................................................... ok
t/Wikibase-Datatype-Utils/06-check_lexeme.t ..................................................................... ok
t/Wikibase-Datatype-Utils/07-check_property.t ................................................................... ok
t/Wikibase-Datatype-Utils/08-check_sense.t ...................................................................... ok
t/Wikibase-Datatype-Value-Globecoordinate/01-use.t .............................................................. ok
t/Wikibase-Datatype-Value-Globecoordinate/02-version.t .......................................................... ok
t/Wikibase-Datatype-Value-Globecoordinate/03-new.t .............................................................. ok
t/Wikibase-Datatype-Value-Globecoordinate/04-altitude.t ......................................................... ok
t/Wikibase-Datatype-Value-Globecoordinate/05-globe.t ............................................................ ok
t/Wikibase-Datatype-Value-Globecoordinate/06-latitude.t ......................................................... ok
t/Wikibase-Datatype-Value-Globecoordinate/07-longitude.t ........................................................ ok
t/Wikibase-Datatype-Value-Globecoordinate/08-precision.t ........................................................ ok
t/Wikibase-Datatype-Value-Globecoordinate/09-type.t ............................................................. ok
t/Wikibase-Datatype-Value-Globecoordinate/10-value.t ............................................................ ok
t/Wikibase-Datatype-Value-Item/01-use.t ......................................................................... ok
t/Wikibase-Datatype-Value-Item/02-version.t ..................................................................... ok
t/Wikibase-Datatype-Value-Item/03-new.t ......................................................................... ok
t/Wikibase-Datatype-Value-Item/04-type.t ........................................................................ ok
t/Wikibase-Datatype-Value-Item/05-value.t ....................................................................... ok
t/Wikibase-Datatype-Value-Lexeme/01-use.t ....................................................................... ok
t/Wikibase-Datatype-Value-Lexeme/02-version.t ................................................................... ok
t/Wikibase-Datatype-Value-Lexeme/03-new.t ....................................................................... ok
t/Wikibase-Datatype-Value-Lexeme/04-type.t ...................................................................... ok
t/Wikibase-Datatype-Value-Lexeme/05-value.t ..................................................................... ok
t/Wikibase-Datatype-Value-Monolingual/01-use.t .................................................................. ok
t/Wikibase-Datatype-Value-Monolingual/02-version.t .............................................................. ok
t/Wikibase-Datatype-Value-Monolingual/03-new.t .................................................................. ok
t/Wikibase-Datatype-Value-Monolingual/04-language.t ............................................................. ok
t/Wikibase-Datatype-Value-Monolingual/05-type.t ................................................................. ok
t/Wikibase-Datatype-Value-Monolingual/06-value.t ................................................................ ok
t/Wikibase-Datatype-Value-Property/01-use.t ..................................................................... ok
t/Wikibase-Datatype-Value-Property/02-version.t ................................................................. ok
t/Wikibase-Datatype-Value-Property/03-new.t ..................................................................... ok
t/Wikibase-Datatype-Value-Property/04-type.t .................................................................... ok
t/Wikibase-Datatype-Value-Property/05-value.t ................................................................... ok
t/Wikibase-Datatype-Value-Quantity/01-use.t ..................................................................... ok
t/Wikibase-Datatype-Value-Quantity/02-version.t ................................................................. ok
t/Wikibase-Datatype-Value-Quantity/03-new.t ..................................................................... ok
t/Wikibase-Datatype-Value-Quantity/04-lower_bound.t ............................................................. ok
t/Wikibase-Datatype-Value-Quantity/05-type.t .................................................................... ok
t/Wikibase-Datatype-Value-Quantity/06-unit.t .................................................................... ok
t/Wikibase-Datatype-Value-Quantity/07-upper_bound.t ............................................................. ok
t/Wikibase-Datatype-Value-Quantity/08-value.t ................................................................... ok
t/Wikibase-Datatype-Value-Sense/01-use.t ........................................................................ ok
t/Wikibase-Datatype-Value-Sense/02-version.t .................................................................... ok
t/Wikibase-Datatype-Value-Sense/03-new.t ........................................................................ ok
t/Wikibase-Datatype-Value-Sense/04-type.t ....................................................................... ok
t/Wikibase-Datatype-Value-Sense/05-value.t ...................................................................... ok
t/Wikibase-Datatype-Value-String/01-use.t ....................................................................... ok
t/Wikibase-Datatype-Value-String/02-version.t ................................................................... ok
t/Wikibase-Datatype-Value-String/03-new.t ....................................................................... ok
t/Wikibase-Datatype-Value-String/04-type.t ...................................................................... ok
t/Wikibase-Datatype-Value-String/05-value.t ..................................................................... ok
t/Wikibase-Datatype-Value-Time/01-use.t ......................................................................... ok
t/Wikibase-Datatype-Value-Time/02-version.t ..................................................................... ok
t/Wikibase-Datatype-Value-Time/03-new.t ......................................................................... ok
t/Wikibase-Datatype-Value-Time/04-after.t ....................................................................... ok
t/Wikibase-Datatype-Value-Time/05-before.t ...................................................................... ok
t/Wikibase-Datatype-Value-Time/06-calendarmodel.t ............................................................... ok
t/Wikibase-Datatype-Value-Time/07-precision.t ................................................................... ok
t/Wikibase-Datatype-Value-Time/08-timezone.t .................................................................... ok
t/Wikibase-Datatype-Value-Time/09-type.t ........................................................................ ok
t/Wikibase-Datatype-Value-Time/10-value.t ....................................................................... ok
t/Wikibase-Datatype-Value/01-use.t .............................................................................. ok
t/Wikibase-Datatype-Value/02-version.t .......................................................................... ok
t/Wikibase-Datatype-Value/03-new.t .............................................................................. ok
t/Wikibase-Datatype-Value/04-type.t ............................................................................. ok
t/Wikibase-Datatype-Value/05-value.t ............................................................................ ok
t/Wikibase-Datatype/01-use.t .................................................................................... ok
t/Wikibase-Datatype/02-version.t ................................................................................ ok
All tests successful.
Files=350, Tests=979, 56 wallclock secs ( 0.83 usr  0.32 sys + 46.28 cusr  9.73 csys = 57.16 CPU)
Result: PASS

------------------------------
PREREQUISITES
------------------------------

Prerequisite modules loaded:

requires:

    Module              Need     Have      
    ------------------- -------- ----------
    Class::Utils        0.03     0.14      
    DateTime            0        1.54      
    Error::Pure         0.15     0.34      
    Exporter            0        5.74      
    List::MoreUtils     0        0.430     
    List::Util          1.33     1.55      
    Mo                  0        0.40      
    Mo::utils           0.14     0.29      
    perl                5.006002 5.032001  
    Readonly            0        2.05      
    Unicode::UTF8       0        0.62      

build_requires:

    Module              Need     Have      
    ------------------- -------- ----------
    English             0        1.11      
    Error::Pure::Utils  0        0.34      
    ExtUtils::MakeMaker 6.59     7.44      
    Test::MockObject    0        1.20200122
    Test::More          0        1.302175  
    Test::NoWarnings    0        1.06      

configure_requires:

    Module              Need     Have      
    ------------------- -------- ----------
    ExtUtils::MakeMaker 6.59     7.44      


------------------------------
ENVIRONMENT AND OTHER CONTEXT
------------------------------

Environment variables:

    LANG = en_US.UTF-8
    PATH = /usr/local/bin:/usr/bin:/bin:/usr/local/sbin:/usr/sbin:/sbin:/home/cpansand/bin/linux-gnu:/home/cpansand/bin/sh:/home/cpansand/bin:/usr/games:/home/cpansand/devel:/home/eserte/src/srezic-misc/scripts
    PERL5LIB = /home/cpansand/.local/share/.cpan/build/2025010510/Mo-utils-0.29-0/blib/arch:/home/cpansand/.local/share/.cpan/build/2025010510/Mo-utils-0.29-0/blib/lib:/home/cpansand/.local/share/.cpan/build/2025010510/Test-MockObject-1.20200122-0/blib/arch:/home/cpansand/.local/share/.cpan/build/2025010510/Test-MockObject-1.20200122-0/blib/lib:/home/cpansand/.local/share/.cpan/build/2025010510/UNIVERSAL-isa-1.20171012-0/blib/arch:/home/cpansand/.local/share/.cpan/build/2025010510/UNIVERSAL-isa-1.20171012-0/blib/lib:/home/cpansand/.local/share/.cpan/build/2025010510/UNIVERSAL-can-1.20140328-0/blib/arch:/home/cpansand/.local/share/.cpan/build/2025010510/UNIVERSAL-can-1.20140328-0/blib/lib:/home/cpansand/.local/share/.cpan/build/2025010510/Mo-0.40-0/blib/arch:/home/cpansand/.local/share/.cpan/build/2025010510/Mo-0.40-0/blib/lib:/home/cpansand/.local/share/.cpan/build/2025010510/Class-Utils-0.14-0/blib/arch:/home/cpansand/.local/share/.cpan/build/2025010510/Class-Utils-0.14-0/blib/lib:/home/cpansand/.local/share/.cpan/build/2025010510/Error-Pure-0.34-0/blib/arch:/home/cpansand/.local/share/.cpan/build/2025010510/Error-Pure-0.34-0/blib/lib:/home/cpansand/.local/share/.cpan/build/2025010510/Error-Pure-Output-Text-0.24-0/blib/arch:/home/cpansand/.local/share/.cpan/build/2025010510/Error-Pure-Output-Text-0.24-0/blib/lib:/home/cpansand/.local/share/.cpan/build/2025010510/Test-NoWarnings-1.06-0/blib/arch:/home/cpansand/.local/share/.cpan/build/2025010510/Test-NoWarnings-1.06-0/blib/lib:/home/cpansand/.local/share/.cpan/build/2025010510/Readonly-2.05-0/blib/arch:/home/cpansand/.local/share/.cpan/build/2025010510/Readonly-2.05-0/blib/lib:/home/cpansand/.local/share/.cpan/build/2025010510/Module-Build-Tiny-0.051-1/blib/arch:/home/cpansand/.local/share/.cpan/build/2025010510/Module-Build-Tiny-0.051-1/blib/lib:/home/cpansand/.local/share/.cpan/build/2025010510/ExtUtils-InstallPaths-0.014-1/blib/arch:/home/cpansand/.local/share/.cpan/build/2025010510/ExtUtils-InstallPaths-0.014-1/blib/lib:/home/cpansand/.local/share/.cpan/build/2025010510/ExtUtils-Helpers-0.028-1/blib/arch:/home/cpansand/.local/share/.cpan/build/2025010510/ExtUtils-Helpers-0.028-1/blib/lib:/home/cpansand/.local/share/.cpan/build/2025010510/ExtUtils-Config-0.010-1/blib/arch:/home/cpansand/.local/share/.cpan/build/2025010510/ExtUtils-Config-0.010-1/blib/lib
    PERL5OPT = 
    PERL5_CPANPLUS_IS_RUNNING = 4000531
    PERL5_CPAN_IS_RUNNING = 4000531
    PERL5_CPAN_IS_RUNNING_IN_RECURSION = 4000444,4000531
    PERLDOC = -MPod::Perldoc::ToTextOverstrike
    PERL_BATCH = yes
    PERL_CANARY_STABILITY_NOPROMPT = 1
    PERL_CPAN_REPORTER_CONFIG = /var/tmp/cpansmoker-1023/2025010510/cpanreporter_000_config.ini
    PERL_EXTUTILS_AUTOINSTALL = --defaultdeps
    PERL_USE_UNSAFE_INC = 1
    SHELL = /usr/bin/zsh
    TERM = screen
    TMPDIR = /var/tmp/cpansmoker-1023/2025010510

Perl special variables (and OS-specific diagnostics, for MSWin32):

    $^X = /usr/bin/perl
    $UID/$EUID = 1023 / 1023
    $GID = 1023 1023
    $EGID = 1023 1023

Perl module toolchain versions installed:

    Module              Have    
    ------------------- --------
    CPAN                2.27    
    CPAN::Meta          2.150010
    Cwd                 3.78    
    ExtUtils::CBuilder  0.280234
    ExtUtils::Command   7.44    
    ExtUtils::Install   2.14    
    ExtUtils::MakeMaker 7.44    
    ExtUtils::Manifest  1.72    
    ExtUtils::ParseXS   3.40    
    File::Spec          3.78    
    JSON                4.03    
    JSON::PP            4.04    
    Module::Build       0.4231  
    Module::Signature   n/a     
    Parse::CPAN::Meta   2.150010
    Test::Harness       3.42    
    Test::More          1.302175
    YAML                1.30    
    YAML::Syck          1.34    
    version             0.9924  


--

Summary of my perl5 (revision 5 version 32 subversion 1) configuration:
   
  Platform:
    osname=linux
    osvers=4.19.0
    archname=x86_64-linux-gnu-thread-multi
    uname='linux localhost 4.19.0 #1 smp debian 4.19.0 x86_64 gnulinux '
    config_args='-Dmksymlinks -Dusethreads -Duselargefiles -Dcc=x86_64-linux-gnu-gcc -Dcpp=x86_64-linux-gnu-cpp -Dld=x86_64-linux-gnu-gcc -Dccflags=-DDEBIAN -Wdate-time -D_FORTIFY_SOURCE=2 -g -O2 -ffile-prefix-map=/dummy/build/dir=. -fstack-protector-strong -Wformat -Werror=format-security -Dldflags= -Wl,-z,relro -Dlddlflags=-shared -Wl,-z,relro -Dcccdlflags=-fPIC -Darchname=x86_64-linux-gnu -Dprefix=/usr -Dprivlib=/usr/share/perl/5.32 -Darchlib=/usr/lib/x86_64-linux-gnu/perl/5.32 -Dvendorprefix=/usr -Dvendorlib=/usr/share/perl5 -Dvendorarch=/usr/lib/x86_64-linux-gnu/perl5/5.32 -Dsiteprefix=/usr/local -Dsitelib=/usr/local/share/perl/5.32.1 -Dsitearch=/usr/local/lib/x86_64-linux-gnu/perl/5.32.1 -Dman1dir=/usr/share/man/man1 -Dman3dir=/usr/share/man/man3 -Dsiteman1dir=/usr/local/man/man1 -Dsiteman3dir=/usr/local/man/man3 -Duse64bitint -Dman1ext=1 -Dman3ext=3perl -Dpager=/usr/bin/sensible-pager -Uafs -Ud_csh -Ud_ualarm -Uusesfio -Uusenm -Ui_libutil -Ui_xlocale -Uversiononly -DDEBUGGING=-g -Doptimize=-O2 -dEs -Duseshrplib -Dlibperl=libperl.so.5.32.1'
    hint=recommended
    useposix=true
    d_sigaction=define
    useithreads=define
    usemultiplicity=define
    use64bitint=define
    use64bitall=define
    uselongdouble=undef
    usemymalloc=n
    default_inc_excludes_dot=define
    bincompat5005=undef
  Compiler:
    cc='x86_64-linux-gnu-gcc'
    ccflags ='-D_REENTRANT -D_GNU_SOURCE -DDEBIAN -fwrapv -fno-strict-aliasing -pipe -I/usr/local/include -D_LARGEFILE_SOURCE -D_FILE_OFFSET_BITS=64'
    optimize='-O2 -g'
    cppflags='-D_REENTRANT -D_GNU_SOURCE -DDEBIAN -fwrapv -fno-strict-aliasing -pipe -I/usr/local/include'
    ccversion=''
    gccversion='10.2.1 20210110'
    gccosandvers=''
    intsize=4
    longsize=8
    ptrsize=8
    doublesize=8
    byteorder=12345678
    doublekind=3
    d_longlong=define
    longlongsize=8
    d_longdbl=define
    longdblsize=16
    longdblkind=3
    ivtype='long'
    ivsize=8
    nvtype='double'
    nvsize=8
    Off_t='off_t'
    lseeksize=8
    alignbytes=8
    prototype=define
  Linker and Libraries:
    ld='x86_64-linux-gnu-gcc'
    ldflags =' -fstack-protector-strong -L/usr/local/lib'
    libpth=/usr/local/lib /usr/include/x86_64-linux-gnu /usr/lib /lib/x86_64-linux-gnu /lib/../lib /usr/lib/x86_64-linux-gnu /usr/lib/../lib /lib
    libs=-lgdbm -lgdbm_compat -ldb -ldl -lm -lpthread -lc -lcrypt
    perllibs=-ldl -lm -lpthread -lc -lcrypt
    libc=libc-2.31.so
    so=so
    useshrplib=true
    libperl=libperl.so.5.32
    gnulibc_version='2.31'
  Dynamic Linking:
    dlsrc=dl_dlopen.xs
    dlext=so
    d_dlsymun=undef
    ccdlflags='-Wl,-E'
    cccdlflags='-fPIC'
    lddlflags='-shared -L/usr/local/lib -fstack-protector-strong'


Characteristics of this binary (from libperl): 
  Compile-time options:
    HAS_TIMES
    MULTIPLICITY
    PERLIO_LAYERS
    PERL_COPY_ON_WRITE
    PERL_DONT_CREATE_GVSV
    PERL_IMPLICIT_CONTEXT
    PERL_MALLOC_WRAP
    PERL_OP_PARENT
    PERL_PRESERVE_IVUV
    USE_64_BIT_ALL
    USE_64_BIT_INT
    USE_ITHREADS
    USE_LARGE_FILES
    USE_LOCALE
    USE_LOCALE_COLLATE
    USE_LOCALE_CTYPE
    USE_LOCALE_NUMERIC
    USE_LOCALE_TIME
    USE_PERLIO
    USE_PERL_ATOF
    USE_REENTRANT_API
    USE_THREAD_SAFE_LOCALE
  Locally applied patches:
    DEBPKG:debian/cpan_definstalldirs - Provide a sensible INSTALLDIRS default for modules installed from CPAN.
    DEBPKG:debian/db_file_ver - https://bugs.debian.org/340047 Remove overly restrictive DB_File version check.
    DEBPKG:debian/doc_info - Replace generic man(1) instructions with Debian-specific information.
    DEBPKG:debian/enc2xs_inc - https://bugs.debian.org/290336 Tweak enc2xs to follow symlinks and ignore missing @INC directories.
    DEBPKG:debian/errno_ver - https://bugs.debian.org/343351 Remove Errno version check due to upgrade problems with long-running processes.
    DEBPKG:debian/libperl_embed_doc - https://bugs.debian.org/186778 Note that libperl-dev package is required for embedded linking
    DEBPKG:fixes/respect_umask - Respect umask during installation
    DEBPKG:debian/writable_site_dirs - Set umask approproately for site install directories
    DEBPKG:debian/extutils_set_libperl_path - EU:MM: set location of libperl.a under /usr/lib
    DEBPKG:debian/no_packlist_perllocal - Don't install .packlist or perllocal.pod for perl or vendor
    DEBPKG:debian/fakeroot - Postpone LD_LIBRARY_PATH evaluation to the binary targets.
    DEBPKG:debian/instmodsh_doc - Debian policy doesn't install .packlist files for core or vendor.
    DEBPKG:debian/ld_run_path - Remove standard libs from LD_RUN_PATH as per Debian policy.
    DEBPKG:debian/libnet_config_path - Set location of libnet.cfg to /etc/perl/Net as /usr may not be writable.
    DEBPKG:debian/perlivp - https://bugs.debian.org/510895 Make perlivp skip include directories in /usr/local
    DEBPKG:debian/squelch-locale-warnings - https://bugs.debian.org/508764 Squelch locale warnings in Debian package maintainer scripts
    DEBPKG:debian/patchlevel - https://bugs.debian.org/567489 List packaged patches for 5.32.1-4+deb11u4 in patchlevel.h
    DEBPKG:fixes/document_makemaker_ccflags - https://bugs.debian.org/628522 [rt.cpan.org #68613] Document that CCFLAGS should include $Config{ccflags}
    DEBPKG:debian/find_html2text - https://bugs.debian.org/640479 Configure CPAN::Distribution with correct name of html2text
    DEBPKG:debian/perl5db-x-terminal-emulator.patch - https://bugs.debian.org/668490 Invoke x-terminal-emulator rather than xterm in perl5db.pl
    DEBPKG:debian/cpan-missing-site-dirs - https://bugs.debian.org/688842 Fix CPAN::FirstTime defaults with nonexisting site dirs if a parent is writable
    DEBPKG:fixes/memoize_storable_nstore - [rt.cpan.org #77790] https://bugs.debian.org/587650 Memoize::Storable: respect 'nstore' option not respected
    DEBPKG:debian/makemaker-pasthru - https://bugs.debian.org/758471 Pass LD settings through to subdirectories
    DEBPKG:debian/makemaker-manext - https://bugs.debian.org/247370 Make EU::MakeMaker honour MANnEXT settings in generated manpage headers
    DEBPKG:debian/kfreebsd-softupdates - https://bugs.debian.org/796798 Work around Debian Bug#796798
    DEBPKG:fixes/memoize-pod - [rt.cpan.org #89441] Fix POD errors in Memoize
    DEBPKG:debian/hurd-softupdates - https://bugs.debian.org/822735 Fix t/op/stat.t failures on hurd
    DEBPKG:fixes/math_complex_doc_great_circle - https://bugs.debian.org/697567 [rt.cpan.org #114104] Math::Trig: clarify definition of great_circle_midpoint
    DEBPKG:fixes/math_complex_doc_see_also - https://bugs.debian.org/697568 [rt.cpan.org #114105] Math::Trig: add missing SEE ALSO
    DEBPKG:fixes/math_complex_doc_angle_units - https://bugs.debian.org/731505 [rt.cpan.org #114106] Math::Trig: document angle units
    DEBPKG:fixes/cpan_web_link - https://bugs.debian.org/367291 CPAN: Add link to main CPAN web site
    DEBPKG:debian/hppa_op_optimize_workaround - https://bugs.debian.org/838613 Temporarily lower the optimization of op.c on hppa due to gcc-6 problems
    DEBPKG:debian/installman-utf8 - https://bugs.debian.org/840211 Generate man pages with UTF-8 characters
    DEBPKG:debian/hppa_opmini_optimize_workaround - https://bugs.debian.org/869122 Lower the optimization level of opmini.c on hppa
    DEBPKG:debian/sh4_op_optimize_workaround - https://bugs.debian.org/869373 Also lower the optimization level of op.c and opmini.c on sh4
    DEBPKG:debian/perldoc-pager - https://bugs.debian.org/870340 [rt.cpan.org #120229] Fix perldoc terminal escapes when sensible-pager is less
    DEBPKG:debian/prune_libs - https://bugs.debian.org/128355 Prune the list of libraries wanted to what we actually need.
    DEBPKG:debian/mod_paths - Tweak @INC ordering for Debian
    DEBPKG:debian/configure-regen - https://bugs.debian.org/762638 Regenerate Configure et al. after probe unit changes
    DEBPKG:debian/deprecate-with-apt - https://bugs.debian.org/747628 Point users to Debian packages of deprecated core modules
    DEBPKG:debian/disable-stack-check - https://bugs.debian.org/902779 [GH #16607] Disable debugperl stack extension checks for binary compatibility with perl
    DEBPKG:debian/perlbug-editor - https://bugs.debian.org/922609 Use "editor" as the default perlbug editor, as per Debian policy
    DEBPKG:debian/eu-mm-perl-base - https://bugs.debian.org/962138 Suppress an ExtUtils::MakeMaker warning about our non-default @INC
    DEBPKG:fixes/hurd-cachepropagate-test-fix - https://bugs.debian.org/963214 GNU/Hurd doesn't support SO_PROTOCOL
    DEBPKG:fixes/io_socket_ip_ipv6 - Disable getaddrinfo(3) AI_ADDRCONFIG for localhost and IPv4 numeric addresses
    DEBPKG:fixes/encode-CVE-2021-36770 - mitigate @INC pollution when loading ConfigLocal
    DEBPKG:fixes/regcomp-memleak - https://bugs.debian.org/994834 [GH #18604] [5f41fa4] regcomp.c: Remove memory leak
    DEBPKG:fixes/CVE-2023-47038 - [12c313c] https://bugs.debian.org/1056746 Fix read/write past buffer end: perl-security#140
    DEBPKG:CVE-2020-16156/01-b27c51a.patch - https://bugs.debian.org/1015985 https://bugs.debian.org/1015985 bugfix: signature verification type CANNOT_VERIFY was not recognized
    DEBPKG:CVE-2020-16156/02-bcbf6d6.patch - https://bugs.debian.org/1015985 https://bugs.debian.org/1015985 Add two new failure modes based on cpan_path
    DEBPKG:CVE-2020-16156/03-46fe910.patch - https://bugs.debian.org/1015985 https://bugs.debian.org/1015985 use gpg --verify --output ... to disentangle data and signature
    DEBPKG:CVE-2020-16156/04-7f9e5e8.patch - https://bugs.debian.org/1015985 https://bugs.debian.org/1015985 replacing die with mydie in three spots
    DEBPKG:CVE-2020-16156/05-c03257d.patch - https://bugs.debian.org/1015985 https://bugs.debian.org/1015985 disambiguate the call to gpg --output by adding --verify
    DEBPKG:CVE-2020-16156/06-7d4d5e3.patch - https://bugs.debian.org/1015985 https://bugs.debian.org/1015985 s/gpg/$gpg/ in system, add quotes where needed
    DEBPKG:CVE-2020-16156/07-89b13ba.patch - https://bugs.debian.org/1015985 https://bugs.debian.org/1015985 s,/dev/null,$devnull,
    DEBPKG:CVE-2023-31484.patch - https://bugs.debian.org/1035109 Add verify_SSL=>1 to HTTP::Tiny to verify https server identity
  Built under linux
  Compiled at Oct 20 2024 21:53:39
  %ENV:
    PERL5LIB="/home/cpansand/.local/share/.cpan/build/2025010510/Mo-utils-0.29-0/blib/arch:/home/cpansand/.local/share/.cpan/build/2025010510/Mo-utils-0.29-0/blib/lib:/home/cpansand/.local/share/.cpan/build/2025010510/Test-MockObject-1.20200122-0/blib/arch:/home/cpansand/.local/share/.cpan/build/2025010510/Test-MockObject-1.20200122-0/blib/lib:/home/cpansand/.local/share/.cpan/build/2025010510/UNIVERSAL-isa-1.20171012-0/blib/arch:/home/cpansand/.local/share/.cpan/build/2025010510/UNIVERSAL-isa-1.20171012-0/blib/lib:/home/cpansand/.local/share/.cpan/build/2025010510/UNIVERSAL-can-1.20140328-0/blib/arch:/home/cpansand/.local/share/.cpan/build/2025010510/UNIVERSAL-can-1.20140328-0/blib/lib:/home/cpansand/.local/share/.cpan/build/2025010510/Mo-0.40-0/blib/arch:/home/cpansand/.local/share/.cpan/build/2025010510/Mo-0.40-0/blib/lib:/home/cpansand/.local/share/.cpan/build/2025010510/Class-Utils-0.14-0/blib/arch:/home/cpansand/.local/share/.cpan/build/2025010510/Class-Utils-0.14-0/blib/lib:/home/cpansand/.local/share/.cpan/build/2025010510/Error-Pure-0.34-0/blib/arch:/home/cpansand/.local/share/.cpan/build/2025010510/Error-Pure-0.34-0/blib/lib:/home/cpansand/.local/share/.cpan/build/2025010510/Error-Pure-Output-Text-0.24-0/blib/arch:/home/cpansand/.local/share/.cpan/build/2025010510/Error-Pure-Output-Text-0.24-0/blib/lib:/home/cpansand/.local/share/.cpan/build/2025010510/Test-NoWarnings-1.06-0/blib/arch:/home/cpansand/.local/share/.cpan/build/2025010510/Test-NoWarnings-1.06-0/blib/lib:/home/cpansand/.local/share/.cpan/build/2025010510/Readonly-2.05-0/blib/arch:/home/cpansand/.local/share/.cpan/build/2025010510/Readonly-2.05-0/blib/lib:/home/cpansand/.local/share/.cpan/build/2025010510/Module-Build-Tiny-0.051-1/blib/arch:/home/cpansand/.local/share/.cpan/build/2025010510/Module-Build-Tiny-0.051-1/blib/lib:/home/cpansand/.local/share/.cpan/build/2025010510/ExtUtils-InstallPaths-0.014-1/blib/arch:/home/cpansand/.local/share/.cpan/build/2025010510/ExtUtils-InstallPaths-0.014-1/blib/lib:/home/cpansand/.local/share/.cpan/build/2025010510/ExtUtils-Helpers-0.028-1/blib/arch:/home/cpansand/.local/share/.cpan/build/2025010510/ExtUtils-Helpers-0.028-1/blib/lib:/home/cpansand/.local/share/.cpan/build/2025010510/ExtUtils-Config-0.010-1/blib/arch:/home/cpansand/.local/share/.cpan/build/2025010510/ExtUtils-Config-0.010-1/blib/lib"
    PERL5OPT=""
    PERL5_CPANPLUS_IS_RUNNING="4000531"
    PERL5_CPAN_IS_RUNNING="4000531"
    PERL5_CPAN_IS_RUNNING_IN_RECURSION="4000444,4000531"
    PERLDOC="-MPod::Perldoc::ToTextOverstrike"
    PERL_BATCH="yes"
    PERL_CANARY_STABILITY_NOPROMPT="1"
    PERL_CPAN_REPORTER_CONFIG="/var/tmp/cpansmoker-1023/2025010510/cpanreporter_000_config.ini"
    PERL_EXTUTILS_AUTOINSTALL="--defaultdeps"
    PERL_USE_UNSAFE_INC="1"
  @INC:
    /home/cpansand/.local/share/.cpan/build/2025010510/Mo-utils-0.29-0/blib/arch
    /home/cpansand/.local/share/.cpan/build/2025010510/Mo-utils-0.29-0/blib/lib
    /home/cpansand/.local/share/.cpan/build/2025010510/Test-MockObject-1.20200122-0/blib/arch
    /home/cpansand/.local/share/.cpan/build/2025010510/Test-MockObject-1.20200122-0/blib/lib
    /home/cpansand/.local/share/.cpan/build/2025010510/UNIVERSAL-isa-1.20171012-0/blib/arch
    /home/cpansand/.local/share/.cpan/build/2025010510/UNIVERSAL-isa-1.20171012-0/blib/lib
    /home/cpansand/.local/share/.cpan/build/2025010510/UNIVERSAL-can-1.20140328-0/blib/arch
    /home/cpansand/.local/share/.cpan/build/2025010510/UNIVERSAL-can-1.20140328-0/blib/lib
    /home/cpansand/.local/share/.cpan/build/2025010510/Mo-0.40-0/blib/arch
    /home/cpansand/.local/share/.cpan/build/2025010510/Mo-0.40-0/blib/lib
    /home/cpansand/.local/share/.cpan/build/2025010510/Class-Utils-0.14-0/blib/arch
    /home/cpansand/.local/share/.cpan/build/2025010510/Class-Utils-0.14-0/blib/lib
    /home/cpansand/.local/share/.cpan/build/2025010510/Error-Pure-0.34-0/blib/arch
    /home/cpansand/.local/share/.cpan/build/2025010510/Error-Pure-0.34-0/blib/lib
    /home/cpansand/.local/share/.cpan/build/2025010510/Error-Pure-Output-Text-0.24-0/blib/arch
    /home/cpansand/.local/share/.cpan/build/2025010510/Error-Pure-Output-Text-0.24-0/blib/lib
    /home/cpansand/.local/share/.cpan/build/2025010510/Test-NoWarnings-1.06-0/blib/arch
    /home/cpansand/.local/share/.cpan/build/2025010510/Test-NoWarnings-1.06-0/blib/lib
    /home/cpansand/.local/share/.cpan/build/2025010510/Readonly-2.05-0/blib/arch
    /home/cpansand/.local/share/.cpan/build/2025010510/Readonly-2.05-0/blib/lib
    /home/cpansand/.local/share/.cpan/build/2025010510/Module-Build-Tiny-0.051-1/blib/arch
    /home/cpansand/.local/share/.cpan/build/2025010510/Module-Build-Tiny-0.051-1/blib/lib
    /home/cpansand/.local/share/.cpan/build/2025010510/ExtUtils-InstallPaths-0.014-1/blib/arch
    /home/cpansand/.local/share/.cpan/build/2025010510/ExtUtils-InstallPaths-0.014-1/blib/lib
    /home/cpansand/.local/share/.cpan/build/2025010510/ExtUtils-Helpers-0.028-1/blib/arch
    /home/cpansand/.local/share/.cpan/build/2025010510/ExtUtils-Helpers-0.028-1/blib/lib
    /home/cpansand/.local/share/.cpan/build/2025010510/ExtUtils-Config-0.010-1/blib/arch
    /home/cpansand/.local/share/.cpan/build/2025010510/ExtUtils-Config-0.010-1/blib/lib
    /etc/perl
    /usr/local/lib/x86_64-linux-gnu/perl/5.32.1
    /usr/local/share/perl/5.32.1
    /usr/lib/x86_64-linux-gnu/perl5/5.32
    /usr/share/perl5
    /usr/lib/x86_64-linux-gnu/perl-base
    /usr/lib/x86_64-linux-gnu/perl/5.32
    /usr/share/perl/5.32
    /usr/local/lib/site_perl
    .