Report for HTTP-Request-FromCurl-0.52

Back
From: metabase:user:314402c4-2aae-11df-837a-5e0a49663a4f
Subject: PASS HTTP-Request-FromCurl-0.52 5.24.0 FreeBSD
Date: 2023-10-08T18:00:03Z

This distribution has been tested as part of the CPAN Testers
project, supporting the Perl programming language.  See
http://wiki.cpantesters.org/ for more information or email
questions to cpan-testers-discuss@perl.org


--
Dear Max Maischein,

This is a computer-generated report for HTTP-Request-FromCurl-0.52
on perl 5.24.0, created by CPAN-Reporter-1.2019.

Thank you for uploading your work to CPAN.  Congratulations!
All tests were successful.

Sections of this report:

    * Tester comments
    * Program output
    * Prerequisites
    * Environment and other context

------------------------------
TESTER COMMENTS
------------------------------

Additional comments from tester:

none provided

------------------------------
PROGRAM OUTPUT
------------------------------

Output from '/usr/bin/make test':

PERL_DL_NONLAZY=1 "/usr/perl5.24.0p/bin/perl5.24.0" "-MExtUtils::Command::MM" "-MTest::Harness" "-e" "undef *Test::Harness::Switches; test_harness(0, 'blib/lib', 'blib/arch')" t/00-load.t t/curl-identity-cookie.t t/curl-identity-data.t t/curl-identity-headers.t t/curl-identity-options.t t/curl-identity-post.t t/curl-identity-quirky.t t/curl-identity.t t/curl-multi-2.t t/curl-multi-dryrun.t t/curl-multi.t t/explode-headers.t t/fetch-identity.t t/implicit-headers.t t/squash-url.t t/wget-identity-headers-2.t t/wget-identity-headers.t t/wget-identity-options.t
# Testing HTTP::Request::FromCurl 0.52, Perl 5.024000
# Algorithm::Loops 1.032
# AutoLoader 5.74
# Carp 1.50
# Carp::Heavy 1.50
# Class::XSAccessor 1.19
# Class::XSAccessor::Heavy 1.19
# Clone 0.46
# Config 5.024000
# Cwd 3.75
# DynaLoader 1.38
# Encode 3.19
# Encode::Alias 2.25
# Encode::Config 2.05
# Encode::Encoding 2.08
# Encode::MIME::Name 1.03
# Errno 1.25
# Exporter 5.77
# Exporter::Heavy 5.77
# Exporter::Tiny 1.006002
# ExtUtils::Liblist 7.70
# ExtUtils::Liblist::Kid 7.70
# ExtUtils::MM 7.70
# ExtUtils::MM_Any 7.70
# ExtUtils::MM_Unix 7.70
# ExtUtils::MY 7.70
# ExtUtils::MakeMaker 7.70
# ExtUtils::MakeMaker::Config 7.70
# ExtUtils::MakeMaker::Locale 7.70
# ExtUtils::MakeMaker::version 7.70
# Fcntl 1.13
# File::Basename 2.85
# File::Copy 2.31
# File::Glob 1.26
# File::Path 2.18
# File::Spec 3.75
# File::Spec::Unix 3.75
# Filter::Simple 0.94
# Filter::Util::Call 1.62
# Filter::signatures 0.17
# Getopt::Long 2.54
# HTTP::Date 6.05
# HTTP::Headers 6.44
# HTTP::Message 6.44
# HTTP::Request 6.44
# HTTP::Request::Common 6.44
# HTTP::Request::CurlParameters 0.52
# HTTP::Request::FromCurl 0.52
# HTTP::Request::Generator 0.10
# HTTP::Response 6.44
# HTTP::Status 6.44
# HTTP::Tiny 0.082
# I18N::Langinfo 0.13
# IO 1.51
# IO::Handle 1.51
# IO::Socket 1.51
# IO::Socket::INET 1.51
# IO::Socket::IP 0.41
# IO::Socket::UNIX 1.51
# LWP 6.70
# LWP::MemberMixin 6.70
# LWP::Protocol 6.70
# LWP::UserAgent 6.70
# List::MoreUtils 0.430
# List::MoreUtils::PP 0.430
# List::MoreUtils::XS 0.430
# List::Util 1.63
# Log::Agent 1.004
# Log::Agent::Formatting <unknown>
# Log::Agent::Message <unknown>
# Log::Agent::Priorities <unknown>
# MIME::Base64 3.16
# Method::Generate::Accessor <unknown>
# Method::Generate::Constructor <unknown>
# Moo 2.005005
# Moo::Object <unknown>
# Moo::_Utils <unknown>
# Moo::sification <unknown>
# POSIX 1.65
# PerlIO 1.09
# PerlX::Maybe 1.001
# Scalar::Util 1.63
# SelectSaver 1.02
# Socket 2.037
# Storable 3.25
# Sub::Defer 2.006008
# Sub::Quote 2.006008
# Sub::Util 1.63
# Symbol 1.07
# Test::Builder 1.302195
# Test::Builder::Formatter 1.302195
# Test::Builder::Module 1.302195
# Test::Builder::TodoDiag 1.302195
# Test::More 1.302195
# Test2::API 1.302195
# Test2::API::Context 1.302195
# Test2::API::Instance 1.302195
# Test2::API::Stack 1.302195
# Test2::Event 1.302195
# Test2::Event::Bail 1.302195
# Test2::Event::Diag 1.302195
# Test2::Event::Exception 1.302195
# Test2::Event::Fail 1.302195
# Test2::Event::Note 1.302195
# Test2::Event::Ok 1.302195
# Test2::Event::Pass 1.302195
# Test2::Event::Plan 1.302195
# Test2::Event::Skip 1.302195
# Test2::Event::Subtest 1.302195
# Test2::Event::V2 1.302195
# Test2::Event::Waiting 1.302195
# Test2::EventFacet 1.302195
# Test2::EventFacet::About 1.302195
# Test2::EventFacet::Amnesty 1.302195
# Test2::EventFacet::Assert 1.302195
# Test2::EventFacet::Control 1.302195
# Test2::EventFacet::Error 1.302195
# Test2::EventFacet::Hub 1.302195
# Test2::EventFacet::Info 1.302195
# Test2::EventFacet::Meta 1.302195
# Test2::EventFacet::Parent 1.302195
# Test2::EventFacet::Plan 1.302195
# Test2::EventFacet::Trace 1.302195
# Test2::Formatter 1.302195
# Test2::Formatter::TAP 1.302195
# Test2::Hub 1.302195
# Test2::Hub::Interceptor 1.302195
# Test2::Hub::Interceptor::Terminator 1.302195
# Test2::Hub::Subtest 1.302195
# Test2::Util 1.302195
# Test2::Util::ExternalMeta 1.302195
# Test2::Util::Facets2Legacy 1.302195
# Test2::Util::HashBase 1.302195
# Test2::Util::Trace 1.302195
# Text::Balanced 2.06
# Tie::Hash 1.05
# Time::HiRes 1.9764
# Time::Local 1.35
# Try::Tiny 0.31
# URI 5.21
# URI::Escape 5.21
# XSLoader 0.24
# XString 0.005
# base 2.23
# bytes 1.05
# constant 1.33
# feature 1.42
# mro 1.18
# overload 1.26
# overloading 0.02
# parent 0.239
# strict 1.11
# vars 1.03
# version 0.9930
# version::regex 0.9930
# version::vxs 0.9930
# warnings 1.36
# warnings::register 1.04
t/00-load.t .................. ok
# Testing with curl version '7.52.1'
t/localserver-cookiejar.txt does not seem to contain cookies at /usr/perl5.24.0p/lib/site_perl/5.24.0/HTTP/Cookies.pm line 459, <$fh> line 1.
/var/tmp/cpansmoker-1023/2023092708/MuCuRWRBJ4 does not seem to contain cookies at /usr/perl5.24.0p/lib/site_perl/5.24.0/HTTP/Cookies.pm line 459, <$fh> line 1.
t/curl-identity-cookie.t ..... ok
# Testing with curl version '7.52.1'
t/curl-identity-data.t ....... ok
# Testing with curl version '7.52.1'
t/curl-identity-headers.t .... ok
# Testing with curl version '7.52.1'
# 
# 
# 
# 
# 
# 
# 
# 
# 
t/curl-identity-options.t .... ok
# Testing with curl version '7.52.1'
t/curl-identity-post.t ....... ok
# Testing with curl version '7.52.1'
t/curl-identity-quirky.t ..... ok
# Testing with curl version '7.52.1'
t/curl-identity.t ............ ok
# Testing with curl version '7.52.1'
t/curl-multi-2.t ............. ok
t/curl-multi-dryrun.t ........ ok
# Testing with curl version '7.52.1'
t/curl-multi.t ............... ok
t/explode-headers.t .......... ok
t/fetch-identity.t ........... ok
t/implicit-headers.t ......... ok
t/squash-url.t ............... ok
Missing argument in sprintf at t/TestWgetIdentity.pm line 213.
# Testing with wget version '1.18'
t/wget-identity-headers-2.t .. ok
Missing argument in sprintf at t/TestWgetIdentity.pm line 213.
# Testing with wget version '1.18'
t/wget-identity-headers.t .... ok
Missing argument in sprintf at t/TestWgetIdentity.pm line 213.
# Testing with wget version '1.18'
t/wget-identity-options.t .... ok
All tests successful.

Test Summary Report
-------------------
t/wget-identity-options.t  (Wstat: 0 Tests: 90 Failed: 0)
  TODO passed:   32-40, 42-50, 52-60
Files=18, Tests=912, 820 wallclock secs ( 0.26 usr  0.07 sys + 21.27 cusr 21.11 csys = 42.70 CPU)
Result: PASS

------------------------------
PREREQUISITES
------------------------------

Prerequisite modules loaded:

requires:

    Module                   Need  Have    
    ------------------------ ----- --------
    Carp                     0     1.50    
    File::Basename           0     2.85    
    Filter::signatures       0.16  0.17    
    Getopt::Long             2.39  2.54    
    HTTP::Request            6.07  6.44    
    HTTP::Request::Common    6.07  6.44    
    HTTP::Request::Generator 0.09  0.10    
    JSON                     0     4.10    
    List::Util               1.29  1.63    
    MIME::Base64             0     3.16    
    Moo                      2     2.005005
    perl                     5.010 5.024000
    PerlX::Maybe             0     1.001   
    URI                      0     5.21    
    URI::Escape              0     5.21    

build_requires:

    Module                   Need  Have    
    ------------------------ ----- --------
    Capture::Tiny            0     0.48    
    Data::Dumper             0     2.183   
    ExtUtils::MakeMaker      0     7.70    
    HTTP::CookieJar          0     0.014   
    HTTP::CookieJar::LWP     0     0.014   
    HTTP::Tiny               0     0.082   
    IO::Socket::SSL          0     2.081   
    LWP::UserAgent           0     6.70    
    Path::Tiny               0     0.144   
    Test2::V0                0     0.000155
    Test::HTTP::LocalServer  0.67  0.71    
    WWW::Mechanize           0     2.15    

configure_requires:

    Module                   Need  Have    
    ------------------------ ----- --------
    ExtUtils::MakeMaker      0     7.70    


------------------------------
ENVIRONMENT AND OTHER CONTEXT
------------------------------

Environment variables:

    LC_ALL = de_DE.ISO8859-1
    PATH = /usr/local/bin:/usr/bin:/bin:/usr/local/sbin:/usr/sbin:/sbin:/home/cpansand/bin/freebsd10.3:/home/cpansand/bin/sh:/home/cpansand/bin:/usr/games:/home/cpansand/devel:/home/eserte/src/srezic-misc/scripts
    PERL5LIB = 
    PERL5OPT = 
    PERL5_CPANPLUS_IS_RUNNING = 59364
    PERL5_CPAN_IS_RUNNING = 59364
    PERL5_CPAN_IS_RUNNING_IN_RECURSION = 72958,59364
    PERLDOC = -MPod::Perldoc::ToTextOverstrike
    PERL_BATCH = yes
    PERL_CANARY_STABILITY_NOPROMPT = 1
    PERL_CPAN_REPORTER_CONFIG = /var/tmp/cpansmoker-1023/2023092708/cpanreporter_000_config.ini
    PERL_EXTUTILS_AUTOINSTALL = --defaultdeps
    PERL_USE_UNSAFE_INC = 1
    SHELL = /usr/local/bin/zsh
    TERM = screen
    TMPDIR = /var/tmp/cpansmoker-1023/2023092708

Perl special variables (and OS-specific diagnostics, for MSWin32):

    $^X = /usr/perl5.24.0p/bin/perl5.24.0
    $UID/$EUID = 1023 / 1023
    $GID = 1023 1023
    $EGID = 1023 1023

Perl module toolchain versions installed:

    Module              Have    
    ------------------- --------
    CPAN                2.34    
    CPAN::Meta          2.150010
    Cwd                 3.75    
    ExtUtils::CBuilder  0.280236
    ExtUtils::Command   7.70    
    ExtUtils::Install   2.22    
    ExtUtils::MakeMaker 7.70    
    ExtUtils::Manifest  1.75    
    ExtUtils::ParseXS   3.51    
    File::Spec          3.75    
    JSON                4.10    
    JSON::PP            4.16    
    Module::Build       0.4234  
    Module::Signature   0.87    
    Parse::CPAN::Meta   2.150010
    Test2               1.302195
    Test::Harness       3.47    
    Test::More          1.302195
    YAML                1.30    
    YAML::Syck          1.34    
    version             0.9930  


--

Summary of my perl5 (revision 5 version 24 subversion 0) configuration:
   
  Platform:
    osname=freebsd, osvers=10.1-release, archname=amd64-freebsd
    uname='freebsd cvrsnica-freebsd-101.herceg.de 10.1-release freebsd 10.1-release #0 r274401: tue nov 11 21:02:49 utc 2014 root@releng1.nyi.freebsd.org:usrobjusrsrcsysgeneric amd64 '
    config_args='-ds -e -Dprefix=/usr/perl5.24.0p -Dcf_email=srezic@cpan.org -Doptimize=-O2 -pipe'
    hint=recommended, useposix=true, d_sigaction=define
    useithreads=undef, usemultiplicity=undef
    use64bitint=define, use64bitall=define, uselongdouble=undef
    usemymalloc=n, bincompat5005=undef
  Compiler:
    cc='cc', ccflags ='-DHAS_FPSETMASK -DHAS_FLOATINGPOINT_H -fno-strict-aliasing -pipe -fstack-protector -I/usr/local/include -D_FORTIFY_SOURCE=2',
    optimize='-O2 -pipe',
    cppflags='-DHAS_FPSETMASK -DHAS_FLOATINGPOINT_H -fno-strict-aliasing -pipe -fstack-protector -I/usr/local/include'
    ccversion='', gccversion='4.2.1 Compatible FreeBSD Clang 3.4.1 (tags/RELEASE_34/dot1-final 208032)', gccosandvers=''
    intsize=4, longsize=8, ptrsize=8, doublesize=8, byteorder=12345678, doublekind=3
    d_longlong=define, longlongsize=8, d_longdbl=define, longdblsize=16, longdblkind=3
    ivtype='long', ivsize=8, nvtype='double', nvsize=8, Off_t='off_t', lseeksize=8
    alignbytes=8, prototype=define
  Linker and Libraries:
    ld='cc', ldflags ='-pthread -Wl,-E  -fstack-protector -L/usr/local/lib'
    libpth=/usr/lib /usr/local/lib /usr/include/clang/3.4.1 /usr/lib
    libs=-lpthread -lgdbm -lm -lcrypt -lutil -lc
    perllibs=-lpthread -lm -lcrypt -lutil -lc
    libc=, so=so, useshrplib=false, libperl=libperl.a
    gnulibc_version=''
  Dynamic Linking:
    dlsrc=dl_dlopen.xs, dlext=so, d_dlsymun=undef, ccdlflags=' '
    cccdlflags='-DPIC -fPIC', lddlflags='-shared  -L/usr/local/lib -fstack-protector'


Characteristics of this binary (from libperl): 
  Compile-time options: HAS_TIMES PERLIO_LAYERS PERL_COPY_ON_WRITE
                        PERL_DONT_CREATE_GVSV
                        PERL_HASH_FUNC_ONE_AT_A_TIME_HARD PERL_MALLOC_WRAP
                        PERL_PRESERVE_IVUV USE_64_BIT_ALL USE_64_BIT_INT
                        USE_LARGE_FILES USE_LOCALE USE_LOCALE_COLLATE
                        USE_LOCALE_CTYPE USE_LOCALE_NUMERIC USE_LOCALE_TIME
                        USE_PERLIO USE_PERL_ATOF
  Built under freebsd
  Compiled at May 10 2016 08:49:38
  %ENV:
    PERL5LIB=""
    PERL5OPT=""
    PERL5_CPANPLUS_IS_RUNNING="59364"
    PERL5_CPAN_IS_RUNNING="59364"
    PERL5_CPAN_IS_RUNNING_IN_RECURSION="72958,59364"
    PERLDOC="-MPod::Perldoc::ToTextOverstrike"
    PERL_BATCH="yes"
    PERL_CANARY_STABILITY_NOPROMPT="1"
    PERL_CPAN_REPORTER_CONFIG="/var/tmp/cpansmoker-1023/2023092708/cpanreporter_000_config.ini"
    PERL_EXTUTILS_AUTOINSTALL="--defaultdeps"
    PERL_USE_UNSAFE_INC="1"
  @INC:
    /usr/perl5.24.0p/lib/site_perl/5.24.0/amd64-freebsd
    /usr/perl5.24.0p/lib/site_perl/5.24.0
    /usr/perl5.24.0p/lib/5.24.0/amd64-freebsd
    /usr/perl5.24.0p/lib/5.24.0
    .