Back
From: metabase:user:30ae4450-2aae-11df-837a-5e0a49663a4f
Subject: PASS Dist-Zilla-Plugin-PortabilityTests-1.101420 v5.12.1
Date: 2010-09-04T13:58:03Z
This distribution has been tested as part of the CPAN Testers
project, supporting the Perl programming language. See
http://wiki.cpantesters.org/ for more information or email
questions to cpan-testers-discuss@perl.org
--
Dear Marcel Gruenauer == hanekomu,
This is a computer-generated report for Dist-Zilla-Plugin-PortabilityTests-1.101420
on perl 5.12.1, created by CPAN-Reporter-1.18.
Thank you for uploading your work to CPAN. Congratulations!
All tests were successful.
Sections of this report:
* Tester comments
* Program output
* Prerequisites
* Environment and other context
------------------------------
TESTER COMMENTS
------------------------------
Additional comments from tester:
none provided
------------------------------
PROGRAM OUTPUT
------------------------------
Output from 'E:\pperl\c\bin\dmake.exe test':
E:\pperl\perl\bin\perl.exe "-MExtUtils::Command::MM" "-e" "test_harness(0, 'blib\lib', 'blib\arch')" t/*.t
t/00-compile.t ............... ok
# Testing with Perl 5.012001, E:\pperl\perl\bin\perl.exe
# Carp version is 1.16
# Dist::Zilla::Plugin::InlineFiles version is 4.102340
# English version is 1.04
# ExtUtils::MakeMaker version is 6.57_02
# File::Find version is 1.15
# File::Temp version is 0.22
# Moose version is 1.12
# Scalar::Util version is 1.23
# Test::More version is 0.94
t/000-report-versions.t ...... ok
t/author-critic.t ............ skipped: these tests are for testing by the author
t/release-check-changes.t .... skipped: these tests are for release candidate testing
t/release-dist-manifest.t .... skipped: these tests are for release candidate testing
t/release-distmeta.t ......... skipped: these tests are for release candidate testing
t/release-has-version.t ...... skipped: these tests are for release candidate testing
t/release-kwalitee.t ......... skipped: these tests are for release candidate testing
t/release-minimum-version.t .. skipped: these tests are for release candidate testing
t/release-pod-coverage.t ..... skipped: these tests are for release candidate testing
t/release-pod-spell.t ........ skipped: these tests are for release candidate testing
t/release-pod-syntax.t ....... skipped: these tests are for release candidate testing
t/release-portability.t ...... skipped: these tests are for release candidate testing
t/release-synopsis.t ......... skipped: these tests are for release candidate testing
t/release-unused-vars.t ...... skipped: these tests are for release candidate testing
All tests successful.
Files=15, Tests=10, 15 wallclock secs ( 0.28 usr + 0.06 sys = 0.34 CPU)
Result: PASS
------------------------------
PREREQUISITES
------------------------------
Prerequisite modules loaded:
requires:
Module Need Have
-------------------------------- ---- --------
Dist::Zilla::Plugin::InlineFiles 0 4.102340
Moose 0 1.12
Test::Portability::Files 0 0.05
build_requires:
Module Need Have
-------------------------------- ---- --------
Carp 0 1.16
English 0 1.04
File::Find 0 1.15
File::Temp 0 0.22
Scalar::Util 0 1.23
Test::More 0.94 0.94
configure_requires:
Module Need Have
-------------------------------- ---- --------
ExtUtils::MakeMaker 6.31 6.57_02
------------------------------
ENVIRONMENT AND OTHER CONTEXT
------------------------------
Environment variables:
COMSPEC = C:\WINDOWS\system32\cmd.exe
INCLUDE = G:\Prg\Microsoft Visual Studio\VC98\atl\include;G:\Prg\Microsoft Visual Studio\VC98\mfc\include;G:\Prg\Microsoft Visual Studio\VC98\include;c:\perl\ext\include\
LIB = G:\Prg\Microsoft Visual Studio\VC98\mfc\lib;G:\Prg\Microsoft Visual Studio\VC98\lib;c:\perl\ext\lib\
NUMBER_OF_PROCESSORS = 1
PATH = E:\pperl\perl\site\bin;E:\pperl\perl\bin;E:\pperl\c\bin;C:\Program Files\Far;C:\PHP\;D:\Perl561\bin\;C:\Perl\site\bin;C:\Perl\bin;c:\program files\imagemagick-6.2.5-q16;C:\WINDOWS\system32;C:\WINDOWS;C:\WINDOWS\System32\Wbem;c:\util\;C:\vanilla-perl\perl\bin;C:\vanilla-perl\dmake\bin;C:\vanilla-perl\mingw\bin;C:\Program Files\Common Files\GTK\2.0\bin;C:\strawberry\c\bin\;C:\strawberry\perl\bin;D:\Prg\TortoiseGit\bin;C:\Program Files\TortoiseSVN\bin;D:\Program Files\Subversion\bin;d:\Program Files\Mercurial;d:\Prg\Git\cmd;C:\strawberry\c\bin;C:\strawberry512RC0\c\bin;C:\strawberry512RC0\perl\bin;C:\strawberry512RC0\perl\site\bin;C:\strawberry512RC\c\bin;C:\strawberry512RC\perl\site\bin;C:\strawberry512RC\perl\bin;E:\strawberry5121b\c\bin;E:\strawberry5121b\perl\site\bin;E:\strawberry5121b\perl\bin;G:\Prg\Microsoft Visual Studio\Common\Tools\WinNT;G:\Prg\Microsoft Visual Studio\Common\MSDev98\Bin;G:\Prg\Microsoft Visual Studio\Common\Tools;G:\Prg\Microsoft Visual Studio\VC98\bin;c:\php\;C:\Prg\svk\bin;;
PERL5LIB =
PERL5OPT =
PERL5_CPANPLUS_IS_RUNNING = 3220
PERL5_CPAN_IS_RUNNING = 3220
PROCESSOR_IDENTIFIER = x86 Family 15 Model 2 Stepping 4, GenuineIntel
TEMP = C:\DOCUME~1\Sasha\LOCALS~1\Temp
TERM = dumb
Perl special variables (and OS-specific diagnostics, for MSWin32):
$^X = E:\pperl\perl\bin\perl.exe
$UID/$EUID = 0 / 0
$GID = 0
$EGID = 0
Win32::GetOSName = WinXP/.Net
Win32::GetOSVersion = Service Pack 2, 5, 1, 2600, 2, 2, 0, 256, 1
Win32::FsType = NTFS
Win32::IsAdminUser = 1
Perl module toolchain versions installed:
Module Have
------------------- -------
CPAN 1.94_58
Cwd 3.31
ExtUtils::CBuilder 0.2703
ExtUtils::Command 1.16
ExtUtils::Install 1.55
ExtUtils::MakeMaker 6.57_02
ExtUtils::Manifest 1.58
ExtUtils::ParseXS 2.2206
File::Spec 3.31
Module::Build 0.3607
Module::Signature 0.64
Test::Harness 3.21
Test::More 0.94
YAML 0.71
YAML::Syck 1.14
version 0.82
--
Summary of my perl5 (revision 5 version 12 subversion 1) configuration:
Platform:
osname=MSWin32, osvers=5.1, archname=MSWin32-x86-multi-thread
uname='Win32 strawberryperl 5.12.1.0 #1 Thu Jul 29 10:08:11 2010 i386'
config_args='undef'
hint=recommended, useposix=true, d_sigaction=undef
useithreads=define, usemultiplicity=define
useperlio=define, d_sfio=undef, uselargefiles=define, usesocks=undef
use64bitint=undef, use64bitall=undef, uselongdouble=undef
usemymalloc=n, bincompat5005=undef
Compiler:
cc='gcc', ccflags =' -s -O2 -DWIN32 -DHAVE_DES_FCRYPT -DUSE_SITECUSTOMIZE -DPERL_IMPLICIT_CONTEXT -DPERL_IMPLICIT_SYS -fno-strict-aliasing -mms-bitfields -DPERL_MSVCRT_READFIX',
optimize='-s -O2',
cppflags='-DWIN32'
ccversion='', gccversion='4.4.3', gccosandvers=''
intsize=4, longsize=4, ptrsize=4, doublesize=8, byteorder=1234
d_longlong=undef, longlongsize=8, d_longdbl=define, longdblsize=12
ivtype='long', ivsize=4, nvtype='double', nvsize=8, Off_t='long long', lseeksize=8
alignbytes=8, prototype=define
Linker and Libraries:
ld='g++.exe', ldflags ='-s -L"E:\pperl\perl\lib\CORE" -L"E:\pperl\c\lib"'
libpth=E:\pperl\c\lib
libs=-lmoldname -lkernel32 -luser32 -lgdi32 -lwinspool -lcomdlg32 -ladvapi32 -lshell32 -lole32 -loleaut32 -lnetapi32 -luuid -lws2_32 -lmpr -lwinmm -lversion -lodbc32 -lodbccp32 -lcomctl32
perllibs=-lmoldname -lkernel32 -luser32 -lgdi32 -lwinspool -lcomdlg32 -ladvapi32 -lshell32 -lole32 -loleaut32 -lnetapi32 -luuid -lws2_32 -lmpr -lwinmm -lversion -lodbc32 -lodbccp32 -lcomctl32
libc=, so=dll, useshrplib=true, libperl=libperl512.a
gnulibc_version=''
Dynamic Linking:
dlsrc=dl_win32.xs, dlext=dll, d_dlsymun=undef, ccdlflags=' '
cccdlflags=' ', lddlflags='-mdll -s -L"E:\pperl\perl\lib\CORE" -L"E:\pperl\c\lib"'
Characteristics of this binary (from libperl):
Compile-time options: MULTIPLICITY PERL_DONT_CREATE_GVSV
PERL_IMPLICIT_CONTEXT PERL_IMPLICIT_SYS
PERL_MALLOC_WRAP PL_OP_SLAB_ALLOC USE_ITHREADS
USE_LARGE_FILES USE_PERLIO USE_PERL_ATOF
USE_SITECUSTOMIZE
Built under MSWin32
Compiled at Jul 29 2010 14:38:55
%ENV:
PERL5_CPANPLUS_IS_RUNNING="3220"
PERL5_CPAN_IS_RUNNING="3220"
@INC:
E:/pperl/perl/site/lib
E:/pperl/perl/vendor/lib
E:/pperl/perl/lib
.