Catalyst-View-HTML-Zoom v0.003 Perl 5 v5.39.10 x86_64-linux-ld

Status
Pass
From
Andreas J. König (ANDK)
Dist
Catalyst-View-HTML-Zoom v0.003
Platform
Perl 5 v5.39.10 x86_64-linux-ld
Date
2024-05-07 03:22:14
ID
fff38f3c-0c20-11ef-9f43-df2a6a3db97c
This distribution has been tested as part of the CPAN Testers
project, supporting the Perl programming language.  See
http://wiki.cpantesters.org/ for more information or email
questions to cpan-testers-discuss@perl.org


--
Dear Oliver Charles,

This is a computer-generated report for Catalyst-View-HTML-Zoom-0.003
on perl 5.39.10, created by CPAN-Reporter-1.2019.

Thank you for uploading your work to CPAN.  Congratulations!
All tests were successful.

Sections of this report:

    * Tester comments
    * Program output
    * Prerequisites
    * Environment and other context

------------------------------
TESTER COMMENTS
------------------------------

Additional comments from tester:

this report is from an automated smoke testing program
and was not reviewed by a human for accuracy

------------------------------
PROGRAM OUTPUT
------------------------------

Output from '/usr/bin/make test':

PERL_DL_NONLAZY=1 "/tmp/basesmoker-reloperl-sLbq/bin/perl" "-MExtUtils::Command::MM" "-MTest::Harness" "-e" "undef *Test::Harness::Switches; test_harness(0, 'blib/lib', 'blib/arch')" t/*.t
t/00-load.t ............... ok
t/author-pod-coverage.t ... skipped: these tests are for testing by the author
t/author-pod.t ............ skipped: these tests are for testing by the author
Class::MOP::load_class is deprecated at /home/sand/src/perl/repoperls/installed-perls/host/k93jammy/v5.39.10/5674/lib/site_perl/5.39.10/x86_64-linux-ld/Class/MOP.pm line 69, <ARGV> line 1.
	Class::MOP::load_class("TestAppAltRoot::View::HTML::Root") called at /tmp/loop_over_bdir-2594-zRJt0W/Catalyst-View-HTML-Zoom-0.003-0/blib/lib/Catalyst/View/HTML/Zoom.pm line 138
	Catalyst::View::HTML::Zoom::_zoomer_class_from_context(TestAppAltRoot::View::HTML=HASH(0x5c45d3c1a488), TestAppAltRoot=HASH(0x5c45d168f660)) called at /tmp/loop_over_bdir-2594-zRJt0W/Catalyst-View-HTML-Zoom-0.003-0/blib/lib/Catalyst/View/HTML/Zoom.pm line 90
	Catalyst::View::HTML::Zoom::_build_renderer_from_zoomer_class(TestAppAltRoot::View::HTML=HASH(0x5c45d3c1a488), TestAppAltRoot=HASH(0x5c45d168f660)) called at /tmp/loop_over_bdir-2594-zRJt0W/Catalyst-View-HTML-Zoom-0.003-0/blib/lib/Catalyst/View/HTML/Zoom.pm line 76
	Catalyst::View::HTML::Zoom::_build_renderer_from(TestAppAltRoot::View::HTML=HASH(0x5c45d3c1a488), TestAppAltRoot=HASH(0x5c45d168f660), undef) called at /tmp/loop_over_bdir-2594-zRJt0W/Catalyst-View-HTML-Zoom-0.003-0/blib/lib/Catalyst/View/HTML/Zoom.pm line 67
	Catalyst::View::HTML::Zoom::render(TestAppAltRoot::View::HTML=HASH(0x5c45d3c1a488), TestAppAltRoot=HASH(0x5c45d168f660), "/main") called at /tmp/loop_over_bdir-2594-zRJt0W/Catalyst-View-HTML-Zoom-0.003-0/blib/lib/Catalyst/View/HTML/Zoom.pm line 41
	Catalyst::View::HTML::Zoom::process(TestAppAltRoot::View::HTML=HASH(0x5c45d3c1a488), TestAppAltRoot=HASH(0x5c45d168f660)) called at /home/sand/src/perl/repoperls/installed-perls/host/k93jammy/v5.39.10/5674/lib/site_perl/5.39.10/Catalyst/Action.pm line 374
	Catalyst::Action::execute(Catalyst::Action=HASH(0x5c45d3dedd28), TestAppAltRoot::View::HTML=HASH(0x5c45d3c1a488), TestAppAltRoot=HASH(0x5c45d168f660)) called at /home/sand/src/perl/repoperls/installed-perls/host/k93jammy/v5.39.10/5674/lib/site_perl/5.39.10/Catalyst.pm line 2067
	eval {...} called at /home/sand/src/perl/repoperls/installed-perls/host/k93jammy/v5.39.10/5674/lib/site_perl/5.39.10/Catalyst.pm line 2067
	Catalyst::execute(TestAppAltRoot=HASH(0x5c45d168f660), TestAppAltRoot::View::HTML=HASH(0x5c45d3c1a488), Catalyst::Action=HASH(0x5c45d3dedd28)) called at /home/sand/src/perl/repoperls/installed-perls/host/k93jammy/v5.39.10/5674/lib/site_perl/5.39.10/Catalyst/Action.pm line 366
	Catalyst::Action::dispatch(Catalyst::Action=HASH(0x5c45d3dedd28), TestAppAltRoot=HASH(0x5c45d168f660)) called at /home/sand/src/perl/repoperls/installed-perls/host/k93jammy/v5.39.10/5674/lib/site_perl/5.39.10/Catalyst/Dispatcher.pm line 261
	Catalyst::Dispatcher::_do_forward(Catalyst::Dispatcher=HASH(0x5c45d2a67998), "forward", TestAppAltRoot=HASH(0x5c45d168f660), TestAppAltRoot::View::HTML=HASH(0x5c45d3c1a488)) called at /home/sand/src/perl/repoperls/installed-perls/host/k93jammy/v5.39.10/5674/lib/site_perl/5.39.10/Catalyst/Dispatcher.pm line 241
	Catalyst::Dispatcher::forward(Catalyst::Dispatcher=HASH(0x5c45d2a67998), TestAppAltRoot=HASH(0x5c45d168f660), TestAppAltRoot::View::HTML=HASH(0x5c45d3c1a488)) called at /home/sand/src/perl/repoperls/installed-perls/host/k93jammy/v5.39.10/5674/lib/site_perl/5.39.10/Catalyst.pm line 489
	Catalyst::forward(TestAppAltRoot=HASH(0x5c45d168f660), TestAppAltRoot::View::HTML=HASH(0x5c45d3c1a488)) called at /home/sand/src/perl/repoperls/installed-perls/host/k93jammy/v5.39.10/5674/lib/site_perl/5.39.10/Catalyst/Action/RenderView.pm line 57
	Catalyst::Action::RenderView::execute(Catalyst::Action::RenderView=HASH(0x5c45d3c96330), TestAppAltRoot::Controller::Root=HASH(0x5c45d3c1a518), TestAppAltRoot=HASH(0x5c45d168f660)) called at /home/sand/src/perl/repoperls/installed-perls/host/k93jammy/v5.39.10/5674/lib/site_perl/5.39.10/Catalyst.pm line 2067
	eval {...} called at /home/sand/src/perl/repoperls/installed-perls/host/k93jammy/v5.39.10/5674/lib/site_perl/5.39.10/Catalyst.pm line 2067
	Catalyst::execute(TestAppAltRoot=HASH(0x5c45d168f660), "TestAppAltRoot::Controller::Root", Catalyst::Action::RenderView=HASH(0x5c45d3c96330)) called at /home/sand/src/perl/repoperls/installed-perls/host/k93jammy/v5.39.10/5674/lib/site_perl/5.39.10/Catalyst/Action.pm line 368
	Catalyst::Action::dispatch(Catalyst::Action::RenderView=HASH(0x5c45d3c96330), TestAppAltRoot=HASH(0x5c45d168f660)) called at /home/sand/src/perl/repoperls/installed-perls/host/k93jammy/v5.39.10/5674/lib/site_perl/5.39.10/Catalyst/Controller.pm line 188
	Catalyst::Controller::_END(TestAppAltRoot::Controller::Root=HASH(0x5c45d3c1a518), TestAppAltRoot=HASH(0x5c45d168f660)) called at /home/sand/src/perl/repoperls/installed-perls/host/k93jammy/v5.39.10/5674/lib/site_perl/5.39.10/Catalyst/Action.pm line 374
	Catalyst::Action::execute(Catalyst::Action=HASH(0x5c45d3c7ea30), TestAppAltRoot::Controller::Root=HASH(0x5c45d3c1a518), TestAppAltRoot=HASH(0x5c45d168f660)) called at /home/sand/src/perl/repoperls/installed-perls/host/k93jammy/v5.39.10/5674/lib/site_perl/5.39.10/Catalyst.pm line 2067
	eval {...} called at /home/sand/src/perl/repoperls/installed-perls/host/k93jammy/v5.39.10/5674/lib/site_perl/5.39.10/Catalyst.pm line 2067
	Catalyst::execute(TestAppAltRoot=HASH(0x5c45d168f660), "TestAppAltRoot::Controller::Root", Catalyst::Action=HASH(0x5c45d3c7ea30)) called at /home/sand/src/perl/repoperls/installed-perls/host/k93jammy/v5.39.10/5674/lib/site_perl/5.39.10/Catalyst/Action.pm line 368
	Catalyst::Action::dispatch(Catalyst::Action=HASH(0x5c45d3c7ea30), TestAppAltRoot=HASH(0x5c45d168f660)) called at /home/sand/src/perl/repoperls/installed-perls/host/k93jammy/v5.39.10/5674/lib/site_perl/5.39.10/Catalyst/Dispatcher.pm line 261
	Catalyst::Dispatcher::_do_forward(Catalyst::Dispatcher=HASH(0x5c45d2a67998), "forward", TestAppAltRoot=HASH(0x5c45d168f660), "_END") called at /home/sand/src/perl/repoperls/installed-perls/host/k93jammy/v5.39.10/5674/lib/site_perl/5.39.10/Catalyst/Dispatcher.pm line 241
	Catalyst::Dispatcher::forward(Catalyst::Dispatcher=HASH(0x5c45d2a67998), TestAppAltRoot=HASH(0x5c45d168f660), "_END") called at /home/sand/src/perl/repoperls/installed-perls/host/k93jammy/v5.39.10/5674/lib/site_perl/5.39.10/Catalyst.pm line 489
	Catalyst::forward(TestAppAltRoot=HASH(0x5c45d168f660), "_END") called at /home/sand/src/perl/repoperls/installed-perls/host/k93jammy/v5.39.10/5674/lib/site_perl/5.39.10/Catalyst/Controller.pm line 137
	Catalyst::Controller::_DISPATCH(TestAppAltRoot::Controller::Root=HASH(0x5c45d3c1a518), TestAppAltRoot=HASH(0x5c45d168f660)) called at /home/sand/src/perl/repoperls/installed-perls/host/k93jammy/v5.39.10/5674/lib/site_perl/5.39.10/Catalyst/Action.pm line 374
	Catalyst::Action::execute(Catalyst::Action=HASH(0x5c45d3c52290), TestAppAltRoot::Controller::Root=HASH(0x5c45d3c1a518), TestAppAltRoot=HASH(0x5c45d168f660)) called at /home/sand/src/perl/repoperls/installed-perls/host/k93jammy/v5.39.10/5674/lib/site_perl/5.39.10/Catalyst.pm line 2067
	eval {...} called at /home/sand/src/perl/repoperls/installed-perls/host/k93jammy/v5.39.10/5674/lib/site_perl/5.39.10/Catalyst.pm line 2067
	Catalyst::execute(TestAppAltRoot=HASH(0x5c45d168f660), "TestAppAltRoot::Controller::Root", Catalyst::Action=HASH(0x5c45d3c52290)) called at /home/sand/src/perl/repoperls/installed-perls/host/k93jammy/v5.39.10/5674/lib/site_perl/5.39.10/Catalyst/Action.pm line 368
	Catalyst::Action::dispatch(Catalyst::Action=HASH(0x5c45d3c52290), TestAppAltRoot=HASH(0x5c45d168f660)) called at /home/sand/src/perl/repoperls/installed-perls/host/k93jammy/v5.39.10/5674/lib/site_perl/5.39.10/Catalyst/Dispatcher.pm line 261
	Catalyst::Dispatcher::_do_forward(Catalyst::Dispatcher=HASH(0x5c45d2a67998), "forward", TestAppAltRoot=HASH(0x5c45d168f660), "//_DISPATCH") called at /home/sand/src/perl/repoperls/installed-perls/host/k93jammy/v5.39.10/5674/lib/site_perl/5.39.10/Catalyst/Dispatcher.pm line 241
	Catalyst::Dispatcher::forward(Catalyst::Dispatcher=HASH(0x5c45d2a67998), TestAppAltRoot=HASH(0x5c45d168f660), "//_DISPATCH") called at /home/sand/src/perl/repoperls/installed-perls/host/k93jammy/v5.39.10/5674/lib/site_perl/5.39.10/Catalyst.pm line 489
	Catalyst::forward(TestAppAltRoot=HASH(0x5c45d168f660), "//_DISPATCH") called at /home/sand/src/perl/repoperls/installed-perls/host/k93jammy/v5.39.10/5674/lib/site_perl/5.39.10/Catalyst/Dispatcher.pm line 107
	Catalyst::Dispatcher::dispatch(Catalyst::Dispatcher=HASH(0x5c45d2a67998), TestAppAltRoot=HASH(0x5c45d168f660)) called at /home/sand/src/perl/repoperls/installed-perls/host/k93jammy/v5.39.10/5674/lib/site_perl/5.39.10/Catalyst.pm line 2013
	Catalyst::dispatch(TestAppAltRoot=HASH(0x5c45d168f660)) called at /home/sand/src/perl/repoperls/installed-perls/host/k93jammy/v5.39.10/5674/lib/site_perl/5.39.10/x86_64-linux-ld/Class/MOP/Method/Wrapped.pm line 56
	TestAppAltRoot::_wrapped_dispatch(TestAppAltRoot=HASH(0x5c45d168f660)) called at /home/sand/src/perl/repoperls/installed-perls/host/k93jammy/v5.39.10/5674/lib/site_perl/5.39.10/x86_64-linux-ld/Class/MOP/Method/Wrapped.pm line 97
	TestAppAltRoot::dispatch(TestAppAltRoot=HASH(0x5c45d168f660)) called at /home/sand/src/perl/repoperls/installed-perls/host/k93jammy/v5.39.10/5674/lib/site_perl/5.39.10/Catalyst.pm line 2419
	Catalyst::try {...} () called at /home/sand/src/perl/repoperls/installed-perls/host/k93jammy/v5.39.10/5674/lib/site_perl/5.39.10/Try/Tiny.pm line 102
	eval {...} called at /home/sand/src/perl/repoperls/installed-perls/host/k93jammy/v5.39.10/5674/lib/site_perl/5.39.10/Try/Tiny.pm line 93
	Try::Tiny::try(CODE(0x5c45d3d8c258), Try::Tiny::Catch=REF(0x5c45d3d8c0c0)) called at /home/sand/src/perl/repoperls/installed-perls/host/k93jammy/v5.39.10/5674/lib/site_perl/5.39.10/Catalyst.pm line 2428
	Catalyst::handle_request("TestAppAltRoot", "env", HASH(0x5c45d3419db8), "response_cb", CODE(0x5c45d3d8c120)) called at /home/sand/src/perl/repoperls/installed-perls/host/k93jammy/v5.39.10/5674/lib/site_perl/5.39.10/Catalyst/Engine.pm line 807
	Catalyst::Engine::__ANON__(CODE(0x5c45d3d8c120)) called at /home/sand/src/perl/repoperls/installed-perls/host/k93jammy/v5.39.10/5674/lib/site_perl/5.39.10/Plack/Middleware/HTTPExceptions.pm line 32
	Plack::Middleware::HTTPExceptions::try {...} () called at /home/sand/src/perl/repoperls/installed-perls/host/k93jammy/v5.39.10/5674/lib/site_perl/5.39.10/Try/Tiny.pm line 102
	eval {...} called at /home/sand/src/perl/repoperls/installed-perls/host/k93jammy/v5.39.10/5674/lib/site_perl/5.39.10/Try/Tiny.pm line 93
	Try::Tiny::try(CODE(0x5c45d3d8bf58), Try::Tiny::Catch=REF(0x5c45d3d857d0)) called at /home/sand/src/perl/repoperls/installed-perls/host/k93jammy/v5.39.10/5674/lib/site_perl/5.39.10/Plack/Middleware/HTTPExceptions.pm line 41
	Plack::Middleware::HTTPExceptions::__ANON__(CODE(0x5c45d3d5b770)) called at /home/sand/src/perl/repoperls/installed-perls/host/k93jammy/v5.39.10/5674/lib/site_perl/5.39.10/Plack/Util.pm line 339
	Plack::Util::__ANON__(CODE(0x5c45d3c45028)) called at /home/sand/src/perl/repoperls/installed-perls/host/k93jammy/v5.39.10/5674/lib/site_perl/5.39.10/Plack/Util.pm line 339
	Plack::Util::__ANON__(CODE(0x5c45d3c1e0a8)) called at /home/sand/src/perl/repoperls/installed-perls/host/k93jammy/v5.39.10/5674/lib/site_perl/5.39.10/Plack/Util.pm line 339
	Plack::Util::__ANON__(CODE(0x5c45d3b00de8)) called at /home/sand/src/perl/repoperls/installed-perls/host/k93jammy/v5.39.10/5674/lib/site_perl/5.39.10/HTTP/Message/PSGI.pm line 100
	HTTP::Message::PSGI::res_from_psgi(CODE(0x5c45d3d8bcb8)) called at /home/sand/src/perl/repoperls/installed-perls/host/k93jammy/v5.39.10/5674/lib/site_perl/5.39.10/HTTP/Message/PSGI.pm line 157
	HTTP::Response::from_psgi("HTTP::Response", CODE(0x5c45d3d8bcb8)) called at /home/sand/src/perl/repoperls/installed-perls/host/k93jammy/v5.39.10/5674/lib/site_perl/5.39.10/Plack/Test/MockHTTP.pm line 24
	Plack::Test::MockHTTP::try {...} () called at /home/sand/src/perl/repoperls/installed-perls/host/k93jammy/v5.39.10/5674/lib/site_perl/5.39.10/Try/Tiny.pm line 100
	eval {...} called at /home/sand/src/perl/repoperls/installed-perls/host/k93jammy/v5.39.10/5674/lib/site_perl/5.39.10/Try/Tiny.pm line 93
	Try::Tiny::try(CODE(0x5c45d3afd570), Try::Tiny::Catch=REF(0x5c45d11803c8)) called at /home/sand/src/perl/repoperls/installed-perls/host/k93jammy/v5.39.10/5674/lib/site_perl/5.39.10/Plack/Test/MockHTTP.pm line 27
	Plack::Test::MockHTTP::request(Plack::Test::MockHTTP=HASH(0x5c45d3d85b78), HTTP::Request=HASH(0x5c45d3d85740)) called at /home/sand/src/perl/repoperls/installed-perls/host/k93jammy/v5.39.10/5674/lib/site_perl/5.39.10/Plack/Test.pm line 38
	Plack::Test::__ANON__(HTTP::Request=HASH(0x5c45d3d85740)) called at /home/sand/src/perl/repoperls/installed-perls/host/k93jammy/v5.39.10/5674/lib/site_perl/5.39.10/Catalyst/Test.pm line 290
	Catalyst::Test::__ANON__(CODE(0x5c45d3d85b00)) called at /home/sand/src/perl/repoperls/installed-perls/host/k93jammy/v5.39.10/5674/lib/site_perl/5.39.10/Plack/Test.pm line 38
	Plack::Test::test_psgi("app", CODE(0x5c45d3d85350), "mangle_response", CODE(0x5c45d2a3ad98), "app", CODE(0x5c45d3c7f510), "client", CODE(0x5c45d3d85998)) called at /home/sand/src/perl/repoperls/installed-perls/host/k93jammy/v5.39.10/5674/lib/site_perl/5.39.10/Catalyst/Test.pm line 293
	Catalyst::Test::_request(HASH(0x5c45d1170188), "/") called at /home/sand/src/perl/repoperls/installed-perls/host/k93jammy/v5.39.10/5674/lib/site_perl/5.39.10/Catalyst/Test.pm line 336
	Catalyst::Test::_local_request("TestAppAltRoot", "/") called at /home/sand/src/perl/repoperls/installed-perls/host/k93jammy/v5.39.10/5674/lib/site_perl/5.39.10/Catalyst/Test.pm line 32
	Catalyst::Test::__ANON__("/") called at /home/sand/src/perl/repoperls/installed-perls/host/k93jammy/v5.39.10/5674/lib/site_perl/5.39.10/Catalyst/Test.pm line 72
	Catalyst::Test::__ANON__("/") called at t/live-test-alt-root.t line 14
t/live-test-alt-root.t .... ok
Class::MOP::load_class is deprecated at /home/sand/src/perl/repoperls/installed-perls/host/k93jammy/v5.39.10/5674/lib/site_perl/5.39.10/x86_64-linux-ld/Class/MOP.pm line 69, <ARGV> line 1.
	Class::MOP::load_class("TestApp::View::HTML::Root") called at /tmp/loop_over_bdir-2594-zRJt0W/Catalyst-View-HTML-Zoom-0.003-0/blib/lib/Catalyst/View/HTML/Zoom.pm line 138
	Catalyst::View::HTML::Zoom::_zoomer_class_from_context(TestApp::View::HTML=HASH(0x5ae12ae86f70), TestApp=HASH(0x5ae12aeeff30)) called at /tmp/loop_over_bdir-2594-zRJt0W/Catalyst-View-HTML-Zoom-0.003-0/blib/lib/Catalyst/View/HTML/Zoom.pm line 90
	Catalyst::View::HTML::Zoom::_build_renderer_from_zoomer_class(TestApp::View::HTML=HASH(0x5ae12ae86f70), TestApp=HASH(0x5ae12aeeff30)) called at /tmp/loop_over_bdir-2594-zRJt0W/Catalyst-View-HTML-Zoom-0.003-0/blib/lib/Catalyst/View/HTML/Zoom.pm line 76
	Catalyst::View::HTML::Zoom::_build_renderer_from(TestApp::View::HTML=HASH(0x5ae12ae86f70), TestApp=HASH(0x5ae12aeeff30), undef) called at /tmp/loop_over_bdir-2594-zRJt0W/Catalyst-View-HTML-Zoom-0.003-0/blib/lib/Catalyst/View/HTML/Zoom.pm line 67
	Catalyst::View::HTML::Zoom::render(TestApp::View::HTML=HASH(0x5ae12ae86f70), TestApp=HASH(0x5ae12aeeff30), "/main") called at /tmp/loop_over_bdir-2594-zRJt0W/Catalyst-View-HTML-Zoom-0.003-0/blib/lib/Catalyst/View/HTML/Zoom.pm line 41
	Catalyst::View::HTML::Zoom::process(TestApp::View::HTML=HASH(0x5ae12ae86f70), TestApp=HASH(0x5ae12aeeff30)) called at /home/sand/src/perl/repoperls/installed-perls/host/k93jammy/v5.39.10/5674/lib/site_perl/5.39.10/Catalyst/Action.pm line 374
	Catalyst::Action::execute(Catalyst::Action=HASH(0x5ae12b05d2f8), TestApp::View::HTML=HASH(0x5ae12ae86f70), TestApp=HASH(0x5ae12aeeff30)) called at /home/sand/src/perl/repoperls/installed-perls/host/k93jammy/v5.39.10/5674/lib/site_perl/5.39.10/Catalyst.pm line 2067
	eval {...} called at /home/sand/src/perl/repoperls/installed-perls/host/k93jammy/v5.39.10/5674/lib/site_perl/5.39.10/Catalyst.pm line 2067
	Catalyst::execute(TestApp=HASH(0x5ae12aeeff30), TestApp::View::HTML=HASH(0x5ae12ae86f70), Catalyst::Action=HASH(0x5ae12b05d2f8)) called at /home/sand/src/perl/repoperls/installed-perls/host/k93jammy/v5.39.10/5674/lib/site_perl/5.39.10/Catalyst/Action.pm line 366
	Catalyst::Action::dispatch(Catalyst::Action=HASH(0x5ae12b05d2f8), TestApp=HASH(0x5ae12aeeff30)) called at /home/sand/src/perl/repoperls/installed-perls/host/k93jammy/v5.39.10/5674/lib/site_perl/5.39.10/Catalyst/Dispatcher.pm line 261
	Catalyst::Dispatcher::_do_forward(Catalyst::Dispatcher=HASH(0x5ae129c91258), "forward", TestApp=HASH(0x5ae12aeeff30), TestApp::View::HTML=HASH(0x5ae12ae86f70)) called at /home/sand/src/perl/repoperls/installed-perls/host/k93jammy/v5.39.10/5674/lib/site_perl/5.39.10/Catalyst/Dispatcher.pm line 241
	Catalyst::Dispatcher::forward(Catalyst::Dispatcher=HASH(0x5ae129c91258), TestApp=HASH(0x5ae12aeeff30), TestApp::View::HTML=HASH(0x5ae12ae86f70)) called at /home/sand/src/perl/repoperls/installed-perls/host/k93jammy/v5.39.10/5674/lib/site_perl/5.39.10/Catalyst.pm line 489
	Catalyst::forward(TestApp=HASH(0x5ae12aeeff30), TestApp::View::HTML=HASH(0x5ae12ae86f70)) called at /home/sand/src/perl/repoperls/installed-perls/host/k93jammy/v5.39.10/5674/lib/site_perl/5.39.10/Catalyst/Action/RenderView.pm line 57
	Catalyst::Action::RenderView::execute(Catalyst::Action::RenderView=HASH(0x5ae12aee9de0), TestApp::Controller::Root=HASH(0x5ae12ae83728), TestApp=HASH(0x5ae12aeeff30)) called at /home/sand/src/perl/repoperls/installed-perls/host/k93jammy/v5.39.10/5674/lib/site_perl/5.39.10/Catalyst.pm line 2067
	eval {...} called at /home/sand/src/perl/repoperls/installed-perls/host/k93jammy/v5.39.10/5674/lib/site_perl/5.39.10/Catalyst.pm line 2067
	Catalyst::execute(TestApp=HASH(0x5ae12aeeff30), "TestApp::Controller::Root", Catalyst::Action::RenderView=HASH(0x5ae12aee9de0)) called at /home/sand/src/perl/repoperls/installed-perls/host/k93jammy/v5.39.10/5674/lib/site_perl/5.39.10/Catalyst/Action.pm line 368
	Catalyst::Action::dispatch(Catalyst::Action::RenderView=HASH(0x5ae12aee9de0), TestApp=HASH(0x5ae12aeeff30)) called at /home/sand/src/perl/repoperls/installed-perls/host/k93jammy/v5.39.10/5674/lib/site_perl/5.39.10/Catalyst/Controller.pm line 188
	Catalyst::Controller::_END(TestApp::Controller::Root=HASH(0x5ae12ae83728), TestApp=HASH(0x5ae12aeeff30)) called at /home/sand/src/perl/repoperls/installed-perls/host/k93jammy/v5.39.10/5674/lib/site_perl/5.39.10/Catalyst/Action.pm line 374
	Catalyst::Action::execute(Catalyst::Action=HASH(0x5ae12aee3f30), TestApp::Controller::Root=HASH(0x5ae12ae83728), TestApp=HASH(0x5ae12aeeff30)) called at /home/sand/src/perl/repoperls/installed-perls/host/k93jammy/v5.39.10/5674/lib/site_perl/5.39.10/Catalyst.pm line 2067
	eval {...} called at /home/sand/src/perl/repoperls/installed-perls/host/k93jammy/v5.39.10/5674/lib/site_perl/5.39.10/Catalyst.pm line 2067
	Catalyst::execute(TestApp=HASH(0x5ae12aeeff30), "TestApp::Controller::Root", Catalyst::Action=HASH(0x5ae12aee3f30)) called at /home/sand/src/perl/repoperls/installed-perls/host/k93jammy/v5.39.10/5674/lib/site_perl/5.39.10/Catalyst/Action.pm line 368
	Catalyst::Action::dispatch(Catalyst::Action=HASH(0x5ae12aee3f30), TestApp=HASH(0x5ae12aeeff30)) called at /home/sand/src/perl/repoperls/installed-perls/host/k93jammy/v5.39.10/5674/lib/site_perl/5.39.10/Catalyst/Dispatcher.pm line 261
	Catalyst::Dispatcher::_do_forward(Catalyst::Dispatcher=HASH(0x5ae129c91258), "forward", TestApp=HASH(0x5ae12aeeff30), "_END") called at /home/sand/src/perl/repoperls/installed-perls/host/k93jammy/v5.39.10/5674/lib/site_perl/5.39.10/Catalyst/Dispatcher.pm line 241
	Catalyst::Dispatcher::forward(Catalyst::Dispatcher=HASH(0x5ae129c91258), TestApp=HASH(0x5ae12aeeff30), "_END") called at /home/sand/src/perl/repoperls/installed-perls/host/k93jammy/v5.39.10/5674/lib/site_perl/5.39.10/Catalyst.pm line 489
	Catalyst::forward(TestApp=HASH(0x5ae12aeeff30), "_END") called at /home/sand/src/perl/repoperls/installed-perls/host/k93jammy/v5.39.10/5674/lib/site_perl/5.39.10/Catalyst/Controller.pm line 137
	Catalyst::Controller::_DISPATCH(TestApp::Controller::Root=HASH(0x5ae12ae83728), TestApp=HASH(0x5ae12aeeff30)) called at /home/sand/src/perl/repoperls/installed-perls/host/k93jammy/v5.39.10/5674/lib/site_perl/5.39.10/Catalyst/Action.pm line 374
	Catalyst::Action::execute(Catalyst::Action=HASH(0x5ae12aee4410), TestApp::Controller::Root=HASH(0x5ae12ae83728), TestApp=HASH(0x5ae12aeeff30)) called at /home/sand/src/perl/repoperls/installed-perls/host/k93jammy/v5.39.10/5674/lib/site_perl/5.39.10/Catalyst.pm line 2067
	eval {...} called at /home/sand/src/perl/repoperls/installed-perls/host/k93jammy/v5.39.10/5674/lib/site_perl/5.39.10/Catalyst.pm line 2067
	Catalyst::execute(TestApp=HASH(0x5ae12aeeff30), "TestApp::Controller::Root", Catalyst::Action=HASH(0x5ae12aee4410)) called at /home/sand/src/perl/repoperls/installed-perls/host/k93jammy/v5.39.10/5674/lib/site_perl/5.39.10/Catalyst/Action.pm line 368
	Catalyst::Action::dispatch(Catalyst::Action=HASH(0x5ae12aee4410), TestApp=HASH(0x5ae12aeeff30)) called at /home/sand/src/perl/repoperls/installed-perls/host/k93jammy/v5.39.10/5674/lib/site_perl/5.39.10/Catalyst/Dispatcher.pm line 261
	Catalyst::Dispatcher::_do_forward(Catalyst::Dispatcher=HASH(0x5ae129c91258), "forward", TestApp=HASH(0x5ae12aeeff30), "//_DISPATCH") called at /home/sand/src/perl/repoperls/installed-perls/host/k93jammy/v5.39.10/5674/lib/site_perl/5.39.10/Catalyst/Dispatcher.pm line 241
	Catalyst::Dispatcher::forward(Catalyst::Dispatcher=HASH(0x5ae129c91258), TestApp=HASH(0x5ae12aeeff30), "//_DISPATCH") called at /home/sand/src/perl/repoperls/installed-perls/host/k93jammy/v5.39.10/5674/lib/site_perl/5.39.10/Catalyst.pm line 489
	Catalyst::forward(TestApp=HASH(0x5ae12aeeff30), "//_DISPATCH") called at /home/sand/src/perl/repoperls/installed-perls/host/k93jammy/v5.39.10/5674/lib/site_perl/5.39.10/Catalyst/Dispatcher.pm line 107
	Catalyst::Dispatcher::dispatch(Catalyst::Dispatcher=HASH(0x5ae129c91258), TestApp=HASH(0x5ae12aeeff30)) called at /home/sand/src/perl/repoperls/installed-perls/host/k93jammy/v5.39.10/5674/lib/site_perl/5.39.10/Catalyst.pm line 2013
	Catalyst::dispatch(TestApp=HASH(0x5ae12aeeff30)) called at /home/sand/src/perl/repoperls/installed-perls/host/k93jammy/v5.39.10/5674/lib/site_perl/5.39.10/x86_64-linux-ld/Class/MOP/Method/Wrapped.pm line 56
	TestApp::_wrapped_dispatch(TestApp=HASH(0x5ae12aeeff30)) called at /home/sand/src/perl/repoperls/installed-perls/host/k93jammy/v5.39.10/5674/lib/site_perl/5.39.10/x86_64-linux-ld/Class/MOP/Method/Wrapped.pm line 97
	TestApp::dispatch(TestApp=HASH(0x5ae12aeeff30)) called at /home/sand/src/perl/repoperls/installed-perls/host/k93jammy/v5.39.10/5674/lib/site_perl/5.39.10/Catalyst.pm line 2419
	Catalyst::try {...} () called at /home/sand/src/perl/repoperls/installed-perls/host/k93jammy/v5.39.10/5674/lib/site_perl/5.39.10/Try/Tiny.pm line 102
	eval {...} called at /home/sand/src/perl/repoperls/installed-perls/host/k93jammy/v5.39.10/5674/lib/site_perl/5.39.10/Try/Tiny.pm line 93
	Try::Tiny::try(CODE(0x5ae12affb138), Try::Tiny::Catch=REF(0x5ae12affafa0)) called at /home/sand/src/perl/repoperls/installed-perls/host/k93jammy/v5.39.10/5674/lib/site_perl/5.39.10/Catalyst.pm line 2428
	Catalyst::handle_request("TestApp", "env", HASH(0x5ae12a6427d0), "response_cb", CODE(0x5ae12affb000)) called at /home/sand/src/perl/repoperls/installed-perls/host/k93jammy/v5.39.10/5674/lib/site_perl/5.39.10/Catalyst/Engine.pm line 807
	Catalyst::Engine::__ANON__(CODE(0x5ae12affb000)) called at /home/sand/src/perl/repoperls/installed-perls/host/k93jammy/v5.39.10/5674/lib/site_perl/5.39.10/Plack/Middleware/HTTPExceptions.pm line 32
	Plack::Middleware::HTTPExceptions::try {...} () called at /home/sand/src/perl/repoperls/installed-perls/host/k93jammy/v5.39.10/5674/lib/site_perl/5.39.10/Try/Tiny.pm line 102
	eval {...} called at /home/sand/src/perl/repoperls/installed-perls/host/k93jammy/v5.39.10/5674/lib/site_perl/5.39.10/Try/Tiny.pm line 93
	Try::Tiny::try(CODE(0x5ae12affae38), Try::Tiny::Catch=REF(0x5ae12ad71848)) called at /home/sand/src/perl/repoperls/installed-perls/host/k93jammy/v5.39.10/5674/lib/site_perl/5.39.10/Plack/Middleware/HTTPExceptions.pm line 41
	Plack::Middleware::HTTPExceptions::__ANON__(CODE(0x5ae12aea5f70)) called at /home/sand/src/perl/repoperls/installed-perls/host/k93jammy/v5.39.10/5674/lib/site_perl/5.39.10/Plack/Util.pm line 339
	Plack::Util::__ANON__(CODE(0x5ae12ad4caf0)) called at /home/sand/src/perl/repoperls/installed-perls/host/k93jammy/v5.39.10/5674/lib/site_perl/5.39.10/Plack/Util.pm line 339
	Plack::Util::__ANON__(CODE(0x5ae12b006e30)) called at /home/sand/src/perl/repoperls/installed-perls/host/k93jammy/v5.39.10/5674/lib/site_perl/5.39.10/Plack/Util.pm line 339
	Plack::Util::__ANON__(CODE(0x5ae12b029078)) called at /home/sand/src/perl/repoperls/installed-perls/host/k93jammy/v5.39.10/5674/lib/site_perl/5.39.10/HTTP/Message/PSGI.pm line 100
	HTTP::Message::PSGI::res_from_psgi(CODE(0x5ae12b045f10)) called at /home/sand/src/perl/repoperls/installed-perls/host/k93jammy/v5.39.10/5674/lib/site_perl/5.39.10/HTTP/Message/PSGI.pm line 157
	HTTP::Response::from_psgi("HTTP::Response", CODE(0x5ae12b045f10)) called at /home/sand/src/perl/repoperls/installed-perls/host/k93jammy/v5.39.10/5674/lib/site_perl/5.39.10/Plack/Test/MockHTTP.pm line 24
	Plack::Test::MockHTTP::try {...} () called at /home/sand/src/perl/repoperls/installed-perls/host/k93jammy/v5.39.10/5674/lib/site_perl/5.39.10/Try/Tiny.pm line 100
	eval {...} called at /home/sand/src/perl/repoperls/installed-perls/host/k93jammy/v5.39.10/5674/lib/site_perl/5.39.10/Try/Tiny.pm line 93
	Try::Tiny::try(CODE(0x5ae12ae334a0), Try::Tiny::Catch=REF(0x5ae1283a6ea8)) called at /home/sand/src/perl/repoperls/installed-perls/host/k93jammy/v5.39.10/5674/lib/site_perl/5.39.10/Plack/Test/MockHTTP.pm line 27
	Plack::Test::MockHTTP::request(Plack::Test::MockHTTP=HASH(0x5ae12aff5060), HTTP::Request=HASH(0x5ae12aff4c28)) called at /home/sand/src/perl/repoperls/installed-perls/host/k93jammy/v5.39.10/5674/lib/site_perl/5.39.10/Plack/Test.pm line 38
	Plack::Test::__ANON__(HTTP::Request=HASH(0x5ae12aff4c28)) called at /home/sand/src/perl/repoperls/installed-perls/host/k93jammy/v5.39.10/5674/lib/site_perl/5.39.10/Catalyst/Test.pm line 290
	Catalyst::Test::__ANON__(CODE(0x5ae12aff4fe8)) called at /home/sand/src/perl/repoperls/installed-perls/host/k93jammy/v5.39.10/5674/lib/site_perl/5.39.10/Plack/Test.pm line 38
	Plack::Test::test_psgi("app", CODE(0x5ae12afe9ad8), "mangle_response", CODE(0x5ae129c641c8), "app", CODE(0x5ae12aee97f8), "client", CODE(0x5ae12aff4e80)) called at /home/sand/src/perl/repoperls/installed-perls/host/k93jammy/v5.39.10/5674/lib/site_perl/5.39.10/Catalyst/Test.pm line 293
	Catalyst::Test::_request(HASH(0x5ae12aeefd08), "/") called at /home/sand/src/perl/repoperls/installed-perls/host/k93jammy/v5.39.10/5674/lib/site_perl/5.39.10/Catalyst/Test.pm line 336
	Catalyst::Test::_local_request("TestApp", "/") called at /home/sand/src/perl/repoperls/installed-perls/host/k93jammy/v5.39.10/5674/lib/site_perl/5.39.10/Catalyst/Test.pm line 32
	Catalyst::Test::__ANON__("/") called at /home/sand/src/perl/repoperls/installed-perls/host/k93jammy/v5.39.10/5674/lib/site_perl/5.39.10/Catalyst/Test.pm line 72
	Catalyst::Test::__ANON__("/") called at t/live-test.t line 14
t/live-test.t ............. ok
t/release-pod-coverage.t .. skipped: these tests are for release candidate testing
t/release-pod-syntax.t .... skipped: these tests are for release candidate testing
All tests successful.
Files=7, Tests=17,  2 wallclock secs ( 0.03 usr  0.01 sys +  1.92 cusr  0.31 csys =  2.27 CPU)
Result: PASS

------------------------------
PREREQUISITES
------------------------------

Prerequisite modules loaded:

requires:

    Module                       Need  Have    
    ---------------------------- ----- --------
    Class::MOP                   1.12  2.2207  
    HTML::Zoom                   0.009 0.009009
    Moose                        1.21  2.2207  
    namespace::autoclean         0.09  0.29    
    Path::Class                  0.23  0.37    

build_requires:

    Module                       Need  Have    
    ---------------------------- ----- --------
    Catalyst::Action::RenderView 0.14  0.16    
    Catalyst::Runtime            5.8   5.90131 
    Test::More                   0.96  1.302199

configure_requires:

    Module                       Need  Have    
    ---------------------------- ----- --------
    ExtUtils::MakeMaker          6.31  7.70    


------------------------------
ENVIRONMENT AND OTHER CONTEXT
------------------------------

Environment variables:

    AUTOMATED_TESTING = 1
    LANG = en_US.UTF-8
    LC_ADDRESS = de_DE.UTF-8
    LC_IDENTIFICATION = de_DE.UTF-8
    LC_MEASUREMENT = de_DE.UTF-8
    LC_MONETARY = de_DE.UTF-8
    LC_NAME = de_DE.UTF-8
    LC_NUMERIC = de_DE.UTF-8
    LC_PAPER = de_DE.UTF-8
    LC_TELEPHONE = de_DE.UTF-8
    LC_TIME = de_DE.UTF-8
    PATH = /home/sand/bin:/usr/local/bin:/usr/local/sbin:/usr/sbin:/usr/bin:/sbin:/bin:/usr/games:/usr/local/games:/snap/bin:/usr/local/perl/bin:/usr/X11/bin
    PERL = /tmp/basesmoker-reloperl-sLbq/bin/perl
    PERL5LIB = /tmp/loop_over_bdir-2594-zRJt0W/HTML-Menu-TreeView-1.22-0/blib/arch:/tmp/loop_over_bdir-2594-zRJt0W/HTML-Menu-TreeView-1.22-0/blib/lib:/tmp/loop_over_bdir-2594-zRJt0W/ProjectBuilder-0.14.1-0/blib/arch:/tmp/loop_over_bdir-2594-zRJt0W/ProjectBuilder-0.14.1-0/blib/lib:/tmp/loop_over_bdir-2594-zRJt0W/Business-Shipping-DataFiles-1.02-0/blib/arch:/tmp/loop_over_bdir-2594-zRJt0W/Business-Shipping-DataFiles-1.02-0/blib/lib:/tmp/loop_over_bdir-2594-zRJt0W/RDF-NLP-SPARQLQuery-0.1-0/blib/arch:/tmp/loop_over_bdir-2594-zRJt0W/RDF-NLP-SPARQLQuery-0.1-0/blib/lib:/tmp/loop_over_bdir-2594-zRJt0W/Dpkg-1.22.6-0/blib/arch:/tmp/loop_over_bdir-2594-zRJt0W/Dpkg-1.22.6-0/blib/lib:/tmp/loop_over_bdir-2594-zRJt0W/LiquidWeb-Storm-CLI-1.03-0/blib/arch:/tmp/loop_over_bdir-2594-zRJt0W/LiquidWeb-Storm-CLI-1.03-0/blib/lib:/tmp/loop_over_bdir-2594-zRJt0W/NoZone-1.3-0/blib/arch:/tmp/loop_over_bdir-2594-zRJt0W/NoZone-1.3-0/blib/lib:/tmp/loop_over_bdir-2594-zRJt0W/Devel-Required-0.16-0/blib/arch:/tmp/loop_over_bdir-2594-zRJt0W/Devel-Required-0.16-0/blib/lib:/tmp/loop_over_bdir-2594-zRJt0W/DBIx-Migration-Directories-0.12-0/blib/arch:/tmp/loop_over_bdir-2594-zRJt0W/DBIx-Migration-Directories-0.12-0/blib/lib:/tmp/loop_over_bdir-2594-zRJt0W/Net-Async-WebService-lxd-0.03-0/blib/arch:/tmp/loop_over_bdir-2594-zRJt0W/Net-Async-WebService-lxd-0.03-0/blib/lib
    PERL5OPT = 
    PERL5_CPANPLUS_IS_RUNNING = 2602
    PERL5_CPAN_IS_RUNNING = 2602
    PERL_CANARY_STABILITY_NOPROMPT = 1
    PERL_MM_USE_DEFAULT = 1
    PERL_USE_UNSAFE_INC = 1
    SHELL = /usr/bin/zsh
    TERM = screen

Perl special variables (and OS-specific diagnostics, for MSWin32):

    $^X = /tmp/basesmoker-reloperl-sLbq/bin/perl
    $UID/$EUID = 1005 / 1005
    $GID = 1005 1005
    $EGID = 1005 1005

Perl module toolchain versions installed:

    Module              Have    
    ------------------- --------
    CPAN                2.36    
    CPAN::Meta          2.150010
    Cwd                 3.90    
    ExtUtils::CBuilder  0.280240
    ExtUtils::Command   7.70    
    ExtUtils::Install   2.22    
    ExtUtils::MakeMaker 7.70    
    ExtUtils::Manifest  1.75    
    ExtUtils::ParseXS   3.51    
    File::Spec          3.90    
    JSON                4.10    
    JSON::PP            4.16    
    Module::Build       0.4234  
    Module::Signature   0.88    
    Parse::CPAN::Meta   2.150010
    Test2               1.302199
    Test::Harness       3.48    
    Test::More          1.302199
    YAML                1.31    
    YAML::Syck          1.34    
    version             0.9932  


--

Summary of my perl5 (revision 5 version 39 subversion 10) configuration:
  Commit id: c46c2bea6f111c45982b89c7e57b56125ff2e10c
  Platform:
    osname=linux
    osvers=6.5.0-27-generic
    archname=x86_64-linux-ld
    uname='linux k93jammy 6.5.0-27-generic #28~22.04.1-ubuntu smp preempt_dynamic fri mar 15 10:51:06 utc 2 x86_64 x86_64 x86_64 gnulinux '
    config_args='-Dprefix=/home/sand/src/perl/repoperls/installed-perls/host/k93jammy/v5.39.10/5674 -Dmyhostname=k93jammy -Dinstallusrbinperl=n -Uversiononly -Dusedevel -des -Ui_db -Dlibswanted=cl pthread socket inet nsl gdbm dbm malloc dl ld sun m crypt sec util c cposix posix ucb BSD gdbm_compat -Uuseithreads -Duselongdouble -DEBUGGING=-g'
    hint=recommended
    useposix=true
    d_sigaction=define
    useithreads=undef
    usemultiplicity=undef
    use64bitint=define
    use64bitall=define
    uselongdouble=define
    usemymalloc=n
    default_inc_excludes_dot=define
  Compiler:
    cc='cc'
    ccflags ='-fwrapv -fno-strict-aliasing -pipe -fstack-protector-strong -I/usr/local/include -D_LARGEFILE_SOURCE -D_FILE_OFFSET_BITS=64'
    optimize='-O2 -g'
    cppflags='-fwrapv -fno-strict-aliasing -pipe -fstack-protector-strong -I/usr/local/include'
    ccversion=''
    gccversion='11.4.0'
    gccosandvers=''
    intsize=4
    longsize=8
    ptrsize=8
    doublesize=8
    byteorder=12345678
    doublekind=3
    d_longlong=define
    longlongsize=8
    d_longdbl=define
    longdblsize=16
    longdblkind=3
    ivtype='long'
    ivsize=8
    nvtype='long double'
    nvsize=16
    Off_t='off_t'
    lseeksize=8
    alignbytes=16
    prototype=define
  Linker and Libraries:
    ld='cc'
    ldflags =' -fstack-protector-strong -L/usr/local/lib'
    libpth=/usr/local/lib /usr/lib/x86_64-linux-gnu /usr/lib /usr/lib64
    libs=-lpthread -lnsl -ldl -lm -lcrypt -lutil -lc
    perllibs=-lpthread -lnsl -ldl -lm -lcrypt -lutil -lc
    libc=/lib/x86_64-linux-gnu/libc.so.6
    so=so
    useshrplib=false
    libperl=libperl.a
    gnulibc_version='2.35'
  Dynamic Linking:
    dlsrc=dl_dlopen.xs
    dlext=so
    d_dlsymun=undef
    ccdlflags='-Wl,-E'
    cccdlflags='-fPIC'
    lddlflags='-shared -O2 -g -L/usr/local/lib -fstack-protector-strong'


Characteristics of this binary (from libperl): 
  Compile-time options:
    HAS_LONG_DOUBLE
    HAS_STRTOLD
    HAS_TIMES
    PERLIO_LAYERS
    PERL_COPY_ON_WRITE
    PERL_DONT_CREATE_GVSV
    PERL_HASH_FUNC_SIPHASH13
    PERL_HASH_USE_SBOX32
    PERL_MALLOC_WRAP
    PERL_OP_PARENT
    PERL_PRESERVE_IVUV
    PERL_USE_DEVEL
    PERL_USE_SAFE_PUTENV
    USE_64_BIT_ALL
    USE_64_BIT_INT
    USE_LARGE_FILES
    USE_LOCALE
    USE_LOCALE_COLLATE
    USE_LOCALE_CTYPE
    USE_LOCALE_NUMERIC
    USE_LOCALE_TIME
    USE_LONG_DOUBLE
    USE_PERLIO
    USE_PERL_ATOF
  Built under linux
  Compiled at Apr 28 2024 08:17:33
  %ENV:
    PERL="/tmp/basesmoker-reloperl-sLbq/bin/perl"
    PERL5LIB="/tmp/loop_over_bdir-2594-zRJt0W/HTML-Menu-TreeView-1.22-0/blib/arch:/tmp/loop_over_bdir-2594-zRJt0W/HTML-Menu-TreeView-1.22-0/blib/lib:/tmp/loop_over_bdir-2594-zRJt0W/ProjectBuilder-0.14.1-0/blib/arch:/tmp/loop_over_bdir-2594-zRJt0W/ProjectBuilder-0.14.1-0/blib/lib:/tmp/loop_over_bdir-2594-zRJt0W/Business-Shipping-DataFiles-1.02-0/blib/arch:/tmp/loop_over_bdir-2594-zRJt0W/Business-Shipping-DataFiles-1.02-0/blib/lib:/tmp/loop_over_bdir-2594-zRJt0W/RDF-NLP-SPARQLQuery-0.1-0/blib/arch:/tmp/loop_over_bdir-2594-zRJt0W/RDF-NLP-SPARQLQuery-0.1-0/blib/lib:/tmp/loop_over_bdir-2594-zRJt0W/Dpkg-1.22.6-0/blib/arch:/tmp/loop_over_bdir-2594-zRJt0W/Dpkg-1.22.6-0/blib/lib:/tmp/loop_over_bdir-2594-zRJt0W/LiquidWeb-Storm-CLI-1.03-0/blib/arch:/tmp/loop_over_bdir-2594-zRJt0W/LiquidWeb-Storm-CLI-1.03-0/blib/lib:/tmp/loop_over_bdir-2594-zRJt0W/NoZone-1.3-0/blib/arch:/tmp/loop_over_bdir-2594-zRJt0W/NoZone-1.3-0/blib/lib:/tmp/loop_over_bdir-2594-zRJt0W/Devel-Required-0.16-0/blib/arch:/tmp/loop_over_bdir-2594-zRJt0W/Devel-Required-0.16-0/blib/lib:/tmp/loop_over_bdir-2594-zRJt0W/DBIx-Migration-Directories-0.12-0/blib/arch:/tmp/loop_over_bdir-2594-zRJt0W/DBIx-Migration-Directories-0.12-0/blib/lib:/tmp/loop_over_bdir-2594-zRJt0W/Net-Async-WebService-lxd-0.03-0/blib/arch:/tmp/loop_over_bdir-2594-zRJt0W/Net-Async-WebService-lxd-0.03-0/blib/lib"
    PERL5OPT=""
    PERL5_CPANPLUS_IS_RUNNING="2602"
    PERL5_CPAN_IS_RUNNING="2602"
    PERL_CANARY_STABILITY_NOPROMPT="1"
    PERL_MM_USE_DEFAULT="1"
    PERL_USE_UNSAFE_INC="1"
  @INC:
    /tmp/loop_over_bdir-2594-zRJt0W/HTML-Menu-TreeView-1.22-0/blib/arch
    /tmp/loop_over_bdir-2594-zRJt0W/HTML-Menu-TreeView-1.22-0/blib/lib
    /tmp/loop_over_bdir-2594-zRJt0W/ProjectBuilder-0.14.1-0/blib/arch
    /tmp/loop_over_bdir-2594-zRJt0W/ProjectBuilder-0.14.1-0/blib/lib
    /tmp/loop_over_bdir-2594-zRJt0W/Business-Shipping-DataFiles-1.02-0/blib/arch
    /tmp/loop_over_bdir-2594-zRJt0W/Business-Shipping-DataFiles-1.02-0/blib/lib
    /tmp/loop_over_bdir-2594-zRJt0W/RDF-NLP-SPARQLQuery-0.1-0/blib/arch
    /tmp/loop_over_bdir-2594-zRJt0W/RDF-NLP-SPARQLQuery-0.1-0/blib/lib
    /tmp/loop_over_bdir-2594-zRJt0W/Dpkg-1.22.6-0/blib/arch
    /tmp/loop_over_bdir-2594-zRJt0W/Dpkg-1.22.6-0/blib/lib
    /tmp/loop_over_bdir-2594-zRJt0W/LiquidWeb-Storm-CLI-1.03-0/blib/arch
    /tmp/loop_over_bdir-2594-zRJt0W/LiquidWeb-Storm-CLI-1.03-0/blib/lib
    /tmp/loop_over_bdir-2594-zRJt0W/NoZone-1.3-0/blib/arch
    /tmp/loop_over_bdir-2594-zRJt0W/NoZone-1.3-0/blib/lib
    /tmp/loop_over_bdir-2594-zRJt0W/Devel-Required-0.16-0/blib/arch
    /tmp/loop_over_bdir-2594-zRJt0W/Devel-Required-0.16-0/blib/lib
    /tmp/loop_over_bdir-2594-zRJt0W/DBIx-Migration-Directories-0.12-0/blib/arch
    /tmp/loop_over_bdir-2594-zRJt0W/DBIx-Migration-Directories-0.12-0/blib/lib
    /tmp/loop_over_bdir-2594-zRJt0W/Net-Async-WebService-lxd-0.03-0/blib/arch
    /tmp/loop_over_bdir-2594-zRJt0W/Net-Async-WebService-lxd-0.03-0/blib/lib
    /home/sand/src/perl/repoperls/installed-perls/host/k93jammy/v5.39.10/5674/lib/site_perl/5.39.10/x86_64-linux-ld
    /home/sand/src/perl/repoperls/installed-perls/host/k93jammy/v5.39.10/5674/lib/site_perl/5.39.10
    /home/sand/src/perl/repoperls/installed-perls/host/k93jammy/v5.39.10/5674/lib/5.39.10/x86_64-linux-ld
    /home/sand/src/perl/repoperls/installed-perls/host/k93jammy/v5.39.10/5674/lib/5.39.10
    .