App-PythonToPerl v0.001 Perl 5 v5.37.10 amd64-freebsd

Status
Pass
From
Slaven Rezić
Dist
App-PythonToPerl v0.001
Platform
Perl 5 v5.37.10 amd64-freebsd
Date
2023-04-10 05:03:14
ID
ffcb485a-d75c-11ed-8b4b-643d6e8775ea
This distribution has been tested as part of the CPAN Testers
project, supporting the Perl programming language.  See
http://wiki.cpantesters.org/ for more information or email
questions to cpan-testers-discuss@perl.org


--
Dear William N. Braswell, Jr.,

This is a computer-generated report for App-PythonToPerl-0.001
on perl 5.37.10, created by CPAN-Reporter-1.2018.

Thank you for uploading your work to CPAN.  Congratulations!
All tests were successful.

Sections of this report:

    * Tester comments
    * Program output
    * Prerequisites
    * Environment and other context

------------------------------
TESTER COMMENTS
------------------------------

Additional comments from tester:

none provided

------------------------------
PROGRAM OUTPUT
------------------------------

Output from '/usr/bin/make test':

PERL_DL_NONLAZY=1 "/usr/perl5.37.10p/bin/perl5.37.10" "-MExtUtils::Command::MM" "-MTest::Harness" "-e" "undef *Test::Harness::Switches; test_harness(0, 'blib/lib', 'blib/arch')" t/*.t
# 
# Versions for all modules listed in MYMETA.json (including optional ones):
# 
# === Configure Requires ===
# 
#     Module              Want Have
#     ------------------- ---- ----
#     ExtUtils::MakeMaker  any 7.66
# 
# === Build Requires ===
# 
#     Module              Want Have
#     ------------------- ---- ----
#     ExtUtils::MakeMaker  any 7.66
# 
# === Test Requires ===
# 
#     Module              Want     Have
#     ------------------- ---- --------
#     ExtUtils::MakeMaker  any     7.66
#     File::Spec           any     3.88
#     Test2::V0            any 0.000150
#     Test::More           any 1.302194
# 
# === Test Recommends ===
# 
#     Module         Want     Have
#     ---------- -------- --------
#     CPAN::Meta 2.120900 2.150010
# 
# === Runtime Requires ===
# 
#     Module               Want   Have
#     -------------------- ---- ------
#     Exporter              any   5.77
#     Fcntl                 any   1.15
#     File::Spec            any   3.88
#     LWP::Protocol::https  any   6.10
#     OpenAI::API           any   0.37
#     Perl::Type::Class     any 0.0022
#     Perl::Types           any  0.005
#     Time::HiRes           any 1.9774
#     parent                any  0.241
#     strict                any   1.12
#     warnings              any   1.63
# 
t/00-report-prereqs.t .. ok
t/00_includes.t ........ ok
t/10_openai_api.t ...... skipped: This test requires an OPENAI_API_KEY environment variable, please create an API key in your OpenAI account & set your env var accordingly
All tests successful.
Files=3, Tests=6,  1 wallclock secs ( 0.06 usr  0.02 sys +  0.88 cusr  0.18 csys =  1.13 CPU)
Result: PASS

------------------------------
PREREQUISITES
------------------------------

Prerequisite modules loaded:

requires:

    Module               Need Have    
    -------------------- ---- --------
    Exporter             0    5.77    
    Fcntl                0    1.15    
    File::Spec           0    3.88    
    LWP::Protocol::https 0    6.10    
    OpenAI::API          0    0.37    
    parent               0    0.241   
    Perl::Type::Class    0    0.0022  
    Perl::Types          0    0.005   
    strict               0    1.12    
    Time::HiRes          0    1.9774  
    warnings             0    1.63    

build_requires:

    Module               Need Have    
    -------------------- ---- --------
    ExtUtils::MakeMaker  0    7.66    
    File::Spec           0    3.88    
    Test2::V0            0    0.000150
    Test::More           0    1.302194

configure_requires:

    Module               Need Have    
    -------------------- ---- --------
    ExtUtils::MakeMaker  0    7.66    


------------------------------
ENVIRONMENT AND OTHER CONTEXT
------------------------------

Environment variables:

    PATH = /usr/local/bin:/usr/bin:/bin:/usr/local/sbin:/usr/sbin:/sbin:/home/cpansand/bin/sh:/home/cpansand/bin:/usr/games:/home/cpansand/devel:/usr/home/eserte/src/srezic-misc/scripts
    PERL5LIB = /home/cpansand/.cpan/build/2023041005/Perl-Types-0.001-0/blib/arch:/home/cpansand/.cpan/build/2023041005/Perl-Types-0.001-0/blib/lib:/home/cpansand/.cpan/build/2023041005/OpenAI-API-0.37-0/blib/arch:/home/cpansand/.cpan/build/2023041005/OpenAI-API-0.37-0/blib/lib
    PERL5OPT = 
    PERL5_CPANPLUS_IS_RUNNING = 17379
    PERL5_CPAN_IS_RUNNING = 17379
    PERL5_CPAN_IS_RUNNING_IN_RECURSION = 17348,17379
    PERL_BATCH = yes
    PERL_CANARY_STABILITY_NOPROMPT = 1
    PERL_CPAN_REPORTER_CONFIG = /var/tmp/cpansmoker-1023/2023041005/cpanreporter_000_config.ini
    PERL_EXTUTILS_AUTOINSTALL = --defaultdeps
    PERL_USE_UNSAFE_INC = 1
    SHELL = /bin/sh
    TMPDIR = /var/tmp/cpansmoker-1023/2023041005

Perl special variables (and OS-specific diagnostics, for MSWin32):

    $^X = /usr/perl5.37.10p/bin/perl5.37.10
    $UID/$EUID = 1023 / 1023
    $GID = 1023 1023
    $EGID = 1023 1023

Perl module toolchain versions installed:

    Module              Have    
    ------------------- --------
    CPAN                2.34    
    CPAN::Meta          2.150010
    Cwd                 3.89    
    ExtUtils::CBuilder  0.280238
    ExtUtils::Command   7.66    
    ExtUtils::Install   2.22    
    ExtUtils::MakeMaker 7.66    
    ExtUtils::Manifest  1.73    
    ExtUtils::ParseXS   3.49    
    File::Spec          3.88    
    JSON                4.10    
    JSON::PP            4.16    
    Module::Build       0.4232  
    Module::Signature   n/a     
    Parse::CPAN::Meta   2.150010
    Test::Harness       3.44    
    Test::More          1.302194
    YAML                1.30    
    YAML::Syck          1.34    
    version             0.9929  


--

Summary of my perl5 (revision 5 version 37 subversion 10) configuration:
   
  Platform:
    osname=freebsd
    osvers=12.4-stable
    archname=amd64-freebsd
    uname='freebsd cloud1.bbbike.org 12.4-stable freebsd 12.4-stable stable12-589b82662 generic amd64 '
    config_args='-ds -e -Dprefix=/usr/perl5.37.10p -Dusedevel -Dusemallocwrap=no -Dcf_email=srezic@cpan.org -Doptimize=-O2 -pipe'
    hint=recommended
    useposix=true
    d_sigaction=define
    useithreads=undef
    usemultiplicity=undef
    use64bitint=define
    use64bitall=define
    uselongdouble=undef
    usemymalloc=n
    default_inc_excludes_dot=define
  Compiler:
    cc='cc'
    ccflags ='-DHAS_FPSETMASK -DHAS_FLOATINGPOINT_H -fno-strict-aliasing -pipe -fstack-protector-strong -I/usr/local/include'
    optimize='-O2 -pipe'
    cppflags='-DHAS_FPSETMASK -DHAS_FLOATINGPOINT_H -fno-strict-aliasing -pipe -fstack-protector-strong -I/usr/local/include'
    ccversion=''
    gccversion='FreeBSD Clang 13.0.0 (git@github.com:llvm/llvm-project.git llvmorg-13.0.0-0-gd7b669b3a303)'
    gccosandvers=''
    intsize=4
    longsize=8
    ptrsize=8
    doublesize=8
    byteorder=12345678
    doublekind=3
    d_longlong=define
    longlongsize=8
    d_longdbl=define
    longdblsize=16
    longdblkind=3
    ivtype='long'
    ivsize=8
    nvtype='double'
    nvsize=8
    Off_t='off_t'
    lseeksize=8
    alignbytes=8
    prototype=define
  Linker and Libraries:
    ld='cc'
    ldflags ='-pthread -Wl,-E  -fstack-protector-strong -L/usr/local/lib'
    libpth=/usr/lib /usr/local/lib /usr/lib/clang/13.0.0/lib
    libs=-lpthread -lgdbm -ldl -lm -lcrypt -lutil -lc
    perllibs=-lpthread -ldl -lm -lcrypt -lutil -lc
    libc=
    so=so
    useshrplib=false
    libperl=libperl.a
    gnulibc_version=''
  Dynamic Linking:
    dlsrc=dl_dlopen.xs
    dlext=so
    d_dlsymun=undef
    ccdlflags=' '
    cccdlflags='-DPIC -fPIC'
    lddlflags='-shared  -L/usr/local/lib -fstack-protector-strong'


Characteristics of this binary (from libperl): 
  Compile-time options:
    HAS_TIMES
    PERLIO_LAYERS
    PERL_COPY_ON_WRITE
    PERL_DONT_CREATE_GVSV
    PERL_HASH_FUNC_SIPHASH13
    PERL_HASH_USE_SBOX32
    PERL_OP_PARENT
    PERL_PRESERVE_IVUV
    PERL_USE_DEVEL
    PERL_USE_SAFE_PUTENV
    USE_64_BIT_ALL
    USE_64_BIT_INT
    USE_LARGE_FILES
    USE_LOCALE
    USE_LOCALE_COLLATE
    USE_LOCALE_CTYPE
    USE_LOCALE_NUMERIC
    USE_LOCALE_TIME
    USE_PERLIO
    USE_PERL_ATOF
  Built under freebsd
  Compiled at Apr  3 2023 05:53:50
  %ENV:
    PERL5LIB="/home/cpansand/.cpan/build/2023041005/Perl-Types-0.001-0/blib/arch:/home/cpansand/.cpan/build/2023041005/Perl-Types-0.001-0/blib/lib:/home/cpansand/.cpan/build/2023041005/OpenAI-API-0.37-0/blib/arch:/home/cpansand/.cpan/build/2023041005/OpenAI-API-0.37-0/blib/lib"
    PERL5OPT=""
    PERL5_CPANPLUS_IS_RUNNING="17379"
    PERL5_CPAN_IS_RUNNING="17379"
    PERL5_CPAN_IS_RUNNING_IN_RECURSION="17348,17379"
    PERL_BATCH="yes"
    PERL_CANARY_STABILITY_NOPROMPT="1"
    PERL_CPAN_REPORTER_CONFIG="/var/tmp/cpansmoker-1023/2023041005/cpanreporter_000_config.ini"
    PERL_EXTUTILS_AUTOINSTALL="--defaultdeps"
    PERL_USE_UNSAFE_INC="1"
  @INC:
    /home/cpansand/.cpan/build/2023041005/Perl-Types-0.001-0/blib/arch
    /home/cpansand/.cpan/build/2023041005/Perl-Types-0.001-0/blib/lib
    /home/cpansand/.cpan/build/2023041005/OpenAI-API-0.37-0/blib/arch
    /home/cpansand/.cpan/build/2023041005/OpenAI-API-0.37-0/blib/lib
    /usr/perl5.37.10p/lib/site_perl/5.37.10/amd64-freebsd
    /usr/perl5.37.10p/lib/site_perl/5.37.10
    /usr/perl5.37.10p/lib/5.37.10/amd64-freebsd
    /usr/perl5.37.10p/lib/5.37.10
    .