Report for XML-CompileX-Schema-Loader-0.006

Back
From: metabase:user:314402c4-2aae-11df-837a-5e0a49663a4f
Subject: PASS XML-CompileX-Schema-Loader-0.006 v5.25.10 FreeBSD
Date: 2017-02-27T09:13:27Z

This distribution has been tested as part of the CPAN Testers
project, supporting the Perl programming language.  See
http://wiki.cpantesters.org/ for more information or email
questions to cpan-testers-discuss@perl.org


--
Dear Mark Gardner,

This is a computer-generated report for XML-CompileX-Schema-Loader-0.006
on perl 5.25.10, created by CPAN-Reporter-1.2018.

Thank you for uploading your work to CPAN.  Congratulations!
All tests were successful.

Sections of this report:

    * Tester comments
    * Program output
    * Prerequisites
    * Environment and other context

------------------------------
TESTER COMMENTS
------------------------------

Additional comments from tester:

none provided

------------------------------
PROGRAM OUTPUT
------------------------------

Output from '/usr/bin/make test':

PERL_DL_NONLAZY=1 "/usr/perl5.25.10p/bin/perl5.25.10" "-MExtUtils::Command::MM" "-MTest::Harness" "-e" "undef *Test::Harness::Switches; test_harness(0, 'blib/lib', 'blib/arch')" t/*.t
t/00-compile.t ............... ok
# Testing with Perl 5.025010, /usr/perl5.25.10p/bin/perl5.25.10
#     Carp version is 1.42
#     Const::Fast version is 0.014
#     ExtUtils::MakeMaker version is 7.24
#     File::Spec version is 3.66
#     HTTP::Exception version is 0.04006
#     HTTP::Response version is 6.11
#     HTTP::Status version is 6.11
#     IO::Handle version is 1.36
#     IPC::Open3 version is 1.20
#     LWP::UserAgent version is 6.21
#     List::MoreUtils version is 0.416
#     Modern::Perl version is 1.20170117
#     Moo version is 2.003
#     MooX::Types::MooseLike::Base version is 0.29
#     Path::Tiny version is 0.104
#     Scalar::Util version is 1.4602
#     Test::LWP::UserAgent version is 0.031
#     Test::More version is 1.302075
#     Test::Most version is 0.35
#     URI version is 1.71
#     URI::file version is 4.21
#     XML::Compile::SOAP11 version is 3.21
#     XML::Compile::SOAP::Util version is 3.21
#     XML::Compile::Transport::SOAPHTTP version is 3.21
#     XML::Compile::Util version is 1.54
#     XML::Compile::WSDL11 version is 3.06
#     XML::LibXML version is 2.0128
#     strict version is 1.11
#     utf8 version is 1.19
#     warnings version is 1.37
t/000-report-versions.t ...... ok
t/author-critic.t ............ skipped: these tests are for testing by the author
t/author-eol.t ............... skipped: these tests are for testing by the author
t/author-no-tabs.t ........... skipped: these tests are for testing by the author
t/release-cpan-changes.t ..... skipped: these tests are for release candidate testing
t/release-dist-manifest.t .... skipped: these tests are for release candidate testing
t/release-distmeta.t ......... skipped: these tests are for release candidate testing
t/release-kwalitee.t ......... skipped: these tests are for release candidate testing
t/release-meta-json.t ........ skipped: these tests are for release candidate testing
t/release-minimum-version.t .. skipped: these tests are for release candidate testing
t/release-mojibake.t ......... skipped: these tests are for release candidate testing
t/release-pod-coverage.t ..... skipped: these tests are for release candidate testing
t/release-pod-linkcheck.t .... skipped: these tests are for release candidate testing
t/release-pod-syntax.t ....... skipped: these tests are for release candidate testing
t/release-portability.t ...... skipped: these tests are for release candidate testing
t/release-synopsis.t ......... skipped: these tests are for release candidate testing
t/release-test-version.t ..... skipped: these tests are for release candidate testing
t/release-unused-vars.t ...... skipped: these tests are for release candidate testing
Argument "HTTP_OK" isn't numeric in numeric ge (>=) at /usr/perl5.25.10p/lib/site_perl/5.25.10/HTTP/Status.pm line 110.
Argument "HTTP_OK" isn't numeric in numeric ge (>=) at /usr/perl5.25.10p/lib/site_perl/5.25.10/HTTP/Status.pm line 110.
t/stockquote.t ............... ok
All tests successful.
Files=20, Tests=36,  2 wallclock secs ( 0.00 usr  0.08 sys +  0.27 cusr  1.09 csys =  1.44 CPU)
Result: PASS

------------------------------
PREREQUISITES
------------------------------

Prerequisite modules loaded:

requires:

    Module                            Need  Have      
    --------------------------------- ----- ----------
    HTTP::Exception                   0     0.04006   
    List::MoreUtils                   0     0.416     
    LWP::UserAgent                    0     6.21      
    Modern::Perl                      0     1.20170117
    Moo                               0     2.003000  
    MooX::Types::MooseLike::Base      0     0.29      
    perl                              5.010 5.025010  
    URI                               0     1.71      
    utf8                              0     1.19      
    XML::Compile::SOAP::Util          0     3.21      
    XML::Compile::Util                0     1.54      
    XML::Compile::WSDL11              0     3.06      
    XML::LibXML                       0     2.0128    

build_requires:

    Module                            Need  Have      
    --------------------------------- ----- ----------
    Carp                              0     1.42      
    Const::Fast                       0     0.014     
    ExtUtils::MakeMaker               0     7.24      
    File::Spec                        0     3.66      
    HTTP::Response                    0     6.11      
    HTTP::Status                      0     6.11      
    IO::Handle                        0     1.36      
    IPC::Open3                        0     1.20      
    Path::Tiny                        0     0.104     
    Scalar::Util                      0     1.46_02   
    strict                            0     1.11      
    Test::LWP::UserAgent              0     0.031     
    Test::More                        0.94  1.302075  
    Test::Most                        0     0.35      
    URI::file                         0     4.21      
    warnings                          0     1.37      
    XML::Compile::SOAP11              0     3.21      
    XML::Compile::Transport::SOAPHTTP 0     3.21      

configure_requires:

    Module                            Need  Have      
    --------------------------------- ----- ----------
    ExtUtils::MakeMaker               0     7.24      


------------------------------
ENVIRONMENT AND OTHER CONTEXT
------------------------------

Environment variables:

    LC_ALL = de_DE.ISO8859-1
    PATH = /usr/local/bin:/usr/bin:/bin:/usr/local/sbin:/usr/sbin:/sbin:/home/cpansand/bin/freebsd10.3:/home/cpansand/bin/sh:/home/cpansand/bin:/usr/games:/home/cpansand/devel:/home/eserte/src/srezic-misc/scripts
    PERL5LIB = 
    PERL5OPT = 
    PERL5_CPANPLUS_IS_RUNNING = 47957
    PERL5_CPAN_IS_RUNNING = 47957
    PERL5_CPAN_IS_RUNNING_IN_RECURSION = 53929,47957
    PERLDOC = -MPod::Perldoc::ToTextOverstrike
    PERL_BATCH = yes
    PERL_CANARY_STABILITY_NOPROMPT = 1
    PERL_CPAN_REPORTER_CONFIG = /var/tmp/cpansmoker-1023/2017022706/cpanreporter_001_config.ini
    PERL_EXTUTILS_AUTOINSTALL = --defaultdeps
    PERL_USE_UNSAFE_INC = 1
    SHELL = /usr/local/bin/zsh
    TERM = screen
    TMPDIR = /var/tmp/cpansmoker-1023/2017022706

Perl special variables (and OS-specific diagnostics, for MSWin32):

    $^X = /usr/perl5.25.10p/bin/perl5.25.10
    $UID/$EUID = 1023 / 1023
    $GID = 1023 1023
    $EGID = 1023 1023

Perl module toolchain versions installed:

    Module              Have      
    ------------------- ----------
    CPAN                2.17      
    CPAN::Meta          2.150010  
    Cwd                 3.66      
    ExtUtils::CBuilder  0.280225  
    ExtUtils::Command   7.24      
    ExtUtils::Install   2.04      
    ExtUtils::MakeMaker 7.24      
    ExtUtils::Manifest  1.70      
    ExtUtils::ParseXS   3.33      
    File::Spec          3.66      
    JSON                2.90      
    JSON::PP            2.27400_02
    Module::Build       0.4220    
    Module::Signature   n/a       
    Parse::CPAN::Meta   2.150010  
    Test::Harness       3.36_01   
    Test::More          1.302075  
    YAML                1.23      
    YAML::Syck          1.29      
    version             0.9917    


--

Summary of my perl5 (revision 5 version 25 subversion 10) configuration:
   
  Platform:
    osname=freebsd
    osvers=10.3-release-p11
    archname=amd64-freebsd
    uname='freebsd cvrsnica-freebsd-101.herceg.de 10.3-release-p11 freebsd 10.3-release-p11 #0: mon oct 24 18:49:24 utc 2016 root@amd64-builder.daemonology.net:usrobjusrsrcsysgeneric amd64 '
    config_args='-ds -e -Dprefix=/usr/perl5.25.10p -Dusedevel -Dusemallocwrap=no -Dcf_email=srezic@cpan.org -Doptimize=-O2 -pipe'
    hint=recommended
    useposix=true
    d_sigaction=define
    useithreads=undef
    usemultiplicity=undef
    use64bitint=define
    use64bitall=define
    uselongdouble=undef
    usemymalloc=n
    bincompat5005=undef
  Compiler:
    cc='cc'
    ccflags ='-DHAS_FPSETMASK -DHAS_FLOATINGPOINT_H -fno-strict-aliasing -pipe -fstack-protector -I/usr/local/include -D_FORTIFY_SOURCE=2'
    optimize='-O2 -pipe'
    cppflags='-DHAS_FPSETMASK -DHAS_FLOATINGPOINT_H -fno-strict-aliasing -pipe -fstack-protector -I/usr/local/include'
    ccversion=''
    gccversion='4.2.1 Compatible FreeBSD Clang 3.4.1 (tags/RELEASE_34/dot1-final 208032)'
    gccosandvers=''
    intsize=4
    longsize=8
    ptrsize=8
    doublesize=8
    byteorder=12345678
    doublekind=3
    d_longlong=define
    longlongsize=8
    d_longdbl=define
    longdblsize=16
    longdblkind=3
    ivtype='long'
    ivsize=8
    nvtype='double'
    nvsize=8
    Off_t='off_t'
    lseeksize=8
    alignbytes=8
    prototype=define
  Linker and Libraries:
    ld='cc'
    ldflags ='-pthread -Wl,-E  -fstack-protector -L/usr/local/lib'
    libpth=/usr/lib /usr/local/lib /usr/include/clang/3.4.1 /usr/lib
    libs=-lpthread -lgdbm -lm -lcrypt -lutil -lc -lelf
    perllibs=-lpthread -lm -lcrypt -lutil -lc -lelf
    libc=
    so=so
    useshrplib=false
    libperl=libperl.a
    gnulibc_version=''
  Dynamic Linking:
    dlsrc=dl_dlopen.xs
    dlext=so
    d_dlsymun=undef
    ccdlflags=' '
    cccdlflags='-DPIC -fPIC'
    lddlflags='-shared  -L/usr/local/lib -fstack-protector'


Characteristics of this binary (from libperl): 
  Compile-time options:
    HAS_TIMES
    PERLIO_LAYERS
    PERL_COPY_ON_WRITE
    PERL_DONT_CREATE_GVSV
    PERL_OP_PARENT
    PERL_PRESERVE_IVUV
    PERL_USE_DEVEL
    USE_64_BIT_ALL
    USE_64_BIT_INT
    USE_LARGE_FILES
    USE_LOCALE
    USE_LOCALE_COLLATE
    USE_LOCALE_CTYPE
    USE_LOCALE_NUMERIC
    USE_LOCALE_TIME
    USE_PERLIO
    USE_PERL_ATOF
  Built under freebsd
  Compiled at Feb 24 2017 09:17:11
  %ENV:
    PERL5LIB=""
    PERL5OPT=""
    PERL5_CPANPLUS_IS_RUNNING="47957"
    PERL5_CPAN_IS_RUNNING="47957"
    PERL5_CPAN_IS_RUNNING_IN_RECURSION="53929,47957"
    PERLDOC="-MPod::Perldoc::ToTextOverstrike"
    PERL_BATCH="yes"
    PERL_CANARY_STABILITY_NOPROMPT="1"
    PERL_CPAN_REPORTER_CONFIG="/var/tmp/cpansmoker-1023/2017022706/cpanreporter_001_config.ini"
    PERL_EXTUTILS_AUTOINSTALL="--defaultdeps"
    PERL_USE_UNSAFE_INC="1"
  @INC:
    /usr/perl5.25.10p/lib/site_perl/5.25.10/amd64-freebsd
    /usr/perl5.25.10p/lib/site_perl/5.25.10
    /usr/perl5.25.10p/lib/5.25.10/amd64-freebsd
    /usr/perl5.25.10p/lib/5.25.10
    .