Report for XML-Toolkit-0.15

Back
From: metabase:user:320bfe00-2aae-11df-837a-5e0a49663a4f
Subject: PASS XML-Toolkit-0.15 v5.25.11 GNU/Linux
Date: 2017-03-20T03:12:06Z

This distribution has been tested as part of the CPAN Testers
project, supporting the Perl programming language.  See
http://wiki.cpantesters.org/ for more information or email
questions to cpan-testers-discuss@perl.org


--
Dear Chris Prather,

This is a computer-generated report for XML-Toolkit-0.15
on perl 5.25.11, created by CPAN-Reporter-1.2018.

Thank you for uploading your work to CPAN.  Congratulations!
All tests were successful.

Sections of this report:

    * Tester comments
    * Program output
    * Prerequisites
    * Environment and other context

------------------------------
TESTER COMMENTS
------------------------------

Additional comments from tester:

this report is from an automated smoke testing program
and was not reviewed by a human for accuracy

------------------------------
PROGRAM OUTPUT
------------------------------

Output from '/usr/bin/make test':

PERL_DL_NONLAZY=1 "/tmp/basesmoker-reloperl-80nx/bin/perl" "-MExtUtils::Command::MM" "-MTest::Harness" "-e" "undef *Test::Harness::Switches; test_harness(0, 'blib/lib', 'blib/arch')" t/*.t t/02.namespaces/*.t t/06.reuse/*.t
t/00-compile.t ................................ ok
Class::MOP::load_class is deprecated at /home/sand/src/perl/repoperls/installed-perls/host/k93msid/v5.25.10-84-g6aff4bf3cd/ac75/lib/site_perl/5.25.11/x86_64-linux-thread-multi-ld/Class/MOP.pm line 69.
	Class::MOP::load_class("MyTest::Note") called at /tmp/loop_over_bdir-20461-HWSv2Y/XML-Toolkit-0.15-0/blib/lib/XML/Toolkit/Loader/Filter.pm line 44
	XML::Toolkit::Loader::Filter::load_class(XML::Toolkit::Loader::Filter=HASH(0x559133723af8), "MyTest::Note") called at /tmp/loop_over_bdir-20461-HWSv2Y/XML-Toolkit-0.15-0/blib/lib/XML/Toolkit/Loader/Filter.pm line 63
	XML::Toolkit::Loader::Filter::start_element(XML::Toolkit::Loader::Filter=HASH(0x559133723af8), HASH(0x5591336e37f8)) called at /home/sand/src/perl/repoperls/installed-perls/host/k93msid/v5.25.10-84-g6aff4bf3cd/ac75/lib/site_perl/5.25.11/x86_64-linux-thread-multi-ld/XML/SAX/ExpatXS/Preload.pm line 167
	XML::SAX::ExpatXS::Preload::__ANON__(HASH(0x5591336e37f8)) called at /home/sand/src/perl/repoperls/installed-perls/host/k93msid/v5.25.10-84-g6aff4bf3cd/ac75/lib/site_perl/5.25.11/x86_64-linux-thread-multi-ld/XML/SAX/ExpatXS.pm line 163
	XML::SAX::ExpatXS::_parse(XML::SAX::ExpatXS=HASH(0x559132f58868)) called at /home/sand/src/perl/repoperls/installed-perls/host/k93msid/v5.25.10-84-g6aff4bf3cd/ac75/lib/site_perl/5.25.11/x86_64-linux-thread-multi-ld/XML/SAX/ExpatXS.pm line 102
	XML::SAX::ExpatXS::_parse_string(XML::SAX::ExpatXS=HASH(0x559132f58868), "<?xml version=\"1.0\"?>\x{a}<note>\x{a}    <to>Tove</to>\x{a}    <from>Jani"...) called at /home/sand/src/perl/repoperls/installed-perls/host/k93msid/v5.25.10-84-g6aff4bf3cd/ac75/lib/site_perl/5.25.11/XML/SAX/Base.pm line 2617
	XML::SAX::Base::parse(XML::SAX::ExpatXS=HASH(0x559132f58868), HASH(0x5591336beab0)) called at /home/sand/src/perl/repoperls/installed-perls/host/k93msid/v5.25.10-84-g6aff4bf3cd/ac75/lib/site_perl/5.25.11/XML/SAX/Base.pm line 2662
	XML::SAX::Base::parse_string(XML::SAX::ExpatXS=HASH(0x559132f58868), "<?xml version=\"1.0\"?>\x{a}<note>\x{a}    <to>Tove</to>\x{a}    <from>Jani"...) called at inline delegation in XML::Toolkit::Loader for parser->parse_string (attribute declared in /tmp/loop_over_bdir-20461-HWSv2Y/XML-Toolkit-0.15-0/blib/lib/XML/Toolkit/Loader.pm at line 22) line 18
	XML::Toolkit::Loader::parse_string(XML::Toolkit::Loader=HASH(0x5591336c5120), "<?xml version=\"1.0\"?>\x{a}<note>\x{a}    <to>Tove</to>\x{a}    <from>Jani"...) called at /home/sand/src/perl/repoperls/installed-perls/host/k93msid/v5.25.10-84-g6aff4bf3cd/ac75/lib/site_perl/5.25.11/x86_64-linux-thread-multi-ld/Class/MOP/Method/Wrapped.pm line 44
	XML::Toolkit::Loader::_wrapped_parse_string(XML::Toolkit::Loader=HASH(0x5591336c5120), "<?xml version=\"1.0\"?>\x{a}<note>\x{a}    <to>Tove</to>\x{a}    <from>Jani"...) called at /home/sand/src/perl/repoperls/installed-perls/host/k93msid/v5.25.10-84-g6aff4bf3cd/ac75/lib/site_perl/5.25.11/x86_64-linux-thread-multi-ld/Class/MOP/Method/Wrapped.pm line 95
	XML::Toolkit::Loader::parse_string(XML::Toolkit::Loader=HASH(0x5591336c5120), "<?xml version=\"1.0\"?>\x{a}<note>\x{a}    <to>Tove</to>\x{a}    <from>Jani"...) called at t/01.basic.t line 31
t/01.basic.t .................................. ok
Class::MOP::load_class is deprecated at /home/sand/src/perl/repoperls/installed-perls/host/k93msid/v5.25.10-84-g6aff4bf3cd/ac75/lib/site_perl/5.25.11/x86_64-linux-thread-multi-ld/Class/MOP.pm line 69.
	Class::MOP::load_class("XMLTK::Test::Foo") called at /tmp/loop_over_bdir-20461-HWSv2Y/XML-Toolkit-0.15-0/blib/lib/XML/Toolkit/Loader/Filter.pm line 44
	XML::Toolkit::Loader::Filter::load_class(XML::Toolkit::Loader::Filter=HASH(0x55c760a51aa8), "XMLTK::Test::Foo") called at /tmp/loop_over_bdir-20461-HWSv2Y/XML-Toolkit-0.15-0/blib/lib/XML/Toolkit/Loader/Filter.pm line 63
	XML::Toolkit::Loader::Filter::start_element(XML::Toolkit::Loader::Filter=HASH(0x55c760a51aa8), HASH(0x55c760ab37a0)) called at /home/sand/src/perl/repoperls/installed-perls/host/k93msid/v5.25.10-84-g6aff4bf3cd/ac75/lib/site_perl/5.25.11/x86_64-linux-thread-multi-ld/XML/SAX/ExpatXS/Preload.pm line 167
	XML::SAX::ExpatXS::Preload::__ANON__(HASH(0x55c760ab37a0)) called at /home/sand/src/perl/repoperls/installed-perls/host/k93msid/v5.25.10-84-g6aff4bf3cd/ac75/lib/site_perl/5.25.11/x86_64-linux-thread-multi-ld/XML/SAX/ExpatXS.pm line 163
	XML::SAX::ExpatXS::_parse(XML::SAX::ExpatXS=HASH(0x55c7600c4a88)) called at /home/sand/src/perl/repoperls/installed-perls/host/k93msid/v5.25.10-84-g6aff4bf3cd/ac75/lib/site_perl/5.25.11/x86_64-linux-thread-multi-ld/XML/SAX/ExpatXS.pm line 102
	XML::SAX::ExpatXS::_parse_string(XML::SAX::ExpatXS=HASH(0x55c7600c4a88), "<foo xmlns:my=\"http://example.org/my/\"><my:bar /></foo>") called at /home/sand/src/perl/repoperls/installed-perls/host/k93msid/v5.25.10-84-g6aff4bf3cd/ac75/lib/site_perl/5.25.11/XML/SAX/Base.pm line 2617
	XML::SAX::Base::parse(XML::SAX::ExpatXS=HASH(0x55c7600c4a88), HASH(0x55c760a155a8)) called at /home/sand/src/perl/repoperls/installed-perls/host/k93msid/v5.25.10-84-g6aff4bf3cd/ac75/lib/site_perl/5.25.11/XML/SAX/Base.pm line 2662
	XML::SAX::Base::parse_string(XML::SAX::ExpatXS=HASH(0x55c7600c4a88), "<foo xmlns:my=\"http://example.org/my/\"><my:bar /></foo>") called at inline delegation in XML::Toolkit::Loader for parser->parse_string (attribute declared in /tmp/loop_over_bdir-20461-HWSv2Y/XML-Toolkit-0.15-0/blib/lib/XML/Toolkit/Loader.pm at line 22) line 18
	XML::Toolkit::Loader::parse_string(XML::Toolkit::Loader=HASH(0x55c760a05d60), "<foo xmlns:my=\"http://example.org/my/\"><my:bar /></foo>") called at /home/sand/src/perl/repoperls/installed-perls/host/k93msid/v5.25.10-84-g6aff4bf3cd/ac75/lib/site_perl/5.25.11/x86_64-linux-thread-multi-ld/Class/MOP/Method/Wrapped.pm line 44
	XML::Toolkit::Loader::_wrapped_parse_string(XML::Toolkit::Loader=HASH(0x55c760a05d60), "<foo xmlns:my=\"http://example.org/my/\"><my:bar /></foo>") called at /home/sand/src/perl/repoperls/installed-perls/host/k93msid/v5.25.10-84-g6aff4bf3cd/ac75/lib/site_perl/5.25.11/x86_64-linux-thread-multi-ld/Class/MOP/Method/Wrapped.pm line 95
	XML::Toolkit::Loader::parse_string(XML::Toolkit::Loader=HASH(0x55c760a05d60), "<foo xmlns:my=\"http://example.org/my/\"><my:bar /></foo>") called at t/02.namespaces/01.basic_namespace.t line 36
t/02.namespaces/01.basic_namespace.t .......... ok
Class::MOP::load_class is deprecated at /home/sand/src/perl/repoperls/installed-perls/host/k93msid/v5.25.10-84-g6aff4bf3cd/ac75/lib/site_perl/5.25.11/x86_64-linux-thread-multi-ld/Class/MOP.pm line 69.
	Class::MOP::load_class("ABC::Root") called at /tmp/loop_over_bdir-20461-HWSv2Y/XML-Toolkit-0.15-0/blib/lib/XML/Toolkit/Loader/Filter.pm line 44
	XML::Toolkit::Loader::Filter::load_class(XML::Toolkit::Loader::Filter=HASH(0x55e65ea41388), "ABC::Root") called at /tmp/loop_over_bdir-20461-HWSv2Y/XML-Toolkit-0.15-0/blib/lib/XML/Toolkit/Loader/Filter.pm line 63
	XML::Toolkit::Loader::Filter::start_element(XML::Toolkit::Loader::Filter=HASH(0x55e65ea41388), HASH(0x55e65ea7e060)) called at /home/sand/src/perl/repoperls/installed-perls/host/k93msid/v5.25.10-84-g6aff4bf3cd/ac75/lib/site_perl/5.25.11/x86_64-linux-thread-multi-ld/XML/SAX/ExpatXS/Preload.pm line 167
	XML::SAX::ExpatXS::Preload::__ANON__(HASH(0x55e65ea7e060)) called at /home/sand/src/perl/repoperls/installed-perls/host/k93msid/v5.25.10-84-g6aff4bf3cd/ac75/lib/site_perl/5.25.11/x86_64-linux-thread-multi-ld/XML/SAX/ExpatXS.pm line 163
	XML::SAX::ExpatXS::_parse(XML::SAX::ExpatXS=HASH(0x55e65eda2838)) called at /home/sand/src/perl/repoperls/installed-perls/host/k93msid/v5.25.10-84-g6aff4bf3cd/ac75/lib/site_perl/5.25.11/x86_64-linux-thread-multi-ld/XML/SAX/ExpatXS.pm line 102
	XML::SAX::ExpatXS::_parse_string(XML::SAX::ExpatXS=HASH(0x55e65eda2838), "<root xmlns=\"abc\">test1</root>") called at /home/sand/src/perl/repoperls/installed-perls/host/k93msid/v5.25.10-84-g6aff4bf3cd/ac75/lib/site_perl/5.25.11/XML/SAX/Base.pm line 2617
	XML::SAX::Base::parse(XML::SAX::ExpatXS=HASH(0x55e65eda2838), HASH(0x55e65e006530)) called at /home/sand/src/perl/repoperls/installed-perls/host/k93msid/v5.25.10-84-g6aff4bf3cd/ac75/lib/site_perl/5.25.11/XML/SAX/Base.pm line 2662
	XML::SAX::Base::parse_string(XML::SAX::ExpatXS=HASH(0x55e65eda2838), "<root xmlns=\"abc\">test1</root>") called at inline delegation in XML::Toolkit::Loader for parser->parse_string (attribute declared in /tmp/loop_over_bdir-20461-HWSv2Y/XML-Toolkit-0.15-0/blib/lib/XML/Toolkit/Loader.pm at line 22) line 18
	XML::Toolkit::Loader::parse_string(XML::Toolkit::Loader=HASH(0x55e65f1d8f90), "<root xmlns=\"abc\">test1</root>") called at /home/sand/src/perl/repoperls/installed-perls/host/k93msid/v5.25.10-84-g6aff4bf3cd/ac75/lib/site_perl/5.25.11/x86_64-linux-thread-multi-ld/Class/MOP/Method/Wrapped.pm line 44
	XML::Toolkit::Loader::_wrapped_parse_string(XML::Toolkit::Loader=HASH(0x55e65f1d8f90), "<root xmlns=\"abc\">test1</root>") called at /home/sand/src/perl/repoperls/installed-perls/host/k93msid/v5.25.10-84-g6aff4bf3cd/ac75/lib/site_perl/5.25.11/x86_64-linux-thread-multi-ld/Class/MOP/Method/Wrapped.pm line 95
	XML::Toolkit::Loader::parse_string(XML::Toolkit::Loader=HASH(0x55e65f1d8f90), "<root xmlns=\"abc\">test1</root>") called at t/02.namespaces/02.root_namespace_equality.t line 26
t/02.namespaces/02.root_namespace_equality.t .. ok
Class::MOP::is_class_loaded is deprecated at /home/sand/src/perl/repoperls/installed-perls/host/k93msid/v5.25.10-84-g6aff4bf3cd/ac75/lib/site_perl/5.25.11/x86_64-linux-thread-multi-ld/Class/MOP.pm line 87.
	Class::MOP::is_class_loaded("MyApp::Root") called at t/02.namespaces/03.namespaced_loading.t line 39
	eval {...} called at t/02.namespaces/03.namespaced_loading.t line 34
Class::MOP::load_class is deprecated at /home/sand/src/perl/repoperls/installed-perls/host/k93msid/v5.25.10-84-g6aff4bf3cd/ac75/lib/site_perl/5.25.11/x86_64-linux-thread-multi-ld/Class/MOP.pm line 69.
	Class::MOP::load_class("MyApp::Root") called at /tmp/loop_over_bdir-20461-HWSv2Y/XML-Toolkit-0.15-0/blib/lib/XML/Toolkit/Loader/Filter.pm line 44
	XML::Toolkit::Loader::Filter::load_class(XML::Toolkit::Loader::Filter=HASH(0x5643165fa4d8), "MyApp::Root") called at /tmp/loop_over_bdir-20461-HWSv2Y/XML-Toolkit-0.15-0/blib/lib/XML/Toolkit/Loader/Filter.pm line 63
	XML::Toolkit::Loader::Filter::start_element(XML::Toolkit::Loader::Filter=HASH(0x5643165fa4d8), HASH(0x5643161c6168)) called at /home/sand/src/perl/repoperls/installed-perls/host/k93msid/v5.25.10-84-g6aff4bf3cd/ac75/lib/site_perl/5.25.11/x86_64-linux-thread-multi-ld/XML/SAX/ExpatXS/Preload.pm line 167
	XML::SAX::ExpatXS::Preload::__ANON__(HASH(0x5643161c6168)) called at /home/sand/src/perl/repoperls/installed-perls/host/k93msid/v5.25.10-84-g6aff4bf3cd/ac75/lib/site_perl/5.25.11/x86_64-linux-thread-multi-ld/XML/SAX/ExpatXS.pm line 163
	XML::SAX::ExpatXS::_parse(XML::SAX::ExpatXS=HASH(0x5643166eefc8)) called at /home/sand/src/perl/repoperls/installed-perls/host/k93msid/v5.25.10-84-g6aff4bf3cd/ac75/lib/site_perl/5.25.11/x86_64-linux-thread-multi-ld/XML/SAX/ExpatXS.pm line 102
	XML::SAX::ExpatXS::_parse_string(XML::SAX::ExpatXS=HASH(0x5643166eefc8), "<root xmlns:a=\"a\" xmlns:b=\"b\">\x{a}    <a:one>oneA</a:one>\x{a}    <b"...) called at /home/sand/src/perl/repoperls/installed-perls/host/k93msid/v5.25.10-84-g6aff4bf3cd/ac75/lib/site_perl/5.25.11/XML/SAX/Base.pm line 2617
	XML::SAX::Base::parse(XML::SAX::ExpatXS=HASH(0x5643166eefc8), HASH(0x5643154a8d70)) called at /home/sand/src/perl/repoperls/installed-perls/host/k93msid/v5.25.10-84-g6aff4bf3cd/ac75/lib/site_perl/5.25.11/XML/SAX/Base.pm line 2662
	XML::SAX::Base::parse_string(XML::SAX::ExpatXS=HASH(0x5643166eefc8), "<root xmlns:a=\"a\" xmlns:b=\"b\">\x{a}    <a:one>oneA</a:one>\x{a}    <b"...) called at inline delegation in XML::Toolkit::Loader for parser->parse_string (attribute declared in /tmp/loop_over_bdir-20461-HWSv2Y/XML-Toolkit-0.15-0/blib/lib/XML/Toolkit/Loader.pm at line 22) line 18
	XML::Toolkit::Loader::parse_string(XML::Toolkit::Loader=HASH(0x564315d31368), "<root xmlns:a=\"a\" xmlns:b=\"b\">\x{a}    <a:one>oneA</a:one>\x{a}    <b"...) called at /home/sand/src/perl/repoperls/installed-perls/host/k93msid/v5.25.10-84-g6aff4bf3cd/ac75/lib/site_perl/5.25.11/x86_64-linux-thread-multi-ld/Class/MOP/Method/Wrapped.pm line 44
	XML::Toolkit::Loader::_wrapped_parse_string(XML::Toolkit::Loader=HASH(0x564315d31368), "<root xmlns:a=\"a\" xmlns:b=\"b\">\x{a}    <a:one>oneA</a:one>\x{a}    <b"...) called at /home/sand/src/perl/repoperls/installed-perls/host/k93msid/v5.25.10-84-g6aff4bf3cd/ac75/lib/site_perl/5.25.11/x86_64-linux-thread-multi-ld/Class/MOP/Method/Wrapped.pm line 95
	XML::Toolkit::Loader::parse_string(XML::Toolkit::Loader=HASH(0x564315d31368), "<root xmlns:a=\"a\" xmlns:b=\"b\">\x{a}    <a:one>oneA</a:one>\x{a}    <b"...) called at t/02.namespaces/03.namespaced_loading.t line 47
	eval {...} called at t/02.namespaces/03.namespaced_loading.t line 45
t/02.namespaces/03.namespaced_loading.t ....... ok
Class::MOP::load_class is deprecated at /home/sand/src/perl/repoperls/installed-perls/host/k93msid/v5.25.10-84-g6aff4bf3cd/ac75/lib/site_perl/5.25.11/x86_64-linux-thread-multi-ld/Class/MOP.pm line 69.
	Class::MOP::load_class("XML::XSPF::Playlist") called at /tmp/loop_over_bdir-20461-HWSv2Y/XML-Toolkit-0.15-0/blib/lib/XML/Toolkit/Loader/Filter.pm line 44
	XML::Toolkit::Loader::Filter::load_class(XML::Toolkit::Loader::Filter=HASH(0x56540445bf78), "XML::XSPF::Playlist") called at /tmp/loop_over_bdir-20461-HWSv2Y/XML-Toolkit-0.15-0/blib/lib/XML/Toolkit/Loader/Filter.pm line 63
	XML::Toolkit::Loader::Filter::start_element(XML::Toolkit::Loader::Filter=HASH(0x56540445bf78), HASH(0x5654047a8230)) called at /home/sand/src/perl/repoperls/installed-perls/host/k93msid/v5.25.10-84-g6aff4bf3cd/ac75/lib/site_perl/5.25.11/x86_64-linux-thread-multi-ld/XML/SAX/ExpatXS/Preload.pm line 167
	XML::SAX::ExpatXS::Preload::__ANON__(HASH(0x5654047a8230)) called at /home/sand/src/perl/repoperls/installed-perls/host/k93msid/v5.25.10-84-g6aff4bf3cd/ac75/lib/site_perl/5.25.11/x86_64-linux-thread-multi-ld/XML/SAX/ExpatXS.pm line 163
	XML::SAX::ExpatXS::_parse(XML::SAX::ExpatXS=HASH(0x5654039e6708)) called at /home/sand/src/perl/repoperls/installed-perls/host/k93msid/v5.25.10-84-g6aff4bf3cd/ac75/lib/site_perl/5.25.11/x86_64-linux-thread-multi-ld/XML/SAX/ExpatXS.pm line 102
	XML::SAX::ExpatXS::_parse_string(XML::SAX::ExpatXS=HASH(0x5654039e6708), "<?xml version=\"1.0\" encoding=\"utf-8\"?>\x{a}<playlist version=\"1\" "...) called at /home/sand/src/perl/repoperls/installed-perls/host/k93msid/v5.25.10-84-g6aff4bf3cd/ac75/lib/site_perl/5.25.11/XML/SAX/Base.pm line 2617
	XML::SAX::Base::parse(XML::SAX::ExpatXS=HASH(0x5654039e6708), HASH(0x56540471bf70)) called at /home/sand/src/perl/repoperls/installed-perls/host/k93msid/v5.25.10-84-g6aff4bf3cd/ac75/lib/site_perl/5.25.11/XML/SAX/Base.pm line 2662
	XML::SAX::Base::parse_string(XML::SAX::ExpatXS=HASH(0x5654039e6708), "<?xml version=\"1.0\" encoding=\"utf-8\"?>\x{a}<playlist version=\"1\" "...) called at inline delegation in XML::Toolkit::Loader for parser->parse_string (attribute declared in /tmp/loop_over_bdir-20461-HWSv2Y/XML-Toolkit-0.15-0/blib/lib/XML/Toolkit/Loader.pm at line 22) line 18
	XML::Toolkit::Loader::parse_string(XML::Toolkit::Loader=HASH(0x56540446a548), "<?xml version=\"1.0\" encoding=\"utf-8\"?>\x{a}<playlist version=\"1\" "...) called at /home/sand/src/perl/repoperls/installed-perls/host/k93msid/v5.25.10-84-g6aff4bf3cd/ac75/lib/site_perl/5.25.11/x86_64-linux-thread-multi-ld/Class/MOP/Method/Wrapped.pm line 44
	XML::Toolkit::Loader::_wrapped_parse_string(XML::Toolkit::Loader=HASH(0x56540446a548), "<?xml version=\"1.0\" encoding=\"utf-8\"?>\x{a}<playlist version=\"1\" "...) called at /home/sand/src/perl/repoperls/installed-perls/host/k93msid/v5.25.10-84-g6aff4bf3cd/ac75/lib/site_perl/5.25.11/x86_64-linux-thread-multi-ld/Class/MOP/Method/Wrapped.pm line 95
	XML::Toolkit::Loader::parse_string(XML::Toolkit::Loader=HASH(0x56540446a548), "<?xml version=\"1.0\" encoding=\"utf-8\"?>\x{a}<playlist version=\"1\" "...) called at t/03.xspf.t line 45
t/03.xspf.t ................................... ok
Class::MOP::load_class is deprecated at /home/sand/src/perl/repoperls/installed-perls/host/k93msid/v5.25.10-84-g6aff4bf3cd/ac75/lib/site_perl/5.25.11/x86_64-linux-thread-multi-ld/Class/MOP.pm line 69.
	Class::MOP::load_class("XML::RDF::RDF") called at /tmp/loop_over_bdir-20461-HWSv2Y/XML-Toolkit-0.15-0/blib/lib/XML/Toolkit/Loader/Filter.pm line 44
	XML::Toolkit::Loader::Filter::load_class(XML::Toolkit::Loader::Filter=HASH(0x55e1316ec8a8), "XML::RDF::RDF") called at /tmp/loop_over_bdir-20461-HWSv2Y/XML-Toolkit-0.15-0/blib/lib/XML/Toolkit/Loader/Filter.pm line 63
	XML::Toolkit::Loader::Filter::start_element(XML::Toolkit::Loader::Filter=HASH(0x55e1316ec8a8), HASH(0x55e13167c6b8)) called at /home/sand/src/perl/repoperls/installed-perls/host/k93msid/v5.25.10-84-g6aff4bf3cd/ac75/lib/site_perl/5.25.11/x86_64-linux-thread-multi-ld/XML/SAX/ExpatXS/Preload.pm line 167
	XML::SAX::ExpatXS::Preload::__ANON__(HASH(0x55e13167c6b8)) called at /home/sand/src/perl/repoperls/installed-perls/host/k93msid/v5.25.10-84-g6aff4bf3cd/ac75/lib/site_perl/5.25.11/x86_64-linux-thread-multi-ld/XML/SAX/ExpatXS.pm line 163
	XML::SAX::ExpatXS::_parse(XML::SAX::ExpatXS=HASH(0x55e130b868b8)) called at /home/sand/src/perl/repoperls/installed-perls/host/k93msid/v5.25.10-84-g6aff4bf3cd/ac75/lib/site_perl/5.25.11/x86_64-linux-thread-multi-ld/XML/SAX/ExpatXS.pm line 102
	XML::SAX::ExpatXS::_parse_string(XML::SAX::ExpatXS=HASH(0x55e130b868b8), "<?xml version=\"1.0\" encoding=\"utf-8\"?>\x{a}<rdf:RDF\x{a}  xmlns:rdf=\""...) called at /home/sand/src/perl/repoperls/installed-perls/host/k93msid/v5.25.10-84-g6aff4bf3cd/ac75/lib/site_perl/5.25.11/XML/SAX/Base.pm line 2617
	XML::SAX::Base::parse(XML::SAX::ExpatXS=HASH(0x55e130b868b8), HASH(0x55e1315f8568)) called at /home/sand/src/perl/repoperls/installed-perls/host/k93msid/v5.25.10-84-g6aff4bf3cd/ac75/lib/site_perl/5.25.11/XML/SAX/Base.pm line 2662
	XML::SAX::Base::parse_string(XML::SAX::ExpatXS=HASH(0x55e130b868b8), "<?xml version=\"1.0\" encoding=\"utf-8\"?>\x{a}<rdf:RDF\x{a}  xmlns:rdf=\""...) called at inline delegation in XML::Toolkit::Loader for parser->parse_string (attribute declared in /tmp/loop_over_bdir-20461-HWSv2Y/XML-Toolkit-0.15-0/blib/lib/XML/Toolkit/Loader.pm at line 22) line 18
	XML::Toolkit::Loader::parse_string(XML::Toolkit::Loader=HASH(0x55e1305eb508), "<?xml version=\"1.0\" encoding=\"utf-8\"?>\x{a}<rdf:RDF\x{a}  xmlns:rdf=\""...) called at /home/sand/src/perl/repoperls/installed-perls/host/k93msid/v5.25.10-84-g6aff4bf3cd/ac75/lib/site_perl/5.25.11/x86_64-linux-thread-multi-ld/Class/MOP/Method/Wrapped.pm line 44
	XML::Toolkit::Loader::_wrapped_parse_string(XML::Toolkit::Loader=HASH(0x55e1305eb508), "<?xml version=\"1.0\" encoding=\"utf-8\"?>\x{a}<rdf:RDF\x{a}  xmlns:rdf=\""...) called at /home/sand/src/perl/repoperls/installed-perls/host/k93msid/v5.25.10-84-g6aff4bf3cd/ac75/lib/site_perl/5.25.11/x86_64-linux-thread-multi-ld/Class/MOP/Method/Wrapped.pm line 95
	XML::Toolkit::Loader::parse_string(XML::Toolkit::Loader=HASH(0x55e1305eb508), "<?xml version=\"1.0\" encoding=\"utf-8\"?>\x{a}<rdf:RDF\x{a}  xmlns:rdf=\""...) called at t/04.rdf.t line 42
t/04.rdf.t .................................... ok
Class::MOP::load_class is deprecated at /home/sand/src/perl/repoperls/installed-perls/host/k93msid/v5.25.10-84-g6aff4bf3cd/ac75/lib/site_perl/5.25.11/x86_64-linux-thread-multi-ld/Class/MOP.pm line 69.
	Class::MOP::load_class("MyApp::Code") called at /tmp/loop_over_bdir-20461-HWSv2Y/XML-Toolkit-0.15-0/blib/lib/XML/Toolkit/Loader/Filter.pm line 44
	XML::Toolkit::Loader::Filter::load_class(XML::Toolkit::Loader::Filter=HASH(0x56466f60e280), "MyApp::Code") called at /tmp/loop_over_bdir-20461-HWSv2Y/XML-Toolkit-0.15-0/blib/lib/XML/Toolkit/Loader/Filter.pm line 63
	XML::Toolkit::Loader::Filter::start_element(XML::Toolkit::Loader::Filter=HASH(0x56466f60e280), HASH(0x56466f60d6b0)) called at /home/sand/src/perl/repoperls/installed-perls/host/k93msid/v5.25.10-84-g6aff4bf3cd/ac75/lib/site_perl/5.25.11/x86_64-linux-thread-multi-ld/XML/SAX/ExpatXS/Preload.pm line 167
	XML::SAX::ExpatXS::Preload::__ANON__(HASH(0x56466f60d6b0)) called at /home/sand/src/perl/repoperls/installed-perls/host/k93msid/v5.25.10-84-g6aff4bf3cd/ac75/lib/site_perl/5.25.11/x86_64-linux-thread-multi-ld/XML/SAX/ExpatXS.pm line 163
	XML::SAX::ExpatXS::_parse(XML::SAX::ExpatXS=HASH(0x56466f32e1e8)) called at /home/sand/src/perl/repoperls/installed-perls/host/k93msid/v5.25.10-84-g6aff4bf3cd/ac75/lib/site_perl/5.25.11/x86_64-linux-thread-multi-ld/XML/SAX/ExpatXS.pm line 102
	XML::SAX::ExpatXS::_parse_string(XML::SAX::ExpatXS=HASH(0x56466f32e1e8), "<code><![CDATA[<crackers \x{26} cheese>]]></code>") called at /home/sand/src/perl/repoperls/installed-perls/host/k93msid/v5.25.10-84-g6aff4bf3cd/ac75/lib/site_perl/5.25.11/XML/SAX/Base.pm line 2617
	XML::SAX::Base::parse(XML::SAX::ExpatXS=HASH(0x56466f32e1e8), HASH(0x56466f603418)) called at /home/sand/src/perl/repoperls/installed-perls/host/k93msid/v5.25.10-84-g6aff4bf3cd/ac75/lib/site_perl/5.25.11/XML/SAX/Base.pm line 2662
	XML::SAX::Base::parse_string(XML::SAX::ExpatXS=HASH(0x56466f32e1e8), "<code><![CDATA[<crackers \x{26} cheese>]]></code>") called at inline delegation in XML::Toolkit::Loader for parser->parse_string (attribute declared in /tmp/loop_over_bdir-20461-HWSv2Y/XML-Toolkit-0.15-0/blib/lib/XML/Toolkit/Loader.pm at line 22) line 18
	XML::Toolkit::Loader::parse_string(XML::Toolkit::Loader=HASH(0x56466f42ab10), "<code><![CDATA[<crackers \x{26} cheese>]]></code>") called at /home/sand/src/perl/repoperls/installed-perls/host/k93msid/v5.25.10-84-g6aff4bf3cd/ac75/lib/site_perl/5.25.11/x86_64-linux-thread-multi-ld/Class/MOP/Method/Wrapped.pm line 44
	XML::Toolkit::Loader::_wrapped_parse_string(XML::Toolkit::Loader=HASH(0x56466f42ab10), "<code><![CDATA[<crackers \x{26} cheese>]]></code>") called at /home/sand/src/perl/repoperls/installed-perls/host/k93msid/v5.25.10-84-g6aff4bf3cd/ac75/lib/site_perl/5.25.11/x86_64-linux-thread-multi-ld/Class/MOP/Method/Wrapped.pm line 95
	XML::Toolkit::Loader::parse_string(XML::Toolkit::Loader=HASH(0x56466f42ab10), "<code><![CDATA[<crackers \x{26} cheese>]]></code>") called at t/05.cdata.t line 26
t/05.cdata.t .................................. ok
Class::MOP::load_class is deprecated at /home/sand/src/perl/repoperls/installed-perls/host/k93msid/v5.25.10-84-g6aff4bf3cd/ac75/lib/site_perl/5.25.11/x86_64-linux-thread-multi-ld/Class/MOP.pm line 69.
	Class::MOP::load_class("MyTest::Note") called at /tmp/loop_over_bdir-20461-HWSv2Y/XML-Toolkit-0.15-0/blib/lib/XML/Toolkit/Loader/Filter.pm line 44
	XML::Toolkit::Loader::Filter::load_class(XML::Toolkit::Loader::Filter=HASH(0x55caac8ac640), "MyTest::Note") called at /tmp/loop_over_bdir-20461-HWSv2Y/XML-Toolkit-0.15-0/blib/lib/XML/Toolkit/Loader/Filter.pm line 63
	XML::Toolkit::Loader::Filter::start_element(XML::Toolkit::Loader::Filter=HASH(0x55caac8ac640), HASH(0x55caac8580d0)) called at /home/sand/src/perl/repoperls/installed-perls/host/k93msid/v5.25.10-84-g6aff4bf3cd/ac75/lib/site_perl/5.25.11/x86_64-linux-thread-multi-ld/XML/SAX/ExpatXS/Preload.pm line 167
	XML::SAX::ExpatXS::Preload::__ANON__(HASH(0x55caac8580d0)) called at /home/sand/src/perl/repoperls/installed-perls/host/k93msid/v5.25.10-84-g6aff4bf3cd/ac75/lib/site_perl/5.25.11/x86_64-linux-thread-multi-ld/XML/SAX/ExpatXS.pm line 163
	XML::SAX::ExpatXS::_parse(XML::SAX::ExpatXS=HASH(0x55caac5aa358)) called at /home/sand/src/perl/repoperls/installed-perls/host/k93msid/v5.25.10-84-g6aff4bf3cd/ac75/lib/site_perl/5.25.11/x86_64-linux-thread-multi-ld/XML/SAX/ExpatXS.pm line 102
	XML::SAX::ExpatXS::_parse_string(XML::SAX::ExpatXS=HASH(0x55caac5aa358), "<?xml version=\"1.0\"?>\x{a}<note>\x{a}    <to>Tove</to>\x{a}    <from>Jani"...) called at /home/sand/src/perl/repoperls/installed-perls/host/k93msid/v5.25.10-84-g6aff4bf3cd/ac75/lib/site_perl/5.25.11/XML/SAX/Base.pm line 2617
	XML::SAX::Base::parse(XML::SAX::ExpatXS=HASH(0x55caac5aa358), HASH(0x55caac8431c8)) called at /home/sand/src/perl/repoperls/installed-perls/host/k93msid/v5.25.10-84-g6aff4bf3cd/ac75/lib/site_perl/5.25.11/XML/SAX/Base.pm line 2662
	XML::SAX::Base::parse_string(XML::SAX::ExpatXS=HASH(0x55caac5aa358), "<?xml version=\"1.0\"?>\x{a}<note>\x{a}    <to>Tove</to>\x{a}    <from>Jani"...) called at inline delegation in XML::Toolkit::Loader for parser->parse_string (attribute declared in /tmp/loop_over_bdir-20461-HWSv2Y/XML-Toolkit-0.15-0/blib/lib/XML/Toolkit/Loader.pm at line 22) line 18
	XML::Toolkit::Loader::parse_string(XML::Toolkit::Loader=HASH(0x55caac858568), "<?xml version=\"1.0\"?>\x{a}<note>\x{a}    <to>Tove</to>\x{a}    <from>Jani"...) called at /home/sand/src/perl/repoperls/installed-perls/host/k93msid/v5.25.10-84-g6aff4bf3cd/ac75/lib/site_perl/5.25.11/x86_64-linux-thread-multi-ld/Class/MOP/Method/Wrapped.pm line 44
	XML::Toolkit::Loader::_wrapped_parse_string(XML::Toolkit::Loader=HASH(0x55caac858568), "<?xml version=\"1.0\"?>\x{a}<note>\x{a}    <to>Tove</to>\x{a}    <from>Jani"...) called at /home/sand/src/perl/repoperls/installed-perls/host/k93msid/v5.25.10-84-g6aff4bf3cd/ac75/lib/site_perl/5.25.11/x86_64-linux-thread-multi-ld/Class/MOP/Method/Wrapped.pm line 95
	XML::Toolkit::Loader::parse_string(XML::Toolkit::Loader=HASH(0x55caac858568), "<?xml version=\"1.0\"?>\x{a}<note>\x{a}    <to>Tove</to>\x{a}    <from>Jani"...) called at t/06.reuse/06.reuse_generator.t line 41
t/06.reuse/06.reuse_generator.t ............... ok
Class::MOP::load_class is deprecated at /home/sand/src/perl/repoperls/installed-perls/host/k93msid/v5.25.10-84-g6aff4bf3cd/ac75/lib/site_perl/5.25.11/x86_64-linux-thread-multi-ld/Class/MOP.pm line 69.
	Class::MOP::load_class() called at /tmp/loop_over_bdir-20461-HWSv2Y/XML-Toolkit-0.15-0/blib/lib/XML/Toolkit/Loader/Filter.pm line 44
	XML::Toolkit::Loader::Filter::load_class() called at /tmp/loop_over_bdir-20461-HWSv2Y/XML-Toolkit-0.15-0/blib/lib/XML/Toolkit/Loader/Filter.pm line 63
	XML::Toolkit::Loader::Filter::start_element() called at /home/sand/src/perl/repoperls/installed-perls/host/k93msid/v5.25.10-84-g6aff4bf3cd/ac75/lib/site_perl/5.25.11/x86_64-linux-thread-multi-ld/XML/SAX/ExpatXS/Preload.pm line 167
	XML::SAX::ExpatXS::Preload::__ANON__() called at /home/sand/src/perl/repoperls/installed-perls/host/k93msid/v5.25.10-84-g6aff4bf3cd/ac75/lib/site_perl/5.25.11/x86_64-linux-thread-multi-ld/XML/SAX/ExpatXS.pm line 163
	XML::SAX::ExpatXS::_parse() called at /home/sand/src/perl/repoperls/installed-perls/host/k93msid/v5.25.10-84-g6aff4bf3cd/ac75/lib/site_perl/5.25.11/x86_64-linux-thread-multi-ld/XML/SAX/ExpatXS.pm line 102
	XML::SAX::ExpatXS::_parse_string() called at /home/sand/src/perl/repoperls/installed-perls/host/k93msid/v5.25.10-84-g6aff4bf3cd/ac75/lib/site_perl/5.25.11/XML/SAX/Base.pm line 2617
	XML::SAX::Base::parse() called at /home/sand/src/perl/repoperls/installed-perls/host/k93msid/v5.25.10-84-g6aff4bf3cd/ac75/lib/site_perl/5.25.11/XML/SAX/Base.pm line 2662
	XML::SAX::Base::parse_string() called at inline delegation in XML::Toolkit::Loader for parser->parse_string (attribute declared in /tmp/loop_over_bdir-20461-HWSv2Y/XML-Toolkit-0.15-0/blib/lib/XML/Toolkit/Loader.pm at line 22) line 18
	XML::Toolkit::Loader::parse_string() called at /home/sand/src/perl/repoperls/installed-perls/host/k93msid/v5.25.10-84-g6aff4bf3cd/ac75/lib/site_perl/5.25.11/x86_64-linux-thread-multi-ld/Class/MOP/Method/Wrapped.pm line 44
	XML::Toolkit::Loader::_wrapped_parse_string() called at /home/sand/src/perl/repoperls/installed-perls/host/k93msid/v5.25.10-84-g6aff4bf3cd/ac75/lib/site_perl/5.25.11/x86_64-linux-thread-multi-ld/Class/MOP/Method/Wrapped.pm line 95
	XML::Toolkit::Loader::parse_string() called at t/06.reuse/06.reuse_loader.t line 42
	Test::Exception::lives_ok() called at t/06.reuse/06.reuse_loader.t line 42
t/06.reuse/06.reuse_loader.t .................. ok
t/release-pod-coverage.t ...................... skipped: these tests are for release candidate testing
t/release-pod-syntax.t ........................ skipped: these tests are for release candidate testing
All tests successful.
Files=12, Tests=91, 22 wallclock secs ( 0.04 usr  0.09 sys + 18.80 cusr  2.52 csys = 21.45 CPU)
Result: PASS

------------------------------
PREREQUISITES
------------------------------

Prerequisite modules loaded:

requires:

    Module                                   Need Have    
    ---------------------------------------- ---- --------
    aliased                                  0    0.34    
    Bread::Board                             0    0.34    
    Bread::Board::Container                  0    0.34    
    Devel::PackagePath                       0.01 0.03    
    Encode                                   0    2.88    
    Moose                                    0.92 2.2004  
    Moose::Role                              0    2.2004  
    Moose::Util::TypeConstraints             0    2.2004  
    MooseX::Aliases                          0    0.10    
    MooseX::App::Cmd                         0    0.32    
    MooseX::App::Cmd::Command                0    0.32    
    MooseX::Getopt::Dashes                   0    0.71    
    MooseX::MetaDescription                  0.03 0.06    
    MooseX::MetaDescription::Description     0    0.06    
    MooseX::MetaDescription::Meta::Attribute 0    0.06    
    MooseX::MetaDescription::Meta::Trait     0    0.06    
    MooseX::NonMoose                         0    0.26    
    MooseX::Types::Path::Class               0.04 0.09    
    namespace::autoclean                     0    0.28    
    strict                                   0    1.11    
    Template                                 2.20 2.26    
    warnings                                 0    1.37    
    XML::SAX                                 0.96 0.99    
    XML::SAX::Base                           0    1.08    
    XML::SAX::Writer                         0.50 0.56    

build_requires:

    Module                                   Need Have    
    ---------------------------------------- ---- --------
    File::Find                               0    1.34    
    File::Temp                               0    0.2304  
    Path::Class                              0    0.37    
    Test::Deep                               0    1.126   
    Test::Exception                          0    0.43    
    Test::More                               0    1.302078
    Test::Simple                             0.94 1.302078
    Test::XML                                0.00 0.08    

configure_requires:

    Module                                   Need Have    
    ---------------------------------------- ---- --------
    ExtUtils::MakeMaker                      6.30 7.24    


------------------------------
ENVIRONMENT AND OTHER CONTEXT
------------------------------

Environment variables:

    AUTOMATED_TESTING = 1
    LANG = en_US.UTF-8
    PATH = /home/sand/bin:/usr/local/bin:/usr/bin:/bin:/usr/games:/usr/local/perl/bin:/usr/X11/bin:/sbin:/usr/sbin
    PERL5LIB = /tmp/loop_over_bdir-20461-HWSv2Y/WebService-NFSN-1.03-0/blib/arch:/tmp/loop_over_bdir-20461-HWSv2Y/WebService-NFSN-1.03-0/blib/lib:/tmp/loop_over_bdir-20461-HWSv2Y/FusionInventory-Agent-2.3.18-0/blib/arch:/tmp/loop_over_bdir-20461-HWSv2Y/FusionInventory-Agent-2.3.18-0/blib/lib:/tmp/loop_over_bdir-20461-HWSv2Y/FusionInventory-Agent-2.3.19-0/blib/arch:/tmp/loop_over_bdir-20461-HWSv2Y/FusionInventory-Agent-2.3.19-0/blib/lib:/tmp/loop_over_bdir-20461-HWSv2Y/libintl-perl-1.26-0/blib/arch:/tmp/loop_over_bdir-20461-HWSv2Y/libintl-perl-1.26-0/blib/lib:/tmp/loop_over_bdir-20461-HWSv2Y/HTML-Tree-5.03-0/blib/arch:/tmp/loop_over_bdir-20461-HWSv2Y/HTML-Tree-5.03-0/blib/lib:/tmp/loop_over_bdir-20461-HWSv2Y/Mouse-v2.4.9-0/blib/arch:/tmp/loop_over_bdir-20461-HWSv2Y/Mouse-v2.4.9-0/blib/lib:/tmp/loop_over_bdir-20461-HWSv2Y/Compiler-Lexer-0.22-0/blib/arch:/tmp/loop_over_bdir-20461-HWSv2Y/Compiler-Lexer-0.22-0/blib/lib:/tmp/loop_over_bdir-20461-HWSv2Y/Clownfish-0.6.1-0/blib/arch:/tmp/loop_over_bdir-20461-HWSv2Y/Clownfish-0.6.1-0/blib/lib
    PERL5OPT = 
    PERL5_CPANPLUS_IS_RUNNING = 21221
    PERL5_CPAN_IS_RUNNING = 21221
    PERL_CANARY_STABILITY_NOPROMPT = 1
    PERL_MM_USE_DEFAULT = 1
    PERL_USE_UNSAFE_INC = 1
    SHELL = /usr/bin/zsh
    TERM = screen

Perl special variables (and OS-specific diagnostics, for MSWin32):

    $^X = /tmp/basesmoker-reloperl-80nx/bin/perl
    $UID/$EUID = 1005 / 1005
    $GID = 1005 1005
    $EGID = 1005 1005

Perl module toolchain versions installed:

    Module              Have      
    ------------------- ----------
    CPAN                2.17      
    CPAN::Meta          2.150010  
    Cwd                 3.67      
    ExtUtils::CBuilder  0.280225  
    ExtUtils::Command   7.24      
    ExtUtils::Install   2.04      
    ExtUtils::MakeMaker 7.24      
    ExtUtils::Manifest  1.70      
    ExtUtils::ParseXS   3.34      
    File::Spec          3.67      
    JSON                2.90      
    JSON::PP            2.27400_02
    Module::Build       0.4220    
    Module::Signature   0.81      
    Parse::CPAN::Meta   2.150010  
    Test::Harness       3.38      
    Test::More          1.302078  
    YAML                1.23      
    YAML::Syck          1.29      
    version             0.9917    


--

Summary of my perl5 (revision 5 version 25 subversion 11) configuration:
  Commit id: 6aff4bf3cdbe7898ab6d2fb6c691e278cfd5e80f
  Platform:
    osname=linux
    osvers=4.9.0-2-amd64
    archname=x86_64-linux-thread-multi-ld
    uname='linux k93msid 4.9.0-2-amd64 #1 smp debian 4.9.13-1 (2017-02-27) x86_64 gnulinux '
    config_args='-Dprefix=/home/sand/src/perl/repoperls/installed-perls/host/k93msid/v5.25.10-84-g6aff4bf3cd/ac75 -Dmyhostname=k93msid -Dinstallusrbinperl=n -Uversiononly -Dusedevel -des -Ui_db -Dlibswanted=cl pthread socket inet nsl gdbm dbm malloc dl ld sun m crypt sec util c cposix posix ucb BSD gdbm_compat -Duseithreads -Duselongdouble -DEBUGGING=both'
    hint=recommended
    useposix=true
    d_sigaction=define
    useithreads=define
    usemultiplicity=define
    use64bitint=define
    use64bitall=define
    uselongdouble=define
    usemymalloc=n
    default_inc_excludes_dot=define
    bincompat5005=undef
  Compiler:
    cc='cc'
    ccflags ='-D_REENTRANT -D_GNU_SOURCE -fwrapv -DDEBUGGING -fno-strict-aliasing -pipe -fstack-protector-strong -I/usr/local/include -D_LARGEFILE_SOURCE -D_FILE_OFFSET_BITS=64'
    optimize='-O2 -g'
    cppflags='-D_REENTRANT -D_GNU_SOURCE -fwrapv -DDEBUGGING -fno-strict-aliasing -pipe -fstack-protector-strong -I/usr/local/include'
    ccversion=''
    gccversion='6.3.0 20170316'
    gccosandvers=''
    intsize=4
    longsize=8
    ptrsize=8
    doublesize=8
    byteorder=12345678
    doublekind=3
    d_longlong=define
    longlongsize=8
    d_longdbl=define
    longdblsize=16
    longdblkind=3
    ivtype='long'
    ivsize=8
    nvtype='long double'
    nvsize=16
    Off_t='off_t'
    lseeksize=8
    alignbytes=16
    prototype=define
  Linker and Libraries:
    ld='cc'
    ldflags =' -fstack-protector-strong -L/usr/local/lib'
    libpth=/usr/local/lib /usr/lib/gcc/x86_64-linux-gnu/6/include-fixed /usr/include/x86_64-linux-gnu /usr/lib /lib/x86_64-linux-gnu /lib/../lib /usr/lib/x86_64-linux-gnu /usr/lib/../lib /lib
    libs=-lpthread -lnsl -ldl -lm -lcrypt -lutil -lc
    perllibs=-lpthread -lnsl -ldl -lm -lcrypt -lutil -lc
    libc=libc-2.24.so
    so=so
    useshrplib=false
    libperl=libperl.a
    gnulibc_version='2.24'
  Dynamic Linking:
    dlsrc=dl_dlopen.xs
    dlext=so
    d_dlsymun=undef
    ccdlflags='-Wl,-E'
    cccdlflags='-fPIC'
    lddlflags='-shared -O2 -g -L/usr/local/lib -fstack-protector-strong'


Characteristics of this binary (from libperl): 
  Compile-time options:
    DEBUGGING
    HAS_TIMES
    MULTIPLICITY
    PERLIO_LAYERS
    PERL_COPY_ON_WRITE
    PERL_DONT_CREATE_GVSV
    PERL_IMPLICIT_CONTEXT
    PERL_MALLOC_WRAP
    PERL_OP_PARENT
    PERL_PRESERVE_IVUV
    PERL_TRACK_MEMPOOL
    PERL_USE_DEVEL
    USE_64_BIT_ALL
    USE_64_BIT_INT
    USE_ITHREADS
    USE_LARGE_FILES
    USE_LOCALE
    USE_LOCALE_COLLATE
    USE_LOCALE_CTYPE
    USE_LOCALE_NUMERIC
    USE_LOCALE_TIME
    USE_LONG_DOUBLE
    USE_PERLIO
    USE_PERL_ATOF
    USE_REENTRANT_API
  Built under linux
  Compiled at Mar 18 2017 11:59:50
  %ENV:
    PERL5LIB="/tmp/loop_over_bdir-20461-HWSv2Y/WebService-NFSN-1.03-0/blib/arch:/tmp/loop_over_bdir-20461-HWSv2Y/WebService-NFSN-1.03-0/blib/lib:/tmp/loop_over_bdir-20461-HWSv2Y/FusionInventory-Agent-2.3.18-0/blib/arch:/tmp/loop_over_bdir-20461-HWSv2Y/FusionInventory-Agent-2.3.18-0/blib/lib:/tmp/loop_over_bdir-20461-HWSv2Y/FusionInventory-Agent-2.3.19-0/blib/arch:/tmp/loop_over_bdir-20461-HWSv2Y/FusionInventory-Agent-2.3.19-0/blib/lib:/tmp/loop_over_bdir-20461-HWSv2Y/libintl-perl-1.26-0/blib/arch:/tmp/loop_over_bdir-20461-HWSv2Y/libintl-perl-1.26-0/blib/lib:/tmp/loop_over_bdir-20461-HWSv2Y/HTML-Tree-5.03-0/blib/arch:/tmp/loop_over_bdir-20461-HWSv2Y/HTML-Tree-5.03-0/blib/lib:/tmp/loop_over_bdir-20461-HWSv2Y/Mouse-v2.4.9-0/blib/arch:/tmp/loop_over_bdir-20461-HWSv2Y/Mouse-v2.4.9-0/blib/lib:/tmp/loop_over_bdir-20461-HWSv2Y/Compiler-Lexer-0.22-0/blib/arch:/tmp/loop_over_bdir-20461-HWSv2Y/Compiler-Lexer-0.22-0/blib/lib:/tmp/loop_over_bdir-20461-HWSv2Y/Clownfish-0.6.1-0/blib/arch:/tmp/loop_over_bdir-20461-HWSv2Y/Clownfish-0.6.1-0/blib/lib"
    PERL5OPT=""
    PERL5_CPANPLUS_IS_RUNNING="21221"
    PERL5_CPAN_IS_RUNNING="21221"
    PERL_CANARY_STABILITY_NOPROMPT="1"
    PERL_MM_USE_DEFAULT="1"
    PERL_USE_UNSAFE_INC="1"
  @INC:
    /tmp/loop_over_bdir-20461-HWSv2Y/WebService-NFSN-1.03-0/blib/arch
    /tmp/loop_over_bdir-20461-HWSv2Y/WebService-NFSN-1.03-0/blib/lib
    /tmp/loop_over_bdir-20461-HWSv2Y/FusionInventory-Agent-2.3.18-0/blib/arch
    /tmp/loop_over_bdir-20461-HWSv2Y/FusionInventory-Agent-2.3.18-0/blib/lib
    /tmp/loop_over_bdir-20461-HWSv2Y/FusionInventory-Agent-2.3.19-0/blib/arch
    /tmp/loop_over_bdir-20461-HWSv2Y/FusionInventory-Agent-2.3.19-0/blib/lib
    /tmp/loop_over_bdir-20461-HWSv2Y/libintl-perl-1.26-0/blib/arch
    /tmp/loop_over_bdir-20461-HWSv2Y/libintl-perl-1.26-0/blib/lib
    /tmp/loop_over_bdir-20461-HWSv2Y/HTML-Tree-5.03-0/blib/arch
    /tmp/loop_over_bdir-20461-HWSv2Y/HTML-Tree-5.03-0/blib/lib
    /tmp/loop_over_bdir-20461-HWSv2Y/Mouse-v2.4.9-0/blib/arch
    /tmp/loop_over_bdir-20461-HWSv2Y/Mouse-v2.4.9-0/blib/lib
    /tmp/loop_over_bdir-20461-HWSv2Y/Compiler-Lexer-0.22-0/blib/arch
    /tmp/loop_over_bdir-20461-HWSv2Y/Compiler-Lexer-0.22-0/blib/lib
    /tmp/loop_over_bdir-20461-HWSv2Y/Clownfish-0.6.1-0/blib/arch
    /tmp/loop_over_bdir-20461-HWSv2Y/Clownfish-0.6.1-0/blib/lib
    /home/sand/src/perl/repoperls/installed-perls/host/k93msid/v5.25.10-84-g6aff4bf3cd/ac75/lib/site_perl/5.25.11/x86_64-linux-thread-multi-ld
    /home/sand/src/perl/repoperls/installed-perls/host/k93msid/v5.25.10-84-g6aff4bf3cd/ac75/lib/site_perl/5.25.11
    /home/sand/src/perl/repoperls/installed-perls/host/k93msid/v5.25.10-84-g6aff4bf3cd/ac75/lib/5.25.11/x86_64-linux-thread-multi-ld
    /home/sand/src/perl/repoperls/installed-perls/host/k93msid/v5.25.10-84-g6aff4bf3cd/ac75/lib/5.25.11
    .