Set-Object v1.42 Perl 5 v5.20.2 x86_64-linux-thread-multi

Status
Pass
From
Andreas J. König (ANDK)
Dist
Set-Object v1.42
Platform
Perl 5 v5.20.2 x86_64-linux-thread-multi
Date
2024-03-19 16:16:10
ID
ff809f62-e60b-11ee-bdfb-596e8b51e742
This distribution has been tested as part of the CPAN Testers
project, supporting the Perl programming language.  See
http://wiki.cpantesters.org/ for more information or email
questions to cpan-testers-discuss@perl.org


--
Dear Reini Urban,

This is a computer-generated report for Set-Object-1.42
on perl 5.20.2, created by CPAN-Reporter-1.2019.

Thank you for uploading your work to CPAN.  Congratulations!
All tests were successful.

Sections of this report:

    * Tester comments
    * Program output
    * Prerequisites
    * Environment and other context

------------------------------
TESTER COMMENTS
------------------------------

Additional comments from tester:

this report is from an automated smoke testing program
and was not reviewed by a human for accuracy

------------------------------
PROGRAM OUTPUT
------------------------------

Output from '/usr/bin/make test':

"/home/sand/src/perl/repoperls/installed-perls/host/k93msid/v5.20.2/29fb/bin/perl" -MExtUtils::Command::MM -e 'cp_nonempty' -- Object.bs blib/arch/auto/Set/Object/Object.bs 644
PERL_DL_NONLAZY=1 "/home/sand/src/perl/repoperls/installed-perls/host/k93msid/v5.20.2/29fb/bin/perl" "-MExtUtils::Command::MM" "-MTest::Harness" "-e" "undef *Test::Harness::Switches; test_harness(0, 'blib/lib', 'blib/arch')" t/ingy/arrayref.t t/misc/kwalitee.t t/misc/leaks.t t/misc/leaktrace.t t/misc/manifest.t t/misc/meta.t t/misc/more_leaks.t t/misc/perl_minimum_version.t t/misc/pod.t t/misc/pod_coverage.t t/misc/segfault.t t/misc/threads.t t/misc/undef.t t/object/abuse.t t/object/clear.t t/object/difference.t t/object/equal.t t/object/flags.t t/object/includes.t t/object/insert.t t/object/intersection.t t/object/magic.t t/object/members.t t/object/properties.t t/object/refcount.t t/object/remove.t t/object/set_subclass.t t/object/storable.t t/object/subsuper.t t/object/symmetric_difference.t t/object/union.t t/object/weakref.t t/scalar/basic.t t/scalar/basic_overload.t t/scalar/boolean.t t/scalar/clear.t t/scalar/compare.t t/scalar/custom_display.t t/scalar/difference.t t/scalar/each.t t/scalar/has.t t/scalar/intersection.t t/scalar/member.t t/scalar/misc.t t/scalar/rt131354.t t/scalar/set_set.t t/scalar/storable.t t/scalar/symmdiff.t t/scalar/union.t t/scalar/unique.t
t/ingy/arrayref.t ................ ok
t/misc/kwalitee.t ................ skipped: This test is only run for the module author
t/misc/leaks.t ................... ok
t/misc/leaktrace.t ............... ok
t/misc/manifest.t ................ skipped: Author tests not required for installation
t/misc/meta.t .................... skipped: This test is only run for the module author
t/misc/more_leaks.t .............. ok
t/misc/perl_minimum_version.t .... skipped: Author tests not required for installation
t/misc/pod.t ..................... ok
t/misc/pod_coverage.t ............ ok
t/misc/segfault.t ................ ok
Attempt to free nonexistent shared string '3', Perl interpreter: 0x5622bb05f210 at t/misc/threads.t line 56.
Attempt to free nonexistent shared string '4', Perl interpreter: 0x5622bb05f210 at t/misc/threads.t line 56.
Attempt to free nonexistent shared string '5', Perl interpreter: 0x5622bb05f210 at t/misc/threads.t line 56.
Attempt to free nonexistent shared string '6', Perl interpreter: 0x5622bb05f210 at t/misc/threads.t line 56.
Attempt to free nonexistent shared string '7', Perl interpreter: 0x5622bb05f210 at t/misc/threads.t line 56.
Attempt to free nonexistent shared string '8', Perl interpreter: 0x5622bb05f210 at t/misc/threads.t line 56.
Attempt to free nonexistent shared string '9', Perl interpreter: 0x5622bb05f210 at t/misc/threads.t line 56.
Unbalanced string table refcount: (1) for "3" during global destruction.
Unbalanced string table refcount: (1) for "9" during global destruction.
Unbalanced string table refcount: (1) for "7" during global destruction.
Unbalanced string table refcount: (1) for "8" during global destruction.
Unbalanced string table refcount: (1) for "6" during global destruction.
Unbalanced string table refcount: (1) for "5" during global destruction.
Unbalanced string table refcount: (1) for "4" during global destruction.
t/misc/threads.t ................. ok
t/misc/undef.t ................... ok
t/object/abuse.t ................. ok
t/object/clear.t ................. ok
t/object/difference.t ............ ok
t/object/equal.t ................. ok
t/object/flags.t ................. ok
t/object/includes.t .............. ok
t/object/insert.t ................ ok
t/object/intersection.t .......... ok
t/object/magic.t ................. ok
t/object/members.t ............... ok
t/object/properties.t ............ ok
t/object/refcount.t .............. ok
t/object/remove.t ................ ok
t/object/set_subclass.t .......... ok
t/object/storable.t .............. ok
t/object/subsuper.t .............. ok
t/object/symmetric_difference.t .. ok
t/object/union.t ................. ok
t/object/weakref.t ............... ok
t/scalar/basic.t ................. ok
t/scalar/basic_overload.t ........ ok
t/scalar/boolean.t ............... ok
t/scalar/clear.t ................. ok
t/scalar/compare.t ............... ok
t/scalar/custom_display.t ........ ok
t/scalar/difference.t ............ ok
t/scalar/each.t .................. skipped: TO-DO
t/scalar/has.t ................... ok
t/scalar/intersection.t .......... ok
t/scalar/member.t ................ ok
t/scalar/misc.t .................. ok
t/scalar/rt131354.t .............. ok
t/scalar/set_set.t ............... ok
t/scalar/storable.t .............. ok
t/scalar/symmdiff.t .............. ok
t/scalar/union.t ................. ok
t/scalar/unique.t ................ ok
All tests successful.
Files=50, Tests=463,  8 wallclock secs ( 0.13 usr  0.09 sys +  2.74 cusr  0.61 csys =  3.57 CPU)
Result: PASS

------------------------------
PREREQUISITES
------------------------------

Prerequisite modules loaded:

requires:

    Module              Need Have    
    ------------------- ---- --------
    Scalar::Util        0    1.63    
    Test::More          0    1.302198

build_requires:

    Module              Need Have    
    ------------------- ---- --------
    ExtUtils::MakeMaker 0    7.70    

configure_requires:

    Module              Need Have    
    ------------------- ---- --------
    ExtUtils::MakeMaker 0    7.70    


------------------------------
ENVIRONMENT AND OTHER CONTEXT
------------------------------

Environment variables:

    AUTOMATED_TESTING = 1
    LANG = en_US.UTF-8
    LANGUAGE = en_US:en
    PATH = /home/sand/bin:/usr/local/bin:/usr/bin:/bin:/usr/games:/usr/local/perl/bin:/usr/X11/bin:/sbin:/usr/sbin
    PERL5LIB = 
    PERL5OPT = 
    PERL5_CPANPLUS_IS_RUNNING = 3815936
    PERL5_CPAN_IS_RUNNING = 3815936
    PERL_CANARY_STABILITY_NOPROMPT = 1
    PERL_MM_USE_DEFAULT = 1
    PERL_USE_UNSAFE_INC = 1
    SHELL = /usr/bin/zsh
    TERM = screen

Perl special variables (and OS-specific diagnostics, for MSWin32):

    $^X = /home/sand/src/perl/repoperls/installed-perls/host/k93msid/v5.20.2/29fb/bin/perl
    $UID/$EUID = 1005 / 1005
    $GID = 1005 1005
    $EGID = 1005 1005

Perl module toolchain versions installed:

    Module              Have    
    ------------------- --------
    CPAN                2.36    
    CPAN::Meta          2.150010
    Cwd                 3.75    
    ExtUtils::CBuilder  0.280236
    ExtUtils::Command   7.70    
    ExtUtils::Install   2.06    
    ExtUtils::MakeMaker 7.70    
    ExtUtils::Manifest  1.70    
    ExtUtils::ParseXS   3.51    
    File::Spec          3.75    
    JSON                4.10    
    JSON::PP            4.16    
    Module::Build       0.4234  
    Module::Signature   0.88    
    Parse::CPAN::Meta   2.150010
    Test2               1.302198
    Test::Harness       3.48    
    Test::More          1.302198
    YAML                1.31    
    YAML::Syck          1.34    
    version             0.9930  


--

Summary of my perl5 (revision 5 version 20 subversion 2) configuration:
  Derived from: c05ce579b6dae0f955ff8922469d49f95f4bf6fd
  Platform:
    osname=linux, osvers=6.5.0-5-amd64, archname=x86_64-linux-thread-multi
    uname='linux k93msid 6.5.0-5-amd64 #1 smp preempt_dynamic debian 6.5.13-1 (2023-11-29) x86_64 gnulinux '
    config_args='-Dprefix=/home/sand/src/perl/repoperls/installed-perls/host/k93msid/v5.20.2/29fb -Dmyhostname=k93msid -Dinstallusrbinperl=n -Uversiononly -Dusedevel -des -Ui_db -Dlibswanted=cl pthread socket inet nsl gdbm dbm malloc dl ld sun m crypt sec util c cposix posix ucb BSD gdbm_compat -Duseithreads -Uuselongdouble -DEBUGGING=both'
    hint=recommended, useposix=true, d_sigaction=define
    useithreads=define, usemultiplicity=define
    use64bitint=define, use64bitall=define, uselongdouble=undef
    usemymalloc=n, bincompat5005=undef
  Compiler:
    cc='cc', ccflags ='-D_REENTRANT -D_GNU_SOURCE -fwrapv -DDEBUGGING -fno-strict-aliasing -pipe -fstack-protector -I/usr/local/include -D_LARGEFILE_SOURCE -D_FILE_OFFSET_BITS=64',
    optimize='-O2 -g',
    cppflags='-D_REENTRANT -D_GNU_SOURCE -fwrapv -DDEBUGGING -fno-strict-aliasing -pipe -fstack-protector -I/usr/local/include'
    ccversion='', gccversion='13.2.0', gccosandvers=''
    intsize=4, longsize=8, ptrsize=8, doublesize=8, byteorder=12345678
    d_longlong=define, longlongsize=8, d_longdbl=define, longdblsize=16
    ivtype='long', ivsize=8, nvtype='double', nvsize=8, Off_t='off_t', lseeksize=8
    alignbytes=8, prototype=define
  Linker and Libraries:
    ld='cc', ldflags =' -fstack-protector -L/usr/local/lib'
    libpth=/usr/local/lib /usr/include/x86_64-linux-gnu /usr/lib /lib/x86_64-linux-gnu /lib/../lib /usr/lib/x86_64-linux-gnu /usr/lib/../lib /lib /lib64 /usr/lib64
    libs=-lpthread -lnsl -ldl -lm -lcrypt -lutil -lc
    perllibs=-lpthread -lnsl -ldl -lm -lcrypt -lutil -lc
    libc=/lib/x86_64-linux-gnu/libc.so.6, so=so, useshrplib=false, libperl=libperl.a
    gnulibc_version='2.37'
  Dynamic Linking:
    dlsrc=dl_dlopen.xs, dlext=so, d_dlsymun=undef, ccdlflags='-Wl,-E'
    cccdlflags='-fPIC', lddlflags='-shared -O2 -g -L/usr/local/lib -fstack-protector'


Characteristics of this binary (from libperl): 
  Compile-time options: DEBUGGING HAS_TIMES MULTIPLICITY PERLIO_LAYERS
                        PERL_DONT_CREATE_GVSV
                        PERL_HASH_FUNC_ONE_AT_A_TIME_HARD
                        PERL_IMPLICIT_CONTEXT PERL_MALLOC_WRAP
                        PERL_NEW_COPY_ON_WRITE PERL_PRESERVE_IVUV
                        PERL_TRACK_MEMPOOL PERL_USE_DEVEL USE_64_BIT_ALL
                        USE_64_BIT_INT USE_ITHREADS USE_LARGE_FILES
                        USE_LOCALE USE_LOCALE_COLLATE USE_LOCALE_CTYPE
                        USE_LOCALE_NUMERIC USE_PERLIO USE_PERL_ATOF
                        USE_REENTRANT_API
  Locally applied patches:
	uncommitted-changes
  Built under linux
  Compiled at Jan 21 2024 11:08:55
  %ENV:
    PERL5LIB=""
    PERL5OPT=""
    PERL5_CPANPLUS_IS_RUNNING="3815936"
    PERL5_CPAN_IS_RUNNING="3815936"
    PERL_CANARY_STABILITY_NOPROMPT="1"
    PERL_MM_USE_DEFAULT="1"
    PERL_USE_UNSAFE_INC="1"
  @INC:
    /home/sand/src/perl/repoperls/installed-perls/host/k93msid/v5.20.2/29fb/lib/site_perl/5.20.2/x86_64-linux-thread-multi
    /home/sand/src/perl/repoperls/installed-perls/host/k93msid/v5.20.2/29fb/lib/site_perl/5.20.2
    /home/sand/src/perl/repoperls/installed-perls/host/k93msid/v5.20.2/29fb/lib/5.20.2/x86_64-linux-thread-multi
    /home/sand/src/perl/repoperls/installed-perls/host/k93msid/v5.20.2/29fb/lib/5.20.2
    .