Alien-Build-Plugin-Fetch-Rewrite v0.02 Perl 5 v5.27.3 amd64-freebsd
- Status
- Pass
- From
- Slaven Rezić (SREZIC)
- Dist
-
Alien-Build-Plugin-Fetch-Rewrite v0.02
- Platform
- Perl 5 v5.27.3 amd64-freebsd
- Date
- 2017-08-22 04:47:27
- ID
- ff73f32a-86f4-11e7-b749-a5cff4e0912c
This distribution has been tested as part of the CPAN Testers
project, supporting the Perl programming language. See
http://wiki.cpantesters.org/ for more information or email
questions to cpan-testers-discuss@perl.org
--
Dear Graham Ollis,
This is a computer-generated report for Alien-Build-Plugin-Fetch-Rewrite-0.02
on perl 5.27.3, created by CPAN-Reporter-1.2018.
Thank you for uploading your work to CPAN. Congratulations!
All tests were successful.
Sections of this report:
* Tester comments
* Program output
* Prerequisites
* Environment and other context
------------------------------
TESTER COMMENTS
------------------------------
Additional comments from tester:
none provided
------------------------------
PROGRAM OUTPUT
------------------------------
Output from '/usr/bin/make test':
PERL_DL_NONLAZY=1 "/usr/perl5.27.3p/bin/perl5.27.3" "-MExtUtils::Command::MM" "-MTest::Harness" "-e" "undef *Test::Harness::Switches; test_harness(0, 'blib/lib', 'blib/arch')" t/*.t
#
#
#
# HARNESS_ACTIVE=1
# HARNESS_VERSION=3.39
# LC_ALL=de_DE.ISO8859-1
# PERL5LIB=/home/cpansand/.cpan/build/2017082206/Alien-Build-Plugin-Fetch-Rewrite-0.02-0/blib/lib:/home/cpansand/.cpan/build/2017082206/Alien-Build-Plugin-Fetch-Rewrite-0.02-0/blib/arch:
# PERL5OPT=
# PERL5_CPANPLUS_IS_RUNNING=11305
# PERL5_CPAN_IS_RUNNING=11305
# PERL5_CPAN_IS_RUNNING_IN_RECURSION=18690,11305
# PERLDOC=-MPod::Perldoc::ToTextOverstrike
# PERL_BATCH=yes
# PERL_CANARY_STABILITY_NOPROMPT=1
# PERL_CPAN_REPORTER_CONFIG=/var/tmp/cpansmoker-1023/2017082200/cpanreporter_001_config.ini
# PERL_DL_NONLAZY=1
# PERL_EXTUTILS_AUTOINSTALL=--defaultdeps
# PERL_USE_UNSAFE_INC=1
# SHELL=/usr/local/bin/zsh
#
#
#
# PERL5LIB path
# /home/cpansand/.cpan/build/2017082206/Alien-Build-Plugin-Fetch-Rewrite-0.02-0/blib/lib
# /home/cpansand/.cpan/build/2017082206/Alien-Build-Plugin-Fetch-Rewrite-0.02-0/blib/arch
#
#
#
# perl 5.027003
# Alien::Build 1.00
# Alien::Build::Plugin::Decode::HTML 1.00
# Alien::Build::Plugin::Fetch::LWP 1.00
# Capture::Tiny 0.46
# ExtUtils::MakeMaker 7.3
# HTML::LinkExtor 3.69
# LWP::Protocol::https 6.07
# LWP::UserAgent 6.26
# Path::Tiny 0.104
# Test2::Mock 0.000072
# Test2::V0 0.000072
# Test::Alien::Build 1.00
# URI 1.72
# URI::Escape 3.31
#
#
#
t/00_diag.t ........................... ok
t/01_use.t ............................ ok
t/alien_build_plugin_fetch_rewrite.t .. ok
All tests successful.
Files=3, Tests=5, 1 wallclock secs ( 0.00 usr 0.02 sys + 0.09 cusr 0.45 csys = 0.55 CPU)
Result: PASS
------------------------------
PREREQUISITES
------------------------------
Prerequisite modules loaded:
requires:
Module Need Have
---------------------------------- -------- --------
Alien::Build 0.62 1.00
Alien::Build::Plugin::Decode::HTML 0 1.00
Alien::Build::Plugin::Fetch::LWP 0 1.00
HTML::LinkExtor 0 3.69
LWP::Protocol::https 0 6.07
LWP::UserAgent 0 6.26
perl 5.008001 5.027003
URI 0 1.72
URI::Escape 0 3.31
build_requires:
Module Need Have
---------------------------------- -------- --------
Capture::Tiny 0 0.46
ExtUtils::MakeMaker 0 7.30
Path::Tiny 0 0.104
Test2::Mock 0.000060 0.000072
Test2::V0 0.000060 0.000072
Test::Alien::Build 0 1.00
configure_requires:
Module Need Have
---------------------------------- -------- --------
ExtUtils::MakeMaker 0 7.30
perl 5.008001 5.027003
------------------------------
ENVIRONMENT AND OTHER CONTEXT
------------------------------
Environment variables:
LC_ALL = de_DE.ISO8859-1
PATH = /usr/local/bin:/usr/bin:/bin:/usr/local/sbin:/usr/sbin:/sbin:/home/cpansand/bin/freebsd10.3:/home/cpansand/bin/sh:/home/cpansand/bin:/usr/games:/home/cpansand/devel:/home/eserte/src/srezic-misc/scripts
PERL5LIB =
PERL5OPT =
PERL5_CPANPLUS_IS_RUNNING = 11305
PERL5_CPAN_IS_RUNNING = 11305
PERL5_CPAN_IS_RUNNING_IN_RECURSION = 18690,11305
PERLDOC = -MPod::Perldoc::ToTextOverstrike
PERL_BATCH = yes
PERL_CANARY_STABILITY_NOPROMPT = 1
PERL_CPAN_REPORTER_CONFIG = /var/tmp/cpansmoker-1023/2017082200/cpanreporter_001_config.ini
PERL_EXTUTILS_AUTOINSTALL = --defaultdeps
PERL_USE_UNSAFE_INC = 1
SHELL = /usr/local/bin/zsh
TERM = screen
TMPDIR = /var/tmp/cpansmoker-1023/2017082200
Perl special variables (and OS-specific diagnostics, for MSWin32):
$^X = /usr/perl5.27.3p/bin/perl5.27.3
$UID/$EUID = 1023 / 1023
$GID = 1023 1023
$EGID = 1023 1023
Perl module toolchain versions installed:
Module Have
------------------- --------
CPAN 2.18
CPAN::Meta 2.150010
Cwd 3.68
ExtUtils::CBuilder 0.280228
ExtUtils::Command 7.30
ExtUtils::Install 2.14
ExtUtils::MakeMaker 7.30
ExtUtils::Manifest 1.70
ExtUtils::ParseXS 3.35
File::Spec 3.68
JSON 2.94
JSON::PP 2.94
Module::Build 0.4224
Module::Signature n/a
Parse::CPAN::Meta 2.150010
Test::Harness 3.39
Test::More 1.302086
YAML 1.23
YAML::Syck 1.30
version 0.9918
--
Summary of my perl5 (revision 5 version 27 subversion 3) configuration:
Platform:
osname=freebsd
osvers=10.3-release-p11
archname=amd64-freebsd
uname='freebsd cvrsnica-freebsd-101.herceg.de 10.3-release-p11 freebsd 10.3-release-p11 #0: mon oct 24 18:49:24 utc 2016 root@amd64-builder.daemonology.net:usrobjusrsrcsysgeneric amd64 '
config_args='-ds -e -Dprefix=/usr/perl5.27.3p -Dusedevel -Dusemallocwrap=no -Dcf_email=srezic@cpan.org -Doptimize=-O2 -pipe'
hint=recommended
useposix=true
d_sigaction=define
useithreads=undef
usemultiplicity=undef
use64bitint=define
use64bitall=define
uselongdouble=undef
usemymalloc=n
default_inc_excludes_dot=define
bincompat5005=undef
Compiler:
cc='cc'
ccflags ='-DHAS_FPSETMASK -DHAS_FLOATINGPOINT_H -fno-strict-aliasing -pipe -fstack-protector -I/usr/local/include -D_FORTIFY_SOURCE=2'
optimize='-O2 -pipe'
cppflags='-DHAS_FPSETMASK -DHAS_FLOATINGPOINT_H -fno-strict-aliasing -pipe -fstack-protector -I/usr/local/include'
ccversion=''
gccversion='4.2.1 Compatible FreeBSD Clang 3.4.1 (tags/RELEASE_34/dot1-final 208032)'
gccosandvers=''
intsize=4
longsize=8
ptrsize=8
doublesize=8
byteorder=12345678
doublekind=3
d_longlong=define
longlongsize=8
d_longdbl=define
longdblsize=16
longdblkind=3
ivtype='long'
ivsize=8
nvtype='double'
nvsize=8
Off_t='off_t'
lseeksize=8
alignbytes=8
prototype=define
Linker and Libraries:
ld='cc'
ldflags ='-pthread -Wl,-E -fstack-protector -L/usr/local/lib'
libpth=/usr/lib /usr/local/lib /usr/include/clang/3.4.1 /usr/lib
libs=-lpthread -lgdbm -lm -lcrypt -lutil -lc -lelf
perllibs=-lpthread -lm -lcrypt -lutil -lc -lelf
libc=
so=so
useshrplib=false
libperl=libperl.a
gnulibc_version=''
Dynamic Linking:
dlsrc=dl_dlopen.xs
dlext=so
d_dlsymun=undef
ccdlflags=' '
cccdlflags='-DPIC -fPIC'
lddlflags='-shared -L/usr/local/lib -fstack-protector'
Characteristics of this binary (from libperl):
Compile-time options:
HAS_TIMES
PERLIO_LAYERS
PERL_COPY_ON_WRITE
PERL_DONT_CREATE_GVSV
PERL_OP_PARENT
PERL_PRESERVE_IVUV
PERL_USE_DEVEL
USE_64_BIT_ALL
USE_64_BIT_INT
USE_LARGE_FILES
USE_LOCALE
USE_LOCALE_COLLATE
USE_LOCALE_CTYPE
USE_LOCALE_NUMERIC
USE_LOCALE_TIME
USE_PERLIO
USE_PERL_ATOF
Built under freebsd
Compiled at Aug 21 2017 23:30:22
%ENV:
PERL5LIB=""
PERL5OPT=""
PERL5_CPANPLUS_IS_RUNNING="11305"
PERL5_CPAN_IS_RUNNING="11305"
PERL5_CPAN_IS_RUNNING_IN_RECURSION="18690,11305"
PERLDOC="-MPod::Perldoc::ToTextOverstrike"
PERL_BATCH="yes"
PERL_CANARY_STABILITY_NOPROMPT="1"
PERL_CPAN_REPORTER_CONFIG="/var/tmp/cpansmoker-1023/2017082200/cpanreporter_001_config.ini"
PERL_EXTUTILS_AUTOINSTALL="--defaultdeps"
PERL_USE_UNSAFE_INC="1"
@INC:
/usr/perl5.27.3p/lib/site_perl/5.27.3/amd64-freebsd
/usr/perl5.27.3p/lib/site_perl/5.27.3
/usr/perl5.27.3p/lib/5.27.3/amd64-freebsd
/usr/perl5.27.3p/lib/5.27.3
.