HTML-Template v2.97 Perl 5 v5.39.8 amd64-netbsd

Status
Pass
From
Carlos Guevara
Dist
HTML-Template v2.97
Platform
Perl 5 v5.39.8 amd64-netbsd
Date
2024-02-09 14:03:27
ID
ff71e034-c753-11ee-9ece-d8f84deeef03
This distribution has been tested as part of the CPAN Testers
project, supporting the Perl programming language.  See
http://wiki.cpantesters.org/ for more information or email
questions to cpan-testers-discuss@perl.org


--
Dear Sam Tregar,

This is a computer-generated report for HTML-Template-2.97
on perl 5.39.8, created by CPAN-Reporter-1.2019.

Thank you for uploading your work to CPAN.  Congratulations!
All tests were successful.

Sections of this report:

    * Tester comments
    * Program output
    * Prerequisites
    * Environment and other context

------------------------------
TESTER COMMENTS
------------------------------

Additional comments from tester:

this report is from an automated smoke testing program
and was not reviewed by a human for accuracy

------------------------------
PROGRAM OUTPUT
------------------------------

Output from '/usr/bin/make test':

PERL_DL_NONLAZY=1 "/home/cpan/bin/perl/bin/perl5.39.8" "-MExtUtils::Command::MM" "-MTest::Harness" "-e" "undef *Test::Harness::Switches; test_harness(0, 'blib/lib', 'blib/arch')" t/*.t
t/01-bad-args.t ............. ok
t/01-coderefs.t ............. ok
t/02-parse.t ................ ok
t/02-random.t ............... ok
t/03-associate.t ............ ok
t/03-else_else_bug.t ........ ok
t/04-default-escape.t ....... ok
t/04-default_with_escape.t .. ok
t/04-escape.t ............... ok
t/04-no_taintmode.t ......... ok
t/04-type-source.t .......... ok
t/05-blind-cache.t .......... ok
t/05-force_untaint.t ........ ok
t/05-nested_global.t ........ ok
t/06-file-cache-dir.t ....... ok
t/07-double-file-cache.t .... ok
t/08-cache-debug.t .......... ok
t/09-caching-precluded.t .... ok
t/10-param.t ................ ok
t/11-non-file-templates.t ... ok
t/12-open_mode.t ............ ok
t/12-query.t ................ ok
t/12-utf8.t ................. ok
t/13-loop-boolean.t ......... ok
t/13-loop-context.t ......... ok
t/13-loop-repeated.t ........ ok
t/14-includes.t ............. ok
t/15-comment.t .............. skipped: not implemented yet
t/16-config.t ............... ok
t/99-old-test-pl.t .......... ok
t/author-pod-syntax.t ....... skipped: these tests are for testing by the author
All tests successful.
Files=31, Tests=608,  3 wallclock secs ( 0.08 usr  0.06 sys +  1.83 cusr  0.53 csys =  2.50 CPU)
Result: PASS

------------------------------
PREREQUISITES
------------------------------

Prerequisite modules loaded:

requires:

    Module              Need Have    
    ------------------- ---- --------
    Carp                0    1.54    
    CGI                 0    4.61    
    Digest::MD5         0    2.58_01 
    File::Spec          0.82 3.90    
    Scalar::Util        0    1.63    

build_requires:

    Module              Need Have    
    ------------------- ---- --------
    ExtUtils::MakeMaker 0    7.70    
    File::Temp          0    0.2311  
    Test::More          0    1.302198
    Test::Pod           0    1.52    

configure_requires:

    Module              Need Have    
    ------------------- ---- --------
    ExtUtils::MakeMaker 0    7.70    


------------------------------
ENVIRONMENT AND OTHER CONTEXT
------------------------------

Environment variables:

    AUTOMATED_TESTING = 1
    DATE_MANIP_TEST_DM5 = 1
    LC_ALL = C
    NONINTERACTIVE_TESTING = 1
    NO_NETWORK_TESTING = 1
    PATH = /home/cpan/bin/perl/bin:/home/cpan/bin:/home/cpan/bin:/bin:/sbin:/usr/bin:/usr/sbin:/usr/X11R7/bin:/usr/pkg/bin:/usr/pkg/sbin:/usr/games:/usr/local/bin:/usr/local/sbin
    PERL5LIB = 
    PERL5OPT = 
    PERL5_CPANPLUS_IS_RUNNING = 21163
    PERL5_CPAN_IS_RUNNING = 21163
    PERL_MM_USE_DEFAULT = 1
    PERL_USE_UNSAFE_INC = 1
    SHELL = /usr/pkg/bin/bash
    TERM = screen
    TMPDIR = /home/cpan/tmp

Perl special variables (and OS-specific diagnostics, for MSWin32):

    $^X = /home/cpan/bin/perl/bin/perl5.39.8
    $UID/$EUID = 1001 / 1001
    $GID = 100 100
    $EGID = 100 100

Perl module toolchain versions installed:

    Module              Have    
    ------------------- --------
    CPAN                2.36    
    CPAN::Meta          2.150010
    Cwd                 3.90    
    ExtUtils::CBuilder  0.280240
    ExtUtils::Command   7.70    
    ExtUtils::Install   2.22    
    ExtUtils::MakeMaker 7.70    
    ExtUtils::Manifest  1.75    
    ExtUtils::ParseXS   3.51    
    File::Spec          3.90    
    JSON                4.10    
    JSON::PP            4.16    
    Module::Build       0.4234  
    Module::Signature   n/a     
    Parse::CPAN::Meta   2.150010
    Test2               1.302198
    Test::Harness       3.48    
    Test::More          1.302198
    YAML                1.31    
    YAML::Syck          1.34    
    version             0.9930  


--

Summary of my perl5 (revision 5 version 39 subversion 8) configuration:
  Commit id: 495831c4464a208feae5703c819caf0ead0faed0
  Platform:
    osname=netbsd
    osvers=9.3
    archname=amd64-netbsd
    uname='netbsd cjg-netbsd9 9.3 netbsd 9.3 (generic) #0: thu aug 4 15:30:37 utc 2022 mkrepro@mkrepro.netbsd.org:usrsrcsysarchamd64compilegeneric amd64 '
    config_args='-des -Dprefix=/home/cpan/bin/perl -Dscriptdir=/home/cpan/bin/perl/bin -Dusedevel -Duse64bitall'
    hint=recommended
    useposix=true
    d_sigaction=define
    useithreads=undef
    usemultiplicity=undef
    use64bitint=define
    use64bitall=define
    uselongdouble=undef
    usemymalloc=n
    default_inc_excludes_dot=define
  Compiler:
    cc='cc'
    ccflags ='-fwrapv -fno-strict-aliasing -pipe -fstack-protector-strong -I/usr/pkg/include -D_FORTIFY_SOURCE=2'
    optimize='-O'
    cppflags='-fwrapv -fno-strict-aliasing -pipe -fstack-protector-strong -I/usr/pkg/include'
    ccversion=''
    gccversion='7.5.0'
    gccosandvers=''
    intsize=4
    longsize=8
    ptrsize=8
    doublesize=8
    byteorder=12345678
    doublekind=3
    d_longlong=define
    longlongsize=8
    d_longdbl=define
    longdblsize=16
    longdblkind=3
    ivtype='long'
    ivsize=8
    nvtype='double'
    nvsize=8
    Off_t='off_t'
    lseeksize=8
    alignbytes=8
    prototype=define
  Linker and Libraries:
    ld='cc'
    ldflags =' -Wl,-rpath,/usr/pkg/lib -Wl,-rpath,/usr/local/lib -fstack-protector-strong -L/usr/pkg/lib'
    libpth=/usr/lib /usr/pkg/lib /lib
    libs=-lpthread -lm -lcrypt -lutil -lc -lposix
    perllibs=-lpthread -lm -lcrypt -lutil -lc -lposix
    libc=/lib/libc.so
    so=so
    useshrplib=false
    libperl=libperl.a
    gnulibc_version=''
  Dynamic Linking:
    dlsrc=dl_dlopen.xs
    dlext=so
    d_dlsymun=undef
    ccdlflags='-Wl,-E '
    cccdlflags='-DPIC -fPIC '
    lddlflags='-shared  -L/usr/pkg/lib -fstack-protector-strong'


Characteristics of this binary (from libperl): 
  Compile-time options:
    HAS_LONG_DOUBLE
    HAS_STRTOLD
    HAS_TIMES
    PERLIO_LAYERS
    PERL_COPY_ON_WRITE
    PERL_DONT_CREATE_GVSV
    PERL_HASH_FUNC_SIPHASH13
    PERL_HASH_USE_SBOX32
    PERL_MALLOC_WRAP
    PERL_OP_PARENT
    PERL_PRESERVE_IVUV
    PERL_USE_DEVEL
    PERL_USE_SAFE_PUTENV
    USE_64_BIT_ALL
    USE_64_BIT_INT
    USE_LARGE_FILES
    USE_LOCALE
    USE_LOCALE_COLLATE
    USE_LOCALE_CTYPE
    USE_LOCALE_NUMERIC
    USE_LOCALE_TIME
    USE_PERLIO
    USE_PERL_ATOF
  Built under netbsd
  Compiled at Feb  9 2024 00:42:58
  %ENV:
    PERL5LIB=""
    PERL5OPT=""
    PERL5_CPANPLUS_IS_RUNNING="21163"
    PERL5_CPAN_IS_RUNNING="21163"
    PERL_MM_USE_DEFAULT="1"
    PERL_USE_UNSAFE_INC="1"
  @INC:
    /home/cpan/bin/perl/lib/site_perl/5.39.8/amd64-netbsd
    /home/cpan/bin/perl/lib/site_perl/5.39.8
    /home/cpan/bin/perl/lib/5.39.8/amd64-netbsd
    /home/cpan/bin/perl/lib/5.39.8
    .