Report for Class-MOP-1.08

Back
From: metabase:user:30977d10-2aae-11df-837a-5e0a49663a4f
Subject: PASS Class-MOP-1.08 v5.13.3 
Date: 2010-09-14T08:20:57Z

This distribution has been tested as part of the CPAN Testers
project, supporting the Perl programming language.  See
http://wiki.cpantesters.org/ for more information or email
questions to cpan-testers-discuss@perl.org


--
Dear Dave Rolsky,

This is a computer-generated report for Class-MOP-1.08
on perl 5.13.3, created by CPAN-Reporter-1.18.

Thank you for uploading your work to CPAN.  Congratulations!
All tests were successful.

Sections of this report:

    * Tester comments
    * Program output
    * Prerequisites
    * Environment and other context

------------------------------
TESTER COMMENTS
------------------------------

Additional comments from tester:

this report is from an automated smoke testing program
and was not reviewed by a human for accuracy

------------------------------
PROGRAM OUTPUT
------------------------------

Output from 'C:\bin\dev\perl\site\bin\dmake.EXE test':

C:\home\stro\perl\perl5133\bin\perl.exe "-Iinc" "-MModule::Install::ExtraTests" "-e" "Module::Install::ExtraTests::__harness('Test::Harness', 0, 'xt/author', '', '', 0, 'blib\lib', 'blib\arch')" t/*.t
t/000_load.t .............................. ok
t/001_basic.t ............................. ok
t/002_class_precedence_list.t ............. ok
t/003_methods.t ........................... ok
t/004_advanced_methods.t .................. ok
t/005_attributes.t ........................ ok
t/006_new_and_clone_metaclasses.t ......... ok
t/010_self_introspection.t ................ ok
t/011_create_class.t ...................... ok
t/012_package_variables.t ................. ok
t/013_add_attribute_alternate.t ........... ok
t/014_attribute_introspection.t ........... ok
t/015_metaclass_inheritance.t ............. ok
t/016_class_errors_and_edge_cases.t ....... ok
t/017_add_method_modifier.t ............... ok
t/018_anon_class.t ........................ ok
t/019_anon_class_keep_alive.t ............. ok
t/020_attribute.t ......................... ok
t/021_attribute_errors_and_edge_cases.t ... ok
t/022_attribute_duplication.t ............. ok
t/023_attribute_get_read_write.t .......... ok
t/024_attribute_initializer.t ............. ok
t/025_attribute_non_alpha_name.t .......... ok
t/030_method.t ............................ ok
t/031_method_modifiers.t .................. ok
t/032_universal_methods.t ................. ok
t/040_metaclass.t ......................... ok
t/041_metaclass_incompatibility.t ......... ok
t/042_metaclass_incompatibility_dyn.t ..... ok
t/043_instance_metaclass_incompat.t ....... ok
t/044_instance_metaclass_incompat_dyn.t ... ok
t/045_metaclass_loads_classes.t ........... ok
t/046_rebless_instance.t .................. ok
t/047_rebless_with_extra_params.t ......... ok
t/048_anon_class_create_init.t ............ ok
t/049_metaclass_reinitialize.t ............ ok
t/050_scala_style_mixin_composition.t ..... ok
t/060_instance.t .......................... ok
t/061_instance_inline.t ................... ok
t/062_custom_instance.t ................... ok
t/070_immutable_metaclass.t ............... ok
t/071_immutable_w_custom_metaclass.t ...... ok
t/072_immutable_w_constructors.t .......... ok
t/073_make_mutable.t ...................... ok
t/074_immutable_custom_trait.t ............ ok
t/080_meta_package.t ...................... ok
t/081_meta_package_extension.t ............ ok
t/082_get_code_info.t ..................... ok
t/083_load_class.t ........................ ok
t/085_load_class_gvstash_detect_bug.t ..... ok
t/086_rebless_instance_away.t ............. ok
t/087_subclasses.t ........................ ok
t/100_BinaryTree_test.t ................... ok
t/101_InstanceCountingClass_test.t ........ ok
t/102_InsideOutClass_test.t ............... ok
t/103_Perl6Attribute_test.t ............... ok
t/104_AttributesWithHistory_test.t ........ ok
t/105_ClassEncapsulatedAttributes_test.t .. ok
t/106_LazyClass_test.t .................... ok
t/107_C3MethodDispatchOrder_test.t ........ skipped: Test requires module 'Algorithm::C3' but it's not found
t/108_ArrayBasedStorage_test.t ............ ok
t/200_Class_C3_compatibility.t ............ ok
t/300_random_eval_bug.t ................... ok
t/301_RT_27329_fix.t ...................... ok
t/302_modify_parent_method.t .............. ok
t/303_RT_39001_fix.t ...................... ok
t/304_constant_codeinfo.t ................. ok
t/305_RT_41255.t .......................... ok
t/306_rebless_overload.t .................. ok
t/307_null_stash.t ........................ ok
t/308_insertion_order.t ................... ok
t/309_subname.t ........................... ok
t/310_inline_structor.t ................... ok
t/311_inline_and_dollar_at.t .............. ok
t/312_anon_class_leak.t ................... ok
t/313_before_after_dollar_under.t ......... ok
t/314_class_is_pristine.t ................. ok
t/315_magic.t ............................. ok
t/316_numeric_defaults.t .................. ok
t/500_deprecated.t ........................ ok
All tests successful.
Files=80, Tests=2463, 18 wallclock secs ( 0.28 usr +  0.34 sys =  0.62 CPU)
Result: PASS

------------------------------
PREREQUISITES
------------------------------

Prerequisite modules loaded:

requires:

    Module                      Need Have   
    --------------------------- ---- -------
    Carp                        0    1.16   
    Data::OptList               0    0.106  
    Devel::GlobalDestruction    0    0.02   
    ExtUtils::MakeMaker         6.42 6.56   
    File::Spec                  0    3.31_02
    List::MoreUtils             0.12 0.25_02
    MRO::Compat                 0.05 0.11   
    Package::DeprecationManager 0.04 0.04   
    Package::Stash              0    0.05   
    Scalar::Util                1.18 1.23   
    Sub::Name                   0.04 0.05   
    Task::Weaken                0    1.03   
    Test::Exception             0.27 0.29   
    Test::More                  0.88 0.96   
    Test::Requires              0.05 0.05   
    Try::Tiny                   0.02 0.06   

configure_requires:

    Module                      Need Have   
    --------------------------- ---- -------
    ExtUtils::MakeMaker         6.42 6.56   


------------------------------
ENVIRONMENT AND OTHER CONTEXT
------------------------------

Environment variables:

    ACTIVEPERL_CONFIG_SILENT = 1
    AUTOMATED_TESTING = 1
    COMSPEC = C:\WINDOWS\system32\cmd.exe
    NUMBER_OF_PROCESSORS = 2
    PATH = C:\bin\dev\python\;C:\bin\dev\svn;C:\Program Files\Common Files\Microsoft Shared\Windows Live;C:\bin\dev\perl\site\bin;C:\bin\dev\perl\bin;C:\WINDOWS\system32;C:\WINDOWS;C:\WINDOWS\System32\Wbem;C:\WINDOWS\system32\WindowsPowerShell\v1.0;C:\bin\arc;C:\bin\dev\TortoiseSVN\bin;C:\bin\dev\Mercurial;C:\bin\dev\TortoiseHg;c:\bin\sys\gnuwin32\bin;C:\bin\dev\oracle\instantclient_11_1;C:\Program Files\Common Files\Microsoft Shared\Windows Live
    PERL5LIB = 
    PERL5OPT = 
    PERL5_CPANPLUS_IS_RUNNING = 5636
    PERL5_CPAN_IS_RUNNING = 5636
    PERL5_CPAN_IS_RUNNING_IN_RECURSION = 4116,5636
    PERL_CR_SMOKER_CURRENT = Class-MOP-1.08
    PERL_EXTUTILS_AUTOINSTALL = --defaultdeps
    PERL_MM_USE_DEFAULT = 1
    PROCESSOR_IDENTIFIER = x86 Family 6 Model 15 Stepping 11, GenuineIntel
    TEMP = C:\WINDOWS\Temp

Perl special variables (and OS-specific diagnostics, for MSWin32):

    $^X = C:\home\stro\perl\perl5133\bin\perl.exe
    $UID/$EUID = 0 / 0
    $GID = 0
    $EGID = 0
    Win32::GetOSName = WinXP/.Net
    Win32::GetOSVersion = Service Pack 3, 5, 1, 2600, 2, 3, 0, 256, 1
    Win32::FsType = NTFS
    Win32::IsAdminUser = 1

Perl module toolchain versions installed:

    Module              Have   
    ------------------- -------
    CPAN                1.9402 
    Cwd                 3.31_02
    ExtUtils::CBuilder  0.27_05
    ExtUtils::Command   1.16   
    ExtUtils::Install   1.54   
    ExtUtils::MakeMaker 6.56   
    ExtUtils::Manifest  1.58   
    ExtUtils::ParseXS   2.2206 
    File::Spec          3.31_02
    Module::Build       0.36_13
    Module::Signature   n/a    
    Test::Harness       3.22   
    Test::More          0.96   
    YAML                0.72   
    YAML::Syck          1.12   
    version             0.82   


--

Summary of my perl5 (revision 5 version 13 subversion 3) configuration:
   
  Platform:
    osname=MSWin32, osvers=5.1, archname=MSWin32-x86-multi-thread
    uname=''
    config_args='undef'
    hint=recommended, useposix=true, d_sigaction=undef
    useithreads=define, usemultiplicity=define
    useperlio=define, d_sfio=undef, uselargefiles=define, usesocks=undef
    use64bitint=undef, use64bitall=undef, uselongdouble=undef
    usemymalloc=n, bincompat5005=undef
  Compiler:
    cc='gcc', ccflags =' -s -O2 -DWIN32 -DHAVE_DES_FCRYPT  -DPERL_IMPLICIT_CONTEXT -DPERL_IMPLICIT_SYS -fno-strict-aliasing -mms-bitfields -DPERL_MSVCRT_READFIX',
    optimize='-s -O2',
    cppflags='-DWIN32'
    ccversion='', gccversion='3.4.5', gccosandvers=''
    intsize=4, longsize=4, ptrsize=4, doublesize=8, byteorder=1234
    d_longlong=undef, longlongsize=8, d_longdbl=define, longdblsize=12
    ivtype='long', ivsize=4, nvtype='double', nvsize=8, Off_t='long long', lseeksize=8
    alignbytes=8, prototype=define
  Linker and Libraries:
    ld='g++', ldflags ='-s -L"c:\home\stro\perl\perl5133\lib\CORE" -L"C:\MinGW\lib"'
    libpth=C:\MinGW\lib
    libs=-lmoldname -lkernel32 -luser32 -lgdi32 -lwinspool -lcomdlg32 -ladvapi32 -lshell32 -lole32 -loleaut32 -lnetapi32 -luuid -lws2_32 -lmpr -lwinmm -lversion -lodbc32 -lodbccp32 -lcomctl32
    perllibs=-lmoldname -lkernel32 -luser32 -lgdi32 -lwinspool -lcomdlg32 -ladvapi32 -lshell32 -lole32 -loleaut32 -lnetapi32 -luuid -lws2_32 -lmpr -lwinmm -lversion -lodbc32 -lodbccp32 -lcomctl32
    libc=, so=dll, useshrplib=true, libperl=libperl513.a
    gnulibc_version=''
  Dynamic Linking:
    dlsrc=dl_win32.xs, dlext=dll, d_dlsymun=undef, ccdlflags=' '
    cccdlflags=' ', lddlflags='-mdll -s -L"c:\home\stro\perl\perl5133\lib\CORE" -L"C:\MinGW\lib"'


Characteristics of this binary (from libperl): 
  Compile-time options: MULTIPLICITY PERL_DONT_CREATE_GVSV
                        PERL_IMPLICIT_CONTEXT PERL_IMPLICIT_SYS
                        PERL_MALLOC_WRAP PL_OP_SLAB_ALLOC USE_ITHREADS
                        USE_LARGE_FILES USE_PERLIO USE_PERL_ATOF
  Built under MSWin32
  Compiled at Jul 20 2010 15:34:28
  %ENV:
    PERL5_CPANPLUS_IS_RUNNING="5636"
    PERL5_CPAN_IS_RUNNING="5636"
    PERL5_CPAN_IS_RUNNING_IN_RECURSION="4116,5636"
    PERL_CR_SMOKER_CURRENT="Class-MOP-1.08"
    PERL_EXTUTILS_AUTOINSTALL="--defaultdeps"
    PERL_MM_USE_DEFAULT="1"
  @INC:
    C:/home/stro/perl/perl5133/site/lib
    C:/home/stro/perl/perl5133/lib
    .