Module-Starter v1.77 Perl 5 v5.39.11 i86pc-solaris-64

Status
Pass
From
Carlos Guevara
Dist
Module-Starter v1.77
Platform
Perl 5 v5.39.11 i86pc-solaris-64
Date
2024-05-18 23:47:33
ID
ff2ac42c-1570-11ef-a2e8-98ec9ac4a504
This distribution has been tested as part of the CPAN Testers
project, supporting the Perl programming language.  See
http://wiki.cpantesters.org/ for more information or email
questions to cpan-testers-discuss@perl.org


--
Dear Dan Book,

This is a computer-generated report for Module-Starter-1.77
on perl 5.39.11, created by CPAN-Reporter-1.2019.

Thank you for uploading your work to CPAN.  Congratulations!
All tests were successful.

Sections of this report:

    * Tester comments
    * Program output
    * Prerequisites
    * Environment and other context

------------------------------
TESTER COMMENTS
------------------------------

Additional comments from tester:

this report is from an automated smoke testing program
and was not reviewed by a human for accuracy

------------------------------
PROGRAM OUTPUT
------------------------------

Output from '/usr/bin/make test':

PERL_DL_NONLAZY=1 "/export/home/cpan/bin/perl/bin/perl5.39.11" "-MExtUtils::Command::MM" "-MTest::Harness" "-e" "undef *Test::Harness::Switches; test_harness(0, 'blib/lib', 'blib/arch')" t/*.t
# 
# Versions for all modules listed in MYMETA.json (including optional ones):
# 
# === Configure Requires ===
# 
#     Module              Want Have
#     ------------------- ---- ----
#     ExtUtils::MakeMaker  any 7.70
# 
# === Build Requires ===
# 
#     Module              Want Have
#     ------------------- ---- ----
#     ExtUtils::MakeMaker  any 7.70
# 
# === Test Requires ===
# 
#     Module              Want     Have
#     ------------------- ---- --------
#     ExtUtils::MakeMaker  any     7.70
#     File::Spec           any     3.90
#     Test::More          0.94 1.302199
# 
# === Test Recommends ===
# 
#     Module         Want     Have
#     ---------- -------- --------
#     CPAN::Meta 2.120900 2.150010
# 
# === Runtime Requires ===
# 
#     Module                Want     Have
#     ----------------- -------- --------
#     File::Path             any     2.18
#     File::Spec             any     3.90
#     Getopt::Long           any     2.57
#     Module::Runtime        any    0.016
#     Pod::Usage            1.21     2.03
#     Software::License 0.103005 0.104006
#     Test::Harness         0.21     3.48
#     Test::More            0.94 1.302199
#     parent                 any    0.241
#     version               0.77   0.9930
# 
t/00-report-prereqs.t .. ok
t/BuilderSet.t ......... ok
t/module-starter.t ..... skipped: these tests must be completely rewritten
Added to MANIFEST: Build.PL
Added to MANIFEST: Changes
Added to MANIFEST: ignore.txt
Added to MANIFEST: lib/MyModule/Test.pm
Added to MANIFEST: lib/MyModule/Test/App.pm
Added to MANIFEST: LICENSE
Added to MANIFEST: MANIFEST
Added to MANIFEST: README
Added to MANIFEST: t/00-load.t
Added to MANIFEST: t/manifest.t
Added to MANIFEST: t/pod-coverage.t
Added to MANIFEST: t/pod.t
Added to MANIFEST: xt/boilerplate.t
Added to MANIFEST: Build.PL
Added to MANIFEST: Changes
Added to MANIFEST: ignore.txt
Added to MANIFEST: lib/Book/Park/Mansfield.pm
Added to MANIFEST: lib/Book/Park/Mansfield/Base.pm
Added to MANIFEST: lib/Book/Park/Mansfield/FannyPrice.pm
Added to MANIFEST: lib/JAUSTEN/Utils.pm
Added to MANIFEST: LICENSE
Added to MANIFEST: MANIFEST
Added to MANIFEST: README
Added to MANIFEST: t/00-load.t
Added to MANIFEST: t/manifest.t
Added to MANIFEST: t/pod-coverage.t
Added to MANIFEST: t/pod.t
Added to MANIFEST: xt/boilerplate.t
t/test-dist.t .......... ok
All tests successful.
Files=4, Tests=23, 12 wallclock secs ( 0.80 usr  0.09 sys + 10.13 cusr  0.49 csys = 11.51 CPU)
Result: PASS

------------------------------
PREREQUISITES
------------------------------

Prerequisite modules loaded:

requires:

    Module              Need     Have    
    ------------------- -------- --------
    File::Path          0        2.18    
    File::Spec          0        3.90    
    Getopt::Long        0        2.57    
    Module::Runtime     0        0.016   
    parent              0        0.241   
    Pod::Usage          1.21     2.03    
    Software::License   0.103005 0.104006
    Test::Harness       0.21     3.48    
    Test::More          0.94     1.302199
    version             0.77     0.9930  

build_requires:

    Module              Need     Have    
    ------------------- -------- --------
    ExtUtils::MakeMaker 0        7.70    
    File::Spec          0        3.90    
    Test::More          0.94     1.302199

configure_requires:

    Module              Need     Have    
    ------------------- -------- --------
    ExtUtils::MakeMaker 0        7.70    


------------------------------
ENVIRONMENT AND OTHER CONTEXT
------------------------------

Environment variables:

    AUTOMATED_TESTING = 1
    DATE_MANIP_TEST_DM5 = 1
    LANG = en_US.UTF-8
    LC_ALL = C
    NONINTERACTIVE_TESTING = 1
    NO_NETWORK_TESTING = 1
    PATH = /export/home/cpan/bin/perl/bin:/usr/bin:/usr/sbin:/sbin:/opt/ooce/bin:/usr/gnu/bin
    PERL5LIB = 
    PERL5OPT = 
    PERL5_CPANPLUS_IS_RUNNING = 15236
    PERL5_CPAN_IS_RUNNING = 15236
    PERL_MM_USE_DEFAULT = 1
    PERL_USE_UNSAFE_INC = 1
    SHELL = /bin/bash
    TERM = screen

Perl special variables (and OS-specific diagnostics, for MSWin32):

    $^X = /export/home/cpan/bin/perl/bin/perl5.39.11
    $UID/$EUID = 101 / 101
    $GID = 1 1
    $EGID = 1 1

Perl module toolchain versions installed:

    Module              Have    
    ------------------- --------
    CPAN                2.36    
    CPAN::Meta          2.150010
    Cwd                 3.90    
    ExtUtils::CBuilder  0.280240
    ExtUtils::Command   7.70    
    ExtUtils::Install   2.22    
    ExtUtils::MakeMaker 7.70    
    ExtUtils::Manifest  1.75    
    ExtUtils::ParseXS   3.51    
    File::Spec          3.90    
    JSON                4.10    
    JSON::PP            4.16    
    Module::Build       0.4234  
    Module::Signature   n/a     
    Parse::CPAN::Meta   2.150010
    Test2               1.302199
    Test::Harness       3.48    
    Test::More          1.302199
    YAML                1.31    
    YAML::Syck          1.34    
    version             0.9930  


--

Summary of my perl5 (revision 5 version 39 subversion 11) configuration:
  Commit id: 1a2e8e708a78fa3f519129c2489a4998cfb3266a
  Platform:
    osname=solaris
    osvers=2.11
    archname=i86pc-solaris-64
    uname='sunos cjg-omniosce 5.11 omnios-r151048-78ef87aa2a4 i86pc i386 i86pc '
    config_args='-des -Dprefix=/export/home/cpan/bin/perl -Dscriptdir=/export/home/cpan/bin/perl/bin -Dusedevel -Duse64bitall -Dcc=gcc'
    hint=recommended
    useposix=true
    d_sigaction=define
    useithreads=undef
    usemultiplicity=undef
    use64bitint=define
    use64bitall=define
    uselongdouble=undef
    usemymalloc=n
    default_inc_excludes_dot=define
  Compiler:
    cc='gcc'
    ccflags ='-m64 -fwrapv -fno-strict-aliasing -pipe -fstack-protector-strong -D_LARGEFILE_SOURCE -D_FILE_OFFSET_BITS=64 -D_FORTIFY_SOURCE=2'
    optimize='-O'
    cppflags='-m64 -fwrapv -fno-strict-aliasing -pipe -fstack-protector-strong'
    ccversion=''
    gccversion='13.2.0'
    gccosandvers=''
    intsize=4
    longsize=8
    ptrsize=8
    doublesize=8
    byteorder=12345678
    doublekind=3
    d_longlong=define
    longlongsize=8
    d_longdbl=define
    longdblsize=16
    longdblkind=3
    ivtype='long'
    ivsize=8
    nvtype='double'
    nvsize=8
    Off_t='off_t'
    lseeksize=8
    alignbytes=8
    prototype=define
  Linker and Libraries:
    ld='gcc'
    ldflags =' -m64 -fstack-protector-strong -L/usr/gnu/lib '
    libpth=/opt/gcc-13/lib /usr/lib /usr/gnu/lib /usr/ccs/lib
    libs=-lpthread -lsocket -lnsl -ldl -lm -lc
    perllibs=-lpthread -lsocket -lnsl -ldl -lm -lc
    libc=/lib/libc.so
    so=so
    useshrplib=true
    libperl=libperl.so
    gnulibc_version=''
  Dynamic Linking:
    dlsrc=dl_dlopen.xs
    dlext=so
    d_dlsymun=undef
    ccdlflags='  -R /export/home/cpan/bin/perl/lib/5.39.11/i86pc-solaris-64/CORE'
    cccdlflags='-fPIC'
    lddlflags=' -shared -m64 -L/usr/gnu/lib -fstack-protector-strong'


Characteristics of this binary (from libperl): 
  Compile-time options:
    HAS_LONG_DOUBLE
    HAS_STRTOLD
    HAS_TIMES
    PERLIO_LAYERS
    PERL_COPY_ON_WRITE
    PERL_DONT_CREATE_GVSV
    PERL_HASH_FUNC_SIPHASH13
    PERL_HASH_USE_SBOX32
    PERL_MALLOC_WRAP
    PERL_OP_PARENT
    PERL_PRESERVE_IVUV
    PERL_USE_DEVEL
    PERL_USE_SAFE_PUTENV
    USE_64_BIT_ALL
    USE_64_BIT_INT
    USE_LARGE_FILES
    USE_LOCALE
    USE_LOCALE_COLLATE
    USE_LOCALE_CTYPE
    USE_LOCALE_NUMERIC
    USE_LOCALE_TIME
    USE_PERLIO
    USE_PERL_ATOF
  Built under solaris
  Compiled at May 18 2024 14:04:16
  %ENV:
    PERL5LIB=""
    PERL5OPT=""
    PERL5_CPANPLUS_IS_RUNNING="15236"
    PERL5_CPAN_IS_RUNNING="15236"
    PERL_MM_USE_DEFAULT="1"
    PERL_USE_UNSAFE_INC="1"
  @INC:
    /export/home/cpan/bin/perl/lib/site_perl/5.39.11/i86pc-solaris-64
    /export/home/cpan/bin/perl/lib/site_perl/5.39.11
    /export/home/cpan/bin/perl/lib/5.39.11/i86pc-solaris-64
    /export/home/cpan/bin/perl/lib/5.39.11
    .