Report for Dancer2-Plugin-Deferred-0.007001

Back
From: metabase:user:6b7c0268-6bfa-1014-b492-d6f6123e60b2
Subject: PASS Dancer2-Plugin-Deferred-0.007001 v5.20.0 
Date: 2014-06-04T16:38:44Z

This distribution has been tested as part of the CPAN Testers
project, supporting the Perl programming language.  See
http://wiki.cpantesters.org/ for more information or email
questions to cpan-testers-discuss@perl.org


--
Dear ,

This is a computer-generated report for Dancer2-Plugin-Deferred-0.007001
on perl 5.20.0, created by CPAN-Reporter-1.2011.

Thank you for uploading your work to CPAN.  Congratulations!
All tests were successful.

Sections of this report:

    * Tester comments
    * Program output
    * Prerequisites
    * Environment and other context

------------------------------
TESTER COMMENTS
------------------------------

Additional comments from tester:

this report is from an automated smoke testing program
and was not reviewed by a human for accuracy

------------------------------
PROGRAM OUTPUT
------------------------------

Output from 'C:\smoker\5200x86\perl\bin\perl.exe ./Build test':

t/00-compile.t .......... ok
# 
# Versions for all modules listed in MYMETA.json (including optional ones):
#    Version Module                  
#   -------- ------------------------
#   2.141520 CPAN::Meta              
#      2.125 CPAN::Meta::Requirements
#     1.3301 Carp                    
#   0.140001 Dancer2                 
#   0.140001 Dancer2::Plugin         
#    6.99_01 ExtUtils::MakeMaker     
#       3.47 File::Spec              
#       3.47 File::Spec::Functions   
#       1.35 IO::Handle              
#       1.16 IPC::Open3              
#       6.06 LWP::UserAgent          
#       1.38 List::Util              
#     0.4205 Module::Build           
#   1.001003 Test::More              
#       2.02 Test::TCP               
#       1.60 URI                     
#      undef URI::QueryParam         
#       1.08 strict                  
#     0.9908 version                 
#       1.23 warnings                
t/00-report-prereqs.t ... ok
>> Dancer2 v0.140001 server -3440 listening on http://0.0.0.0:50951
>> Dancer2::Plugin::Deferred (0.007001)
t/deferred.t ............ ok
>> Dancer2 v0.140001 server -3088 listening on http://0.0.0.0:50741
>> Dancer2::Plugin::Deferred (0.007001)
t/keep.t ................ ok
t/release-distmeta.t .... skipped: these tests are for release candidate testing
t/release-no-tabs.t ..... skipped: these tests are for release candidate testing
t/release-pod-syntax.t .. skipped: these tests are for release candidate testing
All tests successful.
Files=7, Tests=10,  8 wallclock secs ( 0.13 usr +  0.02 sys =  0.14 CPU)
Result: PASS

------------------------------
PREREQUISITES
------------------------------

Prerequisite modules loaded:

requires:

    Module                Need   Have    
    --------------------- ------ --------
    Carp                  0      1.3301  
    Dancer2::Plugin       0      0.140001
    perl                  5.010  5.020000
    strict                0      1.08    
    URI                   0      1.60    
    URI::QueryParam       0      0       
    warnings              0      1.23    

build_requires:

    Module                Need   Have    
    --------------------- ------ --------
    Dancer2               0      0.140001
    ExtUtils::MakeMaker   0      6.99_01 
    File::Spec            0      3.47    
    File::Spec::Functions 0      3.47    
    IO::Handle            0      1.35    
    IPC::Open3            0      1.16    
    List::Util            0      1.38    
    LWP::UserAgent        0      6.06    
    Module::Build         0.3601 0.4205  
    perl                  5.010  5.020000
    Test::More            0.96   1.001003
    Test::TCP             0      2.02    
    version               0      0.9908  

configure_requires:

    Module                Need   Have    
    --------------------- ------ --------
    ExtUtils::MakeMaker   6.30   6.99_01 
    Module::Build         0.3601 0.4205  


------------------------------
ENVIRONMENT AND OTHER CONTEXT
------------------------------

Environment variables:

    AUTOMATED_TESTING = 1
    COMSPEC = C:\Windows\system32\cmd.exe
    NUMBER_OF_PROCESSORS = 3
    PATH = C:\Windows\system32;C:\Windows;C:\Windows\System32\Wbem;C:\smoker\5200x86\perl\site\bin;C:\smoker\5200x86\perl\bin;C:\smoker\5200x86\c\bin;c:\orainstant32
    PERL5LIB = 
    PERL5OPT = 
    PERL5_CPANPLUS_IS_RUNNING = 2428
    PERL5_CPAN_IS_RUNNING = 2428
    PERL5_CPAN_IS_RUNNING_IN_RECURSION = 2064,2428
    PERL_CR_SMOKER_CURRENT = Dancer2-Plugin-Deferred-0.007001
    PERL_EXTUTILS_AUTOINSTALL = --defaultdeps
    PERL_MM_USE_DEFAULT = 1
    PROCESSOR_IDENTIFIER = Intel64 Family 6 Model 13 Stepping 3, GenuineIntel
    TEMP = C:\Users\smoker\AppData\Local\Temp\3

Perl special variables (and OS-specific diagnostics, for MSWin32):

    $^X = C:\smoker\5200x86\perl\bin\perl.exe
    $UID/$EUID = 0 / 0
    $GID = 0
    $EGID = 0
    Win32::GetOSName = Win2012
    Win32::GetOSVersion = , 6, 2, 9200, 2, 0, 0, 400, 3
    Win32::FsType = NTFS
    Win32::IsAdminUser = 0

Perl module toolchain versions installed:

    Module              Have    
    ------------------- --------
    CPAN                2.05    
    CPAN::Meta          2.141520
    Cwd                 3.47    
    ExtUtils::CBuilder  0.280216
    ExtUtils::Command   1.18    
    ExtUtils::Install   1.67    
    ExtUtils::MakeMaker 6.99_01 
    ExtUtils::Manifest  1.63    
    ExtUtils::ParseXS   3.24    
    File::Spec          3.47    
    JSON                2.90    
    JSON::PP            2.27203 
    Module::Build       0.4205  
    Module::Signature   0.73    
    Parse::CPAN::Meta   1.4414  
    Test::Harness       3.30    
    Test::More          1.001003
    YAML                0.92    
    YAML::Syck          1.27    
    version             0.9908  


--

Summary of my perl5 (revision 5 version 20 subversion 0) configuration:
   
  Platform:
    osname=MSWin32, osvers=6.2, archname=MSWin32-x86-multi-thread-64int
    uname='Win32 strawberry-perl 5.20.0.1 #1 Fri May 30 23:25:11 2014 i386'
    config_args='undef'
    hint=recommended, useposix=true, d_sigaction=undef
    useithreads=define, usemultiplicity=define
    use64bitint=define, use64bitall=undef, uselongdouble=undef
    usemymalloc=n, bincompat5005=undef
  Compiler:
    cc='gcc', ccflags =' -s -O2 -DWIN32  -DPERL_TEXTMODE_SCRIPTS -DPERL_IMPLICIT_CONTEXT -DPERL_IMPLICIT_SYS -DUSE_PERLIO -fwrapv -fno-strict-aliasing -mms-bitfields',
    optimize='-s -O2',
    cppflags='-DWIN32'
    ccversion='', gccversion='4.8.2', gccosandvers=''
    intsize=4, longsize=4, ptrsize=4, doublesize=8, byteorder=12345678
    d_longlong=define, longlongsize=8, d_longdbl=define, longdblsize=12
    ivtype='long long', ivsize=8, nvtype='double', nvsize=8, Off_t='long long', lseeksize=8
    alignbytes=8, prototype=define
  Linker and Libraries:
    ld='g++', ldflags ='-s -L"C:\smoker\5200x86\perl\lib\CORE" -L"C:\smoker\5200x86\c\lib"'
    libpth=C:\smoker\5200x86\c\lib C:\smoker\5200x86\c\i686-w64-mingw32\lib C:\smoker\5200x86\c\lib\gcc\i686-w64-mingw32\4.8.2
    libs=-lmoldname -lkernel32 -luser32 -lgdi32 -lwinspool -lcomdlg32 -ladvapi32 -lshell32 -lole32 -loleaut32 -lnetapi32 -luuid -lws2_32 -lmpr -lwinmm -lversion -lodbc32 -lodbccp32 -lcomctl32
    perllibs=-lmoldname -lkernel32 -luser32 -lgdi32 -lwinspool -lcomdlg32 -ladvapi32 -lshell32 -lole32 -loleaut32 -lnetapi32 -luuid -lws2_32 -lmpr -lwinmm -lversion -lodbc32 -lodbccp32 -lcomctl32
    libc=, so=dll, useshrplib=true, libperl=libperl520.a
    gnulibc_version=''
  Dynamic Linking:
    dlsrc=dl_win32.xs, dlext=xs.dll, d_dlsymun=undef, ccdlflags=' '
    cccdlflags=' ', lddlflags='-mdll -s -L"C:\smoker\5200x86\perl\lib\CORE" -L"C:\smoker\5200x86\c\lib"'


Characteristics of this binary (from libperl): 
  Compile-time options: HAS_TIMES HAVE_INTERP_INTERN MULTIPLICITY
                        PERLIO_LAYERS PERL_DONT_CREATE_GVSV
                        PERL_HASH_FUNC_ONE_AT_A_TIME_HARD
                        PERL_IMPLICIT_CONTEXT PERL_IMPLICIT_SYS
                        PERL_MALLOC_WRAP PERL_NEW_COPY_ON_WRITE
                        PERL_PRESERVE_IVUV USE_64_BIT_INT USE_ITHREADS
                        USE_LARGE_FILES USE_LOCALE USE_LOCALE_COLLATE
                        USE_LOCALE_CTYPE USE_LOCALE_NUMERIC USE_PERLIO
                        USE_PERL_ATOF
  Built under MSWin32
  Compiled at May 30 2014 23:29:27
  %ENV:
    PERL5_CPANPLUS_IS_RUNNING="2428"
    PERL5_CPAN_IS_RUNNING="2428"
    PERL5_CPAN_IS_RUNNING_IN_RECURSION="2064,2428"
    PERL_CR_SMOKER_CURRENT="Dancer2-Plugin-Deferred-0.007001"
    PERL_EXTUTILS_AUTOINSTALL="--defaultdeps"
    PERL_MM_USE_DEFAULT="1"
  @INC:
    C:/smoker/5200x86/perl/site/lib/MSWin32-x86-multi-thread-64int
    C:/smoker/5200x86/perl/site/lib
    C:/smoker/5200x86/perl/vendor/lib
    C:/smoker/5200x86/perl/lib
    .