File-Remove v1.57 Perl 5 v5.27.9 i86pc-solaris
- Status
- Pass
- From
- Nigel Horne
- Dist
-
File-Remove v1.57
- Platform
- Perl 5 v5.27.9 i86pc-solaris
- Date
- 2018-03-29 20:08:49
- ID
- fede744a-338c-11e8-91ce-d3e3deac0b3f
This distribution has been tested as part of the CPAN Testers
project, supporting the Perl programming language. See
http://wiki.cpantesters.org/ for more information or email
questions to cpan-testers-discuss@perl.org
--
Dear Shlomi Fish,
This is a computer-generated report for File-Remove-1.57
on perl 5.27.9, created by CPAN-Reporter-1.2018.
Thank you for uploading your work to CPAN. Congratulations!
All tests were successful.
Sections of this report:
* Tester comments
* Program output
* Prerequisites
* Environment and other context
------------------------------
TESTER COMMENTS
------------------------------
Additional comments from tester:
none provided
------------------------------
PROGRAM OUTPUT
------------------------------
Output from '/usr/bin/gmake test':
PERL_DL_NONLAZY=1 "/export/home/njh/perl5/perlbrew/perls/perl-5.27.9/bin/perl5.27.9" "-MExtUtils::Command::MM" "-MTest::Harness" "-e" "undef *Test::Harness::Switches; test_harness(0, 'blib/lib', 'blib/arch')" t/*.t
t/01_compile.t .............. ok
t/00-compile.t .............. ok
t/02_directories.t .......... ok
t/03_deep_readonly.t ........ ok
t/05_links.t ................ ok
t/04_can_delete.t ........... ok
t/06_curly.t ................ ok
t/07_cwd.t .................. ok
t/08_spaces.t ............... ok
t/10_noglob.t ............... ok
t/author-pod-coverage.t ..... skipped: these tests are for testing by the author
t/author-pod-syntax.t ....... skipped: these tests are for testing by the author
t/release-cpan-changes.t .... skipped: these tests are for release candidate testing
t/release-kwalitee.t ........ skipped: these tests are for release candidate testing
t/release-trailing-space.t .. skipped: these tests are for release candidate testing
t/09_fork.t ................. ok
All tests successful.
Files=16, Tests=222, 7 wallclock secs ( 0.38 usr 0.14 sys + 6.17 cusr 1.57 csys = 8.26 CPU)
Result: PASS
------------------------------
PREREQUISITES
------------------------------
Prerequisite modules loaded:
requires:
Module Need Have
--------------------- ----- --------
constant 0 1.33
Cwd 3.29 3.74
File::Glob 0 1.30
File::Path 0 2.15
File::Spec 3.29 3.74
perl 5.006 5.027009
strict 0 1.11
vars 0 1.03
warnings 0 1.41
build_requires:
Module Need Have
--------------------- ----- --------
blib 1.01 1.07
ExtUtils::MakeMaker 0 7.32
File::Copy 0 2.33
File::Spec 3.29 3.74
File::Spec::Functions 0 3.74
File::Temp 0 0.2304
IO::Handle 0 1.37
IPC::Open3 0 1.20
Test::More 0 1.302122
configure_requires:
Module Need Have
--------------------- ----- --------
ExtUtils::MakeMaker 0 7.32
------------------------------
ENVIRONMENT AND OTHER CONTEXT
------------------------------
Environment variables:
HARNESS_OPTIONS = c:j2
LANG = en_US.UTF-8
LC_ALL =
LC_COLLATE =
LC_CTYPE =
LC_MESSAGES =
LC_MONETARY =
LC_NUMERIC =
LC_TIME =
PATH = /export/home/njh/perl5/perlbrew/bin:/export/home/njh/perl5/perlbrew/perls/perl-5.27.9/bin:/export/home/njh/bin:/usr/bin:/usr/sbin
PERL5LIB =
PERL5OPT =
PERL5_CPANPLUS_IS_RUNNING = 29321
PERL5_CPAN_IS_RUNNING = 29321
PERLBREW_HOME = /export/home/njh/.perlbrew
PERLBREW_MANPATH = /export/home/njh/perl5/perlbrew/perls/perl-5.27.9/man
PERLBREW_PATH = /export/home/njh/perl5/perlbrew/bin:/export/home/njh/perl5/perlbrew/perls/perl-5.27.9/bin
PERLBREW_PERL = perl-5.27.9
PERLBREW_ROOT = /export/home/njh/perl5/perlbrew
PERLBREW_SHELLRC_VERSION = 0.82
PERLBREW_VERSION = 0.82
PERL_USE_UNSAFE_INC = 1
SHELL = /usr/bin/bash
TERM = xterm-256color
TMPDIR = /tmp
Perl special variables (and OS-specific diagnostics, for MSWin32):
$^X = /export/home/njh/perl5/perlbrew/perls/perl-5.27.9/bin/perl5.27.9
$UID/$EUID = 100 / 100
$GID = 10 10
$EGID = 10 10
Perl module toolchain versions installed:
Module Have
------------------- --------
CPAN 2.20
CPAN::Meta 2.150010
Cwd 3.74
ExtUtils::CBuilder 0.280230
ExtUtils::Command 7.32
ExtUtils::Install 2.14
ExtUtils::MakeMaker 7.32
ExtUtils::Manifest 1.70
ExtUtils::ParseXS 3.38
File::Spec 3.74
JSON n/a
JSON::PP 2.97001
Module::Build 0.4224
Module::Signature n/a
Parse::CPAN::Meta 2.150010
Test::Harness 3.39
Test::More 1.302122
YAML 1.24
YAML::Syck n/a
version 0.9918
--
Summary of my perl5 (revision 5 version 27 subversion 9) configuration:
Platform:
osname=solaris
osvers=2.11
archname=i86pc-solaris
uname='sunos republic31 5.11 11.3 i86pc i386 i86pc '
config_args='-de -Dprefix=/export/home/njh/perl5/perlbrew/perls/perl-5.27.9 -Dusedevel -Aeval:scriptdir=/export/home/njh/perl5/perlbrew/perls/perl-5.27.9/bin'
hint=recommended
useposix=true
d_sigaction=define
useithreads=undef
usemultiplicity=undef
use64bitint=undef
use64bitall=undef
uselongdouble=undef
usemymalloc=n
default_inc_excludes_dot=define
bincompat5005=undef
Compiler:
cc='cc'
ccflags ='-fwrapv -fno-strict-aliasing -pipe -fstack-protector -I/usr/gnu/include -D_LARGEFILE_SOURCE -D_FILE_OFFSET_BITS=64 -D_FORTIFY_SOURCE=2 -DPERL_USE_SAFE_PUTENV'
optimize='-O'
cppflags='-fwrapv -fno-strict-aliasing -pipe -fstack-protector -I/usr/gnu/include'
ccversion=''
gccversion='4.8.2'
gccosandvers=''
intsize=4
longsize=4
ptrsize=4
doublesize=8
byteorder=1234
doublekind=3
d_longlong=define
longlongsize=8
d_longdbl=define
longdblsize=12
longdblkind=3
ivtype='long'
ivsize=4
nvtype='double'
nvsize=8
Off_t='off_t'
lseeksize=8
alignbytes=4
prototype=define
Linker and Libraries:
ld='cc'
ldflags =' -fstack-protector -L/usr/gnu/lib '
libpth=/usr/gcc/4.8/lib /usr/gcc/4.8/lib/gcc/i386-pc-solaris2.11/4.8.2/include-fixed /usr/lib /usr/gnu/lib /usr/ccs/lib
libs=-lpthread -lsocket -lnsl -lgdbm -ldb -ldl -lm -lc
perllibs=-lpthread -lsocket -lnsl -ldl -lm -lc
libc=/lib/libc.so
so=so
useshrplib=true
libperl=libperl.so
gnulibc_version=''
Dynamic Linking:
dlsrc=dl_dlopen.xs
dlext=so
d_dlsymun=undef
ccdlflags=' -R /export/home/njh/perl5/perlbrew/perls/perl-5.27.9/lib/5.27.9/i86pc-solaris/CORE'
cccdlflags='-fPIC'
lddlflags='-shared -L/usr/gnu/lib -fstack-protector'
Characteristics of this binary (from libperl):
Compile-time options:
HAS_TIMES
PERLIO_LAYERS
PERL_COPY_ON_WRITE
PERL_DONT_CREATE_GVSV
PERL_MALLOC_WRAP
PERL_OP_PARENT
PERL_PRESERVE_IVUV
PERL_USE_DEVEL
PERL_USE_SAFE_PUTENV
USE_LARGE_FILES
USE_LOCALE
USE_LOCALE_COLLATE
USE_LOCALE_CTYPE
USE_LOCALE_NUMERIC
USE_LOCALE_TIME
USE_PERLIO
USE_PERL_ATOF
Locally applied patches:
Devel::PatchPerl 1.48
Built under solaris
Compiled at Mar 29 2018 11:23:48
%ENV:
PERL5LIB=""
PERL5OPT=""
PERL5_CPANPLUS_IS_RUNNING="29321"
PERL5_CPAN_IS_RUNNING="29321"
PERLBREW_HOME="/export/home/njh/.perlbrew"
PERLBREW_MANPATH="/export/home/njh/perl5/perlbrew/perls/perl-5.27.9/man"
PERLBREW_PATH="/export/home/njh/perl5/perlbrew/bin:/export/home/njh/perl5/perlbrew/perls/perl-5.27.9/bin"
PERLBREW_PERL="perl-5.27.9"
PERLBREW_ROOT="/export/home/njh/perl5/perlbrew"
PERLBREW_SHELLRC_VERSION="0.82"
PERLBREW_VERSION="0.82"
PERL_USE_UNSAFE_INC="1"
@INC:
/export/home/njh/perl5/perlbrew/perls/perl-5.27.9/lib/site_perl/5.27.9/i86pc-solaris
/export/home/njh/perl5/perlbrew/perls/perl-5.27.9/lib/site_perl/5.27.9
/export/home/njh/perl5/perlbrew/perls/perl-5.27.9/lib/5.27.9/i86pc-solaris
/export/home/njh/perl5/perlbrew/perls/perl-5.27.9/lib/5.27.9
.