Report for Catalyst-Plugin-Assets-0.036

Back
From: metabase:user:320bfe00-2aae-11df-837a-5e0a49663a4f
Subject: PASS Catalyst-Plugin-Assets-0.036 v5.16.3 GNU/Linux
Date: 2013-09-15T05:23:46Z

This distribution has been tested as part of the CPAN Testers
project, supporting the Perl programming language.  See
http://wiki.cpantesters.org/ for more information or email
questions to cpan-testers-discuss@perl.org


--
Dear Robert Krimen,

This is a computer-generated report for Catalyst-Plugin-Assets-0.036
on perl 5.16.3, created by CPAN-Reporter-1.2010.

Thank you for uploading your work to CPAN.  Congratulations!
All tests were successful.

Sections of this report:

    * Tester comments
    * Program output
    * Prerequisites
    * Environment and other context

------------------------------
TESTER COMMENTS
------------------------------

Additional comments from tester:

this report is from an automated smoke testing program
and was not reviewed by a human for accuracy

------------------------------
PROGRAM OUTPUT
------------------------------

Output from '/usr/bin/make test':

PERL_DL_NONLAZY=1 /home/sand/src/perl/repoperls/installed-perls/perl/v5.16.3/127e/bin/perl "-MExtUtils::Command::MM" "-e" "test_harness(0, 'inc', 'blib/lib', 'blib/arch')" t/002-assets.t t/004-caching.t t/010-configuration-minify-1.t t/011-configuration-minify-yuicompressor.t t/012-configuration-pathing.t
Class::MOP::is_class_loaded is deprecated at /home/sand/src/perl/repoperls/installed-perls/perl/v5.16.3/127e/lib/site_perl/5.16.3/x86_64-linux-ld/Class/MOP.pm line 94.
	Class::MOP::is_class_loaded("t::TestCatalyst") called at /home/sand/src/perl/repoperls/installed-perls/perl/v5.16.3/127e/lib/site_perl/5.16.3/Catalyst/Test.pm line 28
	Catalyst::Test::_build_request_export("Catalyst::Test", HASH(0x109f9f8)) called at /home/sand/src/perl/repoperls/installed-perls/perl/v5.16.3/127e/lib/site_perl/5.16.3/Catalyst/Test.pm line 91
	Catalyst::Test::__ANON__("Catalyst::Test", "all", HASH(0x109f9b0), HASH(0xff5380)) called at /home/sand/src/perl/repoperls/installed-perls/perl/v5.16.3/127e/lib/site_perl/5.16.3/Sub/Exporter.pm line 108
	Sub::Exporter::_expand_group("Catalyst::Test", HASH(0x1f36548), ARRAY(0x10232b8), HASH(0xff5380), HASH(0x109fa28), HASH(0xff5368)) called at /home/sand/src/perl/repoperls/installed-perls/perl/v5.16.3/127e/lib/site_perl/5.16.3/Sub/Exporter.pm line 39
	Sub::Exporter::_expand_groups("Catalyst::Test", HASH(0x1f36548), ARRAY(0x1f36680), HASH(0xff5380)) called at /home/sand/src/perl/repoperls/installed-perls/perl/v5.16.3/127e/lib/site_perl/5.16.3/Sub/Exporter.pm line 323
	Sub::Exporter::__ANON__("Catalyst::Test", "-all", HASH(0xff4d80)) called at /home/sand/src/perl/repoperls/installed-perls/perl/v5.16.3/127e/lib/site_perl/5.16.3/Catalyst/Test.pm line 154
	Catalyst::Test::import("Catalyst::Test", "t::TestCatalyst") called at t/002-assets.t line 8
	main::BEGIN() called at t/002-assets.t line 8
	eval {...} called at t/002-assets.t line 8
Class::MOP::load_class is deprecated at /home/sand/src/perl/repoperls/installed-perls/perl/v5.16.3/127e/lib/site_perl/5.16.3/x86_64-linux-ld/Class/MOP.pm line 76.
	Class::MOP::load_class("t::TestCatalyst") called at /home/sand/src/perl/repoperls/installed-perls/perl/v5.16.3/127e/lib/site_perl/5.16.3/Catalyst/Test.pm line 28
	Catalyst::Test::_build_request_export("Catalyst::Test", HASH(0x109f9f8)) called at /home/sand/src/perl/repoperls/installed-perls/perl/v5.16.3/127e/lib/site_perl/5.16.3/Catalyst/Test.pm line 91
	Catalyst::Test::__ANON__("Catalyst::Test", "all", HASH(0x109f9b0), HASH(0xff5380)) called at /home/sand/src/perl/repoperls/installed-perls/perl/v5.16.3/127e/lib/site_perl/5.16.3/Sub/Exporter.pm line 108
	Sub::Exporter::_expand_group("Catalyst::Test", HASH(0x1f36548), ARRAY(0x10232b8), HASH(0xff5380), HASH(0x109fa28), HASH(0xff5368)) called at /home/sand/src/perl/repoperls/installed-perls/perl/v5.16.3/127e/lib/site_perl/5.16.3/Sub/Exporter.pm line 39
	Sub::Exporter::_expand_groups("Catalyst::Test", HASH(0x1f36548), ARRAY(0x1f36680), HASH(0xff5380)) called at /home/sand/src/perl/repoperls/installed-perls/perl/v5.16.3/127e/lib/site_perl/5.16.3/Sub/Exporter.pm line 323
	Sub::Exporter::__ANON__("Catalyst::Test", "-all", HASH(0xff4d80)) called at /home/sand/src/perl/repoperls/installed-perls/perl/v5.16.3/127e/lib/site_perl/5.16.3/Catalyst/Test.pm line 154
	Catalyst::Test::import("Catalyst::Test", "t::TestCatalyst") called at t/002-assets.t line 8
	main::BEGIN() called at t/002-assets.t line 8
	eval {...} called at t/002-assets.t line 8
Class::MOP::load_class is deprecated at /home/sand/src/perl/repoperls/installed-perls/perl/v5.16.3/127e/lib/site_perl/5.16.3/x86_64-linux-ld/Class/MOP.pm line 76.
	Class::MOP::load_class("Catalyst::Plugin::Unicode::Encoding", undef) called at /home/sand/src/perl/repoperls/installed-perls/perl/v5.16.3/127e/lib/site_perl/5.16.3/Catalyst.pm line 3017
	Catalyst::setup_plugins("t::TestCatalyst", ARRAY(0x2885d98)) called at /home/sand/src/perl/repoperls/installed-perls/perl/v5.16.3/127e/lib/site_perl/5.16.3/Catalyst.pm line 1110
	Catalyst::setup("t::TestCatalyst", "Assets") called at t/TestCatalystBase.pm line 78
	t::TestCatalystBase::setup_("t::TestCatalyst", "Plugin::Assets", HASH(0x10a02e0)) called at t/TestCatalyst.pm line 7
	require t/TestCatalyst.pm called at /home/sand/src/perl/repoperls/installed-perls/perl/v5.16.3/127e/lib/site_perl/5.16.3/Module/Runtime.pm line 317
	Module::Runtime::require_module("t::TestCatalyst") called at /home/sand/src/perl/repoperls/installed-perls/perl/v5.16.3/127e/lib/site_perl/5.16.3/Class/Load.pm line 177
	Class::Load::try {...} () called at /home/sand/src/perl/repoperls/installed-perls/perl/v5.16.3/127e/lib/site_perl/5.16.3/Try/Tiny.pm line 78
	eval {...} called at /home/sand/src/perl/repoperls/installed-perls/perl/v5.16.3/127e/lib/site_perl/5.16.3/Try/Tiny.pm line 74
	Try::Tiny::try(CODE(0x1bbe978), Try::Tiny::Catch=REF(0x1bbea68)) called at /home/sand/src/perl/repoperls/installed-perls/perl/v5.16.3/127e/lib/site_perl/5.16.3/Class/Load.pm line 183
	Class::Load::try_load_class("t::TestCatalyst", undef) called at /home/sand/src/perl/repoperls/installed-perls/perl/v5.16.3/127e/lib/site_perl/5.16.3/Class/Load.pm line 38
	Class::Load::load_class("t::TestCatalyst") called at /home/sand/src/perl/repoperls/installed-perls/perl/v5.16.3/127e/lib/site_perl/5.16.3/Catalyst/Test.pm line 28
	Catalyst::Test::_build_request_export("Catalyst::Test", HASH(0x109f9f8)) called at /home/sand/src/perl/repoperls/installed-perls/perl/v5.16.3/127e/lib/site_perl/5.16.3/Catalyst/Test.pm line 91
	Catalyst::Test::__ANON__("Catalyst::Test", "all", HASH(0x109f9b0), HASH(0xff5380)) called at /home/sand/src/perl/repoperls/installed-perls/perl/v5.16.3/127e/lib/site_perl/5.16.3/Sub/Exporter.pm line 108
	Sub::Exporter::_expand_group("Catalyst::Test", HASH(0x1f36548), ARRAY(0x10232b8), HASH(0xff5380), HASH(0x109fa28), HASH(0xff5368)) called at /home/sand/src/perl/repoperls/installed-perls/perl/v5.16.3/127e/lib/site_perl/5.16.3/Sub/Exporter.pm line 39
	Sub::Exporter::_expand_groups("Catalyst::Test", HASH(0x1f36548), ARRAY(0x1f36680), HASH(0xff5380)) called at /home/sand/src/perl/repoperls/installed-perls/perl/v5.16.3/127e/lib/site_perl/5.16.3/Sub/Exporter.pm line 323
	Sub::Exporter::__ANON__("Catalyst::Test", "-all", HASH(0xff4d80)) called at /home/sand/src/perl/repoperls/installed-perls/perl/v5.16.3/127e/lib/site_perl/5.16.3/Catalyst/Test.pm line 154
	Catalyst::Test::import("Catalyst::Test", "t::TestCatalyst") called at t/002-assets.t line 8
	main::BEGIN() called at t/TestCatalyst.pm line 0
	eval {...} called at t/TestCatalyst.pm line 0
Class::MOP::is_class_loaded is deprecated at /home/sand/src/perl/repoperls/installed-perls/perl/v5.16.3/127e/lib/site_perl/5.16.3/x86_64-linux-ld/Class/MOP.pm line 94.
	Class::MOP::is_class_loaded("Catalyst::Stats") called at /home/sand/src/perl/repoperls/installed-perls/perl/v5.16.3/127e/lib/site_perl/5.16.3/Catalyst/Utils.pm line 300
	Catalyst::Utils::ensure_class_loaded("Catalyst::Stats") called at /home/sand/src/perl/repoperls/installed-perls/perl/v5.16.3/127e/lib/site_perl/5.16.3/Catalyst.pm line 2930
	Catalyst::setup_stats("t::TestCatalyst", undef) called at /home/sand/src/perl/repoperls/installed-perls/perl/v5.16.3/127e/lib/site_perl/5.16.3/Catalyst.pm line 1116
	Catalyst::setup("t::TestCatalyst", "Assets") called at t/TestCatalystBase.pm line 78
	t::TestCatalystBase::setup_("t::TestCatalyst", "Plugin::Assets", HASH(0x10a02e0)) called at t/TestCatalyst.pm line 7
	require t/TestCatalyst.pm called at /home/sand/src/perl/repoperls/installed-perls/perl/v5.16.3/127e/lib/site_perl/5.16.3/Module/Runtime.pm line 317
	Module::Runtime::require_module("t::TestCatalyst") called at /home/sand/src/perl/repoperls/installed-perls/perl/v5.16.3/127e/lib/site_perl/5.16.3/Class/Load.pm line 177
	Class::Load::try {...} () called at /home/sand/src/perl/repoperls/installed-perls/perl/v5.16.3/127e/lib/site_perl/5.16.3/Try/Tiny.pm line 78
	eval {...} called at /home/sand/src/perl/repoperls/installed-perls/perl/v5.16.3/127e/lib/site_perl/5.16.3/Try/Tiny.pm line 74
	Try::Tiny::try(CODE(0x1bbe978), Try::Tiny::Catch=REF(0x1bbea68)) called at /home/sand/src/perl/repoperls/installed-perls/perl/v5.16.3/127e/lib/site_perl/5.16.3/Class/Load.pm line 183
	Class::Load::try_load_class("t::TestCatalyst", undef) called at /home/sand/src/perl/repoperls/installed-perls/perl/v5.16.3/127e/lib/site_perl/5.16.3/Class/Load.pm line 38
	Class::Load::load_class("t::TestCatalyst") called at /home/sand/src/perl/repoperls/installed-perls/perl/v5.16.3/127e/lib/site_perl/5.16.3/Catalyst/Test.pm line 28
	Catalyst::Test::_build_request_export("Catalyst::Test", HASH(0x109f9f8)) called at /home/sand/src/perl/repoperls/installed-perls/perl/v5.16.3/127e/lib/site_perl/5.16.3/Catalyst/Test.pm line 91
	Catalyst::Test::__ANON__("Catalyst::Test", "all", HASH(0x109f9b0), HASH(0xff5380)) called at /home/sand/src/perl/repoperls/installed-perls/perl/v5.16.3/127e/lib/site_perl/5.16.3/Sub/Exporter.pm line 108
	Sub::Exporter::_expand_group("Catalyst::Test", HASH(0x1f36548), ARRAY(0x10232b8), HASH(0xff5380), HASH(0x109fa28), HASH(0xff5368)) called at /home/sand/src/perl/repoperls/installed-perls/perl/v5.16.3/127e/lib/site_perl/5.16.3/Sub/Exporter.pm line 39
	Sub::Exporter::_expand_groups("Catalyst::Test", HASH(0x1f36548), ARRAY(0x1f36680), HASH(0xff5380)) called at /home/sand/src/perl/repoperls/installed-perls/perl/v5.16.3/127e/lib/site_perl/5.16.3/Sub/Exporter.pm line 323
	Sub::Exporter::__ANON__("Catalyst::Test", "-all", HASH(0xff4d80)) called at /home/sand/src/perl/repoperls/installed-perls/perl/v5.16.3/127e/lib/site_perl/5.16.3/Catalyst/Test.pm line 154
	Catalyst::Test::import("Catalyst::Test", "t::TestCatalyst") called at t/002-assets.t line 8
	main::BEGIN() called at t/TestCatalyst.pm line 0
	eval {...} called at t/TestCatalyst.pm line 0
Class::MOP::load_class is deprecated at /home/sand/src/perl/repoperls/installed-perls/perl/v5.16.3/127e/lib/site_perl/5.16.3/x86_64-linux-ld/Class/MOP.pm line 76.
	Class::MOP::load_class("Catalyst::DispatchType::Index") called at /home/sand/src/perl/repoperls/installed-perls/perl/v5.16.3/127e/lib/site_perl/5.16.3/Catalyst/Dispatcher.pm line 663
	eval {...} called at /home/sand/src/perl/repoperls/installed-perls/perl/v5.16.3/127e/lib/site_perl/5.16.3/Catalyst/Dispatcher.pm line 663
	Catalyst::Dispatcher::_load_dispatch_types(Catalyst::Dispatcher=HASH(0x2883e20), "Index", "Path") called at /home/sand/src/perl/repoperls/installed-perls/perl/v5.16.3/127e/lib/site_perl/5.16.3/Catalyst/Dispatcher.pm line 603
	Catalyst::Dispatcher::setup_actions(Catalyst::Dispatcher=HASH(0x2883e20), "t::TestCatalyst") called at /home/sand/src/perl/repoperls/installed-perls/perl/v5.16.3/127e/lib/site_perl/5.16.3/Catalyst.pm line 2499
	Catalyst::setup_actions("t::TestCatalyst") called at /home/sand/src/perl/repoperls/installed-perls/perl/v5.16.3/127e/lib/site_perl/5.16.3/Catalyst.pm line 1195
	Catalyst::setup("t::TestCatalyst", "Assets") called at t/TestCatalystBase.pm line 78
	t::TestCatalystBase::setup_("t::TestCatalyst", "Plugin::Assets", HASH(0x10a02e0)) called at t/TestCatalyst.pm line 7
	require t/TestCatalyst.pm called at /home/sand/src/perl/repoperls/installed-perls/perl/v5.16.3/127e/lib/site_perl/5.16.3/Module/Runtime.pm line 317
	Module::Runtime::require_module("t::TestCatalyst") called at /home/sand/src/perl/repoperls/installed-perls/perl/v5.16.3/127e/lib/site_perl/5.16.3/Class/Load.pm line 177
	Class::Load::try {...} () called at /home/sand/src/perl/repoperls/installed-perls/perl/v5.16.3/127e/lib/site_perl/5.16.3/Try/Tiny.pm line 78
	eval {...} called at /home/sand/src/perl/repoperls/installed-perls/perl/v5.16.3/127e/lib/site_perl/5.16.3/Try/Tiny.pm line 74
	Try::Tiny::try(CODE(0x1bbe978), Try::Tiny::Catch=REF(0x1bbea68)) called at /home/sand/src/perl/repoperls/installed-perls/perl/v5.16.3/127e/lib/site_perl/5.16.3/Class/Load.pm line 183
	Class::Load::try_load_class("t::TestCatalyst", undef) called at /home/sand/src/perl/repoperls/installed-perls/perl/v5.16.3/127e/lib/site_perl/5.16.3/Class/Load.pm line 38
	Class::Load::load_class("t::TestCatalyst") called at /home/sand/src/perl/repoperls/installed-perls/perl/v5.16.3/127e/lib/site_perl/5.16.3/Catalyst/Test.pm line 28
	Catalyst::Test::_build_request_export("Catalyst::Test", HASH(0x109f9f8)) called at /home/sand/src/perl/repoperls/installed-perls/perl/v5.16.3/127e/lib/site_perl/5.16.3/Catalyst/Test.pm line 91
	Catalyst::Test::__ANON__("Catalyst::Test", "all", HASH(0x109f9b0), HASH(0xff5380)) called at /home/sand/src/perl/repoperls/installed-perls/perl/v5.16.3/127e/lib/site_perl/5.16.3/Sub/Exporter.pm line 108
	Sub::Exporter::_expand_group("Catalyst::Test", HASH(0x1f36548), ARRAY(0x10232b8), HASH(0xff5380), HASH(0x109fa28), HASH(0xff5368)) called at /home/sand/src/perl/repoperls/installed-perls/perl/v5.16.3/127e/lib/site_perl/5.16.3/Sub/Exporter.pm line 39
	Sub::Exporter::_expand_groups("Catalyst::Test", HASH(0x1f36548), ARRAY(0x1f36680), HASH(0xff5380)) called at /home/sand/src/perl/repoperls/installed-perls/perl/v5.16.3/127e/lib/site_perl/5.16.3/Sub/Exporter.pm line 323
	Sub::Exporter::__ANON__("Catalyst::Test", "-all", HASH(0xff4d80)) called at /home/sand/src/perl/repoperls/installed-perls/perl/v5.16.3/127e/lib/site_perl/5.16.3/Catalyst/Test.pm line 154
	Catalyst::Test::import("Catalyst::Test", "t::TestCatalyst") called at t/002-assets.t line 8
	main::BEGIN() called at t/TestCatalyst.pm line 0
	eval {...} called at t/TestCatalyst.pm line 0
Class::MOP::load_class is deprecated at /home/sand/src/perl/repoperls/installed-perls/perl/v5.16.3/127e/lib/site_perl/5.16.3/x86_64-linux-ld/Class/MOP.pm line 76.
	Class::MOP::load_class("Catalyst::Action") called at /home/sand/src/perl/repoperls/installed-perls/perl/v5.16.3/127e/lib/site_perl/5.16.3/Catalyst/Controller.pm line 320
	Catalyst::Controller::action_class("t::TestCatalyst", "namespace", "", "name", "_DISPATCH", "class", "t::TestCatalyst", "attributes", HASH(0x245ab70), ...) called at /home/sand/src/perl/repoperls/installed-perls/perl/v5.16.3/127e/lib/site_perl/5.16.3/Catalyst/Controller.pm line 328
	Catalyst::Controller::create_action("t::TestCatalyst", "name", "_DISPATCH", "code", CODE(0x2424960), "reverse", "_DISPATCH", "namespace", "", ...) called at /home/sand/src/perl/repoperls/installed-perls/perl/v5.16.3/127e/lib/site_perl/5.16.3/Catalyst/Controller.pm line 285
	Catalyst::Controller::register_action_methods("t::TestCatalyst", "t::TestCatalyst", Moose::Meta::Class::__ANON__::SERIAL::7=HASH(0x2cf6f78), Moose::Meta::Class::__ANON__::SERIAL::7=HASH(0x2d1daf8), Moose::Meta::Class::__ANON__::SERIAL::7=HASH(0x2d1d978), Moose::Meta::Class::__ANON__::SERIAL::7=HASH(0x2cf6810), Moose::Meta::Class::__ANON__::SERIAL::7=HASH(0x2d172e0), Moose::Meta::Class::__ANON__::SERIAL::7=HASH(0x2d1e7e8), Moose::Meta::Class::__ANON__::SERIAL::7=HASH(0x2d1e4a0), ...) called at /home/sand/src/perl/repoperls/installed-perls/perl/v5.16.3/127e/lib/site_perl/5.16.3/Catalyst/Controller.pm line 254
	Catalyst::Controller::register_actions("t::TestCatalyst", "t::TestCatalyst") called at /home/sand/src/perl/repoperls/installed-perls/perl/v5.16.3/127e/lib/site_perl/5.16.3/Catalyst/Dispatcher.pm line 607
	Catalyst::Dispatcher::setup_actions(Catalyst::Dispatcher=HASH(0x2883e20), "t::TestCatalyst") called at /home/sand/src/perl/repoperls/installed-perls/perl/v5.16.3/127e/lib/site_perl/5.16.3/Catalyst.pm line 2499
	Catalyst::setup_actions("t::TestCatalyst") called at /home/sand/src/perl/repoperls/installed-perls/perl/v5.16.3/127e/lib/site_perl/5.16.3/Catalyst.pm line 1195
	Catalyst::setup("t::TestCatalyst", "Assets") called at t/TestCatalystBase.pm line 78
	t::TestCatalystBase::setup_("t::TestCatalyst", "Plugin::Assets", HASH(0x10a02e0)) called at t/TestCatalyst.pm line 7
	require t/TestCatalyst.pm called at /home/sand/src/perl/repoperls/installed-perls/perl/v5.16.3/127e/lib/site_perl/5.16.3/Module/Runtime.pm line 317
	Module::Runtime::require_module("t::TestCatalyst") called at /home/sand/src/perl/repoperls/installed-perls/perl/v5.16.3/127e/lib/site_perl/5.16.3/Class/Load.pm line 177
	Class::Load::try {...} () called at /home/sand/src/perl/repoperls/installed-perls/perl/v5.16.3/127e/lib/site_perl/5.16.3/Try/Tiny.pm line 78
	eval {...} called at /home/sand/src/perl/repoperls/installed-perls/perl/v5.16.3/127e/lib/site_perl/5.16.3/Try/Tiny.pm line 74
	Try::Tiny::try(CODE(0x1bbe978), Try::Tiny::Catch=REF(0x1bbea68)) called at /home/sand/src/perl/repoperls/installed-perls/perl/v5.16.3/127e/lib/site_perl/5.16.3/Class/Load.pm line 183
	Class::Load::try_load_class("t::TestCatalyst", undef) called at /home/sand/src/perl/repoperls/installed-perls/perl/v5.16.3/127e/lib/site_perl/5.16.3/Class/Load.pm line 38
	Class::Load::load_class("t::TestCatalyst") called at /home/sand/src/perl/repoperls/installed-perls/perl/v5.16.3/127e/lib/site_perl/5.16.3/Catalyst/Test.pm line 28
	Catalyst::Test::_build_request_export("Catalyst::Test", HASH(0x109f9f8)) called at /home/sand/src/perl/repoperls/installed-perls/perl/v5.16.3/127e/lib/site_perl/5.16.3/Catalyst/Test.pm line 91
	Catalyst::Test::__ANON__("Catalyst::Test", "all", HASH(0x109f9b0), HASH(0xff5380)) called at /home/sand/src/perl/repoperls/installed-perls/perl/v5.16.3/127e/lib/site_perl/5.16.3/Sub/Exporter.pm line 108
	Sub::Exporter::_expand_group("Catalyst::Test", HASH(0x1f36548), ARRAY(0x10232b8), HASH(0xff5380), HASH(0x109fa28), HASH(0xff5368)) called at /home/sand/src/perl/repoperls/installed-perls/perl/v5.16.3/127e/lib/site_perl/5.16.3/Sub/Exporter.pm line 39
	Sub::Exporter::_expand_groups("Catalyst::Test", HASH(0x1f36548), ARRAY(0x1f36680), HASH(0xff5380)) called at /home/sand/src/perl/repoperls/installed-perls/perl/v5.16.3/127e/lib/site_perl/5.16.3/Sub/Exporter.pm line 323
	Sub::Exporter::__ANON__("Catalyst::Test", "-all", HASH(0xff4d80)) called at /home/sand/src/perl/repoperls/installed-perls/perl/v5.16.3/127e/lib/site_perl/5.16.3/Catalyst/Test.pm line 154
	Catalyst::Test::import("Catalyst::Test", "t::TestCatalyst") called at t/002-assets.t line 8
	main::BEGIN() called at t/TestCatalyst.pm line 0
	eval {...} called at t/TestCatalyst.pm line 0
[warn] Action methods (auto, default, fruit_salad, yui_compressor, concat) found defined in your application class, t::TestCatalyst. This is deprecated, please move them into a Root controller.
t/002-assets.t .............................. ok
Class::MOP::is_class_loaded is deprecated at /home/sand/src/perl/repoperls/installed-perls/perl/v5.16.3/127e/lib/site_perl/5.16.3/x86_64-linux-ld/Class/MOP.pm line 94.
	Class::MOP::is_class_loaded("t::TestCatalystMinify1") called at /home/sand/src/perl/repoperls/installed-perls/perl/v5.16.3/127e/lib/site_perl/5.16.3/Catalyst/Test.pm line 28
	Catalyst::Test::_build_request_export("Catalyst::Test", HASH(0x25c79a8)) called at /home/sand/src/perl/repoperls/installed-perls/perl/v5.16.3/127e/lib/site_perl/5.16.3/Catalyst/Test.pm line 91
	Catalyst::Test::__ANON__("Catalyst::Test", "all", HASH(0x25c7960), HASH(0x251d320)) called at /home/sand/src/perl/repoperls/installed-perls/perl/v5.16.3/127e/lib/site_perl/5.16.3/Sub/Exporter.pm line 108
	Sub::Exporter::_expand_group("Catalyst::Test", HASH(0x345e218), ARRAY(0x254b258), HASH(0x251d320), HASH(0x25c79d8), HASH(0x251d308)) called at /home/sand/src/perl/repoperls/installed-perls/perl/v5.16.3/127e/lib/site_perl/5.16.3/Sub/Exporter.pm line 39
	Sub::Exporter::_expand_groups("Catalyst::Test", HASH(0x345e218), ARRAY(0x345e350), HASH(0x251d320)) called at /home/sand/src/perl/repoperls/installed-perls/perl/v5.16.3/127e/lib/site_perl/5.16.3/Sub/Exporter.pm line 323
	Sub::Exporter::__ANON__("Catalyst::Test", "-all", HASH(0x251cd20)) called at /home/sand/src/perl/repoperls/installed-perls/perl/v5.16.3/127e/lib/site_perl/5.16.3/Catalyst/Test.pm line 154
	Catalyst::Test::import("Catalyst::Test", "t::TestCatalystMinify1") called at t/004-caching.t line 8
	main::BEGIN() called at t/004-caching.t line 8
	eval {...} called at t/004-caching.t line 8
Class::MOP::load_class is deprecated at /home/sand/src/perl/repoperls/installed-perls/perl/v5.16.3/127e/lib/site_perl/5.16.3/x86_64-linux-ld/Class/MOP.pm line 76.
	Class::MOP::load_class("t::TestCatalystMinify1") called at /home/sand/src/perl/repoperls/installed-perls/perl/v5.16.3/127e/lib/site_perl/5.16.3/Catalyst/Test.pm line 28
	Catalyst::Test::_build_request_export("Catalyst::Test", HASH(0x25c79a8)) called at /home/sand/src/perl/repoperls/installed-perls/perl/v5.16.3/127e/lib/site_perl/5.16.3/Catalyst/Test.pm line 91
	Catalyst::Test::__ANON__("Catalyst::Test", "all", HASH(0x25c7960), HASH(0x251d320)) called at /home/sand/src/perl/repoperls/installed-perls/perl/v5.16.3/127e/lib/site_perl/5.16.3/Sub/Exporter.pm line 108
	Sub::Exporter::_expand_group("Catalyst::Test", HASH(0x345e218), ARRAY(0x254b258), HASH(0x251d320), HASH(0x25c79d8), HASH(0x251d308)) called at /home/sand/src/perl/repoperls/installed-perls/perl/v5.16.3/127e/lib/site_perl/5.16.3/Sub/Exporter.pm line 39
	Sub::Exporter::_expand_groups("Catalyst::Test", HASH(0x345e218), ARRAY(0x345e350), HASH(0x251d320)) called at /home/sand/src/perl/repoperls/installed-perls/perl/v5.16.3/127e/lib/site_perl/5.16.3/Sub/Exporter.pm line 323
	Sub::Exporter::__ANON__("Catalyst::Test", "-all", HASH(0x251cd20)) called at /home/sand/src/perl/repoperls/installed-perls/perl/v5.16.3/127e/lib/site_perl/5.16.3/Catalyst/Test.pm line 154
	Catalyst::Test::import("Catalyst::Test", "t::TestCatalystMinify1") called at t/004-caching.t line 8
	main::BEGIN() called at t/004-caching.t line 8
	eval {...} called at t/004-caching.t line 8
Class::MOP::load_class is deprecated at /home/sand/src/perl/repoperls/installed-perls/perl/v5.16.3/127e/lib/site_perl/5.16.3/x86_64-linux-ld/Class/MOP.pm line 76.
	Class::MOP::load_class("Catalyst::Plugin::Unicode::Encoding", undef) called at /home/sand/src/perl/repoperls/installed-perls/perl/v5.16.3/127e/lib/site_perl/5.16.3/Catalyst.pm line 3017
	Catalyst::setup_plugins("t::TestCatalystMinify1", ARRAY(0x3ccc208)) called at /home/sand/src/perl/repoperls/installed-perls/perl/v5.16.3/127e/lib/site_perl/5.16.3/Catalyst.pm line 1110
	Catalyst::setup("t::TestCatalystMinify1", "Assets") called at t/TestCatalystBase.pm line 78
	t::TestCatalystBase::setup_("t::TestCatalystMinify1", "assets", HASH(0x25c7d20)) called at t/TestCatalystMinify1.pm line 7
	require t/TestCatalystMinify1.pm called at /home/sand/src/perl/repoperls/installed-perls/perl/v5.16.3/127e/lib/site_perl/5.16.3/Module/Runtime.pm line 317
	Module::Runtime::require_module("t::TestCatalystMinify1") called at /home/sand/src/perl/repoperls/installed-perls/perl/v5.16.3/127e/lib/site_perl/5.16.3/Class/Load.pm line 177
	Class::Load::try {...} () called at /home/sand/src/perl/repoperls/installed-perls/perl/v5.16.3/127e/lib/site_perl/5.16.3/Try/Tiny.pm line 78
	eval {...} called at /home/sand/src/perl/repoperls/installed-perls/perl/v5.16.3/127e/lib/site_perl/5.16.3/Try/Tiny.pm line 74
	Try::Tiny::try(CODE(0x30e6568), Try::Tiny::Catch=REF(0x30e6658)) called at /home/sand/src/perl/repoperls/installed-perls/perl/v5.16.3/127e/lib/site_perl/5.16.3/Class/Load.pm line 183
	Class::Load::try_load_class("t::TestCatalystMinify1", undef) called at /home/sand/src/perl/repoperls/installed-perls/perl/v5.16.3/127e/lib/site_perl/5.16.3/Class/Load.pm line 38
	Class::Load::load_class("t::TestCatalystMinify1") called at /home/sand/src/perl/repoperls/installed-perls/perl/v5.16.3/127e/lib/site_perl/5.16.3/Catalyst/Test.pm line 28
	Catalyst::Test::_build_request_export("Catalyst::Test", HASH(0x25c79a8)) called at /home/sand/src/perl/repoperls/installed-perls/perl/v5.16.3/127e/lib/site_perl/5.16.3/Catalyst/Test.pm line 91
	Catalyst::Test::__ANON__("Catalyst::Test", "all", HASH(0x25c7960), HASH(0x251d320)) called at /home/sand/src/perl/repoperls/installed-perls/perl/v5.16.3/127e/lib/site_perl/5.16.3/Sub/Exporter.pm line 108
	Sub::Exporter::_expand_group("Catalyst::Test", HASH(0x345e218), ARRAY(0x254b258), HASH(0x251d320), HASH(0x25c79d8), HASH(0x251d308)) called at /home/sand/src/perl/repoperls/installed-perls/perl/v5.16.3/127e/lib/site_perl/5.16.3/Sub/Exporter.pm line 39
	Sub::Exporter::_expand_groups("Catalyst::Test", HASH(0x345e218), ARRAY(0x345e350), HASH(0x251d320)) called at /home/sand/src/perl/repoperls/installed-perls/perl/v5.16.3/127e/lib/site_perl/5.16.3/Sub/Exporter.pm line 323
	Sub::Exporter::__ANON__("Catalyst::Test", "-all", HASH(0x251cd20)) called at /home/sand/src/perl/repoperls/installed-perls/perl/v5.16.3/127e/lib/site_perl/5.16.3/Catalyst/Test.pm line 154
	Catalyst::Test::import("Catalyst::Test", "t::TestCatalystMinify1") called at t/004-caching.t line 8
	main::BEGIN() called at t/TestCatalystMinify1.pm line 0
	eval {...} called at t/TestCatalystMinify1.pm line 0
Class::MOP::is_class_loaded is deprecated at /home/sand/src/perl/repoperls/installed-perls/perl/v5.16.3/127e/lib/site_perl/5.16.3/x86_64-linux-ld/Class/MOP.pm line 94.
	Class::MOP::is_class_loaded("Catalyst::Stats") called at /home/sand/src/perl/repoperls/installed-perls/perl/v5.16.3/127e/lib/site_perl/5.16.3/Catalyst/Utils.pm line 300
	Catalyst::Utils::ensure_class_loaded("Catalyst::Stats") called at /home/sand/src/perl/repoperls/installed-perls/perl/v5.16.3/127e/lib/site_perl/5.16.3/Catalyst.pm line 2930
	Catalyst::setup_stats("t::TestCatalystMinify1", undef) called at /home/sand/src/perl/repoperls/installed-perls/perl/v5.16.3/127e/lib/site_perl/5.16.3/Catalyst.pm line 1116
	Catalyst::setup("t::TestCatalystMinify1", "Assets") called at t/TestCatalystBase.pm line 78
	t::TestCatalystBase::setup_("t::TestCatalystMinify1", "assets", HASH(0x25c7d20)) called at t/TestCatalystMinify1.pm line 7
	require t/TestCatalystMinify1.pm called at /home/sand/src/perl/repoperls/installed-perls/perl/v5.16.3/127e/lib/site_perl/5.16.3/Module/Runtime.pm line 317
	Module::Runtime::require_module("t::TestCatalystMinify1") called at /home/sand/src/perl/repoperls/installed-perls/perl/v5.16.3/127e/lib/site_perl/5.16.3/Class/Load.pm line 177
	Class::Load::try {...} () called at /home/sand/src/perl/repoperls/installed-perls/perl/v5.16.3/127e/lib/site_perl/5.16.3/Try/Tiny.pm line 78
	eval {...} called at /home/sand/src/perl/repoperls/installed-perls/perl/v5.16.3/127e/lib/site_perl/5.16.3/Try/Tiny.pm line 74
	Try::Tiny::try(CODE(0x30e6568), Try::Tiny::Catch=REF(0x30e6658)) called at /home/sand/src/perl/repoperls/installed-perls/perl/v5.16.3/127e/lib/site_perl/5.16.3/Class/Load.pm line 183
	Class::Load::try_load_class("t::TestCatalystMinify1", undef) called at /home/sand/src/perl/repoperls/installed-perls/perl/v5.16.3/127e/lib/site_perl/5.16.3/Class/Load.pm line 38
	Class::Load::load_class("t::TestCatalystMinify1") called at /home/sand/src/perl/repoperls/installed-perls/perl/v5.16.3/127e/lib/site_perl/5.16.3/Catalyst/Test.pm line 28
	Catalyst::Test::_build_request_export("Catalyst::Test", HASH(0x25c79a8)) called at /home/sand/src/perl/repoperls/installed-perls/perl/v5.16.3/127e/lib/site_perl/5.16.3/Catalyst/Test.pm line 91
	Catalyst::Test::__ANON__("Catalyst::Test", "all", HASH(0x25c7960), HASH(0x251d320)) called at /home/sand/src/perl/repoperls/installed-perls/perl/v5.16.3/127e/lib/site_perl/5.16.3/Sub/Exporter.pm line 108
	Sub::Exporter::_expand_group("Catalyst::Test", HASH(0x345e218), ARRAY(0x254b258), HASH(0x251d320), HASH(0x25c79d8), HASH(0x251d308)) called at /home/sand/src/perl/repoperls/installed-perls/perl/v5.16.3/127e/lib/site_perl/5.16.3/Sub/Exporter.pm line 39
	Sub::Exporter::_expand_groups("Catalyst::Test", HASH(0x345e218), ARRAY(0x345e350), HASH(0x251d320)) called at /home/sand/src/perl/repoperls/installed-perls/perl/v5.16.3/127e/lib/site_perl/5.16.3/Sub/Exporter.pm line 323
	Sub::Exporter::__ANON__("Catalyst::Test", "-all", HASH(0x251cd20)) called at /home/sand/src/perl/repoperls/installed-perls/perl/v5.16.3/127e/lib/site_perl/5.16.3/Catalyst/Test.pm line 154
	Catalyst::Test::import("Catalyst::Test", "t::TestCatalystMinify1") called at t/004-caching.t line 8
	main::BEGIN() called at t/TestCatalystMinify1.pm line 0
	eval {...} called at t/TestCatalystMinify1.pm line 0

*** Setting t::TestCatalystMinify1->config->{assets} has been deprecated!
*** Please update your configuration to use t::TestCatalystMinify1->config->{'Plugin::Assets'} instead...
*** I'm copying 'assets' into 'Plugin::Assets' ...
Class::MOP::load_class is deprecated at /home/sand/src/perl/repoperls/installed-perls/perl/v5.16.3/127e/lib/site_perl/5.16.3/x86_64-linux-ld/Class/MOP.pm line 76.
	Class::MOP::load_class("Catalyst::DispatchType::Index") called at /home/sand/src/perl/repoperls/installed-perls/perl/v5.16.3/127e/lib/site_perl/5.16.3/Catalyst/Dispatcher.pm line 663
	eval {...} called at /home/sand/src/perl/repoperls/installed-perls/perl/v5.16.3/127e/lib/site_perl/5.16.3/Catalyst/Dispatcher.pm line 663
	Catalyst::Dispatcher::_load_dispatch_types(Catalyst::Dispatcher=HASH(0x3dab430), "Index", "Path") called at /home/sand/src/perl/repoperls/installed-perls/perl/v5.16.3/127e/lib/site_perl/5.16.3/Catalyst/Dispatcher.pm line 603
	Catalyst::Dispatcher::setup_actions(Catalyst::Dispatcher=HASH(0x3dab430), "t::TestCatalystMinify1") called at /home/sand/src/perl/repoperls/installed-perls/perl/v5.16.3/127e/lib/site_perl/5.16.3/Catalyst.pm line 2499
	Catalyst::setup_actions("t::TestCatalystMinify1") called at /home/sand/src/perl/repoperls/installed-perls/perl/v5.16.3/127e/lib/site_perl/5.16.3/Catalyst.pm line 1195
	Catalyst::setup("t::TestCatalystMinify1", "Assets") called at t/TestCatalystBase.pm line 78
	t::TestCatalystBase::setup_("t::TestCatalystMinify1", "assets", HASH(0x25c7d20)) called at t/TestCatalystMinify1.pm line 7
	require t/TestCatalystMinify1.pm called at /home/sand/src/perl/repoperls/installed-perls/perl/v5.16.3/127e/lib/site_perl/5.16.3/Module/Runtime.pm line 317
	Module::Runtime::require_module("t::TestCatalystMinify1") called at /home/sand/src/perl/repoperls/installed-perls/perl/v5.16.3/127e/lib/site_perl/5.16.3/Class/Load.pm line 177
	Class::Load::try {...} () called at /home/sand/src/perl/repoperls/installed-perls/perl/v5.16.3/127e/lib/site_perl/5.16.3/Try/Tiny.pm line 78
	eval {...} called at /home/sand/src/perl/repoperls/installed-perls/perl/v5.16.3/127e/lib/site_perl/5.16.3/Try/Tiny.pm line 74
	Try::Tiny::try(CODE(0x30e6568), Try::Tiny::Catch=REF(0x30e6658)) called at /home/sand/src/perl/repoperls/installed-perls/perl/v5.16.3/127e/lib/site_perl/5.16.3/Class/Load.pm line 183
	Class::Load::try_load_class("t::TestCatalystMinify1", undef) called at /home/sand/src/perl/repoperls/installed-perls/perl/v5.16.3/127e/lib/site_perl/5.16.3/Class/Load.pm line 38
	Class::Load::load_class("t::TestCatalystMinify1") called at /home/sand/src/perl/repoperls/installed-perls/perl/v5.16.3/127e/lib/site_perl/5.16.3/Catalyst/Test.pm line 28
	Catalyst::Test::_build_request_export("Catalyst::Test", HASH(0x25c79a8)) called at /home/sand/src/perl/repoperls/installed-perls/perl/v5.16.3/127e/lib/site_perl/5.16.3/Catalyst/Test.pm line 91
	Catalyst::Test::__ANON__("Catalyst::Test", "all", HASH(0x25c7960), HASH(0x251d320)) called at /home/sand/src/perl/repoperls/installed-perls/perl/v5.16.3/127e/lib/site_perl/5.16.3/Sub/Exporter.pm line 108
	Sub::Exporter::_expand_group("Catalyst::Test", HASH(0x345e218), ARRAY(0x254b258), HASH(0x251d320), HASH(0x25c79d8), HASH(0x251d308)) called at /home/sand/src/perl/repoperls/installed-perls/perl/v5.16.3/127e/lib/site_perl/5.16.3/Sub/Exporter.pm line 39
	Sub::Exporter::_expand_groups("Catalyst::Test", HASH(0x345e218), ARRAY(0x345e350), HASH(0x251d320)) called at /home/sand/src/perl/repoperls/installed-perls/perl/v5.16.3/127e/lib/site_perl/5.16.3/Sub/Exporter.pm line 323
	Sub::Exporter::__ANON__("Catalyst::Test", "-all", HASH(0x251cd20)) called at /home/sand/src/perl/repoperls/installed-perls/perl/v5.16.3/127e/lib/site_perl/5.16.3/Catalyst/Test.pm line 154
	Catalyst::Test::import("Catalyst::Test", "t::TestCatalystMinify1") called at t/004-caching.t line 8
	main::BEGIN() called at t/TestCatalystMinify1.pm line 0
	eval {...} called at t/TestCatalystMinify1.pm line 0
Class::MOP::load_class is deprecated at /home/sand/src/perl/repoperls/installed-perls/perl/v5.16.3/127e/lib/site_perl/5.16.3/x86_64-linux-ld/Class/MOP.pm line 76.
	Class::MOP::load_class("Catalyst::Action") called at /home/sand/src/perl/repoperls/installed-perls/perl/v5.16.3/127e/lib/site_perl/5.16.3/Catalyst/Controller.pm line 320
	Catalyst::Controller::action_class("t::TestCatalystMinify1", "namespace", "", "name", "_DISPATCH", "class", "t::TestCatalystMinify1", "attributes", HASH(0x3982770), ...) called at /home/sand/src/perl/repoperls/installed-perls/perl/v5.16.3/127e/lib/site_perl/5.16.3/Catalyst/Controller.pm line 328
	Catalyst::Controller::create_action("t::TestCatalystMinify1", "name", "_DISPATCH", "code", CODE(0x394c5a0), "reverse", "_DISPATCH", "namespace", "", ...) called at /home/sand/src/perl/repoperls/installed-perls/perl/v5.16.3/127e/lib/site_perl/5.16.3/Catalyst/Controller.pm line 285
	Catalyst::Controller::register_action_methods("t::TestCatalystMinify1", "t::TestCatalystMinify1", Moose::Meta::Class::__ANON__::SERIAL::7=HASH(0x42197e0), Moose::Meta::Class::__ANON__::SERIAL::7=HASH(0x4241ac8), Moose::Meta::Class::__ANON__::SERIAL::7=HASH(0x4241948), Moose::Meta::Class::__ANON__::SERIAL::7=HASH(0x4218cb8), Moose::Meta::Class::__ANON__::SERIAL::7=HASH(0x42383e0), Moose::Meta::Class::__ANON__::SERIAL::7=HASH(0x42437b0), Moose::Meta::Class::__ANON__::SERIAL::7=HASH(0x4242470), ...) called at /home/sand/src/perl/repoperls/installed-perls/perl/v5.16.3/127e/lib/site_perl/5.16.3/Catalyst/Controller.pm line 254
	Catalyst::Controller::register_actions("t::TestCatalystMinify1", "t::TestCatalystMinify1") called at /home/sand/src/perl/repoperls/installed-perls/perl/v5.16.3/127e/lib/site_perl/5.16.3/Catalyst/Dispatcher.pm line 607
	Catalyst::Dispatcher::setup_actions(Catalyst::Dispatcher=HASH(0x3dab430), "t::TestCatalystMinify1") called at /home/sand/src/perl/repoperls/installed-perls/perl/v5.16.3/127e/lib/site_perl/5.16.3/Catalyst.pm line 2499
	Catalyst::setup_actions("t::TestCatalystMinify1") called at /home/sand/src/perl/repoperls/installed-perls/perl/v5.16.3/127e/lib/site_perl/5.16.3/Catalyst.pm line 1195
	Catalyst::setup("t::TestCatalystMinify1", "Assets") called at t/TestCatalystBase.pm line 78
	t::TestCatalystBase::setup_("t::TestCatalystMinify1", "assets", HASH(0x25c7d20)) called at t/TestCatalystMinify1.pm line 7
	require t/TestCatalystMinify1.pm called at /home/sand/src/perl/repoperls/installed-perls/perl/v5.16.3/127e/lib/site_perl/5.16.3/Module/Runtime.pm line 317
	Module::Runtime::require_module("t::TestCatalystMinify1") called at /home/sand/src/perl/repoperls/installed-perls/perl/v5.16.3/127e/lib/site_perl/5.16.3/Class/Load.pm line 177
	Class::Load::try {...} () called at /home/sand/src/perl/repoperls/installed-perls/perl/v5.16.3/127e/lib/site_perl/5.16.3/Try/Tiny.pm line 78
	eval {...} called at /home/sand/src/perl/repoperls/installed-perls/perl/v5.16.3/127e/lib/site_perl/5.16.3/Try/Tiny.pm line 74
	Try::Tiny::try(CODE(0x30e6568), Try::Tiny::Catch=REF(0x30e6658)) called at /home/sand/src/perl/repoperls/installed-perls/perl/v5.16.3/127e/lib/site_perl/5.16.3/Class/Load.pm line 183
	Class::Load::try_load_class("t::TestCatalystMinify1", undef) called at /home/sand/src/perl/repoperls/installed-perls/perl/v5.16.3/127e/lib/site_perl/5.16.3/Class/Load.pm line 38
	Class::Load::load_class("t::TestCatalystMinify1") called at /home/sand/src/perl/repoperls/installed-perls/perl/v5.16.3/127e/lib/site_perl/5.16.3/Catalyst/Test.pm line 28
	Catalyst::Test::_build_request_export("Catalyst::Test", HASH(0x25c79a8)) called at /home/sand/src/perl/repoperls/installed-perls/perl/v5.16.3/127e/lib/site_perl/5.16.3/Catalyst/Test.pm line 91
	Catalyst::Test::__ANON__("Catalyst::Test", "all", HASH(0x25c7960), HASH(0x251d320)) called at /home/sand/src/perl/repoperls/installed-perls/perl/v5.16.3/127e/lib/site_perl/5.16.3/Sub/Exporter.pm line 108
	Sub::Exporter::_expand_group("Catalyst::Test", HASH(0x345e218), ARRAY(0x254b258), HASH(0x251d320), HASH(0x25c79d8), HASH(0x251d308)) called at /home/sand/src/perl/repoperls/installed-perls/perl/v5.16.3/127e/lib/site_perl/5.16.3/Sub/Exporter.pm line 39
	Sub::Exporter::_expand_groups("Catalyst::Test", HASH(0x345e218), ARRAY(0x345e350), HASH(0x251d320)) called at /home/sand/src/perl/repoperls/installed-perls/perl/v5.16.3/127e/lib/site_perl/5.16.3/Sub/Exporter.pm line 323
	Sub::Exporter::__ANON__("Catalyst::Test", "-all", HASH(0x251cd20)) called at /home/sand/src/perl/repoperls/installed-perls/perl/v5.16.3/127e/lib/site_perl/5.16.3/Catalyst/Test.pm line 154
	Catalyst::Test::import("Catalyst::Test", "t::TestCatalystMinify1") called at t/004-caching.t line 8
	main::BEGIN() called at t/TestCatalystMinify1.pm line 0
	eval {...} called at t/TestCatalystMinify1.pm line 0
[warn] Action methods (auto, default, fruit_salad) found defined in your application class, t::TestCatalystMinify1. This is deprecated, please move them into a Root controller.
t/004-caching.t ............................. ok
Class::MOP::is_class_loaded is deprecated at /home/sand/src/perl/repoperls/installed-perls/perl/v5.16.3/127e/lib/site_perl/5.16.3/x86_64-linux-ld/Class/MOP.pm line 94.
	Class::MOP::is_class_loaded("t::TestCatalystMinify1") called at /home/sand/src/perl/repoperls/installed-perls/perl/v5.16.3/127e/lib/site_perl/5.16.3/Catalyst/Test.pm line 28
	Catalyst::Test::_build_request_export("Catalyst::Test", HASH(0x20026d8)) called at /home/sand/src/perl/repoperls/installed-perls/perl/v5.16.3/127e/lib/site_perl/5.16.3/Catalyst/Test.pm line 91
	Catalyst::Test::__ANON__("Catalyst::Test", "all", HASH(0x2002690), HASH(0x1f58060)) called at /home/sand/src/perl/repoperls/installed-perls/perl/v5.16.3/127e/lib/site_perl/5.16.3/Sub/Exporter.pm line 108
	Sub::Exporter::_expand_group("Catalyst::Test", HASH(0x2e99008), ARRAY(0x1f85f98), HASH(0x1f58060), HASH(0x2002708), HASH(0x1f58048)) called at /home/sand/src/perl/repoperls/installed-perls/perl/v5.16.3/127e/lib/site_perl/5.16.3/Sub/Exporter.pm line 39
	Sub::Exporter::_expand_groups("Catalyst::Test", HASH(0x2e99008), ARRAY(0x2e99140), HASH(0x1f58060)) called at /home/sand/src/perl/repoperls/installed-perls/perl/v5.16.3/127e/lib/site_perl/5.16.3/Sub/Exporter.pm line 323
	Sub::Exporter::__ANON__("Catalyst::Test", "-all", HASH(0x1f57a60)) called at /home/sand/src/perl/repoperls/installed-perls/perl/v5.16.3/127e/lib/site_perl/5.16.3/Catalyst/Test.pm line 154
	Catalyst::Test::import("Catalyst::Test", "t::TestCatalystMinify1") called at t/010-configuration-minify-1.t line 8
	main::BEGIN() called at t/010-configuration-minify-1.t line 8
	eval {...} called at t/010-configuration-minify-1.t line 8
Class::MOP::load_class is deprecated at /home/sand/src/perl/repoperls/installed-perls/perl/v5.16.3/127e/lib/site_perl/5.16.3/x86_64-linux-ld/Class/MOP.pm line 76.
	Class::MOP::load_class("t::TestCatalystMinify1") called at /home/sand/src/perl/repoperls/installed-perls/perl/v5.16.3/127e/lib/site_perl/5.16.3/Catalyst/Test.pm line 28
	Catalyst::Test::_build_request_export("Catalyst::Test", HASH(0x20026d8)) called at /home/sand/src/perl/repoperls/installed-perls/perl/v5.16.3/127e/lib/site_perl/5.16.3/Catalyst/Test.pm line 91
	Catalyst::Test::__ANON__("Catalyst::Test", "all", HASH(0x2002690), HASH(0x1f58060)) called at /home/sand/src/perl/repoperls/installed-perls/perl/v5.16.3/127e/lib/site_perl/5.16.3/Sub/Exporter.pm line 108
	Sub::Exporter::_expand_group("Catalyst::Test", HASH(0x2e99008), ARRAY(0x1f85f98), HASH(0x1f58060), HASH(0x2002708), HASH(0x1f58048)) called at /home/sand/src/perl/repoperls/installed-perls/perl/v5.16.3/127e/lib/site_perl/5.16.3/Sub/Exporter.pm line 39
	Sub::Exporter::_expand_groups("Catalyst::Test", HASH(0x2e99008), ARRAY(0x2e99140), HASH(0x1f58060)) called at /home/sand/src/perl/repoperls/installed-perls/perl/v5.16.3/127e/lib/site_perl/5.16.3/Sub/Exporter.pm line 323
	Sub::Exporter::__ANON__("Catalyst::Test", "-all", HASH(0x1f57a60)) called at /home/sand/src/perl/repoperls/installed-perls/perl/v5.16.3/127e/lib/site_perl/5.16.3/Catalyst/Test.pm line 154
	Catalyst::Test::import("Catalyst::Test", "t::TestCatalystMinify1") called at t/010-configuration-minify-1.t line 8
	main::BEGIN() called at t/010-configuration-minify-1.t line 8
	eval {...} called at t/010-configuration-minify-1.t line 8
Class::MOP::load_class is deprecated at /home/sand/src/perl/repoperls/installed-perls/perl/v5.16.3/127e/lib/site_perl/5.16.3/x86_64-linux-ld/Class/MOP.pm line 76.
	Class::MOP::load_class("Catalyst::Plugin::Unicode::Encoding", undef) called at /home/sand/src/perl/repoperls/installed-perls/perl/v5.16.3/127e/lib/site_perl/5.16.3/Catalyst.pm line 3017
	Catalyst::setup_plugins("t::TestCatalystMinify1", ARRAY(0x3706c78)) called at /home/sand/src/perl/repoperls/installed-perls/perl/v5.16.3/127e/lib/site_perl/5.16.3/Catalyst.pm line 1110
	Catalyst::setup("t::TestCatalystMinify1", "Assets") called at t/TestCatalystBase.pm line 78
	t::TestCatalystBase::setup_("t::TestCatalystMinify1", "assets", HASH(0x2002a50)) called at t/TestCatalystMinify1.pm line 7
	require t/TestCatalystMinify1.pm called at /home/sand/src/perl/repoperls/installed-perls/perl/v5.16.3/127e/lib/site_perl/5.16.3/Module/Runtime.pm line 317
	Module::Runtime::require_module("t::TestCatalystMinify1") called at /home/sand/src/perl/repoperls/installed-perls/perl/v5.16.3/127e/lib/site_perl/5.16.3/Class/Load.pm line 177
	Class::Load::try {...} () called at /home/sand/src/perl/repoperls/installed-perls/perl/v5.16.3/127e/lib/site_perl/5.16.3/Try/Tiny.pm line 78
	eval {...} called at /home/sand/src/perl/repoperls/installed-perls/perl/v5.16.3/127e/lib/site_perl/5.16.3/Try/Tiny.pm line 74
	Try::Tiny::try(CODE(0x2b21408), Try::Tiny::Catch=REF(0x2b214f8)) called at /home/sand/src/perl/repoperls/installed-perls/perl/v5.16.3/127e/lib/site_perl/5.16.3/Class/Load.pm line 183
	Class::Load::try_load_class("t::TestCatalystMinify1", undef) called at /home/sand/src/perl/repoperls/installed-perls/perl/v5.16.3/127e/lib/site_perl/5.16.3/Class/Load.pm line 38
	Class::Load::load_class("t::TestCatalystMinify1") called at /home/sand/src/perl/repoperls/installed-perls/perl/v5.16.3/127e/lib/site_perl/5.16.3/Catalyst/Test.pm line 28
	Catalyst::Test::_build_request_export("Catalyst::Test", HASH(0x20026d8)) called at /home/sand/src/perl/repoperls/installed-perls/perl/v5.16.3/127e/lib/site_perl/5.16.3/Catalyst/Test.pm line 91
	Catalyst::Test::__ANON__("Catalyst::Test", "all", HASH(0x2002690), HASH(0x1f58060)) called at /home/sand/src/perl/repoperls/installed-perls/perl/v5.16.3/127e/lib/site_perl/5.16.3/Sub/Exporter.pm line 108
	Sub::Exporter::_expand_group("Catalyst::Test", HASH(0x2e99008), ARRAY(0x1f85f98), HASH(0x1f58060), HASH(0x2002708), HASH(0x1f58048)) called at /home/sand/src/perl/repoperls/installed-perls/perl/v5.16.3/127e/lib/site_perl/5.16.3/Sub/Exporter.pm line 39
	Sub::Exporter::_expand_groups("Catalyst::Test", HASH(0x2e99008), ARRAY(0x2e99140), HASH(0x1f58060)) called at /home/sand/src/perl/repoperls/installed-perls/perl/v5.16.3/127e/lib/site_perl/5.16.3/Sub/Exporter.pm line 323
	Sub::Exporter::__ANON__("Catalyst::Test", "-all", HASH(0x1f57a60)) called at /home/sand/src/perl/repoperls/installed-perls/perl/v5.16.3/127e/lib/site_perl/5.16.3/Catalyst/Test.pm line 154
	Catalyst::Test::import("Catalyst::Test", "t::TestCatalystMinify1") called at t/010-configuration-minify-1.t line 8
	main::BEGIN() called at t/TestCatalystMinify1.pm line 0
	eval {...} called at t/TestCatalystMinify1.pm line 0
Class::MOP::is_class_loaded is deprecated at /home/sand/src/perl/repoperls/installed-perls/perl/v5.16.3/127e/lib/site_perl/5.16.3/x86_64-linux-ld/Class/MOP.pm line 94.
	Class::MOP::is_class_loaded("Catalyst::Stats") called at /home/sand/src/perl/repoperls/installed-perls/perl/v5.16.3/127e/lib/site_perl/5.16.3/Catalyst/Utils.pm line 300
	Catalyst::Utils::ensure_class_loaded("Catalyst::Stats") called at /home/sand/src/perl/repoperls/installed-perls/perl/v5.16.3/127e/lib/site_perl/5.16.3/Catalyst.pm line 2930
	Catalyst::setup_stats("t::TestCatalystMinify1", undef) called at /home/sand/src/perl/repoperls/installed-perls/perl/v5.16.3/127e/lib/site_perl/5.16.3/Catalyst.pm line 1116
	Catalyst::setup("t::TestCatalystMinify1", "Assets") called at t/TestCatalystBase.pm line 78
	t::TestCatalystBase::setup_("t::TestCatalystMinify1", "assets", HASH(0x2002a50)) called at t/TestCatalystMinify1.pm line 7
	require t/TestCatalystMinify1.pm called at /home/sand/src/perl/repoperls/installed-perls/perl/v5.16.3/127e/lib/site_perl/5.16.3/Module/Runtime.pm line 317
	Module::Runtime::require_module("t::TestCatalystMinify1") called at /home/sand/src/perl/repoperls/installed-perls/perl/v5.16.3/127e/lib/site_perl/5.16.3/Class/Load.pm line 177
	Class::Load::try {...} () called at /home/sand/src/perl/repoperls/installed-perls/perl/v5.16.3/127e/lib/site_perl/5.16.3/Try/Tiny.pm line 78
	eval {...} called at /home/sand/src/perl/repoperls/installed-perls/perl/v5.16.3/127e/lib/site_perl/5.16.3/Try/Tiny.pm line 74
	Try::Tiny::try(CODE(0x2b21408), Try::Tiny::Catch=REF(0x2b214f8)) called at /home/sand/src/perl/repoperls/installed-perls/perl/v5.16.3/127e/lib/site_perl/5.16.3/Class/Load.pm line 183
	Class::Load::try_load_class("t::TestCatalystMinify1", undef) called at /home/sand/src/perl/repoperls/installed-perls/perl/v5.16.3/127e/lib/site_perl/5.16.3/Class/Load.pm line 38
	Class::Load::load_class("t::TestCatalystMinify1") called at /home/sand/src/perl/repoperls/installed-perls/perl/v5.16.3/127e/lib/site_perl/5.16.3/Catalyst/Test.pm line 28
	Catalyst::Test::_build_request_export("Catalyst::Test", HASH(0x20026d8)) called at /home/sand/src/perl/repoperls/installed-perls/perl/v5.16.3/127e/lib/site_perl/5.16.3/Catalyst/Test.pm line 91
	Catalyst::Test::__ANON__("Catalyst::Test", "all", HASH(0x2002690), HASH(0x1f58060)) called at /home/sand/src/perl/repoperls/installed-perls/perl/v5.16.3/127e/lib/site_perl/5.16.3/Sub/Exporter.pm line 108
	Sub::Exporter::_expand_group("Catalyst::Test", HASH(0x2e99008), ARRAY(0x1f85f98), HASH(0x1f58060), HASH(0x2002708), HASH(0x1f58048)) called at /home/sand/src/perl/repoperls/installed-perls/perl/v5.16.3/127e/lib/site_perl/5.16.3/Sub/Exporter.pm line 39
	Sub::Exporter::_expand_groups("Catalyst::Test", HASH(0x2e99008), ARRAY(0x2e99140), HASH(0x1f58060)) called at /home/sand/src/perl/repoperls/installed-perls/perl/v5.16.3/127e/lib/site_perl/5.16.3/Sub/Exporter.pm line 323
	Sub::Exporter::__ANON__("Catalyst::Test", "-all", HASH(0x1f57a60)) called at /home/sand/src/perl/repoperls/installed-perls/perl/v5.16.3/127e/lib/site_perl/5.16.3/Catalyst/Test.pm line 154
	Catalyst::Test::import("Catalyst::Test", "t::TestCatalystMinify1") called at t/010-configuration-minify-1.t line 8
	main::BEGIN() called at t/TestCatalystMinify1.pm line 0
	eval {...} called at t/TestCatalystMinify1.pm line 0

*** Setting t::TestCatalystMinify1->config->{assets} has been deprecated!
*** Please update your configuration to use t::TestCatalystMinify1->config->{'Plugin::Assets'} instead...
*** I'm copying 'assets' into 'Plugin::Assets' ...
Class::MOP::load_class is deprecated at /home/sand/src/perl/repoperls/installed-perls/perl/v5.16.3/127e/lib/site_perl/5.16.3/x86_64-linux-ld/Class/MOP.pm line 76.
	Class::MOP::load_class("Catalyst::DispatchType::Index") called at /home/sand/src/perl/repoperls/installed-perls/perl/v5.16.3/127e/lib/site_perl/5.16.3/Catalyst/Dispatcher.pm line 663
	eval {...} called at /home/sand/src/perl/repoperls/installed-perls/perl/v5.16.3/127e/lib/site_perl/5.16.3/Catalyst/Dispatcher.pm line 663
	Catalyst::Dispatcher::_load_dispatch_types(Catalyst::Dispatcher=HASH(0x37e5ea0), "Index", "Path") called at /home/sand/src/perl/repoperls/installed-perls/perl/v5.16.3/127e/lib/site_perl/5.16.3/Catalyst/Dispatcher.pm line 603
	Catalyst::Dispatcher::setup_actions(Catalyst::Dispatcher=HASH(0x37e5ea0), "t::TestCatalystMinify1") called at /home/sand/src/perl/repoperls/installed-perls/perl/v5.16.3/127e/lib/site_perl/5.16.3/Catalyst.pm line 2499
	Catalyst::setup_actions("t::TestCatalystMinify1") called at /home/sand/src/perl/repoperls/installed-perls/perl/v5.16.3/127e/lib/site_perl/5.16.3/Catalyst.pm line 1195
	Catalyst::setup("t::TestCatalystMinify1", "Assets") called at t/TestCatalystBase.pm line 78
	t::TestCatalystBase::setup_("t::TestCatalystMinify1", "assets", HASH(0x2002a50)) called at t/TestCatalystMinify1.pm line 7
	require t/TestCatalystMinify1.pm called at /home/sand/src/perl/repoperls/installed-perls/perl/v5.16.3/127e/lib/site_perl/5.16.3/Module/Runtime.pm line 317
	Module::Runtime::require_module("t::TestCatalystMinify1") called at /home/sand/src/perl/repoperls/installed-perls/perl/v5.16.3/127e/lib/site_perl/5.16.3/Class/Load.pm line 177
	Class::Load::try {...} () called at /home/sand/src/perl/repoperls/installed-perls/perl/v5.16.3/127e/lib/site_perl/5.16.3/Try/Tiny.pm line 78
	eval {...} called at /home/sand/src/perl/repoperls/installed-perls/perl/v5.16.3/127e/lib/site_perl/5.16.3/Try/Tiny.pm line 74
	Try::Tiny::try(CODE(0x2b21408), Try::Tiny::Catch=REF(0x2b214f8)) called at /home/sand/src/perl/repoperls/installed-perls/perl/v5.16.3/127e/lib/site_perl/5.16.3/Class/Load.pm line 183
	Class::Load::try_load_class("t::TestCatalystMinify1", undef) called at /home/sand/src/perl/repoperls/installed-perls/perl/v5.16.3/127e/lib/site_perl/5.16.3/Class/Load.pm line 38
	Class::Load::load_class("t::TestCatalystMinify1") called at /home/sand/src/perl/repoperls/installed-perls/perl/v5.16.3/127e/lib/site_perl/5.16.3/Catalyst/Test.pm line 28
	Catalyst::Test::_build_request_export("Catalyst::Test", HASH(0x20026d8)) called at /home/sand/src/perl/repoperls/installed-perls/perl/v5.16.3/127e/lib/site_perl/5.16.3/Catalyst/Test.pm line 91
	Catalyst::Test::__ANON__("Catalyst::Test", "all", HASH(0x2002690), HASH(0x1f58060)) called at /home/sand/src/perl/repoperls/installed-perls/perl/v5.16.3/127e/lib/site_perl/5.16.3/Sub/Exporter.pm line 108
	Sub::Exporter::_expand_group("Catalyst::Test", HASH(0x2e99008), ARRAY(0x1f85f98), HASH(0x1f58060), HASH(0x2002708), HASH(0x1f58048)) called at /home/sand/src/perl/repoperls/installed-perls/perl/v5.16.3/127e/lib/site_perl/5.16.3/Sub/Exporter.pm line 39
	Sub::Exporter::_expand_groups("Catalyst::Test", HASH(0x2e99008), ARRAY(0x2e99140), HASH(0x1f58060)) called at /home/sand/src/perl/repoperls/installed-perls/perl/v5.16.3/127e/lib/site_perl/5.16.3/Sub/Exporter.pm line 323
	Sub::Exporter::__ANON__("Catalyst::Test", "-all", HASH(0x1f57a60)) called at /home/sand/src/perl/repoperls/installed-perls/perl/v5.16.3/127e/lib/site_perl/5.16.3/Catalyst/Test.pm line 154
	Catalyst::Test::import("Catalyst::Test", "t::TestCatalystMinify1") called at t/010-configuration-minify-1.t line 8
	main::BEGIN() called at t/TestCatalystMinify1.pm line 0
	eval {...} called at t/TestCatalystMinify1.pm line 0
Class::MOP::load_class is deprecated at /home/sand/src/perl/repoperls/installed-perls/perl/v5.16.3/127e/lib/site_perl/5.16.3/x86_64-linux-ld/Class/MOP.pm line 76.
	Class::MOP::load_class("Catalyst::Action") called at /home/sand/src/perl/repoperls/installed-perls/perl/v5.16.3/127e/lib/site_perl/5.16.3/Catalyst/Controller.pm line 320
	Catalyst::Controller::action_class("t::TestCatalystMinify1", "namespace", "", "name", "_DISPATCH", "class", "t::TestCatalystMinify1", "attributes", HASH(0x33bd430), ...) called at /home/sand/src/perl/repoperls/installed-perls/perl/v5.16.3/127e/lib/site_perl/5.16.3/Catalyst/Controller.pm line 328
	Catalyst::Controller::create_action("t::TestCatalystMinify1", "name", "_DISPATCH", "code", CODE(0x3387210), "reverse", "_DISPATCH", "namespace", "", ...) called at /home/sand/src/perl/repoperls/installed-perls/perl/v5.16.3/127e/lib/site_perl/5.16.3/Catalyst/Controller.pm line 285
	Catalyst::Controller::register_action_methods("t::TestCatalystMinify1", "t::TestCatalystMinify1", Moose::Meta::Class::__ANON__::SERIAL::7=HASH(0x3c54270), Moose::Meta::Class::__ANON__::SERIAL::7=HASH(0x3c7c4d8), Moose::Meta::Class::__ANON__::SERIAL::7=HASH(0x3c7c358), Moose::Meta::Class::__ANON__::SERIAL::7=HASH(0x3c53748), Moose::Meta::Class::__ANON__::SERIAL::7=HASH(0x3c72df0), Moose::Meta::Class::__ANON__::SERIAL::7=HASH(0x3c7e1c0), Moose::Meta::Class::__ANON__::SERIAL::7=HASH(0x3c7ce80), ...) called at /home/sand/src/perl/repoperls/installed-perls/perl/v5.16.3/127e/lib/site_perl/5.16.3/Catalyst/Controller.pm line 254
	Catalyst::Controller::register_actions("t::TestCatalystMinify1", "t::TestCatalystMinify1") called at /home/sand/src/perl/repoperls/installed-perls/perl/v5.16.3/127e/lib/site_perl/5.16.3/Catalyst/Dispatcher.pm line 607
	Catalyst::Dispatcher::setup_actions(Catalyst::Dispatcher=HASH(0x37e5ea0), "t::TestCatalystMinify1") called at /home/sand/src/perl/repoperls/installed-perls/perl/v5.16.3/127e/lib/site_perl/5.16.3/Catalyst.pm line 2499
	Catalyst::setup_actions("t::TestCatalystMinify1") called at /home/sand/src/perl/repoperls/installed-perls/perl/v5.16.3/127e/lib/site_perl/5.16.3/Catalyst.pm line 1195
	Catalyst::setup("t::TestCatalystMinify1", "Assets") called at t/TestCatalystBase.pm line 78
	t::TestCatalystBase::setup_("t::TestCatalystMinify1", "assets", HASH(0x2002a50)) called at t/TestCatalystMinify1.pm line 7
	require t/TestCatalystMinify1.pm called at /home/sand/src/perl/repoperls/installed-perls/perl/v5.16.3/127e/lib/site_perl/5.16.3/Module/Runtime.pm line 317
	Module::Runtime::require_module("t::TestCatalystMinify1") called at /home/sand/src/perl/repoperls/installed-perls/perl/v5.16.3/127e/lib/site_perl/5.16.3/Class/Load.pm line 177
	Class::Load::try {...} () called at /home/sand/src/perl/repoperls/installed-perls/perl/v5.16.3/127e/lib/site_perl/5.16.3/Try/Tiny.pm line 78
	eval {...} called at /home/sand/src/perl/repoperls/installed-perls/perl/v5.16.3/127e/lib/site_perl/5.16.3/Try/Tiny.pm line 74
	Try::Tiny::try(CODE(0x2b21408), Try::Tiny::Catch=REF(0x2b214f8)) called at /home/sand/src/perl/repoperls/installed-perls/perl/v5.16.3/127e/lib/site_perl/5.16.3/Class/Load.pm line 183
	Class::Load::try_load_class("t::TestCatalystMinify1", undef) called at /home/sand/src/perl/repoperls/installed-perls/perl/v5.16.3/127e/lib/site_perl/5.16.3/Class/Load.pm line 38
	Class::Load::load_class("t::TestCatalystMinify1") called at /home/sand/src/perl/repoperls/installed-perls/perl/v5.16.3/127e/lib/site_perl/5.16.3/Catalyst/Test.pm line 28
	Catalyst::Test::_build_request_export("Catalyst::Test", HASH(0x20026d8)) called at /home/sand/src/perl/repoperls/installed-perls/perl/v5.16.3/127e/lib/site_perl/5.16.3/Catalyst/Test.pm line 91
	Catalyst::Test::__ANON__("Catalyst::Test", "all", HASH(0x2002690), HASH(0x1f58060)) called at /home/sand/src/perl/repoperls/installed-perls/perl/v5.16.3/127e/lib/site_perl/5.16.3/Sub/Exporter.pm line 108
	Sub::Exporter::_expand_group("Catalyst::Test", HASH(0x2e99008), ARRAY(0x1f85f98), HASH(0x1f58060), HASH(0x2002708), HASH(0x1f58048)) called at /home/sand/src/perl/repoperls/installed-perls/perl/v5.16.3/127e/lib/site_perl/5.16.3/Sub/Exporter.pm line 39
	Sub::Exporter::_expand_groups("Catalyst::Test", HASH(0x2e99008), ARRAY(0x2e99140), HASH(0x1f58060)) called at /home/sand/src/perl/repoperls/installed-perls/perl/v5.16.3/127e/lib/site_perl/5.16.3/Sub/Exporter.pm line 323
	Sub::Exporter::__ANON__("Catalyst::Test", "-all", HASH(0x1f57a60)) called at /home/sand/src/perl/repoperls/installed-perls/perl/v5.16.3/127e/lib/site_perl/5.16.3/Catalyst/Test.pm line 154
	Catalyst::Test::import("Catalyst::Test", "t::TestCatalystMinify1") called at t/010-configuration-minify-1.t line 8
	main::BEGIN() called at t/TestCatalystMinify1.pm line 0
	eval {...} called at t/TestCatalystMinify1.pm line 0
[warn] Action methods (auto, default, fruit_salad) found defined in your application class, t::TestCatalystMinify1. This is deprecated, please move them into a Root controller.
t/010-configuration-minify-1.t .............. ok
t/011-configuration-minify-yuicompressor.t .. skipped: install ./yuicompressor.jar to enable this test
Class::MOP::is_class_loaded is deprecated at /home/sand/src/perl/repoperls/installed-perls/perl/v5.16.3/127e/lib/site_perl/5.16.3/x86_64-linux-ld/Class/MOP.pm line 94.
	Class::MOP::is_class_loaded("t::TestCatalystPathing") called at /home/sand/src/perl/repoperls/installed-perls/perl/v5.16.3/127e/lib/site_perl/5.16.3/Catalyst/Test.pm line 28
	Catalyst::Test::_build_request_export("Catalyst::Test", HASH(0x23de6b8)) called at /home/sand/src/perl/repoperls/installed-perls/perl/v5.16.3/127e/lib/site_perl/5.16.3/Catalyst/Test.pm line 91
	Catalyst::Test::__ANON__("Catalyst::Test", "all", HASH(0x23de670), HASH(0x2334040)) called at /home/sand/src/perl/repoperls/installed-perls/perl/v5.16.3/127e/lib/site_perl/5.16.3/Sub/Exporter.pm line 108
	Sub::Exporter::_expand_group("Catalyst::Test", HASH(0x32750b8), ARRAY(0x2361f78), HASH(0x2334040), HASH(0x23de6e8), HASH(0x2334028)) called at /home/sand/src/perl/repoperls/installed-perls/perl/v5.16.3/127e/lib/site_perl/5.16.3/Sub/Exporter.pm line 39
	Sub::Exporter::_expand_groups("Catalyst::Test", HASH(0x32750b8), ARRAY(0x32751f0), HASH(0x2334040)) called at /home/sand/src/perl/repoperls/installed-perls/perl/v5.16.3/127e/lib/site_perl/5.16.3/Sub/Exporter.pm line 323
	Sub::Exporter::__ANON__("Catalyst::Test", "-all", HASH(0x2333a40)) called at /home/sand/src/perl/repoperls/installed-perls/perl/v5.16.3/127e/lib/site_perl/5.16.3/Catalyst/Test.pm line 154
	Catalyst::Test::import("Catalyst::Test", "t::TestCatalystPathing") called at t/012-configuration-pathing.t line 8
	main::BEGIN() called at t/012-configuration-pathing.t line 8
	eval {...} called at t/012-configuration-pathing.t line 8
Class::MOP::load_class is deprecated at /home/sand/src/perl/repoperls/installed-perls/perl/v5.16.3/127e/lib/site_perl/5.16.3/x86_64-linux-ld/Class/MOP.pm line 76.
	Class::MOP::load_class("t::TestCatalystPathing") called at /home/sand/src/perl/repoperls/installed-perls/perl/v5.16.3/127e/lib/site_perl/5.16.3/Catalyst/Test.pm line 28
	Catalyst::Test::_build_request_export("Catalyst::Test", HASH(0x23de6b8)) called at /home/sand/src/perl/repoperls/installed-perls/perl/v5.16.3/127e/lib/site_perl/5.16.3/Catalyst/Test.pm line 91
	Catalyst::Test::__ANON__("Catalyst::Test", "all", HASH(0x23de670), HASH(0x2334040)) called at /home/sand/src/perl/repoperls/installed-perls/perl/v5.16.3/127e/lib/site_perl/5.16.3/Sub/Exporter.pm line 108
	Sub::Exporter::_expand_group("Catalyst::Test", HASH(0x32750b8), ARRAY(0x2361f78), HASH(0x2334040), HASH(0x23de6e8), HASH(0x2334028)) called at /home/sand/src/perl/repoperls/installed-perls/perl/v5.16.3/127e/lib/site_perl/5.16.3/Sub/Exporter.pm line 39
	Sub::Exporter::_expand_groups("Catalyst::Test", HASH(0x32750b8), ARRAY(0x32751f0), HASH(0x2334040)) called at /home/sand/src/perl/repoperls/installed-perls/perl/v5.16.3/127e/lib/site_perl/5.16.3/Sub/Exporter.pm line 323
	Sub::Exporter::__ANON__("Catalyst::Test", "-all", HASH(0x2333a40)) called at /home/sand/src/perl/repoperls/installed-perls/perl/v5.16.3/127e/lib/site_perl/5.16.3/Catalyst/Test.pm line 154
	Catalyst::Test::import("Catalyst::Test", "t::TestCatalystPathing") called at t/012-configuration-pathing.t line 8
	main::BEGIN() called at t/012-configuration-pathing.t line 8
	eval {...} called at t/012-configuration-pathing.t line 8
Class::MOP::load_class is deprecated at /home/sand/src/perl/repoperls/installed-perls/perl/v5.16.3/127e/lib/site_perl/5.16.3/x86_64-linux-ld/Class/MOP.pm line 76.
	Class::MOP::load_class("Catalyst::Plugin::Unicode::Encoding", undef) called at /home/sand/src/perl/repoperls/installed-perls/perl/v5.16.3/127e/lib/site_perl/5.16.3/Catalyst.pm line 3017
	Catalyst::setup_plugins("t::TestCatalystPathing", ARRAY(0x3793048)) called at /home/sand/src/perl/repoperls/installed-perls/perl/v5.16.3/127e/lib/site_perl/5.16.3/Catalyst.pm line 1110
	Catalyst::setup("t::TestCatalystPathing", "Assets") called at t/TestCatalystBase.pm line 78
	t::TestCatalystBase::setup_("t::TestCatalystPathing", "assets", HASH(0x23dea30)) called at t/TestCatalystPathing.pm line 7
	require t/TestCatalystPathing.pm called at /home/sand/src/perl/repoperls/installed-perls/perl/v5.16.3/127e/lib/site_perl/5.16.3/Module/Runtime.pm line 317
	Module::Runtime::require_module("t::TestCatalystPathing") called at /home/sand/src/perl/repoperls/installed-perls/perl/v5.16.3/127e/lib/site_perl/5.16.3/Class/Load.pm line 177
	Class::Load::try {...} () called at /home/sand/src/perl/repoperls/installed-perls/perl/v5.16.3/127e/lib/site_perl/5.16.3/Try/Tiny.pm line 78
	eval {...} called at /home/sand/src/perl/repoperls/installed-perls/perl/v5.16.3/127e/lib/site_perl/5.16.3/Try/Tiny.pm line 74
	Try::Tiny::try(CODE(0x2efd4a8), Try::Tiny::Catch=REF(0x2efd598)) called at /home/sand/src/perl/repoperls/installed-perls/perl/v5.16.3/127e/lib/site_perl/5.16.3/Class/Load.pm line 183
	Class::Load::try_load_class("t::TestCatalystPathing", undef) called at /home/sand/src/perl/repoperls/installed-perls/perl/v5.16.3/127e/lib/site_perl/5.16.3/Class/Load.pm line 38
	Class::Load::load_class("t::TestCatalystPathing") called at /home/sand/src/perl/repoperls/installed-perls/perl/v5.16.3/127e/lib/site_perl/5.16.3/Catalyst/Test.pm line 28
	Catalyst::Test::_build_request_export("Catalyst::Test", HASH(0x23de6b8)) called at /home/sand/src/perl/repoperls/installed-perls/perl/v5.16.3/127e/lib/site_perl/5.16.3/Catalyst/Test.pm line 91
	Catalyst::Test::__ANON__("Catalyst::Test", "all", HASH(0x23de670), HASH(0x2334040)) called at /home/sand/src/perl/repoperls/installed-perls/perl/v5.16.3/127e/lib/site_perl/5.16.3/Sub/Exporter.pm line 108
	Sub::Exporter::_expand_group("Catalyst::Test", HASH(0x32750b8), ARRAY(0x2361f78), HASH(0x2334040), HASH(0x23de6e8), HASH(0x2334028)) called at /home/sand/src/perl/repoperls/installed-perls/perl/v5.16.3/127e/lib/site_perl/5.16.3/Sub/Exporter.pm line 39
	Sub::Exporter::_expand_groups("Catalyst::Test", HASH(0x32750b8), ARRAY(0x32751f0), HASH(0x2334040)) called at /home/sand/src/perl/repoperls/installed-perls/perl/v5.16.3/127e/lib/site_perl/5.16.3/Sub/Exporter.pm line 323
	Sub::Exporter::__ANON__("Catalyst::Test", "-all", HASH(0x2333a40)) called at /home/sand/src/perl/repoperls/installed-perls/perl/v5.16.3/127e/lib/site_perl/5.16.3/Catalyst/Test.pm line 154
	Catalyst::Test::import("Catalyst::Test", "t::TestCatalystPathing") called at t/012-configuration-pathing.t line 8
	main::BEGIN() called at t/TestCatalystPathing.pm line 0
	eval {...} called at t/TestCatalystPathing.pm line 0
Class::MOP::is_class_loaded is deprecated at /home/sand/src/perl/repoperls/installed-perls/perl/v5.16.3/127e/lib/site_perl/5.16.3/x86_64-linux-ld/Class/MOP.pm line 94.
	Class::MOP::is_class_loaded("Catalyst::Stats") called at /home/sand/src/perl/repoperls/installed-perls/perl/v5.16.3/127e/lib/site_perl/5.16.3/Catalyst/Utils.pm line 300
	Catalyst::Utils::ensure_class_loaded("Catalyst::Stats") called at /home/sand/src/perl/repoperls/installed-perls/perl/v5.16.3/127e/lib/site_perl/5.16.3/Catalyst.pm line 2930
	Catalyst::setup_stats("t::TestCatalystPathing", undef) called at /home/sand/src/perl/repoperls/installed-perls/perl/v5.16.3/127e/lib/site_perl/5.16.3/Catalyst.pm line 1116
	Catalyst::setup("t::TestCatalystPathing", "Assets") called at t/TestCatalystBase.pm line 78
	t::TestCatalystBase::setup_("t::TestCatalystPathing", "assets", HASH(0x23dea30)) called at t/TestCatalystPathing.pm line 7
	require t/TestCatalystPathing.pm called at /home/sand/src/perl/repoperls/installed-perls/perl/v5.16.3/127e/lib/site_perl/5.16.3/Module/Runtime.pm line 317
	Module::Runtime::require_module("t::TestCatalystPathing") called at /home/sand/src/perl/repoperls/installed-perls/perl/v5.16.3/127e/lib/site_perl/5.16.3/Class/Load.pm line 177
	Class::Load::try {...} () called at /home/sand/src/perl/repoperls/installed-perls/perl/v5.16.3/127e/lib/site_perl/5.16.3/Try/Tiny.pm line 78
	eval {...} called at /home/sand/src/perl/repoperls/installed-perls/perl/v5.16.3/127e/lib/site_perl/5.16.3/Try/Tiny.pm line 74
	Try::Tiny::try(CODE(0x2efd4a8), Try::Tiny::Catch=REF(0x2efd598)) called at /home/sand/src/perl/repoperls/installed-perls/perl/v5.16.3/127e/lib/site_perl/5.16.3/Class/Load.pm line 183
	Class::Load::try_load_class("t::TestCatalystPathing", undef) called at /home/sand/src/perl/repoperls/installed-perls/perl/v5.16.3/127e/lib/site_perl/5.16.3/Class/Load.pm line 38
	Class::Load::load_class("t::TestCatalystPathing") called at /home/sand/src/perl/repoperls/installed-perls/perl/v5.16.3/127e/lib/site_perl/5.16.3/Catalyst/Test.pm line 28
	Catalyst::Test::_build_request_export("Catalyst::Test", HASH(0x23de6b8)) called at /home/sand/src/perl/repoperls/installed-perls/perl/v5.16.3/127e/lib/site_perl/5.16.3/Catalyst/Test.pm line 91
	Catalyst::Test::__ANON__("Catalyst::Test", "all", HASH(0x23de670), HASH(0x2334040)) called at /home/sand/src/perl/repoperls/installed-perls/perl/v5.16.3/127e/lib/site_perl/5.16.3/Sub/Exporter.pm line 108
	Sub::Exporter::_expand_group("Catalyst::Test", HASH(0x32750b8), ARRAY(0x2361f78), HASH(0x2334040), HASH(0x23de6e8), HASH(0x2334028)) called at /home/sand/src/perl/repoperls/installed-perls/perl/v5.16.3/127e/lib/site_perl/5.16.3/Sub/Exporter.pm line 39
	Sub::Exporter::_expand_groups("Catalyst::Test", HASH(0x32750b8), ARRAY(0x32751f0), HASH(0x2334040)) called at /home/sand/src/perl/repoperls/installed-perls/perl/v5.16.3/127e/lib/site_perl/5.16.3/Sub/Exporter.pm line 323
	Sub::Exporter::__ANON__("Catalyst::Test", "-all", HASH(0x2333a40)) called at /home/sand/src/perl/repoperls/installed-perls/perl/v5.16.3/127e/lib/site_perl/5.16.3/Catalyst/Test.pm line 154
	Catalyst::Test::import("Catalyst::Test", "t::TestCatalystPathing") called at t/012-configuration-pathing.t line 8
	main::BEGIN() called at t/TestCatalystPathing.pm line 0
	eval {...} called at t/TestCatalystPathing.pm line 0

*** Setting t::TestCatalystPathing->config->{assets} has been deprecated!
*** Please update your configuration to use t::TestCatalystPathing->config->{'Plugin::Assets'} instead...
*** I'm copying 'assets' into 'Plugin::Assets' ...
Class::MOP::load_class is deprecated at /home/sand/src/perl/repoperls/installed-perls/perl/v5.16.3/127e/lib/site_perl/5.16.3/x86_64-linux-ld/Class/MOP.pm line 76.
	Class::MOP::load_class("Catalyst::DispatchType::Index") called at /home/sand/src/perl/repoperls/installed-perls/perl/v5.16.3/127e/lib/site_perl/5.16.3/Catalyst/Dispatcher.pm line 663
	eval {...} called at /home/sand/src/perl/repoperls/installed-perls/perl/v5.16.3/127e/lib/site_perl/5.16.3/Catalyst/Dispatcher.pm line 663
	Catalyst::Dispatcher::_load_dispatch_types(Catalyst::Dispatcher=HASH(0x23df300), "Index", "Path") called at /home/sand/src/perl/repoperls/installed-perls/perl/v5.16.3/127e/lib/site_perl/5.16.3/Catalyst/Dispatcher.pm line 603
	Catalyst::Dispatcher::setup_actions(Catalyst::Dispatcher=HASH(0x23df300), "t::TestCatalystPathing") called at /home/sand/src/perl/repoperls/installed-perls/perl/v5.16.3/127e/lib/site_perl/5.16.3/Catalyst.pm line 2499
	Catalyst::setup_actions("t::TestCatalystPathing") called at /home/sand/src/perl/repoperls/installed-perls/perl/v5.16.3/127e/lib/site_perl/5.16.3/Catalyst.pm line 1195
	Catalyst::setup("t::TestCatalystPathing", "Assets") called at t/TestCatalystBase.pm line 78
	t::TestCatalystBase::setup_("t::TestCatalystPathing", "assets", HASH(0x23dea30)) called at t/TestCatalystPathing.pm line 7
	require t/TestCatalystPathing.pm called at /home/sand/src/perl/repoperls/installed-perls/perl/v5.16.3/127e/lib/site_perl/5.16.3/Module/Runtime.pm line 317
	Module::Runtime::require_module("t::TestCatalystPathing") called at /home/sand/src/perl/repoperls/installed-perls/perl/v5.16.3/127e/lib/site_perl/5.16.3/Class/Load.pm line 177
	Class::Load::try {...} () called at /home/sand/src/perl/repoperls/installed-perls/perl/v5.16.3/127e/lib/site_perl/5.16.3/Try/Tiny.pm line 78
	eval {...} called at /home/sand/src/perl/repoperls/installed-perls/perl/v5.16.3/127e/lib/site_perl/5.16.3/Try/Tiny.pm line 74
	Try::Tiny::try(CODE(0x2efd4a8), Try::Tiny::Catch=REF(0x2efd598)) called at /home/sand/src/perl/repoperls/installed-perls/perl/v5.16.3/127e/lib/site_perl/5.16.3/Class/Load.pm line 183
	Class::Load::try_load_class("t::TestCatalystPathing", undef) called at /home/sand/src/perl/repoperls/installed-perls/perl/v5.16.3/127e/lib/site_perl/5.16.3/Class/Load.pm line 38
	Class::Load::load_class("t::TestCatalystPathing") called at /home/sand/src/perl/repoperls/installed-perls/perl/v5.16.3/127e/lib/site_perl/5.16.3/Catalyst/Test.pm line 28
	Catalyst::Test::_build_request_export("Catalyst::Test", HASH(0x23de6b8)) called at /home/sand/src/perl/repoperls/installed-perls/perl/v5.16.3/127e/lib/site_perl/5.16.3/Catalyst/Test.pm line 91
	Catalyst::Test::__ANON__("Catalyst::Test", "all", HASH(0x23de670), HASH(0x2334040)) called at /home/sand/src/perl/repoperls/installed-perls/perl/v5.16.3/127e/lib/site_perl/5.16.3/Sub/Exporter.pm line 108
	Sub::Exporter::_expand_group("Catalyst::Test", HASH(0x32750b8), ARRAY(0x2361f78), HASH(0x2334040), HASH(0x23de6e8), HASH(0x2334028)) called at /home/sand/src/perl/repoperls/installed-perls/perl/v5.16.3/127e/lib/site_perl/5.16.3/Sub/Exporter.pm line 39
	Sub::Exporter::_expand_groups("Catalyst::Test", HASH(0x32750b8), ARRAY(0x32751f0), HASH(0x2334040)) called at /home/sand/src/perl/repoperls/installed-perls/perl/v5.16.3/127e/lib/site_perl/5.16.3/Sub/Exporter.pm line 323
	Sub::Exporter::__ANON__("Catalyst::Test", "-all", HASH(0x2333a40)) called at /home/sand/src/perl/repoperls/installed-perls/perl/v5.16.3/127e/lib/site_perl/5.16.3/Catalyst/Test.pm line 154
	Catalyst::Test::import("Catalyst::Test", "t::TestCatalystPathing") called at t/012-configuration-pathing.t line 8
	main::BEGIN() called at t/TestCatalystPathing.pm line 0
	eval {...} called at t/TestCatalystPathing.pm line 0
Class::MOP::load_class is deprecated at /home/sand/src/perl/repoperls/installed-perls/perl/v5.16.3/127e/lib/site_perl/5.16.3/x86_64-linux-ld/Class/MOP.pm line 76.
	Class::MOP::load_class("Catalyst::Action") called at /home/sand/src/perl/repoperls/installed-perls/perl/v5.16.3/127e/lib/site_perl/5.16.3/Catalyst/Controller.pm line 320
	Catalyst::Controller::action_class("t::TestCatalystPathing", "namespace", "", "name", "_DISPATCH", "class", "t::TestCatalystPathing", "attributes", HASH(0x3799710), ...) called at /home/sand/src/perl/repoperls/installed-perls/perl/v5.16.3/127e/lib/site_perl/5.16.3/Catalyst/Controller.pm line 328
	Catalyst::Controller::create_action("t::TestCatalystPathing", "name", "_DISPATCH", "code", CODE(0x3763530), "reverse", "_DISPATCH", "namespace", "", ...) called at /home/sand/src/perl/repoperls/installed-perls/perl/v5.16.3/127e/lib/site_perl/5.16.3/Catalyst/Controller.pm line 285
	Catalyst::Controller::register_action_methods("t::TestCatalystPathing", "t::TestCatalystPathing", Moose::Meta::Class::__ANON__::SERIAL::7=HASH(0x4035af8), Moose::Meta::Class::__ANON__::SERIAL::7=HASH(0x4056fb0), Moose::Meta::Class::__ANON__::SERIAL::7=HASH(0x4056e30), Moose::Meta::Class::__ANON__::SERIAL::7=HASH(0x4035390), Moose::Meta::Class::__ANON__::SERIAL::7=HASH(0x4056770), Moose::Meta::Class::__ANON__::SERIAL::7=HASH(0x405c650), Moose::Meta::Class::__ANON__::SERIAL::7=HASH(0x3bc2a70), ...) called at /home/sand/src/perl/repoperls/installed-perls/perl/v5.16.3/127e/lib/site_perl/5.16.3/Catalyst/Controller.pm line 254
	Catalyst::Controller::register_actions("t::TestCatalystPathing", "t::TestCatalystPathing") called at /home/sand/src/perl/repoperls/installed-perls/perl/v5.16.3/127e/lib/site_perl/5.16.3/Catalyst/Dispatcher.pm line 607
	Catalyst::Dispatcher::setup_actions(Catalyst::Dispatcher=HASH(0x23df300), "t::TestCatalystPathing") called at /home/sand/src/perl/repoperls/installed-perls/perl/v5.16.3/127e/lib/site_perl/5.16.3/Catalyst.pm line 2499
	Catalyst::setup_actions("t::TestCatalystPathing") called at /home/sand/src/perl/repoperls/installed-perls/perl/v5.16.3/127e/lib/site_perl/5.16.3/Catalyst.pm line 1195
	Catalyst::setup("t::TestCatalystPathing", "Assets") called at t/TestCatalystBase.pm line 78
	t::TestCatalystBase::setup_("t::TestCatalystPathing", "assets", HASH(0x23dea30)) called at t/TestCatalystPathing.pm line 7
	require t/TestCatalystPathing.pm called at /home/sand/src/perl/repoperls/installed-perls/perl/v5.16.3/127e/lib/site_perl/5.16.3/Module/Runtime.pm line 317
	Module::Runtime::require_module("t::TestCatalystPathing") called at /home/sand/src/perl/repoperls/installed-perls/perl/v5.16.3/127e/lib/site_perl/5.16.3/Class/Load.pm line 177
	Class::Load::try {...} () called at /home/sand/src/perl/repoperls/installed-perls/perl/v5.16.3/127e/lib/site_perl/5.16.3/Try/Tiny.pm line 78
	eval {...} called at /home/sand/src/perl/repoperls/installed-perls/perl/v5.16.3/127e/lib/site_perl/5.16.3/Try/Tiny.pm line 74
	Try::Tiny::try(CODE(0x2efd4a8), Try::Tiny::Catch=REF(0x2efd598)) called at /home/sand/src/perl/repoperls/installed-perls/perl/v5.16.3/127e/lib/site_perl/5.16.3/Class/Load.pm line 183
	Class::Load::try_load_class("t::TestCatalystPathing", undef) called at /home/sand/src/perl/repoperls/installed-perls/perl/v5.16.3/127e/lib/site_perl/5.16.3/Class/Load.pm line 38
	Class::Load::load_class("t::TestCatalystPathing") called at /home/sand/src/perl/repoperls/installed-perls/perl/v5.16.3/127e/lib/site_perl/5.16.3/Catalyst/Test.pm line 28
	Catalyst::Test::_build_request_export("Catalyst::Test", HASH(0x23de6b8)) called at /home/sand/src/perl/repoperls/installed-perls/perl/v5.16.3/127e/lib/site_perl/5.16.3/Catalyst/Test.pm line 91
	Catalyst::Test::__ANON__("Catalyst::Test", "all", HASH(0x23de670), HASH(0x2334040)) called at /home/sand/src/perl/repoperls/installed-perls/perl/v5.16.3/127e/lib/site_perl/5.16.3/Sub/Exporter.pm line 108
	Sub::Exporter::_expand_group("Catalyst::Test", HASH(0x32750b8), ARRAY(0x2361f78), HASH(0x2334040), HASH(0x23de6e8), HASH(0x2334028)) called at /home/sand/src/perl/repoperls/installed-perls/perl/v5.16.3/127e/lib/site_perl/5.16.3/Sub/Exporter.pm line 39
	Sub::Exporter::_expand_groups("Catalyst::Test", HASH(0x32750b8), ARRAY(0x32751f0), HASH(0x2334040)) called at /home/sand/src/perl/repoperls/installed-perls/perl/v5.16.3/127e/lib/site_perl/5.16.3/Sub/Exporter.pm line 323
	Sub::Exporter::__ANON__("Catalyst::Test", "-all", HASH(0x2333a40)) called at /home/sand/src/perl/repoperls/installed-perls/perl/v5.16.3/127e/lib/site_perl/5.16.3/Catalyst/Test.pm line 154
	Catalyst::Test::import("Catalyst::Test", "t::TestCatalystPathing") called at t/012-configuration-pathing.t line 8
	main::BEGIN() called at t/TestCatalystPathing.pm line 0
	eval {...} called at t/TestCatalystPathing.pm line 0
[warn] Action methods (default, auto, fruit_salad) found defined in your application class, t::TestCatalystPathing. This is deprecated, please move them into a Root controller.
t/012-configuration-pathing.t ............... ok
All tests successful.
Files=5, Tests=33, 13 wallclock secs ( 0.04 usr  0.01 sys +  3.59 cusr  0.27 csys =  3.91 CPU)
Result: PASS

------------------------------
PREREQUISITES
------------------------------

Prerequisite modules loaded:

requires:

    Module                Need  Have   
    --------------------- ----- -------
    Catalyst              0     5.90042
    Catalyst::Test        0     0      
    Class::Accessor::Fast 0     0.34   
    CSS::Minifier         0     0.01   
    Directory::Scratch    0     0.15   
    ExtUtils::MakeMaker   6.42  6.77_02
    File::Assets          0.061 0.064  
    FindBin               0     1.51   
    HTML::Declare         0     2.4    
    JavaScript::Minifier  0     1.05   
    Test::More            0     0.98   

build_requires:

    Module                Need  Have   
    --------------------- ----- -------
    ExtUtils::MakeMaker   0     6.77_02

configure_requires:

    Module                Need  Have   
    --------------------- ----- -------
    ExtUtils::MakeMaker   6.42  6.77_02


------------------------------
ENVIRONMENT AND OTHER CONTEXT
------------------------------

Environment variables:

    AUTOMATED_TESTING = 1
    LANG = en_US.UTF-8
    LANGUAGE = en_US:en
    PATH = /usr/lib/ccache:/home/sand/bin:/usr/local/bin:/usr/bin:/bin:/usr/bin/X11:/usr/games:/usr/local/perl/bin:/usr/X11/bin:/sbin:/usr/sbin
    PERL5LIB = 
    PERL5OPT = 
    PERL5_CPANPLUS_IS_RUNNING = 25033
    PERL5_CPAN_IS_RUNNING = 25033
    PERL_MM_USE_DEFAULT = 1
    SHELL = /usr/bin/zsh
    TERM = screen

Perl special variables (and OS-specific diagnostics, for MSWin32):

    $^X = /home/sand/src/perl/repoperls/installed-perls/perl/v5.16.3/127e/bin/perl
    $UID/$EUID = 1005 / 1005
    $GID = 1005 1005
    $EGID = 1005 1005

Perl module toolchain versions installed:

    Module              Have    
    ------------------- --------
    CPAN                2.00    
    CPAN::Meta          2.132510
    Cwd                 3.40    
    ExtUtils::CBuilder  0.280212
    ExtUtils::Command   1.18    
    ExtUtils::Install   1.58    
    ExtUtils::MakeMaker 6.77_02 
    ExtUtils::Manifest  1.63    
    ExtUtils::ParseXS   3.16    
    File::Spec          3.40    
    JSON                2.59    
    JSON::PP            2.27202 
    Module::Build       0.4007  
    Module::Signature   0.73    
    Parse::CPAN::Meta   1.4407  
    Test::Harness       3.28    
    Test::More          0.98    
    YAML                0.84    
    YAML::Syck          1.27    
    version             0.9904  


--

Summary of my perl5 (revision 5 version 16 subversion 3) configuration:
  Commit id: fd04d42d38f4751b981eb6e9213ee1ab8ef11ea6
  Platform:
    osname=linux, osvers=3.10-2-amd64, archname=x86_64-linux-ld
    uname='linux k83 3.10-2-amd64 #1 smp debian 3.10.7-1 (2013-08-17) x86_64 gnulinux '
    config_args='-Dprefix=/home/sand/src/perl/repoperls/installed-perls/perl/v5.16.3/127e -Dmyhostname=k83 -Dinstallusrbinperl=n -Uversiononly -Dusedevel -des -Ui_db -Uuseithreads -Duselongdouble -DDEBUGGING=-g'
    hint=recommended, useposix=true, d_sigaction=define
    useithreads=undef, usemultiplicity=undef
    useperlio=define, d_sfio=undef, uselargefiles=define, usesocks=undef
    use64bitint=define, use64bitall=define, uselongdouble=define
    usemymalloc=n, bincompat5005=undef
  Compiler:
    cc='cc', ccflags ='-fno-strict-aliasing -pipe -fstack-protector -I/usr/local/include -D_LARGEFILE_SOURCE -D_FILE_OFFSET_BITS=64',
    optimize='-O2 -g',
    cppflags='-fno-strict-aliasing -pipe -fstack-protector -I/usr/local/include'
    ccversion='', gccversion='4.8.1', gccosandvers=''
    intsize=4, longsize=8, ptrsize=8, doublesize=8, byteorder=12345678
    d_longlong=define, longlongsize=8, d_longdbl=define, longdblsize=16
    ivtype='long', ivsize=8, nvtype='long double', nvsize=16, Off_t='off_t', lseeksize=8
    alignbytes=16, prototype=define
  Linker and Libraries:
    ld='cc', ldflags =' -fstack-protector -L/usr/local/lib'
    libpth=/usr/local/lib /lib/x86_64-linux-gnu /lib/../lib /usr/lib/x86_64-linux-gnu /usr/lib/../lib /lib /usr/lib
    libs=-lnsl -lgdbm -ldb -ldl -lm -lcrypt -lutil -lc -lgdbm_compat
    perllibs=-lnsl -ldl -lm -lcrypt -lutil -lc
    libc=, so=so, useshrplib=false, libperl=libperl.a
    gnulibc_version='2.17'
  Dynamic Linking:
    dlsrc=dl_dlopen.xs, dlext=so, d_dlsymun=undef, ccdlflags='-Wl,-E'
    cccdlflags='-fPIC', lddlflags='-shared -O2 -g -L/usr/local/lib -fstack-protector'


Characteristics of this binary (from libperl): 
  Compile-time options: HAS_TIMES PERLIO_LAYERS PERL_DONT_CREATE_GVSV
                        PERL_MALLOC_WRAP PERL_PRESERVE_IVUV PERL_USE_DEVEL
                        USE_64_BIT_ALL USE_64_BIT_INT USE_LARGE_FILES
                        USE_LOCALE USE_LOCALE_COLLATE USE_LOCALE_CTYPE
                        USE_LOCALE_NUMERIC USE_LONG_DOUBLE USE_PERLIO
                        USE_PERL_ATOF
  Built under linux
  Compiled at Sep  3 2013 06:32:25
  %ENV:
    PERL5LIB=""
    PERL5OPT=""
    PERL5_CPANPLUS_IS_RUNNING="25033"
    PERL5_CPAN_IS_RUNNING="25033"
    PERL_MM_USE_DEFAULT="1"
  @INC:
    /home/sand/src/perl/repoperls/installed-perls/perl/v5.16.3/127e/lib/site_perl/5.16.3/x86_64-linux-ld
    /home/sand/src/perl/repoperls/installed-perls/perl/v5.16.3/127e/lib/site_perl/5.16.3
    /home/sand/src/perl/repoperls/installed-perls/perl/v5.16.3/127e/lib/5.16.3/x86_64-linux-ld
    /home/sand/src/perl/repoperls/installed-perls/perl/v5.16.3/127e/lib/5.16.3
    .