Class-Method-Modifiers v2.15 Perl 5 v5.36.0 darwin-2level
        
            - Status
- Pass
- From
- Slaven Rezić
- Dist
- 
                Class-Method-Modifiers v2.15
            
- Platform
- Perl 5 v5.36.0 darwin-2level
- Date
- 2023-04-16 16:23:17
- ID
- feb849d4-dc72-11ed-8970-c3f56d8775ea
This distribution has been tested as part of the CPAN Testers
project, supporting the Perl programming language.  See
http://wiki.cpantesters.org/ for more information or email
questions to cpan-testers-discuss@perl.org
--
Dear Karen Etheridge,
This is a computer-generated report for Class-Method-Modifiers-2.15
on perl 5.36.0, created by CPAN-Reporter-1.2018.
Thank you for uploading your work to CPAN.  Congratulations!
All tests were successful.
Sections of this report:
    * Tester comments
    * Program output
    * Prerequisites
    * Environment and other context
------------------------------
TESTER COMMENTS
------------------------------
Additional comments from tester:
none provided
------------------------------
PROGRAM OUTPUT
------------------------------
Output from '/usr/bin/make test':
PERL_DL_NONLAZY=1 "/opt/perl-5.36.0/bin/perl" "-MExtUtils::Command::MM" "-MTest::Harness" "-e" "undef *Test::Harness::Switches; test_harness(0, 'blib/lib', 'blib/arch')" t/*.t
# 
# Versions for all modules listed in MYMETA.json (including optional ones):
# 
# === Configure Requires ===
# 
#     Module               Want     Have
#     ------------------- ----- --------
#     ExtUtils::MakeMaker   any     7.64
#     perl                5.006 5.036000
# 
# === Build Requires ===
# 
#     Module              Want Have
#     ------------------- ---- ----
#     ExtUtils::MakeMaker  any 7.64
# 
# === Test Requires ===
# 
#     Module               Want     Have
#     ------------------- ----- --------
#     ExtUtils::MakeMaker   any     7.64
#     File::Spec            any     3.84
#     Test::More           0.88 1.302190
#     if                    any   0.0610
#     perl                5.006 5.036000
# 
# === Test Recommends ===
# 
#     Module         Want     Have
#     ---------- -------- --------
#     CPAN::Meta 2.120900 2.150010
# 
# === Runtime Requires ===
# 
#     Module    Want     Have
#     -------- ----- --------
#     B          any     1.83
#     Carp       any     1.52
#     Exporter   any     5.77
#     base       any     2.27
#     perl     5.006 5.036000
#     strict     any     1.12
#     warnings   any     1.58
# 
# === Other Modules ===
# 
#     Module                  Have
#     -------------------- -------
#     Encode                  3.17
#     File::Temp            0.2311
#     JSON::PP                4.07
#     Module::Runtime        0.016
#     Moo                  missing
#     Moose                 2.2203
#     Pod::Coverage           0.23
#     Role::Tiny           missing
#     Sub::Install           0.929
#     Sub::Name               0.26
#     YAML                    1.30
#     autodie                 2.34
#     namespace::autoclean    0.29
#     namespace::clean        0.27
# 
t/00-report-prereqs.t ............... ok
t/000-load.t ........................ ok
t/001-error.t ....................... ok
t/002-cache.t ....................... ok
t/003-basic.t ....................... ok
t/004-around.t ...................... ok
t/005-return.t ...................... ok
t/010-before-args.t ................. ok
t/011-after-args.t .................. ok
t/012-around-args.t ................. ok
t/020-multiple-inheritance.t ........ ok
t/030-multiple-before.t ............. ok
t/031-multiple-after.t .............. ok
t/032-multiple-around.t ............. ok
t/034-multiple-everything.t ......... ok
t/035-multiple-everything-twice.t ... ok
t/040-twice-orig.t .................. ok
t/041-modify-parent.t ............... ok
t/051-undef-list-ctxt.t ............. ok
t/060-caller.t ...................... ok
t/070-modify-multiple-at-once.t ..... ok
t/080-multiple-modifiers.t .......... ok
t/081-sub-and-modifier.t ............ ok
t/090-diamond.t ..................... ok
t/100-class-mop-method-modifiers.t .. ok
t/110-namespace-clean.t ............. ok
t/120-fresh.t ....................... ok
t/130-clean-underscore.t ............ ok
t/140-lvalue.t ...................... ok
All tests successful.
Files=29, Tests=131,  2 wallclock secs ( 0.08 usr  0.07 sys +  1.69 cusr  0.42 csys =  2.26 CPU)
Result: PASS
------------------------------
PREREQUISITES
------------------------------
Prerequisite modules loaded:
requires:
    Module              Need  Have    
    ------------------- ----- --------
    B                   0     1.83    
    base                0     2.27    
    Carp                0     1.52    
    Exporter            0     5.77    
    perl                5.006 5.036000
    strict              0     1.12    
    warnings            0     1.58    
build_requires:
    Module              Need  Have    
    ------------------- ----- --------
    ExtUtils::MakeMaker 0     7.64    
    File::Spec          0     3.84    
    if                  0     0.0610  
    Test::More          0.88  1.302190
configure_requires:
    Module              Need  Have    
    ------------------- ----- --------
    ExtUtils::MakeMaker 0     7.64    
    perl                5.006 5.036000
------------------------------
ENVIRONMENT AND OTHER CONTEXT
------------------------------
Environment variables:
    LANG = de_DE.UTF-8
    PATH = /usr/local/bin:/usr/bin:/bin:/usr/local/sbin:/usr/sbin:/sbin:/Users/slaven.rezic/bin/darwin21.0:/Users/slaven.rezic/bin/sh:/Users/slaven.rezic/bin:/Users/slaven.rezic/bin/pistachio-perl/bin:/usr/games:/Users/slaven.rezic/devel:/Users/slaven.rezic/work/drafts-slaven.rezic/misc:/Users/slaven.rezic/work2/fzf/bin:/Users/slaven.rezic/src/srezic-misc/scripts
    PERL5LIB = 
    PERL5OPT = 
    PERL5_CPANPLUS_IS_RUNNING = 29458
    PERL5_CPAN_IS_RUNNING = 29458
    PERL5_CPAN_IS_RUNNING_IN_RECURSION = 29378,29458
    PERLDOC = -MPod::Perldoc::ToTextOverstrike
    PERL_BATCH = yes
    PERL_CANARY_STABILITY_NOPROMPT = 1
    PERL_CPAN_REPORTER_CONFIG = /var/tmp/cpansmoker-501/2023041614/cpanreporter_001_config.ini
    PERL_EXTUTILS_AUTOINSTALL = --defaultdeps
    PERL_USE_UNSAFE_INC = 1
    PISTACHIO_PERL_MANAGER = 1
    SHELL = /bin/zsh
    TERM = screen
    TMPDIR = /var/tmp/cpansmoker-501/2023041614
Perl special variables (and OS-specific diagnostics, for MSWin32):
    $^X = /opt/perl-5.36.0/bin/perl
    $UID/$EUID = 501 / 501
    $GID = 20 20 501 701 12 61 702 98 100 703
    $EGID = 20 20 501 701 12 61 702 98 100 703
Perl module toolchain versions installed:
    Module              Have    
    ------------------- --------
    CPAN                2.33    
    CPAN::Meta          2.150010
    Cwd                 3.84    
    ExtUtils::CBuilder  0.280236
    ExtUtils::Command   7.64    
    ExtUtils::Install   2.20    
    ExtUtils::MakeMaker 7.64    
    ExtUtils::Manifest  1.73    
    ExtUtils::ParseXS   3.45    
    File::Spec          3.84    
    JSON                n/a     
    JSON::PP            4.07    
    Module::Build       0.4232  
    Module::Signature   n/a     
    Parse::CPAN::Meta   2.150010
    Test::Harness       3.44    
    Test::More          1.302190
    YAML                1.30    
    YAML::Syck          1.34    
    version             0.9929  
--
Summary of my perl5 (revision 5 version 36 subversion 0) configuration:
   
  Platform:
    osname=darwin
    osvers=21.3.0
    archname=darwin-2level
    uname='darwin w3tk 21.3.0 darwin kernel version 21.3.0: wed jan 5 21:37:58 pst 2022; root:xnu-8019.80.24~20release_x86_64 x86_64 '
    config_args='-ds -e -Dprefix=/opt/perl-5.36.0 -Dcf_email=srezic@cpan.org'
    hint=recommended
    useposix=true
    d_sigaction=define
    useithreads=undef
    usemultiplicity=undef
    use64bitint=define
    use64bitall=define
    uselongdouble=undef
    usemymalloc=n
    default_inc_excludes_dot=define
  Compiler:
    cc='cc'
    ccflags ='-fno-common -DPERL_DARWIN -mmacosx-version-min=12.2 -fno-strict-aliasing -pipe -fstack-protector-strong -I/usr/local/include -DPERL_USE_SAFE_PUTENV'
    optimize='-O3'
    cppflags='-fno-common -DPERL_DARWIN -mmacosx-version-min=12.2 -fno-strict-aliasing -pipe -fstack-protector-strong -I/usr/local/include'
    ccversion=''
    gccversion='Apple LLVM 13.1.6 (clang-1316.0.21.2.5)'
    gccosandvers=''
    intsize=4
    longsize=8
    ptrsize=8
    doublesize=8
    byteorder=12345678
    doublekind=3
    d_longlong=define
    longlongsize=8
    d_longdbl=define
    longdblsize=16
    longdblkind=3
    ivtype='long'
    ivsize=8
    nvtype='double'
    nvsize=8
    Off_t='off_t'
    lseeksize=8
    alignbytes=8
    prototype=define
  Linker and Libraries:
    ld='cc'
    ldflags =' -mmacosx-version-min=12.2 -fstack-protector-strong -L/usr/local/lib'
    libpth=/usr/local/lib /Library/Developer/CommandLineTools/usr/lib/clang/13.1.6/lib /Library/Developer/CommandLineTools/SDKs/MacOSX12.3.sdk/usr/lib /Library/Developer/CommandLineTools/usr/lib /usr/lib
    libs=-lgdbm -ldbm -ldb
    perllibs=
    libc=
    so=dylib
    useshrplib=false
    libperl=libperl.a
    gnulibc_version=''
  Dynamic Linking:
    dlsrc=dl_dlopen.xs
    dlext=bundle
    d_dlsymun=undef
    ccdlflags=' '
    cccdlflags=' '
    lddlflags=' -mmacosx-version-min=12.2 -bundle -undefined dynamic_lookup -L/usr/local/lib -fstack-protector-strong'
Characteristics of this binary (from libperl): 
  Compile-time options:
    HAS_TIMES
    PERLIO_LAYERS
    PERL_COPY_ON_WRITE
    PERL_DONT_CREATE_GVSV
    PERL_MALLOC_WRAP
    PERL_OP_PARENT
    PERL_PRESERVE_IVUV
    PERL_USE_SAFE_PUTENV
    USE_64_BIT_ALL
    USE_64_BIT_INT
    USE_LARGE_FILES
    USE_LOCALE
    USE_LOCALE_COLLATE
    USE_LOCALE_CTYPE
    USE_LOCALE_NUMERIC
    USE_LOCALE_TIME
    USE_PERLIO
    USE_PERL_ATOF
  Built under darwin
  Compiled at Apr 16 2023 13:32:38
  %ENV:
    PERL5LIB=""
    PERL5OPT=""
    PERL5_CPANPLUS_IS_RUNNING="29458"
    PERL5_CPAN_IS_RUNNING="29458"
    PERL5_CPAN_IS_RUNNING_IN_RECURSION="29378,29458"
    PERLDOC="-MPod::Perldoc::ToTextOverstrike"
    PERL_BATCH="yes"
    PERL_CANARY_STABILITY_NOPROMPT="1"
    PERL_CPAN_REPORTER_CONFIG="/var/tmp/cpansmoker-501/2023041614/cpanreporter_001_config.ini"
    PERL_EXTUTILS_AUTOINSTALL="--defaultdeps"
    PERL_USE_UNSAFE_INC="1"
  @INC:
    /opt/perl-5.36.0/lib/site_perl/5.36.0/darwin-2level
    /opt/perl-5.36.0/lib/site_perl/5.36.0
    /opt/perl-5.36.0/lib/5.36.0/darwin-2level
    /opt/perl-5.36.0/lib/5.36.0
    .