Win32-Mock v0.05 Perl 5 v5.41.13 x86_64-dragonfly-thread-multi
- Status
- Pass
- From
- Carlos Guevara
- Dist
-
Win32-Mock v0.05
- Platform
- Perl 5 v5.41.13 x86_64-dragonfly-thread-multi
- Date
- 2025-04-22 20:25:56
- ID
- feb6b756-1fb7-11f0-a9f8-c838fec99ff3
This distribution has been tested as part of the CPAN Testers
project, supporting the Perl programming language. See
http://wiki.cpantesters.org/ for more information or email
questions to cpan-testers-discuss@perl.org
--
Dear Sebastien Aperghis-Tramoni,
This is a computer-generated report for Win32-Mock-0.05
on perl 5.41.13, created by CPAN-Reporter-1.2020.
Thank you for uploading your work to CPAN. Congratulations!
All tests were successful.
Sections of this report:
* Tester comments
* Program output
* Prerequisites
* Environment and other context
------------------------------
TESTER COMMENTS
------------------------------
Additional comments from tester:
this report is from an automated smoke testing program
and was not reviewed by a human for accuracy
------------------------------
PROGRAM OUTPUT
------------------------------
Output from './Build test':
Undefined value assigned to typeglob at /home/cpan/bin/perl/lib/site_perl/5.41.13/Devel/FakeOSName.pm line 21.
# Testing Win32::Mock 0.05, Perl 5.041013, /home/cpan/bin/perl/bin/perl5.41.13
t/00-load.t .............................. ok
t/pod-coverage.t ......................... skipped: *** disabled for now ***
t/pod.t .................................. skipped: *** disabled for now ***
Undefined value assigned to typeglob at /home/cpan/bin/perl/lib/site_perl/5.41.13/Devel/FakeOSName.pm line 21.
t/core/Win32/CopyFile.t .................. ok
Undefined value assigned to typeglob at /home/cpan/bin/perl/lib/site_perl/5.41.13/Devel/FakeOSName.pm line 21.
Subroutine STORE redefined at /home/cpan/bin/perl/lib/5.41.13/x86_64-dragonfly-thread-multi/Config_heavy.pl line 1489.
t/core/Win32/CreateFile.t ................ ok
Undefined value assigned to typeglob at /home/cpan/bin/perl/lib/site_perl/5.41.13/Devel/FakeOSName.pm line 21.
Subroutine STORE redefined at /home/cpan/bin/perl/lib/5.41.13/x86_64-dragonfly-thread-multi/Config_heavy.pl line 1489.
t/core/Win32/ExpandEnvironmentStrings.t .. ok
Undefined value assigned to typeglob at /home/cpan/bin/perl/lib/site_perl/5.41.13/Devel/FakeOSName.pm line 21.
Subroutine STORE redefined at /home/cpan/bin/perl/lib/5.41.13/x86_64-dragonfly-thread-multi/Config_heavy.pl line 1489.
t/core/Win32/GetCurrentThreadId.t ........ skipped: Test requires fork emulation
Undefined value assigned to typeglob at /home/cpan/bin/perl/lib/site_perl/5.41.13/Devel/FakeOSName.pm line 21.
Subroutine STORE redefined at /home/cpan/bin/perl/lib/5.41.13/x86_64-dragonfly-thread-multi/Config_heavy.pl line 1489.
t/core/Win32/GetFileVersion.t ............ ok
Undefined value assigned to typeglob at /home/cpan/bin/perl/lib/site_perl/5.41.13/Devel/FakeOSName.pm line 21.
Subroutine STORE redefined at /home/cpan/bin/perl/lib/5.41.13/x86_64-dragonfly-thread-multi/Config_heavy.pl line 1489.
t/core/Win32/GetFolderPath.t ............. ok
t/core/Win32/GetFullPathName.t ........... skipped: because these tests are too hard to mock
t/core/Win32/GetLongPathName.t ........... skipped: because these tests are too hard to mock
Undefined value assigned to typeglob at /home/cpan/bin/perl/lib/site_perl/5.41.13/Devel/FakeOSName.pm line 21.
Subroutine STORE redefined at /home/cpan/bin/perl/lib/5.41.13/x86_64-dragonfly-thread-multi/Config_heavy.pl line 1489.
t/core/Win32/GetOSVersion.t .............. ok
t/core/Win32/GetShortPathName.t .......... skipped: because these tests are too hard to mock
Undefined value assigned to typeglob at /home/cpan/bin/perl/lib/site_perl/5.41.13/Devel/FakeOSName.pm line 21.
Subroutine STORE redefined at /home/cpan/bin/perl/lib/5.41.13/x86_64-dragonfly-thread-multi/Config_heavy.pl line 1489.
t/core/Win32/GuidGen.t ................... ok
Undefined value assigned to typeglob at /home/cpan/bin/perl/lib/site_perl/5.41.13/Devel/FakeOSName.pm line 21.
t/core/Win32/Names.t ..................... ok
Undefined value assigned to typeglob at /home/cpan/bin/perl/lib/site_perl/5.41.13/Devel/FakeOSName.pm line 21.
Subroutine STORE redefined at /home/cpan/bin/perl/lib/5.41.13/x86_64-dragonfly-thread-multi/Config_heavy.pl line 1489.
t/core/Win32/Unicode.t ................... skipped: Filesystem doesn't support Unicode
Undefined value assigned to typeglob at /home/cpan/bin/perl/lib/site_perl/5.41.13/Devel/FakeOSName.pm line 21.
t/core/Win32CORE/win32core.t ............. ok
t/libwin32/APINet/test.t ................. skipped: *** NOT IMPLEMENTED
t/libwin32/Clipboard/test.t .............. skipped: *** NOT IMPLEMENTED
t/libwin32/EventLog/eventlog.t ........... skipped: *** NOT IMPLEMENTED
Undefined value assigned to typeglob at /home/cpan/bin/perl/lib/site_perl/5.41.13/Devel/FakeOSName.pm line 21.
t/libwin32/File/file.t ................... ok
t/libwin32/NetAdmin/netadmin.t ........... skipped: *** NOT IMPLEMENTED
t/libwin32/NetResource/netresource.t ..... skipped: *** NOT IMPLEMENTED
t/libwin32/OLE/1_nls.t ................... skipped: *** NOT IMPLEMENTED
t/libwin32/OLE/2_variant.t ............... skipped: *** NOT IMPLEMENTED
t/libwin32/OLE/3_ole.t ................... skipped: *** NOT IMPLEMENTED
t/libwin32/OLE/4_compat.t ................ skipped: *** NOT IMPLEMENTED
t/libwin32/OLE/5_unicode.t ............... skipped: *** NOT IMPLEMENTED
t/libwin32/OLE/6_event.t ................. skipped: *** NOT IMPLEMENTED
t/libwin32/OLE/7_overload.t .............. skipped: *** NOT IMPLEMENTED
t/libwin32/Registry/registry.t ........... skipped: *** NOT IMPLEMENTED
Undefined value assigned to typeglob at /home/cpan/bin/perl/lib/site_perl/5.41.13/Devel/FakeOSName.pm line 21.
dummy|dummy
ControlsAccepted 2
CheckPoint 0
ServiceType 16
CurrentState 7
ServiceSpecificExitCode 0
Win32ExitCode 0
WaitHint 0
t/libwin32/Service/service.t ............. ok
All tests successful.
Files=32, Tests=59, 1 wallclock secs ( 0.06 usr 0.11 sys + 0.88 cusr 0.30 csys = 1.35 CPU)
Result: PASS
------------------------------
PREREQUISITES
------------------------------
Prerequisite modules loaded:
requires:
Module Need Have
----------------- ---- --------
constant 1.12 1.33
Devel::FakeOSName 0 0.01
ExtUtils::Command 0 7.74
File::Basename 0 2.86
File::Spec 0.7 3.94
build_requires:
Module Need Have
----------------- ---- --------
Test::More 0 1.302210
------------------------------
ENVIRONMENT AND OTHER CONTEXT
------------------------------
Environment variables:
AUTOMATED_TESTING = 1
DATE_MANIP_TEST_DM5 = 1
LC_ALL = C
NONINTERACTIVE_TESTING = 1
NO_NETWORK_TESTING = 1
PATH = /home/cpan/bin/perl/bin:/home/cpan/bin:/sbin:/bin:/usr/sbin:/usr/bin:/usr/games:/usr/local/sbin:/usr/local/bin:/usr/pkg/sbin:/usr/pkg/bin:/home/cpan/bin
PERL5LIB =
PERL5OPT =
PERL5_CPANPLUS_IS_RUNNING = 154400
PERL5_CPAN_IS_RUNNING = 154400
PERL_MM_USE_DEFAULT = 1
PERL_USE_UNSAFE_INC = 1
SHELL = /usr/local/bin/bash
TERM = screen
TMPDIR = /home/cpan/tmp
Perl special variables (and OS-specific diagnostics, for MSWin32):
$^X = /home/cpan/bin/perl/bin/perl5.41.13
$UID/$EUID = 1002 / 1002
$GID = 1002 1002
$EGID = 1002 1002
Perl module toolchain versions installed:
Module Have
------------------- --------
CPAN 2.38
CPAN::Meta 2.150010
Cwd 3.94
ExtUtils::CBuilder 0.280240
ExtUtils::Command 7.74
ExtUtils::Install 2.22
ExtUtils::MakeMaker 7.74
ExtUtils::Manifest 1.75
ExtUtils::ParseXS 3.57
File::Spec 3.94
JSON 4.10
JSON::PP 4.16
Module::Build 0.4234
Module::Signature 0.89
Parse::CPAN::Meta 2.150010
Test2 1.302210
Test::Harness 3.50
Test::More 1.302210
YAML 1.31
YAML::Syck 1.34
version 0.9933
--
Summary of my perl5 (revision 5 version 41 subversion 13) configuration:
Commit id: 5b9aabc0af37693cb16ea02f35aa054c9684e12c
Platform:
osname=dragonfly
osvers=6.4-release
archname=x86_64-dragonfly-thread-multi
uname='dragonfly cjg-dragonfly6 6.4-release dragonfly v6.4.0-release #54: fri dec 30 09:06:50 pst 2022 root@pkgbox64.dragonflybsd.org:usrobjusrsrcsysx86_64_generic x86_64 '
config_args='-des -Dprefix=/home/cpan/bin/perl -Dscriptdir=/home/cpan/bin/perl/bin -Dusedevel -Duse64bitall -Duseithreads'
hint=recommended
useposix=true
d_sigaction=define
useithreads=define
usemultiplicity=define
use64bitint=define
use64bitall=define
uselongdouble=undef
usemymalloc=n
default_inc_excludes_dot=define
Compiler:
cc='cc'
ccflags ='-DHAS_FPSETMASK -DHAS_FLOATINGPOINT_H -DNO_POSIX_2008_LOCALE -fwrapv -fno-strict-aliasing -pipe -fstack-protector-strong -I/usr/local/include -D_FORTIFY_SOURCE=2'
optimize='-O2'
cppflags='-DHAS_FPSETMASK -DHAS_FLOATINGPOINT_H -DNO_POSIX_2008_LOCALE -fwrapv -fno-strict-aliasing -pipe -fstack-protector-strong -I/usr/local/include'
ccversion=''
gccversion='8.3 [DragonFly] Release/2019-02-22'
gccosandvers=''
intsize=4
longsize=8
ptrsize=8
doublesize=8
byteorder=12345678
doublekind=3
d_longlong=define
longlongsize=8
d_longdbl=define
longdblsize=16
longdblkind=3
ivtype='long'
ivsize=8
nvtype='double'
nvsize=8
Off_t='off_t'
lseeksize=8
alignbytes=8
prototype=define
Linker and Libraries:
ld='cc'
ldflags ='-pthread -Wl,-E -fstack-protector-strong -L/usr/local/lib'
libpth=/usr/lib /usr/local/lib
libs=-lpthread -lgdbm -ldl -lm -lcrypt -lutil -lc
perllibs=-lpthread -ldl -lm -lcrypt -lutil -lc
libc=
so=so
useshrplib=false
libperl=libperl.a
gnulibc_version=''
Dynamic Linking:
dlsrc=dl_dlopen.xs
dlext=so
d_dlsymun=undef
ccdlflags=' '
cccdlflags='-DPIC -fPIC'
lddlflags='-shared -L/usr/local/lib -fstack-protector-strong'
Characteristics of this binary (from libperl):
Compile-time options:
HAS_LONG_DOUBLE
HAS_STRTOLD
HAS_TIMES
MULTIPLICITY
PERLIO_LAYERS
PERL_COPY_ON_WRITE
PERL_DONT_CREATE_GVSV
PERL_HASH_FUNC_SIPHASH13
PERL_HASH_USE_SBOX32
PERL_MALLOC_WRAP
PERL_OP_PARENT
PERL_PRESERVE_IVUV
PERL_USE_DEVEL
PERL_USE_SAFE_PUTENV
USE_64_BIT_ALL
USE_64_BIT_INT
USE_ITHREADS
USE_LARGE_FILES
USE_LOCALE
USE_LOCALE_COLLATE
USE_LOCALE_CTYPE
USE_LOCALE_NUMERIC
USE_LOCALE_TIME
USE_PERLIO
USE_PERL_ATOF
USE_REENTRANT_API
Built under dragonfly
Compiled at Apr 22 2025 15:15:03
%ENV:
PERL5LIB=""
PERL5OPT=""
PERL5_CPANPLUS_IS_RUNNING="154400"
PERL5_CPAN_IS_RUNNING="154400"
PERL_MM_USE_DEFAULT="1"
PERL_USE_UNSAFE_INC="1"
@INC:
/home/cpan/bin/perl/lib/site_perl/5.41.13/x86_64-dragonfly-thread-multi
/home/cpan/bin/perl/lib/site_perl/5.41.13
/home/cpan/bin/perl/lib/5.41.13/x86_64-dragonfly-thread-multi
/home/cpan/bin/perl/lib/5.41.13
.