Back
From: metabase:user:320bfe00-2aae-11df-837a-5e0a49663a4f
Subject: PASS DateTime-Format-Epoch-0.13 v5.8.9 GNU/Linux
Date: 2014-08-06T01:57:17Z
This distribution has been tested as part of the CPAN Testers
project, supporting the Perl programming language. See
http://wiki.cpantesters.org/ for more information or email
questions to cpan-testers-discuss@perl.org
--
Dear Alexandr Ciornii,
This is a computer-generated report for DateTime-Format-Epoch-0.13
on perl 5.8.9, created by CPAN-Reporter-1.2011.
Thank you for uploading your work to CPAN. Congratulations!
All tests were successful.
Sections of this report:
* Tester comments
* Program output
* Prerequisites
* Environment and other context
------------------------------
TESTER COMMENTS
------------------------------
Additional comments from tester:
this report is from an automated smoke testing program
and was not reviewed by a human for accuracy
------------------------------
PROGRAM OUTPUT
------------------------------
Output from './Build test':
Math::BigInt: couldn't load specified math lib(s), fallback to Math::BigInt::Calc at /tmp/loop_over_bdir-12615-wjgzoK/DateTime-Format-Epoch-0.13-SAG86g/blib/lib/DateTime/Format/Epoch.pm line 13.
# ==> DateTime version = 1.10
# ==> Math::BigInt version = 1.9993
# ==> Math::BigInt lib = Math::BigInt::Calc
t/001_load.t .... ok
Math::BigInt: couldn't load specified math lib(s), fallback to Math::BigInt::Calc at /tmp/loop_over_bdir-12615-wjgzoK/DateTime-Format-Epoch-0.13-SAG86g/blib/lib/DateTime/Format/Epoch.pm line 13.
t/002_format.t .. ok
Math::BigInt: couldn't load specified math lib(s), fallback to Math::BigInt::Calc at /tmp/loop_over_bdir-12615-wjgzoK/DateTime-Format-Epoch-0.13-SAG86g/blib/lib/DateTime/Format/Epoch.pm line 13.
t/003_bigint.t .. ok
Math::BigInt: couldn't load specified math lib(s), fallback to Math::BigInt::Calc at /tmp/loop_over_bdir-12615-wjgzoK/DateTime-Format-Epoch-0.13-SAG86g/blib/lib/DateTime/Format/Epoch.pm line 13.
t/004_nano.t .... ok
Math::BigInt: couldn't load specified math lib(s), fallback to Math::BigInt::Calc at /tmp/loop_over_bdir-12615-wjgzoK/DateTime-Format-Epoch-0.13-SAG86g/blib/lib/DateTime/Format/Epoch.pm line 13.
t/005_leap.t .... ok
Math::BigInt: couldn't load specified math lib(s), fallback to Math::BigInt::Calc at /tmp/loop_over_bdir-12615-wjgzoK/DateTime-Format-Epoch-0.13-SAG86g/blib/lib/DateTime/Format/Epoch.pm line 13.
t/006_local.t ... ok
Math::BigInt: couldn't load specified math lib(s), fallback to Math::BigInt::Calc at /tmp/loop_over_bdir-12615-wjgzoK/DateTime-Format-Epoch-0.13-SAG86g/blib/lib/DateTime/Format/Epoch.pm line 13.
t/007_parse.t ... ok
Math::BigInt: couldn't load specified math lib(s), fallback to Math::BigInt::Calc at /tmp/loop_over_bdir-12615-wjgzoK/DateTime-Format-Epoch-0.13-SAG86g/blib/lib/DateTime/Format/Epoch.pm line 13.
t/008_dhms.t .... ok
Math::BigInt: couldn't load specified math lib(s), fallback to Math::BigInt::Calc at /tmp/loop_over_bdir-12615-wjgzoK/DateTime-Format-Epoch-0.13-SAG86g/blib/lib/DateTime/Format/Epoch.pm line 13.
t/101_load.t .... ok
Math::BigInt: couldn't load specified math lib(s), fallback to Math::BigInt::Calc at /tmp/loop_over_bdir-12615-wjgzoK/DateTime-Format-Epoch-0.13-SAG86g/blib/lib/DateTime/Format/Epoch.pm line 13.
t/102_format.t .. ok
Math::BigInt: couldn't load specified math lib(s), fallback to Math::BigInt::Calc at /tmp/loop_over_bdir-12615-wjgzoK/DateTime-Format-Epoch-0.13-SAG86g/blib/lib/DateTime/Format/Epoch.pm line 13.
t/201_load.t .... ok
Math::BigInt: couldn't load specified math lib(s), fallback to Math::BigInt::Calc at /tmp/loop_over_bdir-12615-wjgzoK/DateTime-Format-Epoch-0.13-SAG86g/blib/lib/DateTime/Format/Epoch.pm line 13.
t/202_format.t .. ok
Math::BigInt: couldn't load specified math lib(s), fallback to Math::BigInt::Calc at /tmp/loop_over_bdir-12615-wjgzoK/DateTime-Format-Epoch-0.13-SAG86g/blib/lib/DateTime/Format/Epoch.pm line 13.
Math::BigInt: couldn't load specified math lib(s), fallback to Math::BigInt::Calc at /tmp/loop_over_bdir-12615-wjgzoK/DateTime-Format-Epoch-0.13-SAG86g/blib/lib/DateTime/Format/Epoch/TAI64.pm line 13.
t/301_load.t .... ok
Math::BigInt: couldn't load specified math lib(s), fallback to Math::BigInt::Calc at /tmp/loop_over_bdir-12615-wjgzoK/DateTime-Format-Epoch-0.13-SAG86g/blib/lib/DateTime/Format/Epoch.pm line 13.
Math::BigInt: couldn't load specified math lib(s), fallback to Math::BigInt::Calc at /tmp/loop_over_bdir-12615-wjgzoK/DateTime-Format-Epoch-0.13-SAG86g/blib/lib/DateTime/Format/Epoch/TAI64.pm line 13.
t/302_format.t .. ok
Math::BigInt: couldn't load specified math lib(s), fallback to Math::BigInt::Calc at /tmp/loop_over_bdir-12615-wjgzoK/DateTime-Format-Epoch-0.13-SAG86g/blib/lib/DateTime/Format/Epoch.pm line 13.
Math::BigInt: couldn't load specified math lib(s), fallback to Math::BigInt::Calc at /tmp/loop_over_bdir-12615-wjgzoK/DateTime-Format-Epoch-0.13-SAG86g/blib/lib/DateTime/Format/Epoch/TAI64.pm line 13.
t/303_parse.t ... ok
Math::BigInt: couldn't load specified math lib(s), fallback to Math::BigInt::Calc at /tmp/loop_over_bdir-12615-wjgzoK/DateTime-Format-Epoch-0.13-SAG86g/blib/lib/DateTime/Format/Epoch.pm line 13.
t/401_load.t .... ok
Math::BigInt: couldn't load specified math lib(s), fallback to Math::BigInt::Calc at /tmp/loop_over_bdir-12615-wjgzoK/DateTime-Format-Epoch-0.13-SAG86g/blib/lib/DateTime/Format/Epoch.pm line 13.
t/402_format.t .. ok
Math::BigInt: couldn't load specified math lib(s), fallback to Math::BigInt::Calc at /tmp/loop_over_bdir-12615-wjgzoK/DateTime-Format-Epoch-0.13-SAG86g/blib/lib/DateTime/Format/Epoch.pm line 13.
t/502_format.t .. ok
Math::BigInt: couldn't load specified math lib(s), fallback to Math::BigInt::Calc at /tmp/loop_over_bdir-12615-wjgzoK/DateTime-Format-Epoch-0.13-SAG86g/blib/lib/DateTime/Format/Epoch.pm line 13.
t/601_load.t .... ok
t/pod.t ......... ok
All tests successful.
Files=20, Tests=129, 8 wallclock secs ( 0.07 usr 0.03 sys + 2.84 cusr 0.25 csys = 3.19 CPU)
Result: PASS
------------------------------
PREREQUISITES
------------------------------
Prerequisite modules loaded:
requires:
Module Need Have
---------------- ------- ------------
DateTime 0.31 1.10
Math::BigInt 1.66 1.9993
Params::Validate 0 1.13
perl 5.00503 5.008009
build_requires:
Module Need Have
---------------- ------- ------------
Test::More 0 1.301001_021
------------------------------
ENVIRONMENT AND OTHER CONTEXT
------------------------------
Environment variables:
AUTOMATED_TESTING = 1
LANG = en_US.UTF-8
LANGUAGE = en_US:en
PATH = /usr/lib/ccache:/home/sand/bin:/usr/local/bin:/usr/bin:/bin:/usr/games:/usr/local/perl/bin:/usr/X11/bin:/sbin:/usr/sbin
PERL5LIB =
PERL5OPT =
PERL5_CPANPLUS_IS_RUNNING = 12616
PERL5_CPAN_IS_RUNNING = 12616
PERL_MM_USE_DEFAULT = 1
SHELL = /usr/bin/zsh
TERM = screen
Perl special variables (and OS-specific diagnostics, for MSWin32):
$^X = /home/sand/src/perl/repoperls/installed-perls/perl/perl-5.8.9/5da8/bin/perl
$UID/$EUID = 1005 / 1005
$GID = 1005 1005
$EGID = 1005 1005
Perl module toolchain versions installed:
Module Have
------------------- ------------
CPAN 2.05
CPAN::Meta 2.142060
Cwd 3.47
ExtUtils::CBuilder 0.280216
ExtUtils::Command 1.16
ExtUtils::Install 1.54
ExtUtils::MakeMaker 6.98
ExtUtils::Manifest 1.60
ExtUtils::ParseXS 3.24
File::Spec 3.47
JSON 2.90
JSON::PP 2.27203
Module::Build 0.4206
Module::Signature 0.73
Parse::CPAN::Meta 1.4414
Test::Harness 3.32
Test::More 1.301001_021
YAML 0.98
YAML::Syck 1.27
version 0.9908
--
Summary of my perl5 (revision 5 version 8 subversion 9) configuration:
Platform:
osname=linux, osvers=3.14-2-amd64, archname=x86_64-linux
uname='linux k83 3.14-2-amd64 #1 smp debian 3.14.13-2 (2014-07-24) x86_64 gnulinux '
config_args='-Dprefix=/home/sand/src/perl/repoperls/installed-perls/perl/perl-5.8.9/5da8 -Dmyhostname=k83 -Dinstallusrbinperl=n -Uversiononly -Dusedevel -des -Ui_db -Uuseithreads -Uuselongdouble -DDEBUGGING=-g -Dusedl -Ddlsrc=dl_dlopen.xs -Dlibs=-lnsl -ldb -ldl -lm -lcrypt -lutil -lc -Dlibpth=/usr/lib/x86_64-linux-gnu /usr/local/lib /lib /usr/lib'
hint=recommended, useposix=true, d_sigaction=define
usethreads=undef use5005threads=undef useithreads=undef usemultiplicity=undef
useperlio=define d_sfio=undef uselargefiles=define usesocks=undef
use64bitint=define use64bitall=define uselongdouble=undef
usemymalloc=n, bincompat5005=undef
Compiler:
cc='cc', ccflags ='-fno-strict-aliasing -pipe -I/usr/local/include -D_LARGEFILE_SOURCE -D_FILE_OFFSET_BITS=64',
optimize='-O2 -g',
cppflags='-fno-strict-aliasing -pipe -I/usr/local/include'
ccversion='', gccversion='4.9.1', gccosandvers=''
intsize=4, longsize=8, ptrsize=8, doublesize=8, byteorder=12345678
d_longlong=define, longlongsize=8, d_longdbl=define, longdblsize=16
ivtype='long', ivsize=8, nvtype='double', nvsize=8, Off_t='off_t', lseeksize=8
alignbytes=8, prototype=define
Linker and Libraries:
ld='cc', ldflags =' -L/usr/local/lib'
libpth=/usr/lib/x86_64-linux-gnu /usr/local/lib /lib /usr/lib
libs=-lnsl -ldb -ldl -lm -lcrypt -lutil -lc
perllibs=-lnsl -ldl -lm -lcrypt -lutil -lc
libc=, so=so, useshrplib=false, libperl=libperl.a
gnulibc_version='2.19'
Dynamic Linking:
dlsrc=dl_dlopen.xs, dlext=so, d_dlsymun=undef, ccdlflags='-Wl,-E'
cccdlflags='-fPIC', lddlflags='-shared -O2 -g -L/usr/local/lib'
Characteristics of this binary (from libperl):
Compile-time options: PERL_MALLOC_WRAP USE_64_BIT_ALL USE_64_BIT_INT
USE_FAST_STDIO USE_LARGE_FILES USE_PERLIO
Built under linux
Compiled at Aug 1 2014 14:02:11
%ENV:
PERL5LIB=""
PERL5OPT=""
PERL5_CPANPLUS_IS_RUNNING="12616"
PERL5_CPAN_IS_RUNNING="12616"
PERL_MM_USE_DEFAULT="1"
@INC:
/home/sand/src/perl/repoperls/installed-perls/perl/perl-5.8.9/5da8/lib/5.8.9/x86_64-linux
/home/sand/src/perl/repoperls/installed-perls/perl/perl-5.8.9/5da8/lib/5.8.9
/home/sand/src/perl/repoperls/installed-perls/perl/perl-5.8.9/5da8/lib/site_perl/5.8.9/x86_64-linux
/home/sand/src/perl/repoperls/installed-perls/perl/perl-5.8.9/5da8/lib/site_perl/5.8.9
.