Back
From: metabase:user:30f4dfbe-2aae-11df-837a-5e0a49663a4f
Subject: PASS Sub-Mage-0.032 v5.14.2 Dragonfly BSD
Date: 2014-09-06T16:08:09Z
This distribution has been tested as part of the CPAN Testers
project, supporting the Perl programming language. See
http://wiki.cpantesters.org/ for more information or email
questions to cpan-testers-discuss@perl.org
--
Dear Brad Haywood,
This is a computer-generated report for Sub-Mage-0.032
on perl 5.14.2, created by CPAN-Reporter-1.2009.
Thank you for uploading your work to CPAN. Congratulations!
All tests were successful.
Sections of this report:
* Tester comments
* Program output
* Prerequisites
* Environment and other context
------------------------------
TESTER COMMENTS
------------------------------
Additional comments from tester:
this report is from an automated smoke testing program
and was not reviewed by a human for accuracy
------------------------------
PROGRAM OUTPUT
------------------------------
Output from '/usr/bin/make test':
PERL_DL_NONLAZY=1 /usr/pkg/bin/perl "-MExtUtils::Command::MM" "-e" "test_harness(0, 'inc', 'blib/lib', 'blib/arch')" t/00-load.t t/01-hooks.t t/02-accessors.t t/03-sub_run.t
# Testing Sub::Mage 0.032, Perl 5.014002, /usr/pkg/bin/perl
t/00-load.t ....... ok
t/01-hooks.t ...... ok
t/02-accessors.t .. ok
t/03-sub_run.t .... ok
All tests successful.
Files=4, Tests=10, 0 wallclock secs ( 0.02 usr 0.01 sys + 0.09 cusr 0.01 csys = 0.12 CPU)
Result: PASS
------------------------------
PREREQUISITES
------------------------------
Prerequisite modules loaded:
requires:
Module Need Have
------------------- ---- ----
Test::More 0 0.98
build_requires:
Module Need Have
------------------- ---- ----
ExtUtils::MakeMaker 6.36 6.64
Test::More 0 0.98
------------------------------
ENVIRONMENT AND OTHER CONTEXT
------------------------------
Environment variables:
AUTOMATED_TESTING = 1
PATH = /home/njh/perl5/perlbrew/bin:/home/njh/perl5/perlbrew/perls/perl-5.21.3/bin:/home/njh/perl5/perlbrew/bin:/sbin:/bin:/usr/sbin:/usr/bin:/usr/games:/usr/pkg/sbin:/usr/pkg/bin:/usr/pkg/xorg/bin:/usr/local/sbin:/usr/local/bin:/home/njh/bin:/usr/pkg/lib/perl5/site_perl/bin:/usr/pkg/lib/perl5/site_perl/bin
PERL5LIB =
PERL5OPT =
PERL5_CPANPLUS_IS_RUNNING = 78774
PERL5_CPAN_IS_RUNNING = 78774
PERL5_MINISMOKEBOX = 0.54
PERLBREW_BASHRC_VERSION = 0.58
PERLBREW_HOME = /home/njh/.perlbrew
PERLBREW_MANPATH = /home/njh/perl5/perlbrew/perls/perl-5.21.3/man
PERLBREW_PATH = /home/njh/perl5/perlbrew/bin:/home/njh/perl5/perlbrew/perls/perl-5.21.3/bin
PERLBREW_PERL = perl-5.21.3
PERLBREW_ROOT = /home/njh/perl5/perlbrew
PERLBREW_VERSION = 0.58
PERL_EXTUTILS_AUTOINSTALL = --defaultdeps
PERL_MM_USE_DEFAULT = 1
SHELL = /usr/pkg/bin/bash
TERM = xterm
Perl special variables (and OS-specific diagnostics, for MSWin32):
$^X = /usr/pkg/bin/perl
$UID/$EUID = 1001 / 1001
$GID = 1002 1002 0
$EGID = 1002 1002 0
Perl module toolchain versions installed:
Module Have
------------------- --------
CPAN 1.9800
CPAN::Meta 2.120921
Cwd 3.36
ExtUtils::CBuilder 0.280205
ExtUtils::Command 1.17
ExtUtils::Install 1.56
ExtUtils::MakeMaker 6.64
ExtUtils::Manifest 1.61
ExtUtils::ParseXS 3.18
File::Spec 3.33
JSON 2.53
JSON::PP 2.27200
Module::Build 0.4003
Module::Signature 0.70
Parse::CPAN::Meta 1.4404
Test::Harness 3.25
Test::More 0.98
YAML 0.84
YAML::Syck 1.22
version 0.9901
--
Summary of my perl5 (revision 5 version 14 subversion 2) configuration:
Platform:
osname=dragonfly, osvers=3.1-development, archname=i386-dragonfly-thread-multi
uname='dragonfly pkgbox32.dragonflybsd.org 3.1-development dragonfly v3.1.0.1426.g383d6d-development #24: thu aug 23 18:36:41 pdt 2012 root@pkgbox32.dragonflybsd.org:usrobjusrsrc-miscsyspkgbox32 i386 '
config_args='-sde -D ccflags=-O2 -pthread -I/usr/include -D ldflags= -pthread -L/usr/lib -Wl,-R/usr/lib -Wl,-R/usr/pkg/lib -Duseshrplib -Duseithreads -Uusemymalloc'
hint=recommended, useposix=true, d_sigaction=define
useithreads=define, usemultiplicity=define
useperlio=define, d_sfio=undef, uselargefiles=define, usesocks=undef
use64bitint=undef, use64bitall=undef, uselongdouble=undef
usemymalloc=n, bincompat5005=undef
Compiler:
cc='cc', ccflags ='-O2 -pthread -I/usr/include -DHAS_FPSETMASK -DHAS_FLOATINGPOINT_H -fno-strict-aliasing -pipe -fstack-protector -I/usr/local/include',
optimize='-O2 -pthread -I/usr/include',
cppflags='-O2 -pthread -I/usr/include -DHAS_FPSETMASK -DHAS_FLOATINGPOINT_H -fno-strict-aliasing -pipe -fstack-protector -I/usr/local/include'
ccversion='', gccversion='4.4.7 2011.10.25', gccosandvers=''
intsize=4, longsize=4, ptrsize=4, doublesize=8, byteorder=1234
d_longlong=define, longlongsize=8, d_longdbl=define, longdblsize=12
ivtype='long', ivsize=4, nvtype='double', nvsize=8, Off_t='off_t', lseeksize=8
alignbytes=4, prototype=define
Linker and Libraries:
ld='cc', ldflags ='-Wl,-R/usr/pkg/lib -pthread -Wl,-E -fstack-protector'
libpth=/usr/lib /usr/local/lib
libs=-lm -lcrypt -lpthread -lrt
perllibs=-lm -lcrypt -lpthread -lrt
libc=, so=so, useshrplib=true, libperl=libperl.so
gnulibc_version=''
Dynamic Linking:
dlsrc=dl_dlopen.xs, dlext=so, d_dlsymun=undef, ccdlflags=' -Wl,-R/usr/pkg/lib/perl5/5.14.0/i386-dragonfly-thread-multi/CORE'
cccdlflags='-DPIC -fPIC', lddlflags='-Wl,-R/usr/pkg/lib -shared -L/usr/local/lib -fstack-protector'
Characteristics of this binary (from libperl):
Compile-time options: MULTIPLICITY PERL_DONT_CREATE_GVSV
PERL_IMPLICIT_CONTEXT PERL_MALLOC_WRAP
PERL_PRESERVE_IVUV USE_ITHREADS USE_LARGE_FILES
USE_PERLIO USE_PERL_ATOF USE_REENTRANT_API
Built under dragonfly
Compiled at Aug 24 2012 04:13:49
%ENV:
PERL5LIB=""
PERL5OPT=""
PERL5_CPANPLUS_IS_RUNNING="78774"
PERL5_CPAN_IS_RUNNING="78774"
PERL5_MINISMOKEBOX="0.54"
PERLBREW_BASHRC_VERSION="0.58"
PERLBREW_HOME="/home/njh/.perlbrew"
PERLBREW_MANPATH="/home/njh/perl5/perlbrew/perls/perl-5.21.3/man"
PERLBREW_PATH="/home/njh/perl5/perlbrew/bin:/home/njh/perl5/perlbrew/perls/perl-5.21.3/bin"
PERLBREW_PERL="perl-5.21.3"
PERLBREW_ROOT="/home/njh/perl5/perlbrew"
PERLBREW_VERSION="0.58"
PERL_EXTUTILS_AUTOINSTALL="--defaultdeps"
PERL_MM_USE_DEFAULT="1"
@INC:
/usr/pkg/lib/perl5/site_perl/5.14.0/i386-dragonfly-thread-multi
/usr/pkg/lib/perl5/site_perl/5.14.0
/usr/pkg/lib/perl5/vendor_perl/5.14.0/i386-dragonfly-thread-multi
/usr/pkg/lib/perl5/vendor_perl/5.14.0
/usr/pkg/lib/perl5/5.14.0/i386-dragonfly-thread-multi
/usr/pkg/lib/perl5/5.14.0
.