String-Sections v0.3.2 Perl 5 v5.37.4 x86_64-linux-thread-multi-ld
- Status
- Pass
- From
- Andreas J. König (ANDK)
- Dist
-
String-Sections v0.3.2
- Platform
- Perl 5 v5.37.4 x86_64-linux-thread-multi-ld
- Date
- 2022-10-17 04:27:21
- ID
- fe0166a2-4dd3-11ed-ac8b-d05c0b1f58b4
This distribution has been tested as part of the CPAN Testers
project, supporting the Perl programming language. See
http://wiki.cpantesters.org/ for more information or email
questions to cpan-testers-discuss@perl.org
--
Dear Kent Fredric (PAUSE Custodial Account),
This is a computer-generated report for String-Sections-0.3.2
on perl 5.37.4, created by CPAN-Reporter-1.2018.
Thank you for uploading your work to CPAN. Congratulations!
All tests were successful.
Sections of this report:
* Tester comments
* Program output
* Prerequisites
* Environment and other context
------------------------------
TESTER COMMENTS
------------------------------
Additional comments from tester:
this report is from an automated smoke testing program
and was not reviewed by a human for accuracy
------------------------------
PROGRAM OUTPUT
------------------------------
Output from './Build test':
t/00-compile.t .................................................. ok
#
#
# Generated by Dist::Zilla::Plugin::ReportVersions::Tiny v1.09
# perl: 5.037004 (wanted 5.010001) on linux from /tmp/basesmoker-reloperl-UauO/bin/perl
#
# Carp => 1.54 (want any version)
# Data::Dump => 1.25 (want any version)
# Dist::Zilla::PluginBundle::Author::KENTNL => module not found. (want v1.8.3)
# Dist::Zilla::PluginBundle::Author::KENTNL::Lite => module not found. (want v1.3.0)
# File::Spec => 3.87 (want any version)
# FindBin => 1.53 (want any version)
# IO::Handle => 1.51 (want any version)
# IPC::Open3 => 1.22 (want any version)
# Module::Build => 0.4231 (want 0.4007)
# Moo => 2.005004 (want 1.000008)
# Path::Tiny => 0.124 (want any version)
# Pod::Coverage::TrustPod => 0.100005 (want any version)
# Scalar::Util => 1.63 (want any version)
# Sub::Exporter::Progressive => 0.001013 (want any version)
# Test::CPAN::Changes => 0.400002 (want 0.19)
# Test::CPAN::Meta => 0.25 (want any version)
# Test::Fatal => 0.016 (want any version)
# Test::Kwalitee => 1.28 (want 1.08)
# Test::More => 1.302191 (want 0.98)
# Test::Pod => 1.52 (want 1.41)
# Test::Pod::Coverage => 1.10 (want 1.08)
# Types::Standard => 2.000001 (want any version)
# lib => 0.65 (want any version)
# strict => 1.12 (want any version)
# version => 0.9929 (want 0.9901)
# warnings => 1.58 (want any version)
#
# Thanks for using my code. I hope it works for you.
# If not, please try and include this output in the bug report.
# That will help me reproduce the issue and solve your problem.
#
t/000-report-versions-tiny.t .................................... ok
t/01-String-Sections-Result/basic.t ............................. ok
t/01_parse_lines.t .............................................. ok
t/02-String-Sections/parse_filehandles/empty.t .................. ok
t/02-String-Sections/parse_filehandles/nosections.t ............. ok
t/02-String-Sections/parse_filehandles/onesection_full.t ........ ok
t/02-String-Sections/parse_filehandles/onesection_head.t ........ ok
t/02-String-Sections/parse_filehandles/prelude.t ................ ok
t/02-String-Sections/parse_filehandles/twosection_full.t ........ ok
t/02-String-Sections/parse_filehandles/twosection_secondhead.t .. ok
t/02-String-Sections/parse_list/empty.t ......................... ok
t/02-String-Sections/parse_list/nosections.t .................... ok
t/02-String-Sections/parse_list/onesection_full.t ............... ok
t/02-String-Sections/parse_list/onesection_head.t ............... ok
t/02-String-Sections/parse_list/prelude.t ....................... ok
t/02-String-Sections/parse_list/twosection_full.t ............... ok
t/02-String-Sections/parse_list/twosection_secondhead.t ......... ok
All tests successful.
Files=18, Tests=58, 4 wallclock secs ( 0.06 usr 0.04 sys + 3.54 cusr 0.44 csys = 4.08 CPU)
Result: PASS
------------------------------
PREREQUISITES
------------------------------
Prerequisite modules loaded:
requires:
Module Need Have
-------------------------- -------- --------
Carp 0 1.54
Moo 1.000008 2.005004
perl 5.010001 5.037004
Scalar::Util 0 1.63
strict 0 1.12
Types::Standard 0 2.000001
warnings 0 1.58
build_requires:
Module Need Have
-------------------------- -------- --------
Data::Dump 0 1.25
File::Spec 0 3.87
FindBin 0 1.53
IO::Handle 0 1.51
IPC::Open3 0 1.22
lib 0 0.65
Module::Build 0.4007 0.4231
Path::Tiny 0 0.124
Sub::Exporter::Progressive 0 0.001013
Test::Fatal 0 0.016
Test::More 0.98 1.302191
configure_requires:
Module Need Have
-------------------------- -------- --------
Module::Build 0.4007 0.4231
------------------------------
ENVIRONMENT AND OTHER CONTEXT
------------------------------
Environment variables:
AUTOMATED_TESTING = 1
LANG = en_US.UTF-8
PATH = /home/sand/bin:/usr/local/bin:/usr/local/sbin:/usr/sbin:/usr/bin:/sbin:/bin:/usr/games:/usr/local/games:/snap/bin:/usr/local/perl/bin:/usr/X11/bin
PERL5LIB = /tmp/loop_over_bdir-1432754-6Zrhuu/Device-Kiln-0.03-0/blib/arch:/tmp/loop_over_bdir-1432754-6Zrhuu/Device-Kiln-0.03-0/blib/lib:/tmp/loop_over_bdir-1432754-6Zrhuu/Dpkg-1.21.9-0/blib/arch:/tmp/loop_over_bdir-1432754-6Zrhuu/Dpkg-1.21.9-0/blib/lib:/tmp/loop_over_bdir-1432754-6Zrhuu/DBIx-Migration-Directories-0.12-0/blib/arch:/tmp/loop_over_bdir-1432754-6Zrhuu/DBIx-Migration-Directories-0.12-0/blib/lib:/tmp/loop_over_bdir-1432754-6Zrhuu/MP3-PodcastFetch-1.05-0/blib/arch:/tmp/loop_over_bdir-1432754-6Zrhuu/MP3-PodcastFetch-1.05-0/blib/lib
PERL5OPT =
PERL5_CPANPLUS_IS_RUNNING = 1432763
PERL5_CPAN_IS_RUNNING = 1432763
PERL_CANARY_STABILITY_NOPROMPT = 1
PERL_MM_USE_DEFAULT = 1
PERL_USE_UNSAFE_INC = 1
SHELL = /usr/bin/zsh
TERM = screen
Perl special variables (and OS-specific diagnostics, for MSWin32):
$^X = /tmp/basesmoker-reloperl-UauO/bin/perl
$UID/$EUID = 1005 / 1005
$GID = 1005 1005
$EGID = 1005 1005
Perl module toolchain versions installed:
Module Have
------------------- --------
CPAN 2.34
CPAN::Meta 2.150010
Cwd 3.86
ExtUtils::CBuilder 0.280237
ExtUtils::Command 7.64
ExtUtils::Install 2.20
ExtUtils::MakeMaker 7.64
ExtUtils::Manifest 1.73
ExtUtils::ParseXS 3.46
File::Spec 3.87
JSON 4.10
JSON::PP 4.12
Module::Build 0.4231
Module::Signature 0.88
Parse::CPAN::Meta 2.150010
Test::Harness 3.44
Test::More 1.302191
YAML 1.30
YAML::Syck 1.34
version 0.9929
--
Summary of my perl5 (revision 5 version 37 subversion 4) configuration:
Commit id: f2582f5b18658f945a763f2edc110cdc7c5220e7
Platform:
osname=linux
osvers=5.4.0-125-generic
archname=x86_64-linux-thread-multi-ld
uname='linux k93focal 5.4.0-125-generic #141-ubuntu smp wed aug 10 13:42:03 utc 2022 x86_64 x86_64 x86_64 gnulinux '
config_args='-Dprefix=/home/sand/src/perl/repoperls/installed-perls/host/k93focal/v5.37.4/e463 -Dmyhostname=k93focal -Dinstallusrbinperl=n -Uversiononly -Dusedevel -des -Ui_db -Dlibswanted=cl pthread socket inet nsl gdbm dbm malloc dl ld sun m crypt sec util c cposix posix ucb BSD gdbm_compat -Duseithreads -Duselongdouble -DEBUGGING=both'
hint=recommended
useposix=true
d_sigaction=define
useithreads=define
usemultiplicity=define
use64bitint=define
use64bitall=define
uselongdouble=define
usemymalloc=n
default_inc_excludes_dot=define
Compiler:
cc='cc'
ccflags ='-D_REENTRANT -D_GNU_SOURCE -fwrapv -DDEBUGGING -fno-strict-aliasing -pipe -fstack-protector-strong -I/usr/local/include -D_LARGEFILE_SOURCE -D_FILE_OFFSET_BITS=64'
optimize='-O2 -g'
cppflags='-D_REENTRANT -D_GNU_SOURCE -fwrapv -DDEBUGGING -fno-strict-aliasing -pipe -fstack-protector-strong -I/usr/local/include'
ccversion=''
gccversion='9.4.0'
gccosandvers=''
intsize=4
longsize=8
ptrsize=8
doublesize=8
byteorder=12345678
doublekind=3
d_longlong=define
longlongsize=8
d_longdbl=define
longdblsize=16
longdblkind=3
ivtype='long'
ivsize=8
nvtype='long double'
nvsize=16
Off_t='off_t'
lseeksize=8
alignbytes=16
prototype=define
Linker and Libraries:
ld='cc'
ldflags =' -fstack-protector-strong -L/usr/local/lib'
libpth=/usr/local/lib /usr/lib/x86_64-linux-gnu /usr/lib /usr/lib64
libs=-lpthread -lnsl -ldl -lm -lcrypt -lutil -lc
perllibs=-lpthread -lnsl -ldl -lm -lcrypt -lutil -lc
libc=libc-2.31.so
so=so
useshrplib=false
libperl=libperl.a
gnulibc_version='2.31'
Dynamic Linking:
dlsrc=dl_dlopen.xs
dlext=so
d_dlsymun=undef
ccdlflags='-Wl,-E'
cccdlflags='-fPIC'
lddlflags='-shared -O2 -g -L/usr/local/lib -fstack-protector-strong'
Characteristics of this binary (from libperl):
Compile-time options:
DEBUGGING
HAS_TIMES
MULTIPLICITY
PERLIO_LAYERS
PERL_COPY_ON_WRITE
PERL_DONT_CREATE_GVSV
PERL_HASH_FUNC_SIPHASH13
PERL_HASH_USE_SBOX32
PERL_MALLOC_WRAP
PERL_OP_PARENT
PERL_PRESERVE_IVUV
PERL_TRACK_MEMPOOL
PERL_USE_DEVEL
PERL_USE_SAFE_PUTENV
USE_64_BIT_ALL
USE_64_BIT_INT
USE_ITHREADS
USE_LARGE_FILES
USE_LOCALE
USE_LOCALE_COLLATE
USE_LOCALE_CTYPE
USE_LOCALE_NUMERIC
USE_LOCALE_TIME
USE_LONG_DOUBLE
USE_PERLIO
USE_PERL_ATOF
USE_REENTRANT_API
USE_THREAD_SAFE_LOCALE
Built under linux
Compiled at Oct 10 2022 06:00:24
%ENV:
PERL5LIB="/tmp/loop_over_bdir-1432754-6Zrhuu/Device-Kiln-0.03-0/blib/arch:/tmp/loop_over_bdir-1432754-6Zrhuu/Device-Kiln-0.03-0/blib/lib:/tmp/loop_over_bdir-1432754-6Zrhuu/Dpkg-1.21.9-0/blib/arch:/tmp/loop_over_bdir-1432754-6Zrhuu/Dpkg-1.21.9-0/blib/lib:/tmp/loop_over_bdir-1432754-6Zrhuu/DBIx-Migration-Directories-0.12-0/blib/arch:/tmp/loop_over_bdir-1432754-6Zrhuu/DBIx-Migration-Directories-0.12-0/blib/lib:/tmp/loop_over_bdir-1432754-6Zrhuu/MP3-PodcastFetch-1.05-0/blib/arch:/tmp/loop_over_bdir-1432754-6Zrhuu/MP3-PodcastFetch-1.05-0/blib/lib"
PERL5OPT=""
PERL5_CPANPLUS_IS_RUNNING="1432763"
PERL5_CPAN_IS_RUNNING="1432763"
PERL_CANARY_STABILITY_NOPROMPT="1"
PERL_MM_USE_DEFAULT="1"
PERL_USE_UNSAFE_INC="1"
@INC:
/tmp/loop_over_bdir-1432754-6Zrhuu/Device-Kiln-0.03-0/blib/arch
/tmp/loop_over_bdir-1432754-6Zrhuu/Device-Kiln-0.03-0/blib/lib
/tmp/loop_over_bdir-1432754-6Zrhuu/Dpkg-1.21.9-0/blib/arch
/tmp/loop_over_bdir-1432754-6Zrhuu/Dpkg-1.21.9-0/blib/lib
/tmp/loop_over_bdir-1432754-6Zrhuu/DBIx-Migration-Directories-0.12-0/blib/arch
/tmp/loop_over_bdir-1432754-6Zrhuu/DBIx-Migration-Directories-0.12-0/blib/lib
/tmp/loop_over_bdir-1432754-6Zrhuu/MP3-PodcastFetch-1.05-0/blib/arch
/tmp/loop_over_bdir-1432754-6Zrhuu/MP3-PodcastFetch-1.05-0/blib/lib
/home/sand/src/perl/repoperls/installed-perls/host/k93focal/v5.37.4/e463/lib/site_perl/5.37.4/x86_64-linux-thread-multi-ld
/home/sand/src/perl/repoperls/installed-perls/host/k93focal/v5.37.4/e463/lib/site_perl/5.37.4
/home/sand/src/perl/repoperls/installed-perls/host/k93focal/v5.37.4/e463/lib/5.37.4/x86_64-linux-thread-multi-ld
/home/sand/src/perl/repoperls/installed-perls/host/k93focal/v5.37.4/e463/lib/5.37.4
.