Back
From: metabase:user:320bfe00-2aae-11df-837a-5e0a49663a4f
Subject: PASS Class-Scaffold-1.102280 v5.12.3 GNU/Linux
Date: 2011-05-17T12:05:43Z
This distribution has been tested as part of the CPAN Testers
project, supporting the Perl programming language. See
http://wiki.cpantesters.org/ for more information or email
questions to cpan-testers-discuss@perl.org
--
Dear Marcel Gruenauer,
This is a computer-generated report for Class-Scaffold-1.102280
on perl 5.12.3, created by CPAN-Reporter-1.1902.
Thank you for uploading your work to CPAN. Congratulations!
All tests were successful.
Sections of this report:
* Tester comments
* Program output
* Prerequisites
* Environment and other context
------------------------------
TESTER COMMENTS
------------------------------
Additional comments from tester:
this report is from an automated smoke testing program
and was not reviewed by a human for accuracy
------------------------------
PROGRAM OUTPUT
------------------------------
Output from '/usr/bin/make test':
PERL_DL_NONLAZY=1 /home/sand/src/perl/repoperls/installed-perls/perl/v5.12.3/1df5/bin/perl "-MExtUtils::Command::MM" "-e" "test_harness(0, 'blib/lib', 'blib/arch')" t/*.t
t/00-compile.t ............... ok
# Testing with Perl 5.012003, /home/sand/src/perl/repoperls/installed-perls/perl/v5.12.3/1df5/bin/perl
# Carp version is 1.17
# Class::Accessor::Complex version is 1.100880
# Class::Accessor::Constructor version is 1.100880
# Class::Accessor::FactoryTyped version is 1.100970
# Class::Factory::Enhanced version is 1.101420
# Class::Value version is 1.100840
# Cwd version is 3.33
# Data::Comparable version is 1.100840
# Data::Inherited version is 1.100860
# Data::Miscellany version is 1.100850
# Data::Storage version is 1.102720
# Devel::Caller version is 2.05
# Encode version is 2.42
# English version is 1.04
# Error version is 0.17016
# Error::Hierarchy version is 1.103530
# Error::Hierarchy::Container version is 1.103530
# Error::Hierarchy::Internal version is 1.103530
# Error::Hierarchy::Mixin version is 1.103530
# Error::Hierarchy::Test version is 1.103530
# Error::Hierarchy::Util version is 1.103530
# Exporter version is 5.64_01
# ExtUtils::MakeMaker version is 6.56
# File::Find version is 1.15
# File::Spec::Functions version is 3.33
# File::Temp version is 0.22
# FindBin version is 1.50
# Getopt::Inherited version is 1.100860
# Getopt::Long version is 2.38
# IO::File version is 1.14
# IO::Handle version is 1.28
# List::Util version is 1.23
# Property::Lookup version is 1.101400
# Scalar::Util version is 1.23
# String::FlexMatch version is 1.100820
# Sys::Hostname version is 1.11
# Test::Builder version is 0.98
# Test::Class::GetoptControl version is 1.100860
# Test::CompanionClasses::Base version is 1.101370
# Test::CompanionClasses::Engine version is 1.101370
# Test::More version is 0.98
# Time::HiRes version is 1.9719
# UNIVERSAL::require version is 0.13
# YAML version is 0.73
# YAML::Active version is 1.100810
# YAML::Active::Plugin::Array version is 1.100810
# YAML::Active::Plugin::Hash version is 1.100810
# YAML::Marshall version is 0.72
# constant version is 1.20
# overload version is 1.10
# parent version is 0.225
t/000-report-versions.t ...... ok
20110517.140354.55 Hello
20110517.140354.55 a debug message that should appear
20110517.140354.55 (00018616) a message with pid and timestamp
(00018616) a message with pid but without timestamp
a message without pid or timestamp
t/01_companion_classes.t ..... ok
t/02_storage_conf.t .......... ok
t/author-critic.t ............ skipped: these tests are for testing by the author
t/release-check-changes.t .... skipped: these tests are for release candidate testing
t/release-dist-manifest.t .... skipped: these tests are for release candidate testing
t/release-distmeta.t ......... skipped: these tests are for release candidate testing
t/release-has-version.t ...... skipped: these tests are for release candidate testing
t/release-kwalitee.t ......... skipped: these tests are for release candidate testing
t/release-minimum-version.t .. skipped: these tests are for release candidate testing
t/release-no-tabs.t .......... skipped: these tests are for release candidate testing
t/release-pod-coverage.t ..... skipped: these tests are for release candidate testing
t/release-pod-spell.t ........ skipped: these tests are for release candidate testing
t/release-pod-syntax.t ....... skipped: these tests are for release candidate testing
t/release-portability.t ...... skipped: these tests are for release candidate testing
t/release-synopsis.t ......... skipped: these tests are for release candidate testing
t/release-unused-vars.t ...... skipped: these tests are for release candidate testing
All tests successful.
Files=18, Tests=108, 5 wallclock secs ( 0.08 usr 0.03 sys + 3.36 cusr 0.73 csys = 4.20 CPU)
Result: PASS
------------------------------
PREREQUISITES
------------------------------
Prerequisite modules loaded:
requires:
Module Need Have
------------------------------ ----- --------
Carp 0 1.17
Class::Accessor::Complex 0 1.100880
Class::Accessor::Constructor 0 1.100880
Class::Accessor::FactoryTyped 0 1.100970
Class::Factory::Enhanced 0 1.101420
Class::Value 0 1.100840
constant 0 1.20
Cwd 0 3.33
Data::Comparable 0 1.100840
Data::Inherited 0 1.100860
Data::Miscellany 0 1.100850
Data::Storage 0 1.102720
Devel::Caller 0 2.05
Encode 0 2.42
Error 0 0.17016
Error::Hierarchy 0 1.103530
Error::Hierarchy::Container 0 1.103530
Error::Hierarchy::Internal 0 1.103530
Error::Hierarchy::Mixin 0 1.103530
Error::Hierarchy::Test 0 1.103530
Error::Hierarchy::Util 0 1.103530
Exporter 0 5.64_01
File::Find 0 1.15
File::Spec::Functions 0 3.33
FindBin 0 1.50
Getopt::Inherited 0 1.100860
Getopt::Long 0 2.38
IO::File 0 1.14
IO::Handle 0 1.28
List::Util 0 1.23
overload 0 1.10
parent 0 0.225
perl 5.008 5.012003
Property::Lookup 0 1.101400
String::FlexMatch 0 1.100820
Sys::Hostname 0 1.11
Test::Builder 0 0.98
Test::Class::GetoptControl 0 1.100860
Test::CompanionClasses::Base 0 1.101370
Test::CompanionClasses::Engine 0 1.101370
Test::More 0 0.98
Time::HiRes 0 1.9719
UNIVERSAL::require 0 0.13
YAML 0 0.73
YAML::Active 0 1.100810
YAML::Active::Plugin::Array 0 1.100810
YAML::Active::Plugin::Hash 0 1.100810
YAML::Marshall 0 0.72
build_requires:
Module Need Have
------------------------------ ----- --------
English 0 1.04
File::Temp 0 0.22
Scalar::Util 0 1.23
Test::More 0.94 0.98
configure_requires:
Module Need Have
------------------------------ ----- --------
ExtUtils::MakeMaker 6.31 6.56
------------------------------
ENVIRONMENT AND OTHER CONTEXT
------------------------------
Environment variables:
AUTOMATED_TESTING = 1
LANG = en_US.UTF-8
LANGUAGE = en_US:en
PATH = /usr/lib/ccache:/home/sand/bin:/usr/local/bin:/usr/bin:/bin:/usr/local/games:/usr/games:/usr/local/perl/bin:/usr/X11/bin:/sbin:/usr/sbin
PERL5LIB =
PERL5OPT =
PERL5_CPANPLUS_IS_RUNNING = 17200
PERL5_CPAN_IS_RUNNING = 17200
PERL_MM_USE_DEFAULT = 1
SHELL = /bin/bash
TERM = screen
Perl special variables (and OS-specific diagnostics, for MSWin32):
$^X = /home/sand/src/perl/repoperls/installed-perls/perl/v5.12.3/1df5/bin/perl
$UID/$EUID = 1001 / 1001
$GID = 1001 1001
$EGID = 1001 1001
Perl module toolchain versions installed:
Module Have
------------------- --------
CPAN 1.9600
Cwd 3.33
ExtUtils::CBuilder 0.280202
ExtUtils::Command 1.16
ExtUtils::Install 1.55
ExtUtils::MakeMaker 6.56
ExtUtils::Manifest 1.57
ExtUtils::ParseXS 2.2206
File::Spec 3.33
Module::Build 0.3800
Module::Signature 0.68
Test::Harness 3.23
Test::More 0.98
YAML 0.73
YAML::Syck 1.17
version 0.88
--
Summary of my perl5 (revision 5 version 12 subversion 3) configuration:
Commit id: c0247066c34077145eaa8f33eddcbb64fa3b0f8d
Platform:
osname=linux, osvers=2.6.32-5-amd64, archname=x86_64-linux
uname='linux k81 2.6.32-5-amd64 #1 smp mon mar 7 21:35:22 utc 2011 x86_64 gnulinux '
config_args='-Dprefix=/home/src/perl/repoperls/installed-perls/perl/v5.12.3/1df5 -Dinstallusrbinperl=n -Uversiononly -Dusedevel -des -Ui_db -Uuseithreads -Uuselongdouble -DDEBUGGING=-g'
hint=recommended, useposix=true, d_sigaction=define
useithreads=undef, usemultiplicity=undef
useperlio=define, d_sfio=undef, uselargefiles=define, usesocks=undef
use64bitint=define, use64bitall=define, uselongdouble=undef
usemymalloc=n, bincompat5005=undef
Compiler:
cc='cc', ccflags ='-fno-strict-aliasing -pipe -fstack-protector -I/usr/local/include -D_LARGEFILE_SOURCE -D_FILE_OFFSET_BITS=64',
optimize='-O2 -g',
cppflags='-fno-strict-aliasing -pipe -fstack-protector -I/usr/local/include'
ccversion='', gccversion='4.4.5', gccosandvers=''
intsize=4, longsize=8, ptrsize=8, doublesize=8, byteorder=12345678
d_longlong=define, longlongsize=8, d_longdbl=define, longdblsize=16
ivtype='long', ivsize=8, nvtype='double', nvsize=8, Off_t='off_t', lseeksize=8
alignbytes=8, prototype=define
Linker and Libraries:
ld='cc', ldflags =' -fstack-protector -L/usr/local/lib'
libpth=/usr/local/lib /lib /usr/lib /lib64 /usr/lib64
libs=-lnsl -ldl -lm -lcrypt -lutil -lc
perllibs=-lnsl -ldl -lm -lcrypt -lutil -lc
libc=/lib/libc-2.11.2.so, so=so, useshrplib=false, libperl=libperl.a
gnulibc_version='2.11.2'
Dynamic Linking:
dlsrc=dl_dlopen.xs, dlext=so, d_dlsymun=undef, ccdlflags='-Wl,-E'
cccdlflags='-fPIC', lddlflags='-shared -O2 -g -L/usr/local/lib -fstack-protector'
Characteristics of this binary (from libperl):
Compile-time options: PERL_DONT_CREATE_GVSV PERL_MALLOC_WRAP PERL_USE_DEVEL
USE_64_BIT_ALL USE_64_BIT_INT USE_LARGE_FILES
USE_PERLIO USE_PERL_ATOF
Built under linux
Compiled at May 14 2011 11:59:17
%ENV:
PERL5LIB=""
PERL5OPT=""
PERL5_CPANPLUS_IS_RUNNING="17200"
PERL5_CPAN_IS_RUNNING="17200"
PERL_MM_USE_DEFAULT="1"
@INC:
/home/src/perl/repoperls/installed-perls/perl/v5.12.3/1df5/lib/site_perl/5.12.3/x86_64-linux
/home/src/perl/repoperls/installed-perls/perl/v5.12.3/1df5/lib/site_perl/5.12.3
/home/src/perl/repoperls/installed-perls/perl/v5.12.3/1df5/lib/5.12.3/x86_64-linux
/home/src/perl/repoperls/installed-perls/perl/v5.12.3/1df5/lib/5.12.3
.