Report for Catalyst-View-RRDGraph-0.10

Back
From: metabase:user:314402c4-2aae-11df-837a-5e0a49663a4f
Subject: PASS Catalyst-View-RRDGraph-0.10 v5.22.2 RC1 GNU/Linux
Date: 2016-04-13T18:46:11Z

This distribution has been tested as part of the CPAN Testers
project, supporting the Perl programming language.  See
http://wiki.cpantesters.org/ for more information or email
questions to cpan-testers-discuss@perl.org


--
Dear Miquel Ruiz Martin,

This is a computer-generated report for Catalyst-View-RRDGraph-0.10
on perl 5.22.2, created by CPAN-Reporter-1.2017.

Thank you for uploading your work to CPAN.  Congratulations!
All tests were successful.

Sections of this report:

    * Tester comments
    * Program output
    * Prerequisites
    * Environment and other context

------------------------------
TESTER COMMENTS
------------------------------

Additional comments from tester:

none provided

------------------------------
PROGRAM OUTPUT
------------------------------

Output from '/usr/bin/make test':

PERL_DL_NONLAZY=1 "/bbbike/perl-5.22.2-RC1/bin/perl" "-MExtUtils::Command::MM" "-MTest::Harness" "-e" "undef *Test::Harness::Switches; test_harness(0, 'blib/lib', 'blib/arch')" t/*.t
t/001_load.t ............ ok
t/002_process.t ......... ok
[debug] Debug messages enabled
[debug] Statistics enabled
[debug] Loaded PSGI Middleware:
.--------------------------------------------------------------------------------------------------------------------------------------------------------------------------------------------.
| Catalyst::Middleware::Stash                                                                                                                                                                |
| Plack::Middleware::HTTPExceptions                                                                                                                                                          |
| Plack::Middleware::RemoveRedundantBody  0.04                                                                                                                                               |
| Plack::Middleware::FixMissingBodyInRedirect  0.12                                                                                                                                          |
| Plack::Middleware::ContentLength                                                                                                                                                           |
| Plack::Middleware::MethodOverride  0.15                                                                                                                                                    |
| Plack::Middleware::Head                                                                                                                                                                    |
'--------------------------------------------------------------------------------------------------------------------------------------------------------------------------------------------'

[debug] Loaded Request Data Handlers:
.--------------------------------------------------------------------------------------------------------------------------------------------------------------------------------------------.
| application/json                                                                                                                                                                           |
| application/x-www-form-urlencoded                                                                                                                                                          |
'--------------------------------------------------------------------------------------------------------------------------------------------------------------------------------------------'

[debug] Loaded dispatcher "Catalyst::Dispatcher"
[debug] Loaded engine "Catalyst::Engine"
[debug] Found home "/tmpfs/.cpan-build-cpansand/2016041318/Catalyst-View-RRDGraph-0.10-Jk3QOh/t/lib/RRDGraphTest003"
[debug] Loaded components:
.---------------------------------------------------------------------------------------------------------------------------------------------------------------------------------+----------.
| Class                                                                                                                                                                           | Type     |
+---------------------------------------------------------------------------------------------------------------------------------------------------------------------------------+----------+
| RRDGraphTest003::Controller::Root                                                                                                                                               | instance |
| RRDGraphTest003::View::RRDNormal                                                                                                                                                | instance |
| RRDGraphTest003::View::RRDOnServe                                                                                                                                               | instance |
| RRDGraphTest003::View::RRDOnServeFunction                                                                                                                                       | instance |
'---------------------------------------------------------------------------------------------------------------------------------------------------------------------------------+----------'

[debug] Loaded Private actions:
.-----------------------------------------------+--------------------------------------------------------------------------------------------+-----------------------------------------------.
| Private                                       | Class                                                                                      | Method                                        |
+-----------------------------------------------+--------------------------------------------------------------------------------------------+-----------------------------------------------+
| /zero_byte_error                              | RRDGraphTest003::Controller::Root                                                          | zero_byte_error                               |
| /image_error_normal                           | RRDGraphTest003::Controller::Root                                                          | image_error_normal                            |
| /image_error                                  | RRDGraphTest003::Controller::Root                                                          | image_error                                   |
| /zero_byte_error_normal                       | RRDGraphTest003::Controller::Root                                                          | zero_byte_error_normal                        |
| /zero_byte_error_function                     | RRDGraphTest003::Controller::Root                                                          | zero_byte_error_function                      |
| /image_error_function                         | RRDGraphTest003::Controller::Root                                                          | image_error_function                          |
'-----------------------------------------------+--------------------------------------------------------------------------------------------+-----------------------------------------------'

[debug] Loaded Path actions:
.---------------------------------------------------------------------------------------------+----------------------------------------------------------------------------------------------.
| Path                                                                                        | Private                                                                                      |
+---------------------------------------------------------------------------------------------+----------------------------------------------------------------------------------------------+
| /image_error/...                                                                            | /image_error                                                                                 |
| /image_error_function/...                                                                   | /image_error_function                                                                        |
| /image_error_normal/...                                                                     | /image_error_normal                                                                          |
| /zero_byte_error/...                                                                        | /zero_byte_error                                                                             |
| /zero_byte_error_function/...                                                               | /zero_byte_error_function                                                                    |
| /zero_byte_error_normal/...                                                                 | /zero_byte_error_normal                                                                      |
'---------------------------------------------------------------------------------------------+----------------------------------------------------------------------------------------------'

[info] RRDGraphTest003 powered by Catalyst 5.90104
[info] *** Request 1 (1.000/s) [19059] [Wed Apr 13 18:45:31 2016] ***
[debug] Path is "zero_byte_error"
[debug] "GET" request for "zero_byte_error" from "127.0.0.1"
[error] RRDgraph is 0 bytes
[debug] Static::Simple: Serving static file: error_image.png as image/png
[debug] Response Code: 200; Content-Type: image/png; Content-Length: 14
[info] Request took 0.005777s (173.100/s)
.----------------------------------------------------------------------------------------------------------------------------------------------------------------------------+-----------.
| Action                                                                                                                                                                     | Time      |
+----------------------------------------------------------------------------------------------------------------------------------------------------------------------------+-----------+
| /zero_byte_error                                                                                                                                                           | 0.003194s |
|  -> RRDGraphTest003::View::RRDOnServe->process                                                                                                                             | 0.002934s |
'----------------------------------------------------------------------------------------------------------------------------------------------------------------------------+-----------'

[info] *** Request 2 (2.000/s) [19059] [Wed Apr 13 18:45:31 2016] ***
[debug] Path is "image_error"
[debug] "GET" request for "image_error" from "127.0.0.1"
[error] Unknown option
[debug] Static::Simple: Serving static file: error_image.png as image/png
[debug] Response Code: 200; Content-Type: image/png; Content-Length: 14
[info] Request took 0.002221s (450.248/s)
.----------------------------------------------------------------------------------------------------------------------------------------------------------------------------+-----------.
| Action                                                                                                                                                                     | Time      |
+----------------------------------------------------------------------------------------------------------------------------------------------------------------------------+-----------+
| /image_error                                                                                                                                                               | 0.000693s |
|  -> RRDGraphTest003::View::RRDOnServe->process                                                                                                                             | 0.000506s |
'----------------------------------------------------------------------------------------------------------------------------------------------------------------------------+-----------'

[info] *** Request 3 (3.000/s) [19059] [Wed Apr 13 18:45:31 2016] ***
[debug] Path is "zero_byte_error_normal"
[debug] "GET" request for "zero_byte_error_normal" from "127.0.0.1"
[error] RRDgraph is 0 bytes
[debug] Response Code: 500; Content-Type: text/html; charset=utf-8; Content-Length: unknown
[info] Request took 0.004814s (207.727/s)
.----------------------------------------------------------------------------------------------------------------------------------------------------------------------------+-----------.
| Action                                                                                                                                                                     | Time      |
+----------------------------------------------------------------------------------------------------------------------------------------------------------------------------+-----------+
| /zero_byte_error_normal                                                                                                                                                    | 0.000706s |
|  -> RRDGraphTest003::View::RRDNormal->process                                                                                                                              | 0.000457s |
'----------------------------------------------------------------------------------------------------------------------------------------------------------------------------+-----------'

[info] *** Request 4 (4.000/s) [19059] [Wed Apr 13 18:45:31 2016] ***
[debug] Path is "image_error_normal"
[debug] "GET" request for "image_error_normal" from "127.0.0.1"
[error] Unknown option
[debug] Response Code: 500; Content-Type: text/html; charset=utf-8; Content-Length: unknown
[info] Request took 0.004917s (203.376/s)
.----------------------------------------------------------------------------------------------------------------------------------------------------------------------------+-----------.
| Action                                                                                                                                                                     | Time      |
+----------------------------------------------------------------------------------------------------------------------------------------------------------------------------+-----------+
| /image_error_normal                                                                                                                                                        | 0.000757s |
|  -> RRDGraphTest003::View::RRDNormal->process                                                                                                                              | 0.000482s |
'----------------------------------------------------------------------------------------------------------------------------------------------------------------------------+-----------'

[info] *** Request 5 (5.000/s) [19059] [Wed Apr 13 18:45:31 2016] ***
[debug] Path is "zero_byte_error_function"
[debug] "GET" request for "zero_byte_error_function" from "127.0.0.1"
[debug] Response Code: 200; Content-Type: unknown; Content-Length: unknown
[info] Request took 0.001985s (503.778/s)
.----------------------------------------------------------------------------------------------------------------------------------------------------------------------------+-----------.
| Action                                                                                                                                                                     | Time      |
+----------------------------------------------------------------------------------------------------------------------------------------------------------------------------+-----------+
| /zero_byte_error_function                                                                                                                                                  | 0.000575s |
|  -> RRDGraphTest003::View::RRDOnServeFunction->process                                                                                                                     | 0.000369s |
'----------------------------------------------------------------------------------------------------------------------------------------------------------------------------+-----------'

[info] *** Request 6 (6.000/s) [19059] [Wed Apr 13 18:45:31 2016] ***
[debug] Path is "image_error_function"
[debug] "GET" request for "image_error_function" from "127.0.0.1"
[debug] Response Code: 200; Content-Type: unknown; Content-Length: unknown
[info] Request took 0.001665s (600.601/s)
.----------------------------------------------------------------------------------------------------------------------------------------------------------------------------+-----------.
| Action                                                                                                                                                                     | Time      |
+----------------------------------------------------------------------------------------------------------------------------------------------------------------------------+-----------+
| /image_error_function                                                                                                                                                      | 0.000494s |
|  -> RRDGraphTest003::View::RRDOnServeFunction->process                                                                                                                     | 0.000324s |
'----------------------------------------------------------------------------------------------------------------------------------------------------------------------------+-----------'

t/003_on_error_serve.t .. ok
All tests successful.
Files=3, Tests=17,  1 wallclock secs ( 0.02 usr  0.02 sys +  1.05 cusr  0.17 csys =  1.26 CPU)
Result: PASS

------------------------------
PREREQUISITES
------------------------------

Prerequisite modules loaded:

requires:

    Module                           Need Have      
    -------------------------------- ---- ----------
    Catalyst::Plugin::Static::Simple 0    0.33      
    Catalyst::Runtime                5.7  5.90104   
    MRO::Compat                      0    0.12      

build_requires:

    Module                           Need Have      
    -------------------------------- ---- ----------
    Catalyst::Test                   0    0         
    Test::MockObject                 0    1.20150527
    Test::More                       0    1.001014  

configure_requires:

    Module                           Need Have      
    -------------------------------- ---- ----------
    ExtUtils::MakeMaker              6.30 7.10      


------------------------------
ENVIRONMENT AND OTHER CONTEXT
------------------------------

Environment variables:

    LANG = C
    LC_ALL = de_DE.UTF-8
    PATH = /usr/local/bin:/usr/bin:/bin:/usr/local/sbin:/usr/sbin:/sbin:/home/cpansand/bin/linux-gnu:/home/cpansand/bin/sh:/home/cpansand/bin:/usr/games:/home/cpansand/devel:/home/eserte/src/srezic-misc/scripts
    PERL5LIB = /home/cpansand/.cpan/build/2016041318/Catalyst-Plugin-Session-Store-CHI-0.02-SQlS07/blib/arch:/home/cpansand/.cpan/build/2016041318/Catalyst-Plugin-Session-Store-CHI-0.02-SQlS07/blib/lib
    PERL5OPT = 
    PERL5_CPANPLUS_IS_RUNNING = 18798
    PERL5_CPAN_IS_RUNNING = 18798
    PERL5_CPAN_IS_RUNNING_IN_RECURSION = 12547,18798
    PERLDOC = -MPod::Perldoc::ToTextOverstrike
    PERL_BATCH = yes
    PERL_CANARY_STABILITY_NOPROMPT = 1
    PERL_CPAN_REPORTER_CONFIG = /var/tmp/cpansmoker-1023/2016041306/cpanreporter_000_config.ini
    PERL_EXTUTILS_AUTOINSTALL = --defaultdeps
    PERL_PARALLEL_SMOKER = yes
    SHELL = /bin/zsh
    TERM = screen
    TMPDIR = /var/tmp/cpansmoker-1023/2016041306

Perl special variables (and OS-specific diagnostics, for MSWin32):

    $^X = /bbbike/perl-5.22.2-RC1/bin/perl
    $UID/$EUID = 1023 / 1023
    $GID = 1023 1023
    $EGID = 1023 1023

Perl module toolchain versions installed:

    Module              Have    
    ------------------- --------
    CPAN                2.11    
    CPAN::Meta          2.150005
    Cwd                 3.62    
    ExtUtils::CBuilder  0.280224
    ExtUtils::Command   7.10    
    ExtUtils::Install   2.04    
    ExtUtils::MakeMaker 7.10    
    ExtUtils::Manifest  1.70    
    ExtUtils::ParseXS   3.30    
    File::Spec          3.62    
    JSON                2.90    
    JSON::PP            2.27300 
    Module::Build       0.4216  
    Module::Signature   0.79    
    Parse::CPAN::Meta   1.4417  
    Test::Harness       3.36    
    Test::More          1.001014
    YAML                1.15    
    YAML::Syck          1.29    
    version             0.9916  


--

Summary of my perl5 (revision 5 version 22 subversion 2) configuration:
   
  Platform:
    osname=linux, osvers=3.2.0-4-amd64, archname=x86_64-linux
    uname='linux eserte 3.2.0-4-amd64 #1 smp debian 3.2.78-1 x86_64 gnulinux '
    config_args='-ds -e -Dprefix=/opt/perl-5.22.2-RC1 -Dcf_email=srezic@cpan.org'
    hint=recommended, useposix=true, d_sigaction=define
    useithreads=undef, usemultiplicity=undef
    use64bitint=define, use64bitall=define, uselongdouble=undef
    usemymalloc=n, bincompat5005=undef
  Compiler:
    cc='cc', ccflags ='-fwrapv -fno-strict-aliasing -pipe -fstack-protector -I/usr/local/include -D_LARGEFILE_SOURCE -D_FILE_OFFSET_BITS=64 -D_FORTIFY_SOURCE=2',
    optimize='-O2',
    cppflags='-fwrapv -fno-strict-aliasing -pipe -fstack-protector -I/usr/local/include'
    ccversion='', gccversion='4.7.2', gccosandvers=''
    intsize=4, longsize=8, ptrsize=8, doublesize=8, byteorder=12345678, doublekind=3
    d_longlong=define, longlongsize=8, d_longdbl=define, longdblsize=16, longdblkind=3
    ivtype='long', ivsize=8, nvtype='double', nvsize=8, Off_t='off_t', lseeksize=8
    alignbytes=8, prototype=define
  Linker and Libraries:
    ld='cc', ldflags =' -fstack-protector -L/usr/local/lib'
    libpth=/usr/local/lib /usr/lib/gcc/x86_64-linux-gnu/4.7/include-fixed /usr/include/x86_64-linux-gnu /usr/lib /lib/x86_64-linux-gnu /lib/../lib /usr/lib/x86_64-linux-gnu /usr/lib/../lib /lib
    libs=-lpthread -lnsl -ldb -ldl -lm -lcrypt -lutil -lc
    perllibs=-lpthread -lnsl -ldl -lm -lcrypt -lutil -lc
    libc=libc-2.13.so, so=so, useshrplib=false, libperl=libperl.a
    gnulibc_version='2.13'
  Dynamic Linking:
    dlsrc=dl_dlopen.xs, dlext=so, d_dlsymun=undef, ccdlflags='-Wl,-E'
    cccdlflags='-fPIC', lddlflags='-shared -O2 -L/usr/local/lib -fstack-protector'


Characteristics of this binary (from libperl): 
  Compile-time options: HAS_TIMES PERLIO_LAYERS PERL_DONT_CREATE_GVSV
                        PERL_HASH_FUNC_ONE_AT_A_TIME_HARD PERL_MALLOC_WRAP
                        PERL_NEW_COPY_ON_WRITE PERL_PRESERVE_IVUV
                        USE_64_BIT_ALL USE_64_BIT_INT USE_LARGE_FILES
                        USE_LOCALE USE_LOCALE_COLLATE USE_LOCALE_CTYPE
                        USE_LOCALE_NUMERIC USE_LOCALE_TIME USE_PERLIO
                        USE_PERL_ATOF
  Locally applied patches:
	RC1
  Built under linux
  Compiled at Apr 10 2016 18:05:20
  %ENV:
    PERL5LIB="/home/cpansand/.cpan/build/2016041318/Catalyst-Plugin-Session-Store-CHI-0.02-SQlS07/blib/arch:/home/cpansand/.cpan/build/2016041318/Catalyst-Plugin-Session-Store-CHI-0.02-SQlS07/blib/lib"
    PERL5OPT=""
    PERL5_CPANPLUS_IS_RUNNING="18798"
    PERL5_CPAN_IS_RUNNING="18798"
    PERL5_CPAN_IS_RUNNING_IN_RECURSION="12547,18798"
    PERLDOC="-MPod::Perldoc::ToTextOverstrike"
    PERL_BATCH="yes"
    PERL_CANARY_STABILITY_NOPROMPT="1"
    PERL_CPAN_REPORTER_CONFIG="/var/tmp/cpansmoker-1023/2016041306/cpanreporter_000_config.ini"
    PERL_EXTUTILS_AUTOINSTALL="--defaultdeps"
    PERL_PARALLEL_SMOKER="yes"
  @INC:
    /home/cpansand/.cpan/build/2016041318/Catalyst-Plugin-Session-Store-CHI-0.02-SQlS07/blib/arch
    /home/cpansand/.cpan/build/2016041318/Catalyst-Plugin-Session-Store-CHI-0.02-SQlS07/blib/lib
    /opt/perl-5.22.2-RC1/lib/site_perl/5.22.2/x86_64-linux
    /opt/perl-5.22.2-RC1/lib/site_perl/5.22.2
    /opt/perl-5.22.2-RC1/lib/5.22.2/x86_64-linux
    /opt/perl-5.22.2-RC1/lib/5.22.2
    .