Report for Padre-Plugin-Git-0.12

Back
From: metabase:user:9762ed18-1c33-11e1-8beb-fb37bdc4c604
Subject: PASS Padre-Plugin-Git-0.12 v5.19.7 GNU/Linux
Date: 2013-12-27T04:47:29Z

This distribution has been tested as part of the CPAN Testers
project, supporting the Perl programming language.  See
http://wiki.cpantesters.org/ for more information or email
questions to cpan-testers-discuss@perl.org


--
Dear Kevin Dawson,

This is a computer-generated report for Padre-Plugin-Git-0.12
on perl 5.19.7, created by CPAN-Reporter-1.2010.

Thank you for uploading your work to CPAN.  Congratulations!
All tests were successful.

Sections of this report:

    * Tester comments
    * Program output
    * Prerequisites
    * Environment and other context

------------------------------
TESTER COMMENTS
------------------------------

Additional comments from tester:

none provided

------------------------------
PROGRAM OUTPUT
------------------------------

Output from '/usr/bin/make test':

PERL_DL_NONLAZY=1 /home/kevin/perl5/perlbrew/perls/perl-5.19.7/bin/perl5.19.7 "-MExtUtils::Command::MM" "-MTest::Harness" "-e" "undef *Test::Harness::Switches; test_harness(0, 'inc', 'blib/lib', 'blib/arch')" t/*.t
# Info: Testing Padre::Plugin::Git 0.12
t/01-compile.t ......... ok
t/02-exports.t ......... ok
t/03-pod.t ............. skipped: Author tests, not required for installation.
t/04-pod-coverage.t .... skipped: Release Candidate testing, not required for installation.
# Prerequisite Report:
#    Version Module               
#   -------- ---------------------
#       0.27 CPAN::Changes        
#       1.32 Carp                 
#       6.84 ExtUtils::MakeMaker  
#    9999.19 File::Slurp          
#       3.45 File::Spec           
#       3.45 File::Spec::Functions
#       1.09 File::Which          
#       1.35 List::Util           
#       1.00 Padre                
#    0.01020 Pithub               
#      0.112 Test::Deep           
#   1.001002 Test::More           
#       1.48 Test::Pod            
#       1.08 Test::Pod::Coverage  
#       0.07 Test::Requires       
#       0.18 Try::Tiny            
#       1.30 constant             
#      0.228 parent               
t/05-report-prereqs.t .. ok
All tests successful.
Files=5, Tests=36,  3 wallclock secs ( 0.05 usr  0.01 sys +  1.78 cusr  0.10 csys =  1.94 CPU)
Result: PASS

------------------------------
PREREQUISITES
------------------------------

Prerequisite modules loaded:

requires:

    Module              Need     Have    
    ------------------- -------- --------
    Carp                1.32     1.32    
    constant            1.27     1.30    
    CPAN::Changes       0.23     0.27    
    File::Slurp         9999.19  9999.19 
    File::Spec          3.4      3.45    
    File::Which         1.09     1.09    
    Padre               0.98     1.00    
    parent              0.227    0.228   
    perl                5.010001 5.019007
    Pithub              0.0102   0.01020 
    Try::Tiny           0.18     0.18    

build_requires:

    Module              Need     Have    
    ------------------- -------- --------
    ExtUtils::MakeMaker 6.59     6.84    
    Test::Deep          0.11     0.112   
    Test::More          0.98     1.001002
    Test::Requires      0.07     0.07    

configure_requires:

    Module              Need     Have    
    ------------------- -------- --------
    ExtUtils::MakeMaker 6.59     6.84    


------------------------------
ENVIRONMENT AND OTHER CONTEXT
------------------------------

Environment variables:

    LANG = en_GB.UTF-8
    LANGUAGE = en_GB:en
    LC_TIME = en_DK.utf8
    PATH = /home/kevin/perl5/perlbrew/bin:/home/kevin/perl5/perlbrew/perls/perl-5.19.7/bin:/home/kevin/bin:/usr/lib/lightdm/lightdm:/usr/local/sbin:/usr/local/bin:/usr/sbin:/usr/bin:/sbin:/bin:/usr/games:/usr/local/games:/usr/lib/jvm/java-8-oracle/bin:/usr/lib/jvm/java-8-oracle/db/bin:/usr/lib/jvm/java-8-oracle/jre/bin:/home/kevin/rakudo/rakudo-star-2013.05/install/bin:/home/kevin/rakudo/rakudo-star-2013.05/:/home/kevin/.rvm/bin
    PERL5LIB = 
    PERL5OPT = 
    PERL5_CPANPLUS_IS_RUNNING = 26563
    PERL5_CPAN_IS_RUNNING = 26563
    PERLBREW_BASHRC_VERSION = 0.67
    PERLBREW_HOME = /home/kevin/.perlbrew
    PERLBREW_MANPATH = /home/kevin/perl5/perlbrew/perls/perl-5.19.7/man
    PERLBREW_PATH = /home/kevin/perl5/perlbrew/bin:/home/kevin/perl5/perlbrew/perls/perl-5.19.7/bin
    PERLBREW_PERL = perl-5.19.7
    PERLBREW_ROOT = /home/kevin/perl5/perlbrew
    PERLBREW_VERSION = 0.67
    SHELL = /bin/bash
    TERM = xterm

Perl special variables (and OS-specific diagnostics, for MSWin32):

    $^X = /home/kevin/perl5/perlbrew/perls/perl-5.19.7/bin/perl5.19.7
    $UID/$EUID = 1000 / 1000
    $GID = 1000 4 6 20 21 24 25 26 29 30 39 40 44 46 104 105 112 119 122 126 1000 1001
    $EGID = 1000 4 6 20 21 24 25 26 29 30 39 40 44 46 104 105 112 119 122 126 1000 1001

Perl module toolchain versions installed:

    Module              Have    
    ------------------- --------
    CPAN                2.03    
    CPAN::Meta          2.133380
    Cwd                 3.45    
    ExtUtils::CBuilder  0.280212
    ExtUtils::Command   1.18    
    ExtUtils::Install   1.61    
    ExtUtils::MakeMaker 6.84    
    ExtUtils::Manifest  1.63    
    ExtUtils::ParseXS   3.23    
    File::Spec          3.45    
    JSON                2.90    
    JSON::PP            2.27203 
    Module::Build       0.4203  
    Module::Signature   n/a     
    Parse::CPAN::Meta   1.4409  
    Test::Harness       3.30    
    Test::More          1.001002
    YAML                0.88    
    YAML::Syck          n/a     
    version             0.9904  


--

Summary of my perl5 (revision 5 version 19 subversion 7) configuration:
   
  Platform:
    osname=linux, osvers=3.8.0-35-generic, archname=i686-linux-thread-multi
    uname='linux billy 3.8.0-35-generic #50-ubuntu smp tue dec 3 01:25:33 utc 2013 i686 i686 i686 gnulinux '
    config_args='-de -Dprefix=/home/kevin/perl5/perlbrew/perls/perl-5.19.7 -Dusethreads -Dusedevel -Aeval:scriptdir=/home/kevin/perl5/perlbrew/perls/perl-5.19.7/bin'
    hint=recommended, useposix=true, d_sigaction=define
    useithreads=define, usemultiplicity=define
    useperlio=define, d_sfio=undef, uselargefiles=define, usesocks=undef
    use64bitint=undef, use64bitall=undef, uselongdouble=undef
    usemymalloc=n, bincompat5005=undef
  Compiler:
    cc='cc', ccflags ='-D_REENTRANT -D_GNU_SOURCE -fno-strict-aliasing -pipe -fstack-protector -I/usr/local/include -D_LARGEFILE_SOURCE -D_FILE_OFFSET_BITS=64',
    optimize='-O2',
    cppflags='-D_REENTRANT -D_GNU_SOURCE -fno-strict-aliasing -pipe -fstack-protector -I/usr/local/include'
    ccversion='', gccversion='4.7.3', gccosandvers=''
    intsize=4, longsize=4, ptrsize=4, doublesize=8, byteorder=1234
    d_longlong=define, longlongsize=8, d_longdbl=define, longdblsize=12
    ivtype='long', ivsize=4, nvtype='double', nvsize=8, Off_t='off_t', lseeksize=8
    alignbytes=4, prototype=define
  Linker and Libraries:
    ld='cc', ldflags =' -fstack-protector -L/usr/local/lib'
    libpth=/usr/local/lib /lib/i386-linux-gnu /lib/../lib /usr/lib/i386-linux-gnu /usr/lib/../lib /lib /usr/lib
    libs=-lnsl -ldl -lm -lcrypt -lutil -lpthread -lc
    perllibs=-lnsl -ldl -lm -lcrypt -lutil -lpthread -lc
    libc=, so=so, useshrplib=false, libperl=libperl.a
    gnulibc_version='2.17'
  Dynamic Linking:
    dlsrc=dl_dlopen.xs, dlext=so, d_dlsymun=undef, ccdlflags='-Wl,-E'
    cccdlflags='-fPIC', lddlflags='-shared -O2 -L/usr/local/lib -fstack-protector'


Characteristics of this binary (from libperl): 
  Compile-time options: HAS_TIMES MULTIPLICITY PERLIO_LAYERS
                        PERL_DONT_CREATE_GVSV
                        PERL_HASH_FUNC_ONE_AT_A_TIME_HARD
                        PERL_IMPLICIT_CONTEXT PERL_MALLOC_WRAP
                        PERL_NEW_COPY_ON_WRITE PERL_PRESERVE_IVUV
                        PERL_USE_DEVEL USE_ITHREADS USE_LARGE_FILES
                        USE_LOCALE USE_LOCALE_COLLATE USE_LOCALE_CTYPE
                        USE_LOCALE_NUMERIC USE_PERLIO USE_PERL_ATOF
                        USE_REENTRANT_API
  Built under linux
  Compiled at Dec 26 2013 22:21:06
  %ENV:
    PERL5LIB=""
    PERL5OPT=""
    PERL5_CPANPLUS_IS_RUNNING="26563"
    PERL5_CPAN_IS_RUNNING="26563"
    PERLBREW_BASHRC_VERSION="0.67"
    PERLBREW_HOME="/home/kevin/.perlbrew"
    PERLBREW_MANPATH="/home/kevin/perl5/perlbrew/perls/perl-5.19.7/man"
    PERLBREW_PATH="/home/kevin/perl5/perlbrew/bin:/home/kevin/perl5/perlbrew/perls/perl-5.19.7/bin"
    PERLBREW_PERL="perl-5.19.7"
    PERLBREW_ROOT="/home/kevin/perl5/perlbrew"
    PERLBREW_VERSION="0.67"
  @INC:
    /home/kevin/perl5/perlbrew/perls/perl-5.19.7/lib/site_perl/5.19.7/i686-linux-thread-multi
    /home/kevin/perl5/perlbrew/perls/perl-5.19.7/lib/site_perl/5.19.7
    /home/kevin/perl5/perlbrew/perls/perl-5.19.7/lib/5.19.7/i686-linux-thread-multi
    /home/kevin/perl5/perlbrew/perls/perl-5.19.7/lib/5.19.7
    .