Back
From: metabase:user:cba5269c-6e58-1014-92a6-0387276d408b
Subject: PASS Test-Deep-Matcher-0.01 v5.12.2 OpenBSD
Date: 2013-07-24T14:47:41Z
This distribution has been tested as part of the CPAN Testers
project, supporting the Perl programming language. See
http://wiki.cpantesters.org/ for more information or email
questions to cpan-testers-discuss@perl.org
--
Dear NAKAGAWA Masaki,
This is a computer-generated report for Test-Deep-Matcher-0.01
on perl 5.12.2, created by CPAN-Reporter-1.2010.
Thank you for uploading your work to CPAN. Congratulations!
All tests were successful.
Sections of this report:
* Tester comments
* Program output
* Prerequisites
* Environment and other context
------------------------------
TESTER COMMENTS
------------------------------
Additional comments from tester:
this report is from an automated smoke testing program
and was not reviewed by a human for accuracy
------------------------------
PROGRAM OUTPUT
------------------------------
Output from '/usr/bin/make test':
PERL_DL_NONLAZY=1 /usr/bin/perl "-MExtUtils::Command::MM" "-e" "test_harness(0, 'inc', 'blib/lib', 'blib/arch')" t/*.t
t/00_compile.t ........ ok
t/10_is_scalar_ref.t .. ok
t/11_is_array_ref.t ... ok
t/12_is_hash_ref.t .... ok
t/13_is_code_ref.t .... ok
t/14_is_glob_ref.t .... ok
t/20_is_value.t ....... ok
t/21_is_string.t ...... ok
t/22_is_number.t ...... ok
t/23_is_integer.t ..... ok
t/80_ref.t ............ ok
t/81_primitive.t ...... ok
All tests successful.
Files=12, Tests=362, 0 wallclock secs ( 0.06 usr 0.04 sys + 0.34 cusr 0.18 csys = 0.62 CPU)
Result: PASS
------------------------------
PREREQUISITES
------------------------------
Prerequisite modules loaded:
requires:
Module Need Have
------------------- -------- --------
Data::Util 0 0.62
Exporter 0 5.64_01
parent 0 0.223
perl 5.008001 5.012002
Test::Deep 0 0.110
build_requires:
Module Need Have
------------------- -------- --------
ExtUtils::MakeMaker 6.59 6.64
Symbol 0 1.07
Test::Deep 0 0.110
Test::More 0.98 0.98
Test::Tester 0 0.108
Test::UseAllModules 0 0.14
configure_requires:
Module Need Have
------------------- -------- --------
ExtUtils::MakeMaker 6.59 6.64
------------------------------
ENVIRONMENT AND OTHER CONTEXT
------------------------------
Environment variables:
AUTOMATED_TESTING = 1
PATH = /home/wose/bin:/bin:/sbin:/usr/bin:/usr/sbin:/usr/X11R6/bin:/usr/local/bin:/usr/local/sbin:/usr/games:.
PERL5LIB = /home/wose/.cpan/build/Test-Deep-0.110-OWUR8k/blib/arch:/home/wose/.cpan/build/Test-Deep-0.110-OWUR8k/blib/lib:/home/wose/.cpan/build/Data-Util-0.62-IVD07x/blib/arch:/home/wose/.cpan/build/Data-Util-0.62-IVD07x/blib/lib:/home/wose/.cpan/build/Hash-Util-FieldHash-Compat-0.03-HotTxF/blib/arch:/home/wose/.cpan/build/Hash-Util-FieldHash-Compat-0.03-HotTxF/blib/lib:/home/wose/.cpan/build/Test-use-ok-0.11-vwVp7U/blib/arch:/home/wose/.cpan/build/Test-use-ok-0.11-vwVp7U/blib/lib:/home/wose/.cpan/build/Scope-Guard-0.20-hZWB4U/blib/arch:/home/wose/.cpan/build/Scope-Guard-0.20-hZWB4U/blib/lib:/home/wose/.cpan/build/Test-UseAllModules-0.14-TlB_uZ/blib/arch:/home/wose/.cpan/build/Test-UseAllModules-0.14-TlB_uZ/blib/lib
PERL5OPT =
PERL5_CPANPLUS_IS_RUNNING = 2680
PERL5_CPAN_IS_RUNNING = 2680
PERL5_CPAN_IS_RUNNING_IN_RECURSION = 3873,2680
PERL_CR_SMOKER_CURRENT = Test-Stub-Generator-0.01
PERL_EXTUTILS_AUTOINSTALL = --defaultdeps
PERL_MM_USE_DEFAULT = 1
SHELL = /bin/ksh
TERM = screen
Perl special variables (and OS-specific diagnostics, for MSWin32):
$^X = /usr/bin/perl
$UID/$EUID = 1000 / 1000
$GID = 1000 1000 0
$EGID = 1000 1000 0
Perl module toolchain versions installed:
Module Have
------------------- --------
CPAN 2.00
CPAN::Meta 2.130880
Cwd 3.31
ExtUtils::CBuilder 0.280205
ExtUtils::Command 1.16
ExtUtils::Install 1.55
ExtUtils::MakeMaker 6.64
ExtUtils::Manifest 1.60
ExtUtils::ParseXS 2.21
File::Spec 3.31_01
JSON 2.57
JSON::PP 2.27202
Module::Build 0.4004
Module::Signature n/a
Parse::CPAN::Meta 1.4404
Test::Harness 3.17
Test::More 0.98
YAML 0.84
YAML::Syck 1.25
version 0.9902
--
Summary of my perl5 (revision 5 version 12 subversion 2) configuration:
Platform:
osname=openbsd, osvers=5.2, archname=amd64-openbsd
uname='openbsd'
config_args='-dsE -Dopenbsd_distribution=defined -Dccflags=-DNO_LOCALE_NUMERIC -DNO_LOCALE_COLLATE -Dmksymlinks'
hint=recommended, useposix=true, d_sigaction=define
useithreads=undef, usemultiplicity=undef
useperlio=define, d_sfio=undef, uselargefiles=define, usesocks=undef
use64bitint=define, use64bitall=define, uselongdouble=undef
usemymalloc=n, bincompat5005=undef
Compiler:
cc='cc', ccflags ='-DNO_LOCALE_NUMERIC -DNO_LOCALE_COLLATE -fno-strict-aliasing -fno-delete-null-pointer-checks -pipe -fstack-protector -I/usr/local/include',
optimize='-O2',
cppflags='-DNO_LOCALE_NUMERIC -DNO_LOCALE_COLLATE -fno-strict-aliasing -fno-delete-null-pointer-checks -pipe -fstack-protector -I/usr/local/include'
ccversion='', gccversion='4.2.1 20070719 ', gccosandvers='openbsd5.2'
intsize=4, longsize=8, ptrsize=8, doublesize=8, byteorder=12345678
d_longlong=define, longlongsize=8, d_longdbl=define, longdblsize=16
ivtype='long', ivsize=8, nvtype='double', nvsize=8, Off_t='off_t', lseeksize=8
alignbytes=8, prototype=define
Linker and Libraries:
ld='cc', ldflags ='-Wl,-E -fstack-protector'
libpth=/usr/lib
libs=-lm -lutil -lc
perllibs=-lm -lutil -lc
libc=/usr/lib/libc.a, so=so, useshrplib=true, libperl=libperl.so.12.0
gnulibc_version=''
Dynamic Linking:
dlsrc=dl_dlopen.xs, dlext=so, d_dlsymun=undef, ccdlflags='-Wl,-R/usr/libdata/perl5/amd64-openbsd/5.12.2/CORE'
cccdlflags='-DPIC -fPIC ', lddlflags='-shared -fPIC -fstack-protector'
Characteristics of this binary (from libperl):
Compile-time options: PERL_DONT_CREATE_GVSV PERL_MALLOC_WRAP USE_64_BIT_ALL
USE_64_BIT_INT USE_LARGE_FILES USE_PERLIO
USE_PERL_ATOF
Locally applied patches:
CVE-2010-0405
Updated CGI to 3.51
Updated Test::Simple to 0.98
Updated List::Util to 1.23
CVE-2011-1487
Updated Digest to 1.17
CVE-2011-2939
uncommitted-changes
Built under openbsd
%ENV:
PERL5LIB="/home/wose/.cpan/build/Test-Deep-0.110-OWUR8k/blib/arch:/home/wose/.cpan/build/Test-Deep-0.110-OWUR8k/blib/lib:/home/wose/.cpan/build/Data-Util-0.62-IVD07x/blib/arch:/home/wose/.cpan/build/Data-Util-0.62-IVD07x/blib/lib:/home/wose/.cpan/build/Hash-Util-FieldHash-Compat-0.03-HotTxF/blib/arch:/home/wose/.cpan/build/Hash-Util-FieldHash-Compat-0.03-HotTxF/blib/lib:/home/wose/.cpan/build/Test-use-ok-0.11-vwVp7U/blib/arch:/home/wose/.cpan/build/Test-use-ok-0.11-vwVp7U/blib/lib:/home/wose/.cpan/build/Scope-Guard-0.20-hZWB4U/blib/arch:/home/wose/.cpan/build/Scope-Guard-0.20-hZWB4U/blib/lib:/home/wose/.cpan/build/Test-UseAllModules-0.14-TlB_uZ/blib/arch:/home/wose/.cpan/build/Test-UseAllModules-0.14-TlB_uZ/blib/lib"
PERL5OPT=""
PERL5_CPANPLUS_IS_RUNNING="2680"
PERL5_CPAN_IS_RUNNING="2680"
PERL5_CPAN_IS_RUNNING_IN_RECURSION="3873,2680"
PERL_CR_SMOKER_CURRENT="Test-Stub-Generator-0.01"
PERL_EXTUTILS_AUTOINSTALL="--defaultdeps"
PERL_MM_USE_DEFAULT="1"
@INC:
/home/wose/.cpan/build/Test-Deep-0.110-OWUR8k/blib/arch
/home/wose/.cpan/build/Test-Deep-0.110-OWUR8k/blib/lib
/home/wose/.cpan/build/Data-Util-0.62-IVD07x/blib/arch
/home/wose/.cpan/build/Data-Util-0.62-IVD07x/blib/lib
/home/wose/.cpan/build/Hash-Util-FieldHash-Compat-0.03-HotTxF/blib/arch
/home/wose/.cpan/build/Hash-Util-FieldHash-Compat-0.03-HotTxF/blib/lib
/home/wose/.cpan/build/Test-use-ok-0.11-vwVp7U/blib/arch
/home/wose/.cpan/build/Test-use-ok-0.11-vwVp7U/blib/lib
/home/wose/.cpan/build/Scope-Guard-0.20-hZWB4U/blib/arch
/home/wose/.cpan/build/Scope-Guard-0.20-hZWB4U/blib/lib
/home/wose/.cpan/build/Test-UseAllModules-0.14-TlB_uZ/blib/arch
/home/wose/.cpan/build/Test-UseAllModules-0.14-TlB_uZ/blib/lib
/usr/local/libdata/perl5/site_perl/amd64-openbsd
/usr/libdata/perl5/site_perl/amd64-openbsd
/usr/local/libdata/perl5/site_perl
/usr/libdata/perl5/site_perl
/usr/libdata/perl5/amd64-openbsd/5.12.2
/usr/local/libdata/perl5/amd64-openbsd/5.12.2
/usr/libdata/perl5
/usr/local/libdata/perl5
.