Report for XML-RSS-Tools-0.31

Back
From: metabase:user:314402c4-2aae-11df-837a-5e0a49663a4f
Subject: PASS XML-RSS-Tools-0.31 v5.13.6 FreeBSD
Date: 2010-10-24T05:31:45Z

This distribution has been tested as part of the CPAN Testers
project, supporting the Perl programming language.  See
http://wiki.cpantesters.org/ for more information or email
questions to cpan-testers-discuss@perl.org


--
Dear Adam John Trickett,

This is a computer-generated report for XML-RSS-Tools-0.31
on perl 5.13.6, created by CPAN-Reporter-1.1803.

Thank you for uploading your work to CPAN.  Congratulations!
All tests were successful.

Sections of this report:

    * Tester comments
    * Program output
    * Prerequisites
    * Environment and other context

------------------------------
TESTER COMMENTS
------------------------------

Additional comments from tester:

none provided

------------------------------
PROGRAM OUTPUT
------------------------------

Output from '/usr/bin/make test':

PERL_DL_NONLAZY=1 /usr/home/cpansand/var/ctps/5136/install/perl-5.13.6/bin/perl "-MExtUtils::Command::MM" "-e" "test_harness(0, 'blib/lib', 'blib/arch')" t/*.t
WARNING: This key is not certified with a trusted signature!
Primary key fingerprint: 21E7 3FC8 368C EA27 29ED  595E 019A D0D8 166C 4BF0
t/00-signature.t ......... ok
# 
# Package                        Version
#  Operating System               freebsd
#  perl                           5.13.6
#  XML::Parser                    2.40
#  XML::RSS                       1.48
#  XML::LibXML                    1.70
#  XML::LibXSLT                   1.70
#  URI                            1.56
#  LWP                            5.837
#  HTTP::GHTTP                    Not Installed
#  HTTP::Lite                     2.2
#  WWW::Curl::Easy                Not Installed
#  Test::More                     0.9701
#  Test::Warn                     0.22
#  Test::NoWarnings               1.02
#  Test::Perl::Critic             1.02
#  Test::Pod                      1.44
#  Test::Pod::Coverage            1.08
#  Pod::Coverage                  0.21
#  IO::Capture                    0.05
t/01-config.t ............ ok
t/02-use.t ............... ok
t/03-basic-tests.t ....... ok
t/04-standard-tests.t .... ok
t/05-version-tests.t ..... ok
t/06-filehandle-tests.t .. ok
t/07-catalog-tests.t ..... ok
t/08-no-catalog.t ........ skipped: Your XML::LibXML is up to date.
t/50-error-tests.t ....... ok
t/51-debug-tests-1.t ..... ok
t/52-debug-tests-2.t ..... ok
t/53-no-debug-tests-1.t .. ok
t/54-no-debug-tests-2.t .. ok
t/60-http-tests.t ........ ok
t/70-pod-test.t .......... ok
t/71-pod-cover-1.t ....... ok
t/72-pod-cover-2.t ....... ok
t/80-kwalitee.t .......... skipped: Author test. Set $ENV{TEST_AUTHOR} to a true value to run.
t/81-perl-critic.t ....... skipped: Author test. Set $ENV{TEST_AUTHOR} to a true value to run.
t/90-distribution.t ...... ok
t/91-meta-yaml.t ......... skipped: YAML not installed.
All tests successful.
Files=22, Tests=363, 14 wallclock secs ( 0.14 usr  0.05 sys +  4.96 cusr  0.68 csys =  5.83 CPU)
Result: PASS

------------------------------
PREREQUISITES
------------------------------

Prerequisite modules loaded:

requires:

    Module              Need Have   
    ------------------- ---- -------
    LWP                 5.8  5.837  
    URI                 1.35 1.56   
    XML::LibXML         1.59 1.70   
    XML::LibXSLT        1.59 1.70   
    XML::RSS            1.22 1.48   

build_requires:

    Module              Need Have   
    ------------------- ---- -------
    ExtUtils::MakeMaker 0    6.57_05


------------------------------
ENVIRONMENT AND OTHER CONTEXT
------------------------------

Environment variables:

    DBIC_NO_WARN_BAD_PERL = 1
    PATH = /usr/local/bin:/usr/X11R6/bin:/usr/X11/bin:/usr/perl5.8.0/bin:/usr/bin:/bin:/usr/local/sbin:/usr/sbin:/sbin:/usr/local/pilot/bin:/home/cpansand/bin/freebsd8.0:/home/cpansand/bin/sh:/home/cpansand/bin:/usr/X386/bin:/usr/games:/home/cpansand/devel:/usr/home/e/eserte/src/perl/CPAN-Testers-ParallelSmoker/utils
    PERL = /usr/home/cpansand/var/ctps/5136/install/perl-5.13.6/bin/perl
    PERL5LIB = 
    PERL5OPT = 
    PERL5_CPANPLUS_IS_RUNNING = 27217
    PERL5_CPAN_IS_RUNNING = 27217
    PERL5_CPAN_IS_RUNNING_IN_RECURSION = 30193,27217
    PERL_BATCH = yes
    PERL_CPAN_REPORTER_DIR = /home/cpansand/var/ctps/5136/config/perl-5.13.6/cpanreporter
    PERL_EXTUTILS_AUTOINSTALL = --defaultdeps
    PERL_HTML_DISPLAY_CLASS = HTML::Display::Mozilla
    SHELL = /usr/local/bin/zsh
    TERM = xterm
    TMPDIR = /tmp/cpansmoker-1023

Perl special variables (and OS-specific diagnostics, for MSWin32):

    $^X = /usr/home/cpansand/var/ctps/5136/install/perl-5.13.6/bin/perl
    $UID/$EUID = 1023 / 1023
    $GID = 1023 1023
    $EGID = 1023 1023

Perl module toolchain versions installed:

    Module              Have   
    ------------------- -------
    CPAN                1.94_61
    Cwd                 3.34   
    ExtUtils::CBuilder  0.2703 
    ExtUtils::Command   1.16   
    ExtUtils::Install   1.55   
    ExtUtils::MakeMaker 6.57_05
    ExtUtils::Manifest  1.58   
    ExtUtils::ParseXS   2.2207 
    File::Spec          3.33   
    Module::Build       0.3607 
    Module::Signature   0.66   
    Test::Harness       3.22   
    Test::More          0.97_01
    YAML                n/a    
    YAML::Syck          1.15   
    version             0.83   


--

Summary of my perl5 (revision 5 version 13 subversion 6) configuration:
   
  Platform:
    osname=freebsd, osvers=8.0-release, archname=i386-freebsd
    uname='freebsd biokovo.herceg.de 8.0-release freebsd 8.0-release #0: sat nov 21 15:48:17 utc 2009 root@almeida.cse.buffalo.edu:usrobjusrsrcsysgeneric i386 '
    config_args='-ds -e -Uversiononly -Dinstallusrbinperl=n -Dusedevel -Dprefix=/home/cpansand/var/ctps/5136/install/perl-5.13.6'
    hint=recommended, useposix=true, d_sigaction=define
    useithreads=undef, usemultiplicity=undef
    useperlio=define, d_sfio=undef, uselargefiles=define, usesocks=undef
    use64bitint=undef, use64bitall=undef, uselongdouble=undef
    usemymalloc=n, bincompat5005=undef
  Compiler:
    cc='cc', ccflags ='-DHAS_FPSETMASK -DHAS_FLOATINGPOINT_H -fno-strict-aliasing -pipe -fstack-protector -I/usr/local/include',
    optimize='-O',
    cppflags='-DHAS_FPSETMASK -DHAS_FLOATINGPOINT_H -fno-strict-aliasing -pipe -fstack-protector -I/usr/local/include'
    ccversion='', gccversion='4.2.1 20070719  [FreeBSD]', gccosandvers=''
    intsize=4, longsize=4, ptrsize=4, doublesize=8, byteorder=1234
    d_longlong=define, longlongsize=8, d_longdbl=define, longdblsize=12
    ivtype='long', ivsize=4, nvtype='double', nvsize=8, Off_t='off_t', lseeksize=8
    alignbytes=4, prototype=define
  Linker and Libraries:
    ld='cc', ldflags ='-Wl,-E  -fstack-protector -L/usr/local/lib'
    libpth=/usr/lib /usr/local/lib
    libs=-lgdbm -lm -lcrypt -lutil -lc
    perllibs=-lm -lcrypt -lutil -lc
    libc=, so=so, useshrplib=false, libperl=libperl.a
    gnulibc_version=''
  Dynamic Linking:
    dlsrc=dl_dlopen.xs, dlext=so, d_dlsymun=undef, ccdlflags=' '
    cccdlflags='-DPIC -fPIC', lddlflags='-shared  -L/usr/local/lib -fstack-protector'


Characteristics of this binary (from libperl): 
  Compile-time options: PERL_DONT_CREATE_GVSV PERL_MALLOC_WRAP PERL_USE_DEVEL
                        USE_LARGE_FILES USE_PERLIO USE_PERL_ATOF
  Built under freebsd
  Compiled at Oct 21 2010 23:17:50
  %ENV:
    PERL="/usr/home/cpansand/var/ctps/5136/install/perl-5.13.6/bin/perl"
    PERL5LIB=""
    PERL5OPT=""
    PERL5_CPANPLUS_IS_RUNNING="27217"
    PERL5_CPAN_IS_RUNNING="27217"
    PERL5_CPAN_IS_RUNNING_IN_RECURSION="30193,27217"
    PERL_BATCH="yes"
    PERL_CPAN_REPORTER_DIR="/home/cpansand/var/ctps/5136/config/perl-5.13.6/cpanreporter"
    PERL_EXTUTILS_AUTOINSTALL="--defaultdeps"
    PERL_HTML_DISPLAY_CLASS="HTML::Display::Mozilla"
  @INC:
    /home/cpansand/var/ctps/5136/install/perl-5.13.6/lib/site_perl/5.13.6/i386-freebsd
    /home/cpansand/var/ctps/5136/install/perl-5.13.6/lib/site_perl/5.13.6
    /home/cpansand/var/ctps/5136/install/perl-5.13.6/lib/5.13.6/i386-freebsd
    /home/cpansand/var/ctps/5136/install/perl-5.13.6/lib/5.13.6
    .