Crypt-SSLeay v0.72 Perl 5 v5.27.7 i86pc-solaris-thread-multi

Status
Pass
From
Nigel Horne
Dist
Crypt-SSLeay v0.72
Platform
Perl 5 v5.27.7 i86pc-solaris-thread-multi
Date
2018-02-28 02:56:36
ID
fd712010-1c32-11e8-9117-9bbc12568b50
This distribution has been tested as part of the CPAN Testers
project, supporting the Perl programming language.  See
http://wiki.cpantesters.org/ for more information or email
questions to cpan-testers-discuss@perl.org


--
Dear A. Sinan Unur,

This is a computer-generated report for Crypt-SSLeay-0.72
on perl 5.27.7, created by CPAN-Reporter-1.2018.

Thank you for uploading your work to CPAN.  Congratulations!
All tests were successful.

Sections of this report:

    * Tester comments
    * Program output
    * Prerequisites
    * Environment and other context

------------------------------
TESTER COMMENTS
------------------------------

Additional comments from tester:

this report is from an automated smoke testing program
and was not reviewed by a human for accuracy

------------------------------
PROGRAM OUTPUT
------------------------------

Output from '/usr/bin/gmake test':

"/export/home/njh/perl5/perlbrew/perls/perl-5.27.7-thread-multi-ld/bin/perl5.27.7" -MExtUtils::Command::MM -e 'cp_nonempty' -- SSLeay.bs blib/arch/auto/Crypt/SSLeay/SSLeay.bs 644
PERL_DL_NONLAZY=1 "/export/home/njh/perl5/perlbrew/perls/perl-5.27.7-thread-multi-ld/bin/perl5.27.7" "-MExtUtils::Command::MM" "-MTest::Harness" "-e" "undef *Test::Harness::Switches; test_harness(0, 'blib/lib', 'blib/arch')" t/*.t
# Reading configuration from 'test.config' on solaris
# network_tests : 0
t/02-live.t ...... skipped: Network tests disabled
t/00-basic.t ..... ok
t/03-version.t ... ok
t/01-connect.t ... ok
t/manifest.t ..... skipped: Author tests not required for installation
t/boilerplate.t .. ok
All tests successful.
Files=6, Tests=43,  3 wallclock secs ( 0.19 usr  0.09 sys +  3.54 cusr  1.76 csys =  5.58 CPU)
Result: PASS

------------------------------
PREREQUISITES
------------------------------

Prerequisite modules loaded:

requires:

    Module               Need     Have    
    -------------------- -------- --------
    LWP::Protocol::https 6.02     6.07    
    MIME::Base64         0        3.15    
    perl                 5.006    5.027007

build_requires:

    Module               Need     Have    
    -------------------- -------- --------
    ExtUtils::MakeMaker  0        7.32    
    Test::More           0.19     1.302120
    Try::Tiny            0.19     0.30    

configure_requires:

    Module               Need     Have    
    -------------------- -------- --------
    ExtUtils::CBuilder   0.280205 0.280230
    Getopt::Long         0        2.5     
    Path::Class          0.26     0.37    
    Try::Tiny            0.19     0.30    


------------------------------
ENVIRONMENT AND OTHER CONTEXT
------------------------------

Environment variables:

    AUTOMATED_TESTING = 1
    HARNESS_OPTIONS = j4
    PATH = /export/home/njh/perl5/perlbrew/bin:/export/home/njh/perl5/perlbrew/perls/perl-5.27.7-thread-multi-ld/bin:src/njh/smoker/bin:/usr/bin
    PERL5LIB = /export/home/njh/.cpan/build/LWP-Protocol-https-6.07-0/blib/arch:/export/home/njh/.cpan/build/LWP-Protocol-https-6.07-0/blib/lib:/export/home/njh/.cpan/build/IO-Socket-SSL-2.056-0/blib/arch:/export/home/njh/.cpan/build/IO-Socket-SSL-2.056-0/blib/lib:/export/home/njh/.cpan/build/Net-SSLeay-1.84-0/blib/arch:/export/home/njh/.cpan/build/Net-SSLeay-1.84-0/blib/lib:/export/home/njh/.cpan/build/Mozilla-CA-20160104-0/blib/arch:/export/home/njh/.cpan/build/Mozilla-CA-20160104-0/blib/lib:/export/home/njh/.cpan/build/Path-Class-0.37-0/blib/arch:/export/home/njh/.cpan/build/Path-Class-0.37-0/blib/lib:/export/home/njh/.cpan/build/Module-Build-0.4224-3/blib/arch:/export/home/njh/.cpan/build/Module-Build-0.4224-3/blib/lib
    PERL5OPT = 
    PERL5_CPANPLUS_IS_RUNNING = 27253
    PERL5_CPAN_IS_RUNNING = 27253
    PERLBREW_HOME = /export/home/njh/.perlbrew
    PERLBREW_MANPATH = /export/home/njh/perl5/perlbrew/perls/perl-5.27.7-thread-multi-ld/man
    PERLBREW_PATH = /export/home/njh/perl5/perlbrew/bin:/export/home/njh/perl5/perlbrew/perls/perl-5.27.7-thread-multi-ld/bin
    PERLBREW_PERL = perl-5.27.7-thread-multi-ld
    PERLBREW_ROOT = /export/home/njh/perl5/perlbrew
    PERLBREW_SHELLRC_VERSION = 0.82
    PERLBREW_VERSION = 0.82
    PERL_USE_UNSAFE_INC = 1
    SHELL = /usr/bin/sh
    TERM = dumb

Perl special variables (and OS-specific diagnostics, for MSWin32):

    $^X = /export/home/njh/perl5/perlbrew/perls/perl-5.27.7-thread-multi-ld/bin/perl5.27.7
    $UID/$EUID = 100 / 100
    $GID = 10 10
    $EGID = 10 10

Perl module toolchain versions installed:

    Module              Have    
    ------------------- --------
    CPAN                2.20    
    CPAN::Meta          2.150010
    Cwd                 3.71    
    ExtUtils::CBuilder  0.280230
    ExtUtils::Command   7.32    
    ExtUtils::Install   2.14    
    ExtUtils::MakeMaker 7.32    
    ExtUtils::Manifest  1.70    
    ExtUtils::ParseXS   3.36    
    File::Spec          3.71    
    JSON                n/a     
    JSON::PP            2.97000 
    Module::Build       0.4224  
    Module::Signature   n/a     
    Parse::CPAN::Meta   2.150010
    Test::Harness       3.39    
    Test::More          1.302120
    YAML                1.24    
    YAML::Syck          1.30    
    version             0.9918  


--

Summary of my perl5 (revision 5 version 27 subversion 7) configuration:
   
  Platform:
    osname=solaris
    osvers=2.11
    archname=i86pc-solaris-thread-multi
    uname='sunos republic31 5.11 11.3 i86pc i386 i86pc '
    config_args='-de -Dprefix=/export/home/njh/perl5/perlbrew/perls/perl-5.27.7-thread-multi-ld -Dusedevel -Dusethreads -Duselongdouble -Dusemultiplicity -Dusedevel -Accflags= -Aeval:scriptdir=/export/home/njh/perl5/perlbrew/perls/perl-5.27.7-thread-multi-ld/bin'
    hint=recommended
    useposix=true
    d_sigaction=define
    useithreads=define
    usemultiplicity=define
    use64bitint=undef
    use64bitall=undef
    uselongdouble=undef
    usemymalloc=n
    default_inc_excludes_dot=define
    bincompat5005=undef
  Compiler:
    cc='cc'
    ccflags ='-D_REENTRANT -fwrapv -fno-strict-aliasing -pipe -fstack-protector -I/usr/gnu/include -D_LARGEFILE_SOURCE -D_FILE_OFFSET_BITS=64 -D_FORTIFY_SOURCE=2 -DPERL_USE_SAFE_PUTENV'
    optimize='-O'
    cppflags='-D_REENTRANT -fwrapv -fno-strict-aliasing -pipe -fstack-protector -I/usr/gnu/include'
    ccversion=''
    gccversion='4.8.2'
    gccosandvers=''
    intsize=4
    longsize=4
    ptrsize=4
    doublesize=8
    byteorder=1234
    doublekind=3
    d_longlong=define
    longlongsize=8
    d_longdbl=define
    longdblsize=12
    longdblkind=3
    ivtype='long'
    ivsize=4
    nvtype='double'
    nvsize=8
    Off_t='off_t'
    lseeksize=8
    alignbytes=4
    prototype=define
  Linker and Libraries:
    ld='cc'
    ldflags =' -fstack-protector -L/usr/gnu/lib '
    libpth=/usr/gcc/4.8/lib /usr/gcc/4.8/lib/gcc/i386-pc-solaris2.11/4.8.2/include-fixed /usr/lib /usr/gnu/lib /usr/ccs/lib
    libs=-lpthread -lsocket -lnsl -lgdbm -ldb -ldl -lm -lc
    perllibs=-lpthread -lsocket -lnsl -ldl -lm -lc
    libc=/lib/libc.so
    so=so
    useshrplib=true
    libperl=libperl.so
    gnulibc_version=''
  Dynamic Linking:
    dlsrc=dl_dlopen.xs
    dlext=so
    d_dlsymun=undef
    ccdlflags='  -R /export/home/njh/perl5/perlbrew/perls/perl-5.27.7-thread-multi-ld/lib/5.27.7/i86pc-solaris-thread-multi/CORE'
    cccdlflags='-fPIC'
    lddlflags='-shared -L/usr/gnu/lib -fstack-protector'


Characteristics of this binary (from libperl): 
  Compile-time options:
    HAS_TIMES
    MULTIPLICITY
    PERLIO_LAYERS
    PERL_COPY_ON_WRITE
    PERL_DONT_CREATE_GVSV
    PERL_IMPLICIT_CONTEXT
    PERL_MALLOC_WRAP
    PERL_OP_PARENT
    PERL_PRESERVE_IVUV
    PERL_USE_DEVEL
    PERL_USE_SAFE_PUTENV
    USE_ITHREADS
    USE_LARGE_FILES
    USE_LOCALE
    USE_LOCALE_COLLATE
    USE_LOCALE_CTYPE
    USE_LOCALE_NUMERIC
    USE_LOCALE_TIME
    USE_PERLIO
    USE_PERL_ATOF
    USE_REENTRANT_API
  Locally applied patches:
    Devel::PatchPerl 1.48
  Built under solaris
  Compiled at Feb  6 2018 02:59:41
  %ENV:
    PERL5LIB="/export/home/njh/.cpan/build/LWP-Protocol-https-6.07-0/blib/arch:/export/home/njh/.cpan/build/LWP-Protocol-https-6.07-0/blib/lib:/export/home/njh/.cpan/build/IO-Socket-SSL-2.056-0/blib/arch:/export/home/njh/.cpan/build/IO-Socket-SSL-2.056-0/blib/lib:/export/home/njh/.cpan/build/Net-SSLeay-1.84-0/blib/arch:/export/home/njh/.cpan/build/Net-SSLeay-1.84-0/blib/lib:/export/home/njh/.cpan/build/Mozilla-CA-20160104-0/blib/arch:/export/home/njh/.cpan/build/Mozilla-CA-20160104-0/blib/lib:/export/home/njh/.cpan/build/Path-Class-0.37-0/blib/arch:/export/home/njh/.cpan/build/Path-Class-0.37-0/blib/lib:/export/home/njh/.cpan/build/Module-Build-0.4224-3/blib/arch:/export/home/njh/.cpan/build/Module-Build-0.4224-3/blib/lib"
    PERL5OPT=""
    PERL5_CPANPLUS_IS_RUNNING="27253"
    PERL5_CPAN_IS_RUNNING="27253"
    PERLBREW_HOME="/export/home/njh/.perlbrew"
    PERLBREW_MANPATH="/export/home/njh/perl5/perlbrew/perls/perl-5.27.7-thread-multi-ld/man"
    PERLBREW_PATH="/export/home/njh/perl5/perlbrew/bin:/export/home/njh/perl5/perlbrew/perls/perl-5.27.7-thread-multi-ld/bin"
    PERLBREW_PERL="perl-5.27.7-thread-multi-ld"
    PERLBREW_ROOT="/export/home/njh/perl5/perlbrew"
    PERLBREW_SHELLRC_VERSION="0.82"
    PERLBREW_VERSION="0.82"
    PERL_USE_UNSAFE_INC="1"
  @INC:
    /export/home/njh/.cpan/build/LWP-Protocol-https-6.07-0/blib/arch
    /export/home/njh/.cpan/build/LWP-Protocol-https-6.07-0/blib/lib
    /export/home/njh/.cpan/build/IO-Socket-SSL-2.056-0/blib/arch
    /export/home/njh/.cpan/build/IO-Socket-SSL-2.056-0/blib/lib
    /export/home/njh/.cpan/build/Net-SSLeay-1.84-0/blib/arch
    /export/home/njh/.cpan/build/Net-SSLeay-1.84-0/blib/lib
    /export/home/njh/.cpan/build/Mozilla-CA-20160104-0/blib/arch
    /export/home/njh/.cpan/build/Mozilla-CA-20160104-0/blib/lib
    /export/home/njh/.cpan/build/Path-Class-0.37-0/blib/arch
    /export/home/njh/.cpan/build/Path-Class-0.37-0/blib/lib
    /export/home/njh/.cpan/build/Module-Build-0.4224-3/blib/arch
    /export/home/njh/.cpan/build/Module-Build-0.4224-3/blib/lib
    /export/home/njh/perl5/perlbrew/perls/perl-5.27.7-thread-multi-ld/lib/site_perl/5.27.7/i86pc-solaris-thread-multi
    /export/home/njh/perl5/perlbrew/perls/perl-5.27.7-thread-multi-ld/lib/site_perl/5.27.7
    /export/home/njh/perl5/perlbrew/perls/perl-5.27.7-thread-multi-ld/lib/5.27.7/i86pc-solaris-thread-multi
    /export/home/njh/perl5/perlbrew/perls/perl-5.27.7-thread-multi-ld/lib/5.27.7
    .