Report for POE-Component-Client-SMTP-0.22

Back
From: metabase:user:320bfe00-2aae-11df-837a-5e0a49663a4f
Subject: PASS POE-Component-Client-SMTP-0.22 v5.15.6 GNU/Linux
Date: 2011-12-22T01:05:07Z

This distribution has been tested as part of the CPAN Testers
project, supporting the Perl programming language.  See
http://wiki.cpantesters.org/ for more information or email
questions to cpan-testers-discuss@perl.org


--
Dear George Nistorica,

This is a computer-generated report for POE-Component-Client-SMTP-0.22
on perl 5.15.6, created by CPAN-Reporter-1.2003.

Thank you for uploading your work to CPAN.  Congratulations!
All tests were successful.

Sections of this report:

    * Tester comments
    * Program output
    * Prerequisites
    * Environment and other context

------------------------------
TESTER COMMENTS
------------------------------

Additional comments from tester:

this report is from an automated smoke testing program
and was not reviewed by a human for accuracy

------------------------------
PROGRAM OUTPUT
------------------------------

Output from './Build test':

# Testing POE::Component::Client::SMTP 0.22, Perl 5.015006, /home/sand/src/perl/repoperls/installed-perls/perl/v5.15.6-20-g7ef9d42/165a/bin/perl
t/00-load.t ......................... ok
ClientFilter ignored with ClientInputFilter and ClientOutputFilter at t/010-send-simple.t line 58
t/010-send-simple.t ................. ok
ClientFilter ignored with ClientInputFilter and ClientOutputFilter at t/015-receive-5XY-code.t line 59
t/015-receive-5XY-code.t ............ ok
ClientFilter ignored with ClientInputFilter and ClientOutputFilter at t/015-receive-DATA-5XY-code.t line 59
t/015-receive-DATA-5XY-code.t ....... ok
ClientFilter ignored with ClientInputFilter and ClientOutputFilter at t/017-unknown-code.t line 60
t/017-unknown-code.t ................ ok
t/018-consolidated_error_message.t .. ok
ClientFilter ignored with ClientInputFilter and ClientOutputFilter at t/020-send-using-all-params.t line 59
# All Params
t/020-send-using-all-params.t ....... ok
ClientFilter ignored with ClientInputFilter and ClientOutputFilter at t/025-timeout.t line 29
t/025-timeout.t ..................... ok
ClientFilter ignored with ClientInputFilter and ClientOutputFilter at t/030-auth-plain1.t line 77
# Test PLAIN AUTH
t/030-auth-plain1.t ................. ok
Possible attempt to separate words with commas at t/040-transaction-log.t line 47.
ClientFilter ignored with ClientInputFilter and ClientOutputFilter at t/040-transaction-log.t line 71
t/040-transaction-log.t ............. ok
ClientFilter ignored with ClientInputFilter and ClientOutputFilter at t/045-messagefile-filehandle.t line 68
t/045-messagefile-filehandle.t ...... ok
ClientFilter ignored with ClientInputFilter and ClientOutputFilter at t/050-send-with-bcc-cc.t line 58
# Send, To, CC, BCC
t/050-send-with-bcc-cc.t ............ ok
ClientFilter ignored with ClientInputFilter and ClientOutputFilter at t/060-send-defaults.t line 75
Use of uninitialized value $state in exists at /home/src/perl/repoperls/installed-perls/perl/v5.15.6-20-g7ef9d42/165a/lib/site_perl/5.15.6/POE/Session.pm line 420.
# Defaults
t/060-send-defaults.t ............... ok
ClientFilter ignored with ClientInputFilter and ClientOutputFilter at t/070-test-error-return.t line 59
t/070-test-error-return.t ........... ok
# Testing SMTP Transparency
# using POE::Component::Client::SMTP VERSION: 0.22
Use of uninitialized value $_ in concatenation (.) or string at /home/src/perl/repoperls/installed-perls/perl/v5.15.6-20-g7ef9d42/165a/lib/site_perl/5.15.6/POE/Filter/Line.pm line 225.
t/080-transparent.t ................. ok
# Using POE::Component::Client::SMTP version: 0.22
t/085-transparent_file.t ............ ok
# Using POE::Component::Client::SMTP version: 0.22
t/090-server_drops_data.t ........... ok
t/pod-coverage.t .................... ok
t/pod.t ............................. ok
All tests successful.
Files=19, Tests=67,  7 wallclock secs ( 0.06 usr  0.02 sys +  1.98 cusr  0.32 csys =  2.38 CPU)
Result: PASS

------------------------------
PREREQUISITES
------------------------------

Prerequisite modules loaded:

requires:

    Module                         Need Have    
    ------------------------------ ---- --------
    Carp                           0    1.24    
    Data::Dumper                   0    2.135_01
    perl                           0    5.015006
    POE                            0.26 1.350   
    POE::Filter::Line              0    1.350   
    POE::Filter::Stream            0    1.350   
    POE::Filter::Transparent::SMTP 0.2  0.2     
    POE::Wheel::ReadWrite          0    1.350   
    POE::Wheel::SocketFactory      0    1.350   
    Socket                         0    1.97    
    Symbol                         0    1.07    
    Test::More                     0    0.98    

configure_requires:

    Module                         Need Have    
    ------------------------------ ---- --------
    ExtUtils::MakeMaker            0    6.63_02 


------------------------------
ENVIRONMENT AND OTHER CONTEXT
------------------------------

Environment variables:

    AUTOMATED_TESTING = 1
    LANG = en_US.UTF-8
    LANGUAGE = en_US:en
    PATH = /home/sand/bin:/usr/local/bin:/usr/bin:/bin:/usr/bin/X11:/usr/games:/usr/local/perl/bin:/usr/X11/bin:/sbin:/usr/sbin
    PERL5LIB = /tmp/loop_over_bdir-dDRYXM/Mail-SpamAssassin-2.43-VmAMlh/blib/arch:/tmp/loop_over_bdir-dDRYXM/Mail-SpamAssassin-2.43-VmAMlh/blib/lib
    PERL5OPT = 
    PERL5_CPANPLUS_IS_RUNNING = 25331
    PERL5_CPAN_IS_RUNNING = 25331
    PERL_MM_USE_DEFAULT = 1
    SHELL = /usr/bin/zsh
    TERM = screen

Perl special variables (and OS-specific diagnostics, for MSWin32):

    $^X = /home/sand/src/perl/repoperls/installed-perls/perl/v5.15.6-20-g7ef9d42/165a/bin/perl
    $UID/$EUID = 1005 / 1005
    $GID = 1005 1005
    $EGID = 1005 1005

Perl module toolchain versions installed:

    Module              Have    
    ------------------- --------
    CPAN                1.9800  
    CPAN::Meta          2.112621
    Cwd                 3.39_01 
    ExtUtils::CBuilder  0.280205
    ExtUtils::Command   1.17    
    ExtUtils::Install   1.57    
    ExtUtils::MakeMaker 6.63_02 
    ExtUtils::Manifest  1.60    
    ExtUtils::ParseXS   3.08    
    File::Spec          3.39_01 
    JSON                2.53    
    JSON::PP            2.27200 
    Module::Build       0.39_01 
    Module::Signature   0.68    
    Parse::CPAN::Meta   1.4401  
    Test::Harness       3.23    
    Test::More          0.98    
    YAML                n/a     
    YAML::Syck          1.19    
    version             0.95    


--

Summary of my perl5 (revision 5 version 15 subversion 6) configuration:
  Commit id: 7ef9d42cef95562593dd30e0fab41e7e09fd0e0e
  Platform:
    osname=linux, osvers=2.6.32-5-amd64, archname=x86_64-linux
    uname='linux k83 2.6.32-5-amd64 #1 smp thu nov 3 03:41:26 utc 2011 x86_64 gnulinux '
    config_args='-Dprefix=/home/src/perl/repoperls/installed-perls/perl/v5.15.6-20-g7ef9d42/165a -Dmyhostname=k83 -Dinstallusrbinperl=n -Uversiononly -Dusedevel -des -Ui_db -Uuseithreads -Uuselongdouble -DDEBUGGING=-g'
    hint=recommended, useposix=true, d_sigaction=define
    useithreads=undef, usemultiplicity=undef
    useperlio=define, d_sfio=undef, uselargefiles=define, usesocks=undef
    use64bitint=define, use64bitall=define, uselongdouble=undef
    usemymalloc=n, bincompat5005=undef
  Compiler:
    cc='cc', ccflags ='-fno-strict-aliasing -pipe -fstack-protector -I/usr/local/include -D_LARGEFILE_SOURCE -D_FILE_OFFSET_BITS=64',
    optimize='-O2 -g',
    cppflags='-fno-strict-aliasing -pipe -fstack-protector -I/usr/local/include'
    ccversion='', gccversion='4.4.5', gccosandvers=''
    intsize=4, longsize=8, ptrsize=8, doublesize=8, byteorder=12345678
    d_longlong=define, longlongsize=8, d_longdbl=define, longdblsize=16
    ivtype='long', ivsize=8, nvtype='double', nvsize=8, Off_t='off_t', lseeksize=8
    alignbytes=8, prototype=define
  Linker and Libraries:
    ld='cc', ldflags =' -fstack-protector -L/usr/local/lib'
    libpth=/usr/local/lib /lib/../lib /usr/lib/../lib /lib /usr/lib /lib64 /usr/lib64
    libs=-lnsl -ldb -ldl -lm -lcrypt -lutil -lc
    perllibs=-lnsl -ldl -lm -lcrypt -lutil -lc
    libc=/lib/libc-2.11.2.so, so=so, useshrplib=false, libperl=libperl.a
    gnulibc_version='2.11.2'
  Dynamic Linking:
    dlsrc=dl_dlopen.xs, dlext=so, d_dlsymun=undef, ccdlflags='-Wl,-E'
    cccdlflags='-fPIC', lddlflags='-shared -O2 -g -L/usr/local/lib -fstack-protector'


Characteristics of this binary (from libperl): 
  Compile-time options: HAS_TIMES PERLIO_LAYERS PERL_DONT_CREATE_GVSV
                        PERL_MALLOC_WRAP PERL_PRESERVE_IVUV PERL_USE_DEVEL
                        USE_64_BIT_ALL USE_64_BIT_INT USE_LARGE_FILES
                        USE_LOCALE USE_LOCALE_COLLATE USE_LOCALE_CTYPE
                        USE_LOCALE_NUMERIC USE_PERLIO USE_PERL_ATOF
  Built under linux
  Compiled at Dec 21 2011 08:52:28
  %ENV:
    PERL5LIB="/tmp/loop_over_bdir-dDRYXM/Mail-SpamAssassin-2.43-VmAMlh/blib/arch:/tmp/loop_over_bdir-dDRYXM/Mail-SpamAssassin-2.43-VmAMlh/blib/lib"
    PERL5OPT=""
    PERL5_CPANPLUS_IS_RUNNING="25331"
    PERL5_CPAN_IS_RUNNING="25331"
    PERL_MM_USE_DEFAULT="1"
  @INC:
    /tmp/loop_over_bdir-dDRYXM/Mail-SpamAssassin-2.43-VmAMlh/blib/arch
    /tmp/loop_over_bdir-dDRYXM/Mail-SpamAssassin-2.43-VmAMlh/blib/lib
    /home/src/perl/repoperls/installed-perls/perl/v5.15.6-20-g7ef9d42/165a/lib/site_perl/5.15.6/x86_64-linux
    /home/src/perl/repoperls/installed-perls/perl/v5.15.6-20-g7ef9d42/165a/lib/site_perl/5.15.6
    /home/src/perl/repoperls/installed-perls/perl/v5.15.6-20-g7ef9d42/165a/lib/5.15.6/x86_64-linux
    /home/src/perl/repoperls/installed-perls/perl/v5.15.6-20-g7ef9d42/165a/lib/5.15.6
    .