Back
From: metabase:user:30f4dfbe-2aae-11df-837a-5e0a49663a4f
Subject: PASS MozRepl-0.06 v5.8.9 FreeBSD
Date: 2012-02-12T16:45:36Z
This distribution has been tested as part of the CPAN Testers
project, supporting the Perl programming language. See
http://wiki.cpantesters.org/ for more information or email
questions to cpan-testers-discuss@perl.org
--
Dear Toru Yamaguchi,
This is a computer-generated report for MozRepl-0.06
on perl 5.8.9 patch 35104, created by CPAN-Reporter-1.2003.
Thank you for uploading your work to CPAN. Congratulations!
All tests were successful.
Sections of this report:
* Tester comments
* Program output
* Prerequisites
* Environment and other context
------------------------------
TESTER COMMENTS
------------------------------
Additional comments from tester:
this report is from an automated smoke testing program
and was not reviewed by a human for accuracy
------------------------------
PROGRAM OUTPUT
------------------------------
Output from '/usr/bin/make test':
/usr/local/bin/perl5.8.9 "-Iinc" Makefile.PL --config= --installdeps=Data::JavaScript::Anon,0,Module::Pluggable::Fast,0,Template,0,Template::Provider::FromDATA,0,Text::SimpleTable,0
PERL_DL_NONLAZY=1 /usr/local/bin/perl5.8.9 "-MExtUtils::Command::MM" "-e" "test_harness(0, 'inc', 'blib/lib', 'blib/arch')" t/00-load.t t/10-plugin-repl-enter.t t/11-plugin-repl-search.t t/12-plugin-repl-inspect.t t/13-plugin-repl-load.t t/14-plugin-repl-rename.t t/15-plugin-repl-print.t t/16-plugin-repl-home.t t/17-plugin-repl-back.t t/18-plugin-repl-util-help_url_for.t t/19-plugin-repl-util-doc_for.t t/20-plugin-json.t t/pod-coverage.t t/pod.t
# Testing MozRepl 0.06
t/00-load.t ........................... ok
[DEBUG] MozRepl logging enabled
[DEBUG]
---- Client arguments ----
.----------------------+------------------------------------------.
| client_arg_name | client_arg_value |
+----------------------+------------------------------------------+
| host | localhost |
| port | 4242 |
| timeout | 10 |
| extra_client_args | {} |
'----------------------+------------------------------------------'
t/10-plugin-repl-enter.t .............. ok
[DEBUG] MozRepl logging enabled
[DEBUG]
---- Client arguments ----
.----------------------+------------------------------------------.
| client_arg_name | client_arg_value |
+----------------------+------------------------------------------+
| host | localhost |
| port | 4242 |
| timeout | 10 |
| extra_client_args | {} |
'----------------------+------------------------------------------'
t/11-plugin-repl-search.t ............. ok
[DEBUG] MozRepl logging enabled
[DEBUG]
---- Client arguments ----
.----------------------+------------------------------------------.
| client_arg_name | client_arg_value |
+----------------------+------------------------------------------+
| host | localhost |
| port | 4242 |
| timeout | 10 |
| extra_client_args | {} |
'----------------------+------------------------------------------'
t/12-plugin-repl-inspect.t ............ ok
[DEBUG] MozRepl logging enabled
[DEBUG]
---- Client arguments ----
.----------------------+------------------------------------------.
| client_arg_name | client_arg_value |
+----------------------+------------------------------------------+
| host | localhost |
| port | 4242 |
| timeout | 10 |
| extra_client_args | {} |
'----------------------+------------------------------------------'
t/13-plugin-repl-load.t ............... ok
[DEBUG] MozRepl logging enabled
[DEBUG]
---- Client arguments ----
.----------------------+------------------------------------------.
| client_arg_name | client_arg_value |
+----------------------+------------------------------------------+
| host | localhost |
| port | 4242 |
| timeout | 10 |
| extra_client_args | {} |
'----------------------+------------------------------------------'
t/14-plugin-repl-rename.t ............. ok
[DEBUG] MozRepl logging enabled
[DEBUG]
---- Client arguments ----
.----------------------+------------------------------------------.
| client_arg_name | client_arg_value |
+----------------------+------------------------------------------+
| host | localhost |
| port | 4242 |
| timeout | 10 |
| extra_client_args | {} |
'----------------------+------------------------------------------'
t/15-plugin-repl-print.t .............. ok
[DEBUG] MozRepl logging enabled
[DEBUG]
---- Client arguments ----
.----------------------+------------------------------------------.
| client_arg_name | client_arg_value |
+----------------------+------------------------------------------+
| host | localhost |
| port | 4242 |
| timeout | 10 |
| extra_client_args | {} |
'----------------------+------------------------------------------'
t/16-plugin-repl-home.t ............... ok
[DEBUG] MozRepl logging enabled
[DEBUG]
---- Client arguments ----
.----------------------+------------------------------------------.
| client_arg_name | client_arg_value |
+----------------------+------------------------------------------+
| host | localhost |
| port | 4242 |
| timeout | 10 |
| extra_client_args | {} |
'----------------------+------------------------------------------'
t/17-plugin-repl-back.t ............... ok
[DEBUG] MozRepl logging enabled
[DEBUG]
---- Client arguments ----
.----------------------+------------------------------------------.
| client_arg_name | client_arg_value |
+----------------------+------------------------------------------+
| host | localhost |
| port | 4242 |
| timeout | 10 |
| extra_client_args | {} |
'----------------------+------------------------------------------'
t/18-plugin-repl-util-help_url_for.t .. ok
[DEBUG] MozRepl logging enabled
[DEBUG]
---- Client arguments ----
.----------------------+------------------------------------------.
| client_arg_name | client_arg_value |
+----------------------+------------------------------------------+
| host | localhost |
| port | 4242 |
| timeout | 10 |
| extra_client_args | {} |
'----------------------+------------------------------------------'
t/19-plugin-repl-util-doc_for.t ....... ok
[DEBUG] MozRepl logging enabled
[DEBUG]
---- Client arguments ----
.----------------------+------------------------------------------.
| client_arg_name | client_arg_value |
+----------------------+------------------------------------------+
| host | localhost |
| port | 4242 |
| timeout | 10 |
| extra_client_args | {} |
'----------------------+------------------------------------------'
t/20-plugin-json.t .................... ok
t/pod-coverage.t ...................... ok
t/pod.t ............................... ok
All tests successful.
Files=14, Tests=74, 4 wallclock secs ( 0.20 usr 0.20 sys + 2.12 cusr 1.05 csys = 3.56 CPU)
Result: PASS
------------------------------
PREREQUISITES
------------------------------
Prerequisite modules loaded:
requires:
Module Need Have
---------------------------- ---- ----
Carp::Clan 0 6.04
Class::Accessor::Fast 0 0.34
Class::Data::Inheritable 0 0.08
Data::Dump 0 1.21
Data::JavaScript::Anon 0 1.03
File::Spec 0 3.29
Module::Pluggable::Fast 0 0.19
Net::Telnet 0 3.03
Template 0 2.24
Template::Provider::FromDATA 0 0.12
Text::SimpleTable 0 2.03
UNIVERSAL::require 0 0.13
URI 0 1.58
------------------------------
ENVIRONMENT AND OTHER CONTEXT
------------------------------
Environment variables:
AUTOMATED_TESTING = 1
PATH = /usr/bin:/bin
PERL5LIB = /home/njh/.cpan/build/Data-JavaScript-Anon-1.03-r794dv/blib/arch:/home/njh/.cpan/build/Data-JavaScript-Anon-1.03-r794dv/blib/lib:/home/njh/.cpan/build/Class-Default-1.51-n7Jgy5/blib/arch:/home/njh/.cpan/build/Class-Default-1.51-n7Jgy5/blib/lib:/home/njh/.cpan/build/Text-SimpleTable-2.03-F54nkN/blib/arch:/home/njh/.cpan/build/Text-SimpleTable-2.03-F54nkN/blib/lib:/home/njh/.cpan/build/Template-Provider-FromDATA-0.12-eO3p42/blib/arch:/home/njh/.cpan/build/Template-Provider-FromDATA-0.12-eO3p42/blib/lib:/home/njh/.cpan/build/Template-Toolkit-2.24-o2H67G/blib/arch:/home/njh/.cpan/build/Template-Toolkit-2.24-o2H67G/blib/lib:/home/njh/.cpan/build/AppConfig-1.66-g8eiPU/blib/arch:/home/njh/.cpan/build/AppConfig-1.66-g8eiPU/blib/lib:/home/njh/.cpan/build/Module-Pluggable-Fast-0.19-uNq5Nb/blib/arch:/home/njh/.cpan/build/Module-Pluggable-Fast-0.19-uNq5Nb/blib/lib:/home/njh/.cpan/build/Shell-Command-0.06-Aj1fDo/blib/arch:/home/njh/.cpan/build/Shell-Command-0.06-Aj1fDo/blib/lib:/home/njh/.cpan/build/Object-Import-1.002-uqaGDN/blib/arch:/home/njh/.cpan/build/Object-Import-1.002-uqaGDN/blib/lib
PERL5OPT =
PERL5_CPANPLUS_IS_RUNNING = 1241
PERL5_CPAN_IS_RUNNING = 1241
PERL5_MINISMOKEBOX = 0.54
PERL_EXTUTILS_AUTOINSTALL = --defaultdeps
PERL_MM_USE_DEFAULT = 1
SHELL = /bin/sh
Perl special variables (and OS-specific diagnostics, for MSWin32):
$^X = /usr/local/bin/perl5.8.9
$UID/$EUID = 1001 / 1001
$GID = 1001 1001 0
$EGID = 1001 1001 0
Perl module toolchain versions installed:
Module Have
------------------- --------
CPAN 1.9301
CPAN::Meta 2.112150
Cwd 3.29
ExtUtils::CBuilder 0.280202
ExtUtils::Command 1.16
ExtUtils::Install 1.52
ExtUtils::MakeMaker 6.62
ExtUtils::Manifest 1.58
ExtUtils::ParseXS 2.2206
File::Spec 3.29
JSON 2.53
JSON::PP 2.27104
Module::Build 0.3800
Module::Signature n/a
Parse::CPAN::Meta 1.4401
Test::Harness 3.23
Test::More 0.98
YAML 0.73
YAML::Syck 1.19
version 0.88
--
Summary of my perl5 (revision 5 version 8 subversion 9 patch 35104) configuration:
Platform:
osname=freebsd, osvers=8.1-release, archname=i386-freebsd-thread-multi
uname='freebsd qemu386freebsd8-1.bandsman.co.uk 8.1-release freebsd 8.1-release #0: mon jul 19 02:55:53 utc 2010 root@almeida.cse.buffalo.edu:usrobjusrsrcsysgeneric i386 '
config_args='-des -Dusedevel -Accflags=-O2 -W -Wformat=2 -Wswitch -Wshadow -Wwrite-strings -Wuninitialized -Wall -pipe -mtune=prescott -march=prescott -fomit-frame-pointer -msse2 -msse -mmmx -mfpmath=sse -pedantic -D_FORTIFY_SOURCE=2 -Wpointer-arith -Wstrict-prototypes -fstack-protector -Wstack-protector -Wextra -Wbad-function-cast -Wcast-align -Wcast-qual -Wdisabled-optimization -Wendif-labels -Wfloat-equal -Wformat-nonliteral -Winline -Wmissing-declarations -Wmissing-prototypes -Wnested-externs -Wpointer-arith -Wundef -Wformat-security -Duseithreads'
hint=recommended, useposix=true, d_sigaction=define
usethreads=define use5005threads=undef useithreads=define usemultiplicity=define
useperlio=define d_sfio=undef uselargefiles=define usesocks=undef
use64bitint=undef use64bitall=undef uselongdouble=undef
usemymalloc=n, bincompat5005=undef
Compiler:
cc='cc', ccflags ='-DDEBUGGING -DHAS_FPSETMASK -DHAS_FLOATINGPOINT_H -O2 -W -Wformat=2 -Wswitch -Wshadow -Wwrite-strings -Wuninitialized -Wall -pipe -mtune=prescott -march=prescott -fomit-frame-pointer -msse2 -msse -mmmx -mfpmath=sse -pedantic -D_FORTIFY_SOURCE=2 -Wpointer-arith -Wstrict-prototypes -fstack-protector -Wstack-protector -Wextra -Wbad-function-cast -Wcast-align -Wcast-qual -Wdisabled-optimization -Wendif-labels -Wfloat-equal -Wformat-nonliteral -Winline -Wmissing-declarations -Wmissing-prototypes -Wnested-externs -Wpointer-arith -Wundef -Wformat-security -fno-strict-aliasing -I/usr/local/include',
optimize='-O',
cppflags='-DDEBUGGING -DHAS_FPSETMASK -DHAS_FLOATINGPOINT_H -O2 -W -Wformat=2 -Wswitch -Wshadow -Wwrite-strings -Wuninitialized -Wall -pipe -mtune=prescott -march=prescott -fomit-frame-pointer -msse2 -msse -mmmx -mfpmath=sse -pedantic -D_FORTIFY_SOURCE=2 -Wpointer-arith -Wstrict-prototypes -fstack-protector -Wstack-protector -Wextra -Wbad-function-cast -Wcast-align -Wcast-qual -Wdisabled-optimization -Wendif-labels -Wfloat-equal -Wformat-nonliteral -Winline -Wmissing-declarations -Wmissing-prototypes -Wnested-externs -Wpointer-arith -Wundef -Wformat-security -fno-strict-aliasing -I/usr/local/include'
ccversion='', gccversion='4.2.1 20070719 [FreeBSD]', gccosandvers=''
intsize=4, longsize=4, ptrsize=4, doublesize=8, byteorder=1234
d_longlong=define, longlongsize=8, d_longdbl=define, longdblsize=12
ivtype='long', ivsize=4, nvtype='double', nvsize=8, Off_t='off_t', lseeksize=8
alignbytes=4, prototype=define
Linker and Libraries:
ld='cc', ldflags ='-pthread -Wl,-E -L/usr/local/lib'
libpth=/usr/lib /usr/local/lib
libs=-lm -lcrypt
perllibs=-lm -lcrypt
libc=, so=so, useshrplib=false, libperl=libperl.a
gnulibc_version=''
Dynamic Linking:
dlsrc=dl_dlopen.xs, dlext=so, d_dlsymun=undef, ccdlflags=' '
cccdlflags='-DPIC -fPIC', lddlflags='-shared -L/usr/local/lib'
Characteristics of this binary (from libperl):
Compile-time options: DEBUGGING MULTIPLICITY PERL_IMPLICIT_CONTEXT
PERL_MALLOC_WRAP USE_FAST_STDIO USE_ITHREADS
USE_LARGE_FILES USE_PERLIO USE_REENTRANT_API
Locally applied patches:
MAINT35104
SMOKE7d6ecb1f6c7eabec011b66526161fcf678919c99
Built under freebsd
Compiled at Feb 28 2011 09:32:54
%ENV:
PERL5LIB="/home/njh/.cpan/build/Data-JavaScript-Anon-1.03-r794dv/blib/arch:/home/njh/.cpan/build/Data-JavaScript-Anon-1.03-r794dv/blib/lib:/home/njh/.cpan/build/Class-Default-1.51-n7Jgy5/blib/arch:/home/njh/.cpan/build/Class-Default-1.51-n7Jgy5/blib/lib:/home/njh/.cpan/build/Text-SimpleTable-2.03-F54nkN/blib/arch:/home/njh/.cpan/build/Text-SimpleTable-2.03-F54nkN/blib/lib:/home/njh/.cpan/build/Template-Provider-FromDATA-0.12-eO3p42/blib/arch:/home/njh/.cpan/build/Template-Provider-FromDATA-0.12-eO3p42/blib/lib:/home/njh/.cpan/build/Template-Toolkit-2.24-o2H67G/blib/arch:/home/njh/.cpan/build/Template-Toolkit-2.24-o2H67G/blib/lib:/home/njh/.cpan/build/AppConfig-1.66-g8eiPU/blib/arch:/home/njh/.cpan/build/AppConfig-1.66-g8eiPU/blib/lib:/home/njh/.cpan/build/Module-Pluggable-Fast-0.19-uNq5Nb/blib/arch:/home/njh/.cpan/build/Module-Pluggable-Fast-0.19-uNq5Nb/blib/lib:/home/njh/.cpan/build/Shell-Command-0.06-Aj1fDo/blib/arch:/home/njh/.cpan/build/Shell-Command-0.06-Aj1fDo/blib/lib:/home/njh/.cpan/build/Object-Import-1.002-uqaGDN/blib/arch:/home/njh/.cpan/build/Object-Import-1.002-uqaGDN/blib/lib"
PERL5OPT=""
PERL5_CPANPLUS_IS_RUNNING="1241"
PERL5_CPAN_IS_RUNNING="1241"
PERL5_MINISMOKEBOX="0.54"
PERL_EXTUTILS_AUTOINSTALL="--defaultdeps"
PERL_MM_USE_DEFAULT="1"
@INC:
/home/njh/.cpan/build/Data-JavaScript-Anon-1.03-r794dv/blib/arch
/home/njh/.cpan/build/Data-JavaScript-Anon-1.03-r794dv/blib/lib
/home/njh/.cpan/build/Class-Default-1.51-n7Jgy5/blib/arch
/home/njh/.cpan/build/Class-Default-1.51-n7Jgy5/blib/lib
/home/njh/.cpan/build/Text-SimpleTable-2.03-F54nkN/blib/arch
/home/njh/.cpan/build/Text-SimpleTable-2.03-F54nkN/blib/lib
/home/njh/.cpan/build/Template-Provider-FromDATA-0.12-eO3p42/blib/arch
/home/njh/.cpan/build/Template-Provider-FromDATA-0.12-eO3p42/blib/lib
/home/njh/.cpan/build/Template-Toolkit-2.24-o2H67G/blib/arch
/home/njh/.cpan/build/Template-Toolkit-2.24-o2H67G/blib/lib
/home/njh/.cpan/build/AppConfig-1.66-g8eiPU/blib/arch
/home/njh/.cpan/build/AppConfig-1.66-g8eiPU/blib/lib
/home/njh/.cpan/build/Module-Pluggable-Fast-0.19-uNq5Nb/blib/arch
/home/njh/.cpan/build/Module-Pluggable-Fast-0.19-uNq5Nb/blib/lib
/home/njh/.cpan/build/Shell-Command-0.06-Aj1fDo/blib/arch
/home/njh/.cpan/build/Shell-Command-0.06-Aj1fDo/blib/lib
/home/njh/.cpan/build/Object-Import-1.002-uqaGDN/blib/arch
/home/njh/.cpan/build/Object-Import-1.002-uqaGDN/blib/lib
/usr/local/lib/perl5/5.8.9/i386-freebsd-thread-multi
/usr/local/lib/perl5/5.8.9
/usr/local/lib/perl5/site_perl/5.8.9/i386-freebsd-thread-multi
/usr/local/lib/perl5/site_perl/5.8.9
.