Back
From: metabase:user:320bfe00-2aae-11df-837a-5e0a49663a4f
Subject: PASS Class-AutoClass-1.56_02 v5.12.5 GNU/Linux
Date: 2013-09-29T15:51:22Z
This distribution has been tested as part of the CPAN Testers
project, supporting the Perl programming language. See
http://wiki.cpantesters.org/ for more information or email
questions to cpan-testers-discuss@perl.org
--
Dear Nathan Goodman,
This is a computer-generated report for Class-AutoClass-1.56_02
on perl 5.12.5, created by CPAN-Reporter-1.2010.
Thank you for uploading your work to CPAN. Congratulations!
All tests were successful.
Sections of this report:
* Tester comments
* Program output
* Prerequisites
* Environment and other context
------------------------------
TESTER COMMENTS
------------------------------
Additional comments from tester:
this report is from an automated smoke testing program
and was not reviewed by a human for accuracy
------------------------------
PROGRAM OUTPUT
------------------------------
Output from './Build test':
# Testing Class::AutoClass 1.5602, Perl 5.012005, /home/sand/src/perl/repoperls/installed-perls/perl/v5.12.5/a2da/bin/perl
t/autoclass.000.code_exists.t ........ ok
t/autoclass.001.boilerplate.t ........ ok
t/autoclass.002.pod.t ................ ok
t/autoclass.010.basics.t ............. ok
t/autoclass.011.class_attributes.t ... ok
t/autoclass.011.inconsistent.t ....... ok
t/autoclass.011.nullify.t ............ ok
t/autoclass.011.override.t ........... ok
t/autoclass.020.attributes.t ......... ok
t/autoclass.025.root.t ............... ok
t/autoclass.030._ref_.t .............. ok
t/autoclass.030.init_self.t .......... ok
t/autoclass.031._ref_.t .............. ok
t/autoclass.031.super_new.t .......... ok
t/autoclass.032._ref_.t .............. ok
t/autoclass.032.init_self_ac.t ....... ok
t/autoclass.033._ref_.t .............. ok
t/autoclass.033.super_new_ac.t ....... ok
t/autoclass.034._ref_.t .............. ok
t/autoclass.034.external_one.t ....... ok
t/autoclass.035._ref_.t .............. ok
t/autoclass.035.external_all.t ....... ok
t/autoclass.036._ref_.t .............. ok
t/autoclass.036.declare.t ............ ok
t/autoclass.037._ref_.t .............. ok
t/autoclass.037.declare_pkg.t ........ ok
t/autoclass.038._ref_.t .............. ok
t/autoclass.038.init_self_inherit.t .. ok
t/autoclass.039._ref_.t .............. ok
t/autoclass.039.attribute_order.t .... ok
t/autoclass.099.docs.t ............... ok
t/autoclass.100.no_autoclass.t ....... ok
t/autoclass.101.no_use_parent.t ...... ok
t/autoclass.102.use_order.t .......... ok
t/autoclass.103.defaults.t ........... ok
t/autoclass.104.syn_defaults.t ....... ok
t/autoclass.105.synonyms.t ........... ok
t/autoclass.106.synonyms.t ........... ok
t/autoclass.107.code_refs.t .......... ok
t/autoclass.108.override.t ........... ok
All tests successful.
Files=40, Tests=771, 6 wallclock secs ( 0.19 usr 0.04 sys + 2.74 cusr 0.27 csys = 3.24 CPU)
Result: PASS
------------------------------
PREREQUISITES
------------------------------
Prerequisite modules loaded:
requires:
Module Need Have
-------------------- ------ -------
Cwd 3.4 3.40
Hash::AutoHash 1.16 1.16
Hash::AutoHash::Args 1.16 1.17
IO::Scalar 2.11 2.110
List::MoreUtils 0.33 0.33
Tie::ToObject 0.03 0.03
XSLoader 0.15 0.16
build_requires:
Module Need Have
-------------------- ------ -------
Carp 1.2 1.32
Hash::AutoHash::Args 1.16 1.17
IO::Scalar 2.11 2.110
Module::Build 0.4007 0.4007
Scalar::Util 1.23 1.32
Storable 2.3 2.45
Test::Deep 0.11 0.110
Test::More 0.98 0.98_06
Test::Pod 1.48 1.48
Test::Pod::Content v0.0.6 0.0.6
configure_requires:
Module Need Have
-------------------- ------ -------
Module::Build 0.4007 0.4007
------------------------------
ENVIRONMENT AND OTHER CONTEXT
------------------------------
Environment variables:
AUTOMATED_TESTING = 1
LANG = en_US.UTF-8
LANGUAGE = en_US:en
PATH = /usr/lib/ccache:/home/sand/bin:/usr/local/bin:/usr/bin:/bin:/usr/bin/X11:/usr/games:/usr/local/perl/bin:/usr/X11/bin:/sbin:/usr/sbin
PERL5LIB =
PERL5OPT =
PERL5_CPANPLUS_IS_RUNNING = 4302
PERL5_CPAN_IS_RUNNING = 4302
PERL_MM_USE_DEFAULT = 1
SHELL = /usr/bin/zsh
TERM = screen
Perl special variables (and OS-specific diagnostics, for MSWin32):
$^X = /home/sand/src/perl/repoperls/installed-perls/perl/v5.12.5/a2da/bin/perl
$UID/$EUID = 1005 / 1005
$GID = 1005 1005
$EGID = 1005 1005
Perl module toolchain versions installed:
Module Have
------------------- --------
CPAN 2.00
CPAN::Meta 2.132661
Cwd 3.40
ExtUtils::CBuilder 0.280212
ExtUtils::Command 1.16
ExtUtils::Install 1.55
ExtUtils::MakeMaker 6.78
ExtUtils::Manifest 1.60
ExtUtils::ParseXS 3.22
File::Spec 3.40
JSON 2.59
JSON::PP 2.27202
Module::Build 0.4007
Module::Signature 0.73
Parse::CPAN::Meta 1.4409
Test::Harness 3.28
Test::More 0.98_06
YAML 0.84
YAML::Syck 1.27
version 0.9904
--
Summary of my perl5 (revision 5 version 12 subversion 5) configuration:
Commit id: 9a9cbd715960a905dcbc9166349a73a64a007e4e
Platform:
osname=linux, osvers=3.10-2-amd64, archname=x86_64-linux-thread-multi-ld
uname='linux k83 3.10-2-amd64 #1 smp debian 3.10.7-1 (2013-08-17) x86_64 gnulinux '
config_args='-Dprefix=/home/sand/src/perl/repoperls/installed-perls/perl/v5.12.5/a2da -Dmyhostname=k83 -Dinstallusrbinperl=n -Uversiononly -Dusedevel -des -Ui_db -Duseithreads -Duselongdouble -DDEBUGGING=-g'
hint=recommended, useposix=true, d_sigaction=define
useithreads=define, usemultiplicity=define
useperlio=define, d_sfio=undef, uselargefiles=define, usesocks=undef
use64bitint=define, use64bitall=define, uselongdouble=define
usemymalloc=n, bincompat5005=undef
Compiler:
cc='cc', ccflags ='-D_REENTRANT -D_GNU_SOURCE -fno-strict-aliasing -pipe -fstack-protector -I/usr/local/include -D_LARGEFILE_SOURCE -D_FILE_OFFSET_BITS=64',
optimize='-O2 -g',
cppflags='-D_REENTRANT -D_GNU_SOURCE -fno-strict-aliasing -pipe -fstack-protector -I/usr/local/include'
ccversion='', gccversion='4.8.1', gccosandvers=''
intsize=4, longsize=8, ptrsize=8, doublesize=8, byteorder=12345678
d_longlong=define, longlongsize=8, d_longdbl=define, longdblsize=16
ivtype='long', ivsize=8, nvtype='long double', nvsize=16, Off_t='off_t', lseeksize=8
alignbytes=16, prototype=define
Linker and Libraries:
ld='cc', ldflags =' -fstack-protector -L/usr/local/lib'
libpth=/usr/local/lib /lib/x86_64-linux-gnu /lib/../lib /usr/lib/x86_64-linux-gnu /usr/lib/../lib /lib /usr/lib
libs=-lnsl -lgdbm -ldb -ldl -lm -lcrypt -lutil -lpthread -lc -lgdbm_compat
perllibs=-lnsl -ldl -lm -lcrypt -lutil -lpthread -lc
libc=, so=so, useshrplib=false, libperl=libperl.a
gnulibc_version='2.17'
Dynamic Linking:
dlsrc=dl_dlopen.xs, dlext=so, d_dlsymun=undef, ccdlflags='-Wl,-E'
cccdlflags='-fPIC', lddlflags='-shared -O2 -g -L/usr/local/lib -fstack-protector'
Characteristics of this binary (from libperl):
Compile-time options: MULTIPLICITY PERL_DONT_CREATE_GVSV
PERL_IMPLICIT_CONTEXT PERL_MALLOC_WRAP PERL_USE_DEVEL
USE_64_BIT_ALL USE_64_BIT_INT USE_ITHREADS
USE_LARGE_FILES USE_LONG_DOUBLE USE_PERLIO
USE_PERL_ATOF USE_REENTRANT_API
Built under linux
Compiled at Sep 18 2013 14:16:37
%ENV:
PERL5LIB=""
PERL5OPT=""
PERL5_CPANPLUS_IS_RUNNING="4302"
PERL5_CPAN_IS_RUNNING="4302"
PERL_MM_USE_DEFAULT="1"
@INC:
/home/sand/src/perl/repoperls/installed-perls/perl/v5.12.5/a2da/lib/site_perl/5.12.5/x86_64-linux-thread-multi-ld
/home/sand/src/perl/repoperls/installed-perls/perl/v5.12.5/a2da/lib/site_perl/5.12.5
/home/sand/src/perl/repoperls/installed-perls/perl/v5.12.5/a2da/lib/5.12.5/x86_64-linux-thread-multi-ld
/home/sand/src/perl/repoperls/installed-perls/perl/v5.12.5/a2da/lib/5.12.5
.