Catalyst-Plugin-DetachIfNotModified vv0.3.1 Perl 5 v5.36.0 x86_64-linux-thread-multi

Status
Pass
From
Slaven Rezić
Dist
Catalyst-Plugin-DetachIfNotModified vv0.3.1
Platform
Perl 5 v5.36.0 x86_64-linux-thread-multi
Date
2023-06-22 12:54:55
ID
fccc0bb6-10fb-11ee-b69a-ee2c6e8775ea
This distribution has been tested as part of the CPAN Testers
project, supporting the Perl programming language.  See
http://wiki.cpantesters.org/ for more information or email
questions to cpan-testers-discuss@perl.org


--
Dear Robert Rothenberg,

This is a computer-generated report for Catalyst-Plugin-DetachIfNotModified-v0.3.1
on perl 5.36.0, created by CPAN-Reporter-1.2018.

Thank you for uploading your work to CPAN.  Congratulations!
All tests were successful.

Sections of this report:

    * Tester comments
    * Program output
    * Prerequisites
    * Environment and other context

------------------------------
TESTER COMMENTS
------------------------------

Additional comments from tester:

none provided

------------------------------
PROGRAM OUTPUT
------------------------------

Output from '/usr/bin/make test':

PERL_DL_NONLAZY=1 "/bbbike/opt/perl-5.36.0t/bin/perl" "-MExtUtils::Command::MM" "-MTest::Harness" "-e" "undef *Test::Harness::Switches; test_harness(0, 'blib/lib', 'blib/arch')" t/*.t
# 
# Versions for all modules listed in MYMETA.json (including optional ones):
# 
# === Configure Requires ===
# 
#     Module              Want Have
#     ------------------- ---- ----
#     ExtUtils::MakeMaker  any 7.64
# 
# === Build Requires ===
# 
#     Module              Want Have
#     ------------------- ---- ----
#     ExtUtils::MakeMaker  any 7.64
# 
# === Test Requires ===
# 
#     Module                               Want     Have
#     --------------------------------- ------- --------
#     Catalyst                          5.90018  5.90128
#     Catalyst::Controller                  any    undef
#     Catalyst::Test                        any    undef
#     File::Spec                            any     3.84
#     HTTP::Date                            any     6.05
#     HTTP::Request::Common                 any     6.36
#     Module::Metadata                      any 1.000037
#     Moose                                 any   2.2201
#     Plack::Middleware::MethodOverride     any     0.20
#     Term::Size::Any                       any    0.002
#     Test::Log::Dispatch                   any     0.03
#     Test::More                            any 1.302190
#     Test::Most                            any     0.37
#     Time::Seconds                         any   1.3401
#     lib                                   any     0.65
#     strict                                any     1.12
#     warnings                              any     1.58
# 
# === Test Recommends ===
# 
#     Module         Want     Have
#     ---------- -------- --------
#     CPAN::Meta 2.120900 2.150010
# 
# === Runtime Requires ===
# 
#     Module                  Want    Have
#     -------------------- ------- -------
#     Catalyst             5.90018 5.90128
#     HTTP::Headers           5.18    6.36
#     HTTP::Status             any    6.36
#     List::Util               any    1.62
#     Moose::Role              any  2.2201
#     Ref::Util                any   0.204
#     namespace::autoclean     any    0.29
# 
# === Runtime Recommends ===
# 
#     Module                            Want  Have
#     --------------------------------- ---- -----
#     Plack::Middleware::ConditionalGET  any undef
#     Ref::Util::XS                      any 0.117
# 
t/00-report-prereqs.t ........ ok
t/100-basic.t ................ ok
t/author-clean-namespaces.t .. skipped: these tests are for testing by the author
t/author-critic.t ............ skipped: these tests are for testing by the author
t/author-eof.t ............... skipped: these tests are for testing by the author
t/author-eol.t ............... skipped: these tests are for testing by the author
t/author-minimum-version.t ... skipped: these tests are for testing by the author
t/author-no-tabs.t ........... skipped: these tests are for testing by the author
t/author-pod-coverage.t ...... skipped: these tests are for testing by the author
t/author-pod-linkcheck.t ..... skipped: these tests are for testing by the author
t/author-pod-syntax.t ........ skipped: these tests are for testing by the author
t/author-portability.t ....... skipped: these tests are for testing by the author
t/release-check-manifest.t ... skipped: these tests are for release candidate testing
t/release-fixme.t ............ skipped: these tests are for release candidate testing
t/release-kwalitee.t ......... skipped: these tests are for release candidate testing
t/release-trailing-space.t ... skipped: these tests are for release candidate testing
All tests successful.
Files=16, Tests=5,  1 wallclock secs ( 0.03 usr  0.03 sys +  0.56 cusr  0.12 csys =  0.74 CPU)
Result: PASS

------------------------------
PREREQUISITES
------------------------------

Prerequisite modules loaded:

requires:

    Module                            Need     Have    
    --------------------------------- -------- --------
    Catalyst                          5.90018  5.90128 
    HTTP::Headers                     5.18     6.36    
    HTTP::Status                      0        6.36    
    List::Util                        0        1.62    
    Moose::Role                       0        2.2201  
    namespace::autoclean              0        0.29    
    perl                              5.014000 5.036000
    Ref::Util                         0        0.204   

build_requires:

    Module                            Need     Have    
    --------------------------------- -------- --------
    Catalyst                          5.90018  5.90128 
    Catalyst::Controller              0        0       
    Catalyst::Test                    0        0       
    ExtUtils::MakeMaker               0        7.64    
    File::Spec                        0        3.84    
    HTTP::Date                        0        6.05    
    HTTP::Request::Common             0        6.36    
    lib                               0        0.65    
    Module::Metadata                  0        1.000037
    Moose                             0        2.2201  
    Plack::Middleware::MethodOverride 0        0.20    
    strict                            0        1.12    
    Term::Size::Any                   0        0.002   
    Test::Log::Dispatch               0        0.03    
    Test::More                        0        1.302190
    Test::Most                        0        0.37    
    Time::Seconds                     0        1.3401  
    warnings                          0        1.58    

configure_requires:

    Module                            Need     Have    
    --------------------------------- -------- --------
    ExtUtils::MakeMaker               0        7.64    


------------------------------
ENVIRONMENT AND OTHER CONTEXT
------------------------------

Environment variables:

    LANG = C
    PATH = /usr/local/bin:/usr/bin:/bin:/usr/local/sbin:/usr/sbin:/sbin:/home/cpansand/bin/linux-gnu:/home/cpansand/bin/sh:/home/cpansand/bin:/usr/games:/home/cpansand/devel:/home/eserte/src/srezic-misc/scripts
    PERL5LIB = /home/cpansand/.cpan/build/2023062212/Test-Log-Dispatch-0.03-2/blib/arch:/home/cpansand/.cpan/build/2023062212/Test-Log-Dispatch-0.03-2/blib/lib:/home/cpansand/.cpan/build/2023062212/Term-Size-Any-0.002-2/blib/arch:/home/cpansand/.cpan/build/2023062212/Term-Size-Any-0.002-2/blib/lib:/home/cpansand/.cpan/build/2023062212/Term-Size-Perl-0.031-2/blib/arch:/home/cpansand/.cpan/build/2023062212/Term-Size-Perl-0.031-2/blib/lib
    PERL5OPT = 
    PERL5_CPANPLUS_IS_RUNNING = 1197837
    PERL5_CPAN_IS_RUNNING = 1197837
    PERL5_CPAN_IS_RUNNING_IN_RECURSION = 1144011,1197837
    PERLDOC = -MPod::Perldoc::ToTextOverstrike
    PERL_BATCH = yes
    PERL_CANARY_STABILITY_NOPROMPT = 1
    PERL_CPAN_REPORTER_CONFIG = /var/tmp/cpansmoker-1023/2023062211/cpanreporter_000_config.ini
    PERL_EXTUTILS_AUTOINSTALL = --defaultdeps
    PERL_USE_UNSAFE_INC = 1
    SHELL = /usr/bin/zsh
    TERM = screen
    TMPDIR = /var/tmp/cpansmoker-1023/2023062211

Perl special variables (and OS-specific diagnostics, for MSWin32):

    $^X = /bbbike/opt/perl-5.36.0t/bin/perl
    $UID/$EUID = 1023 / 1023
    $GID = 1023 1023
    $EGID = 1023 1023

Perl module toolchain versions installed:

    Module              Have    
    ------------------- --------
    CPAN                2.33    
    CPAN::Meta          2.150010
    Cwd                 3.84    
    ExtUtils::CBuilder  0.280236
    ExtUtils::Command   7.64    
    ExtUtils::Install   2.20    
    ExtUtils::MakeMaker 7.64    
    ExtUtils::Manifest  1.73    
    ExtUtils::ParseXS   3.45    
    File::Spec          3.84    
    JSON                4.06    
    JSON::PP            4.07    
    Module::Build       0.4231  
    Module::Signature   n/a     
    Parse::CPAN::Meta   2.150010
    Test::Harness       3.44    
    Test::More          1.302190
    YAML                1.30    
    YAML::Syck          1.34    
    version             0.9929  


--

Summary of my perl5 (revision 5 version 36 subversion 0) configuration:
   
  Platform:
    osname=linux
    osvers=5.10.0-13-amd64
    archname=x86_64-linux-thread-multi
    uname='linux eserte 5.10.0-13-amd64 #1 smp debian 5.10.106-1 (2022-03-17) x86_64 gnulinux '
    config_args='-ds -e -Dprefix=/opt/perl-5.36.0t -Dusethreads -Dcf_email=srezic@cpan.org'
    hint=recommended
    useposix=true
    d_sigaction=define
    useithreads=define
    usemultiplicity=define
    use64bitint=define
    use64bitall=define
    uselongdouble=undef
    usemymalloc=n
    default_inc_excludes_dot=define
  Compiler:
    cc='cc'
    ccflags ='-D_REENTRANT -D_GNU_SOURCE -fwrapv -fno-strict-aliasing -pipe -fstack-protector-strong -I/usr/local/include -D_LARGEFILE_SOURCE -D_FILE_OFFSET_BITS=64 -D_FORTIFY_SOURCE=2'
    optimize='-O2'
    cppflags='-D_REENTRANT -D_GNU_SOURCE -fwrapv -fno-strict-aliasing -pipe -fstack-protector-strong -I/usr/local/include'
    ccversion=''
    gccversion='10.2.1 20210110'
    gccosandvers=''
    intsize=4
    longsize=8
    ptrsize=8
    doublesize=8
    byteorder=12345678
    doublekind=3
    d_longlong=define
    longlongsize=8
    d_longdbl=define
    longdblsize=16
    longdblkind=3
    ivtype='long'
    ivsize=8
    nvtype='double'
    nvsize=8
    Off_t='off_t'
    lseeksize=8
    alignbytes=8
    prototype=define
  Linker and Libraries:
    ld='cc'
    ldflags =' -fstack-protector-strong -L/usr/local/lib'
    libpth=/usr/local/lib /usr/lib/x86_64-linux-gnu /usr/lib /lib/x86_64-linux-gnu /lib
    libs=-lpthread -lnsl -lgdbm -ldb -ldl -lm -lcrypt -lutil -lc
    perllibs=-lpthread -lnsl -ldl -lm -lcrypt -lutil -lc
    libc=libc-2.31.so
    so=so
    useshrplib=false
    libperl=libperl.a
    gnulibc_version='2.31'
  Dynamic Linking:
    dlsrc=dl_dlopen.xs
    dlext=so
    d_dlsymun=undef
    ccdlflags='-Wl,-E'
    cccdlflags='-fPIC'
    lddlflags='-shared -O2 -L/usr/local/lib -fstack-protector-strong'


Characteristics of this binary (from libperl): 
  Compile-time options:
    HAS_TIMES
    MULTIPLICITY
    PERLIO_LAYERS
    PERL_COPY_ON_WRITE
    PERL_DONT_CREATE_GVSV
    PERL_MALLOC_WRAP
    PERL_OP_PARENT
    PERL_PRESERVE_IVUV
    USE_64_BIT_ALL
    USE_64_BIT_INT
    USE_ITHREADS
    USE_LARGE_FILES
    USE_LOCALE
    USE_LOCALE_COLLATE
    USE_LOCALE_CTYPE
    USE_LOCALE_NUMERIC
    USE_LOCALE_TIME
    USE_PERLIO
    USE_PERL_ATOF
    USE_REENTRANT_API
    USE_THREAD_SAFE_LOCALE
  Built under linux
  Compiled at May 30 2022 19:18:45
  %ENV:
    PERL5LIB="/home/cpansand/.cpan/build/2023062212/Test-Log-Dispatch-0.03-2/blib/arch:/home/cpansand/.cpan/build/2023062212/Test-Log-Dispatch-0.03-2/blib/lib:/home/cpansand/.cpan/build/2023062212/Term-Size-Any-0.002-2/blib/arch:/home/cpansand/.cpan/build/2023062212/Term-Size-Any-0.002-2/blib/lib:/home/cpansand/.cpan/build/2023062212/Term-Size-Perl-0.031-2/blib/arch:/home/cpansand/.cpan/build/2023062212/Term-Size-Perl-0.031-2/blib/lib"
    PERL5OPT=""
    PERL5_CPANPLUS_IS_RUNNING="1197837"
    PERL5_CPAN_IS_RUNNING="1197837"
    PERL5_CPAN_IS_RUNNING_IN_RECURSION="1144011,1197837"
    PERLDOC="-MPod::Perldoc::ToTextOverstrike"
    PERL_BATCH="yes"
    PERL_CANARY_STABILITY_NOPROMPT="1"
    PERL_CPAN_REPORTER_CONFIG="/var/tmp/cpansmoker-1023/2023062211/cpanreporter_000_config.ini"
    PERL_EXTUTILS_AUTOINSTALL="--defaultdeps"
    PERL_USE_UNSAFE_INC="1"
  @INC:
    /home/cpansand/.cpan/build/2023062212/Test-Log-Dispatch-0.03-2/blib/arch
    /home/cpansand/.cpan/build/2023062212/Test-Log-Dispatch-0.03-2/blib/lib
    /home/cpansand/.cpan/build/2023062212/Term-Size-Any-0.002-2/blib/arch
    /home/cpansand/.cpan/build/2023062212/Term-Size-Any-0.002-2/blib/lib
    /home/cpansand/.cpan/build/2023062212/Term-Size-Perl-0.031-2/blib/arch
    /home/cpansand/.cpan/build/2023062212/Term-Size-Perl-0.031-2/blib/lib
    /opt/perl-5.36.0t/lib/site_perl/5.36.0/x86_64-linux-thread-multi
    /opt/perl-5.36.0t/lib/site_perl/5.36.0
    /opt/perl-5.36.0t/lib/5.36.0/x86_64-linux-thread-multi
    /opt/perl-5.36.0t/lib/5.36.0
    .