Crypt-Perl v0.38 Perl 5 v5.16.2 x86_64-linux

Status
Pass
From
Chris Williams (BINGOS)
Dist
Crypt-Perl v0.38
Platform
Perl 5 v5.16.2 x86_64-linux
Date
2023-01-26 04:14:54
ID
fca521a8-9d2f-11ed-aba6-9a79f339625c
This distribution has been tested as part of the CPAN Testers
project, supporting the Perl programming language.  See
http://wiki.cpantesters.org/ for more information or email
questions to cpan-testers-discuss@perl.org


--

Dear Felipe Gasper,

This is a computer-generated error report created automatically by
CPANPLUS, version 0.9914. Testers personal comments may appear
at the end of this report.


Thank you for uploading your work to CPAN.  Congratulations!
All tests were successful.

TEST RESULTS:

Below is the error stack from stage 'make test':

PERL_DL_NONLAZY=1 "/home/cpan/pit/bare/perl-5.16.2/bin/perl" "-MExtUtils::Command::MM" "-MTest::Harness" "-e" "undef *Test::Harness::Switches; test_harness(0, 'blib/lib', 'blib/arch')" t/*.t
# Looking for OpenSSL binary …
# Found OpenSSL: /usr/bin/openssl
# OpenSSL 1.1.1q  5 Jul 2022
# options:  bn(64,64) rc4(16x,int) des(int) blowfish(ptr) 
# compiler: gcc -fPIC -pthread -m64 -Wa,--noexecstack -Os -fomit-frame-pointer -g -Os -fomit-frame-pointer -Os -fomit-frame-pointer -g -Wa,--noexecstack -DOPENSSL_USE_NODELETE -DL_ENDIAN -DOPENSSL_PIC -DOPENSSL_CPUID_OBJ -DOPENSSL_IA32_SSE2 -DOPENSSL_BN_ASM_MONT -DOPENSSL_BN_ASM_MONT5 -DOPENSSL_BN_ASM_GF2m -DSHA1_ASM -DSHA256_ASM -DSHA512_ASM -DKECCAK1600_ASM -DRC4_ASM -DMD5_ASM -DAESNI_ASM -DVPAES_ASM -DGHASH_ASM -DECP_NISTZ256_ASM -DX25519_ASM -DPOLY1305_ASM -DNDEBUG -Os -fomit-frame-pointer
t/Crypt-Perl-ASN1-BitString.t ..................... ok
# Math::BigInt 1.999837 (backend: Math::BigInt::Calc 1.999837)
t/Crypt-Perl-BigInt.t ............................. ok
# Math::BigInt 1.999837 (backend: Math::BigInt::Calc 1.999837)
# Math::BigInt::Calc 1.999837
t/Crypt-Perl-ECDSA-Deterministic.t ................ ok
t/Crypt-Perl-ECDSA-EC-Point.t ..................... ok
# Looking for OpenSSL binary …
# Found OpenSSL: /usr/bin/openssl
# OpenSSL 1.1.1q  5 Jul 2022
# options:  bn(64,64) rc4(16x,int) des(int) blowfish(ptr) 
# compiler: gcc -fPIC -pthread -m64 -Wa,--noexecstack -Os -fomit-frame-pointer -g -Os -fomit-frame-pointer -Os -fomit-frame-pointer -g -Wa,--noexecstack -DOPENSSL_USE_NODELETE -DL_ENDIAN -DOPENSSL_PIC -DOPENSSL_CPUID_OBJ -DOPENSSL_IA32_SSE2 -DOPENSSL_BN_ASM_MONT -DOPENSSL_BN_ASM_MONT5 -DOPENSSL_BN_ASM_GF2m -DSHA1_ASM -DSHA256_ASM -DSHA512_ASM -DKECCAK1600_ASM -DRC4_ASM -DMD5_ASM -DAESNI_ASM -DVPAES_ASM -DGHASH_ASM -DECP_NISTZ256_ASM -DX25519_ASM -DPOLY1305_ASM -DNDEBUG -Os -fomit-frame-pointer
# Skipping “c2pnb163v1” (Crypt::Perl::X::ECDSA::NoCurveForOID) …
# Skipping “c2pnb163v2” (Crypt::Perl::X::ECDSA::NoCurveForOID) …
# Skipping “c2pnb163v3” (Crypt::Perl::X::ECDSA::NoCurveForOID) …
# Skipping “c2pnb176v1” (Crypt::Perl::X::ECDSA::NoCurveForOID) …
# Skipping “c2pnb208w1” (Crypt::Perl::X::ECDSA::NoCurveForOID) …
# Skipping “c2pnb272w1” (Crypt::Perl::X::ECDSA::NoCurveForOID) …
# Skipping “c2pnb304w1” (Crypt::Perl::X::ECDSA::NoCurveForOID) …
# Skipping “c2pnb368w1” (Crypt::Perl::X::ECDSA::NoCurveForOID) …
# Skipping “c2tnb191v1” (Crypt::Perl::X::ECDSA::NoCurveForOID) …
# Skipping “c2tnb191v2” (Crypt::Perl::X::ECDSA::NoCurveForOID) …
# Skipping “c2tnb191v3” (Crypt::Perl::X::ECDSA::NoCurveForOID) …
# Skipping “c2tnb239v1” (Crypt::Perl::X::ECDSA::NoCurveForOID) …
# Skipping “c2tnb239v2” (Crypt::Perl::X::ECDSA::NoCurveForOID) …
# Skipping “c2tnb239v3” (Crypt::Perl::X::ECDSA::NoCurveForOID) …
# Skipping “c2tnb359v1” (Crypt::Perl::X::ECDSA::NoCurveForOID) …
# Skipping “c2tnb431r1” (Crypt::Perl::X::ECDSA::NoCurveForOID) …
# Skipping “sect113r1” (Crypt::Perl::X::ECDSA::NoCurveForOID) …
# Skipping “sect113r2” (Crypt::Perl::X::ECDSA::NoCurveForOID) …
# Skipping “sect131r1” (Crypt::Perl::X::ECDSA::NoCurveForOID) …
# Skipping “sect131r2” (Crypt::Perl::X::ECDSA::NoCurveForOID) …
# Skipping “sect163k1” (Crypt::Perl::X::ECDSA::NoCurveForOID) …
# Skipping “sect163r1” (Crypt::Perl::X::ECDSA::NoCurveForOID) …
# Skipping “sect163r2” (Crypt::Perl::X::ECDSA::NoCurveForOID) …
# Skipping “sect193r1” (Crypt::Perl::X::ECDSA::NoCurveForOID) …
# Skipping “sect193r2” (Crypt::Perl::X::ECDSA::NoCurveForOID) …
# Skipping “sect233k1” (Crypt::Perl::X::ECDSA::NoCurveForOID) …
# Skipping “sect233r1” (Crypt::Perl::X::ECDSA::NoCurveForOID) …
# Skipping “sect239k1” (Crypt::Perl::X::ECDSA::NoCurveForOID) …
# Skipping “sect283k1” (Crypt::Perl::X::ECDSA::NoCurveForOID) …
# Skipping “sect283r1” (Crypt::Perl::X::ECDSA::NoCurveForOID) …
# Skipping “sect409k1” (Crypt::Perl::X::ECDSA::NoCurveForOID) …
# Skipping “sect409r1” (Crypt::Perl::X::ECDSA::NoCurveForOID) …
# Skipping “sect571k1” (Crypt::Perl::X::ECDSA::NoCurveForOID) …
# Skipping “sect571r1” (Crypt::Perl::X::ECDSA::NoCurveForOID) …
# Skipping “wap_wsg_idm_ecid_wtls1” (Crypt::Perl::X::ECDSA::NoCurveForOID) …
# Skipping “wap_wsg_idm_ecid_wtls10” (Crypt::Perl::X::ECDSA::NoCurveForOID) …
# Skipping “wap_wsg_idm_ecid_wtls11” (Crypt::Perl::X::ECDSA::NoCurveForOID) …
# Skipping “wap_wsg_idm_ecid_wtls3” (Crypt::Perl::X::ECDSA::NoCurveForOID) …
# Skipping “wap_wsg_idm_ecid_wtls4” (Crypt::Perl::X::ECDSA::NoCurveForOID) …
# Skipping “wap_wsg_idm_ecid_wtls5” (Crypt::Perl::X::ECDSA::NoCurveForOID) …
# Math::BigInt 1.999837 (backend: Math::BigInt::Calc 1.999837)
# XXX NOTE: This test can take a while and/or spew a lot of text.
# Skipping “c2pnb163v1” (Crypt::Perl::X::ECDSA::NoCurveForOID) …
# Skipping “c2pnb163v2” (Crypt::Perl::X::ECDSA::NoCurveForOID) …
# Skipping “c2pnb163v3” (Crypt::Perl::X::ECDSA::NoCurveForOID) …
# Skipping “c2pnb176v1” (Crypt::Perl::X::ECDSA::NoCurveForOID) …
# Skipping “c2pnb208w1” (Crypt::Perl::X::ECDSA::NoCurveForOID) …
# Skipping “c2pnb272w1” (Crypt::Perl::X::ECDSA::NoCurveForOID) …
# Skipping “c2pnb304w1” (Crypt::Perl::X::ECDSA::NoCurveForOID) …
# Skipping “c2pnb368w1” (Crypt::Perl::X::ECDSA::NoCurveForOID) …
# Skipping “c2tnb191v1” (Crypt::Perl::X::ECDSA::NoCurveForOID) …
# Skipping “c2tnb191v2” (Crypt::Perl::X::ECDSA::NoCurveForOID) …
# Skipping “c2tnb191v3” (Crypt::Perl::X::ECDSA::NoCurveForOID) …
# Skipping “c2tnb239v1” (Crypt::Perl::X::ECDSA::NoCurveForOID) …
# Skipping “c2tnb239v2” (Crypt::Perl::X::ECDSA::NoCurveForOID) …
# Skipping “c2tnb239v3” (Crypt::Perl::X::ECDSA::NoCurveForOID) …
# Skipping “c2tnb359v1” (Crypt::Perl::X::ECDSA::NoCurveForOID) …
# Skipping “c2tnb431r1” (Crypt::Perl::X::ECDSA::NoCurveForOID) …
# Skipping “sect113r1” (Crypt::Perl::X::ECDSA::NoCurveForOID) …
# Skipping “sect113r2” (Crypt::Perl::X::ECDSA::NoCurveForOID) …
# Skipping “sect131r1” (Crypt::Perl::X::ECDSA::NoCurveForOID) …
# Skipping “sect131r2” (Crypt::Perl::X::ECDSA::NoCurveForOID) …
# Skipping “sect163k1” (Crypt::Perl::X::ECDSA::NoCurveForOID) …
# Skipping “sect163r1” (Crypt::Perl::X::ECDSA::NoCurveForOID) …
# Skipping “sect163r2” (Crypt::Perl::X::ECDSA::NoCurveForOID) …
# Skipping “sect193r1” (Crypt::Perl::X::ECDSA::NoCurveForOID) …
# Skipping “sect193r2” (Crypt::Perl::X::ECDSA::NoCurveForOID) …
# Skipping “sect233k1” (Crypt::Perl::X::ECDSA::NoCurveForOID) …
# Skipping “sect233r1” (Crypt::Perl::X::ECDSA::NoCurveForOID) …
# Skipping “sect239k1” (Crypt::Perl::X::ECDSA::NoCurveForOID) …
# Skipping “sect283k1” (Crypt::Perl::X::ECDSA::NoCurveForOID) …
# Skipping “sect283r1” (Crypt::Perl::X::ECDSA::NoCurveForOID) …
# Skipping “sect409k1” (Crypt::Perl::X::ECDSA::NoCurveForOID) …
# Skipping “sect409r1” (Crypt::Perl::X::ECDSA::NoCurveForOID) …
# Skipping “sect571k1” (Crypt::Perl::X::ECDSA::NoCurveForOID) …
# Skipping “sect571r1” (Crypt::Perl::X::ECDSA::NoCurveForOID) …
# Skipping “wap_wsg_idm_ecid_wtls1” (Crypt::Perl::X::ECDSA::NoCurveForOID) …
# Skipping “wap_wsg_idm_ecid_wtls10” (Crypt::Perl::X::ECDSA::NoCurveForOID) …
# Skipping “wap_wsg_idm_ecid_wtls11” (Crypt::Perl::X::ECDSA::NoCurveForOID) …
# Skipping “wap_wsg_idm_ecid_wtls3” (Crypt::Perl::X::ECDSA::NoCurveForOID) …
# Skipping “wap_wsg_idm_ecid_wtls4” (Crypt::Perl::X::ECDSA::NoCurveForOID) …
# Skipping “wap_wsg_idm_ecid_wtls5” (Crypt::Perl::X::ECDSA::NoCurveForOID) …
# curve: brainpoolP160r1
# curve: brainpoolP160t1
# curve: brainpoolP192r1
# curve: brainpoolP192t1
# curve: brainpoolP224r1
# curve: brainpoolP224t1
# curve: brainpoolP256r1
# curve: brainpoolP256t1
# curve: brainpoolP320r1
# curve: brainpoolP320t1
# curve: brainpoolP384r1
# curve: brainpoolP384t1
# curve: brainpoolP512r1
# curve: brainpoolP512t1
# curve: prime192v1
# curve: prime192v2
# curve: prime192v3
# curve: prime239v1
# curve: prime239v2
# curve: prime239v3
# curve: prime256v1
# curve: secp112r1
read EC key
writing EC key
# curve: secp112r2
# curve: secp128r1
# curve: secp128r2
# curve: secp160k1
# curve: secp160r1
# curve: secp160r2
# curve: secp192k1
# curve: secp224k1
# curve: secp224r1
# curve: secp256k1
# curve: secp384r1
# curve: secp521r1
# curve: wap_wsg_idm_ecid_wtls12
# curve: wap_wsg_idm_ecid_wtls6
# curve: wap_wsg_idm_ecid_wtls7
# curve: wap_wsg_idm_ecid_wtls8
# curve: wap_wsg_idm_ecid_wtls9
t/Crypt-Perl-ECDSA-Generate.t ..................... ok
# Math::BigInt 1.999837 (backend: Math::BigInt::Calc 1.999837)
t/Crypt-Perl-ECDSA-Math.t ......................... ok
# Looking for OpenSSL binary …
# Found OpenSSL: /usr/bin/openssl
# OpenSSL 1.1.1q  5 Jul 2022
# options:  bn(64,64) rc4(16x,int) des(int) blowfish(ptr) 
# compiler: gcc -fPIC -pthread -m64 -Wa,--noexecstack -Os -fomit-frame-pointer -g -Os -fomit-frame-pointer -Os -fomit-frame-pointer -g -Wa,--noexecstack -DOPENSSL_USE_NODELETE -DL_ENDIAN -DOPENSSL_PIC -DOPENSSL_CPUID_OBJ -DOPENSSL_IA32_SSE2 -DOPENSSL_BN_ASM_MONT -DOPENSSL_BN_ASM_MONT5 -DOPENSSL_BN_ASM_GF2m -DSHA1_ASM -DSHA256_ASM -DSHA512_ASM -DKECCAK1600_ASM -DRC4_ASM -DMD5_ASM -DAESNI_ASM -DVPAES_ASM -DGHASH_ASM -DECP_NISTZ256_ASM -DX25519_ASM -DPOLY1305_ASM -DNDEBUG -Os -fomit-frame-pointer
# Math::BigInt 1.999837 (backend: Math::BigInt::Calc 1.999837)
t/Crypt-Perl-ECDSA-Parse.t ........................ ok
# Looking for OpenSSL binary …
# Found OpenSSL: /usr/bin/openssl
# OpenSSL 1.1.1q  5 Jul 2022
# options:  bn(64,64) rc4(16x,int) des(int) blowfish(ptr) 
# compiler: gcc -fPIC -pthread -m64 -Wa,--noexecstack -Os -fomit-frame-pointer -g -Os -fomit-frame-pointer -Os -fomit-frame-pointer -g -Wa,--noexecstack -DOPENSSL_USE_NODELETE -DL_ENDIAN -DOPENSSL_PIC -DOPENSSL_CPUID_OBJ -DOPENSSL_IA32_SSE2 -DOPENSSL_BN_ASM_MONT -DOPENSSL_BN_ASM_MONT5 -DOPENSSL_BN_ASM_GF2m -DSHA1_ASM -DSHA256_ASM -DSHA512_ASM -DKECCAK1600_ASM -DRC4_ASM -DMD5_ASM -DAESNI_ASM -DVPAES_ASM -DGHASH_ASM -DECP_NISTZ256_ASM -DX25519_ASM -DPOLY1305_ASM -DNDEBUG -Os -fomit-frame-pointer
# Math::BigInt 1.999837 (backend: Math::BigInt::Calc 1.999837)
# ---------- This test takes a while and spews a lot of text.
# Message: [Hello-0.682421858046787]
# brainpoolP160r1 (named_curve, compressed public point)
# Random Sig: 302c021408e10c346ec3cd18800ea82537c71e367f5509e302143ba14b0d5566053fcdd2440ac11421d49365b46f
# Deterministic Sig: 302c02145abef68354c4bfe9329f616261bfef50907d5de702140831a12cbe17a4c1cda536dcd8f0baedd95e5278
# brainpoolP160t1 (named_curve, compressed public point)
# Random Sig: 302d02150096788fab894c77f51b71ebf5b9e300659a1ad95702144bb350ecaada9b8603d44b021f6d5c95119c5040
# Deterministic Sig: 302c0214627f6411382c2d0fc5cdc5ffb9ee81eff9d9e70f02143933dab4081db330e56e7346735399ab46ea44a1
# brainpoolP192r1 (named_curve, compressed public point)
# Random Sig: 303402180815a372ee4954ce6d102a1dbd1c6769823a35cd9c15dfe202185dcb94c24d299d8c8789d4706d0fac7d89b6ed2bbffdc827
# Deterministic Sig: 303602190095ddc7a0110b0b74ec94053b148e45dbc442a36c87546311021900b1b739a1f7a492c4fef64e1564a943f90b373d23a8bd1b12
# brainpoolP192t1 (named_curve, compressed public point)
# Random Sig: 303402187d79618978fbe22f1f3b4b65058877f935f2d93f76ad538402184fcd2a93eba6e36dd38d394feb7aced1501a7848f83a9f7c
# Deterministic Sig: 303402185baa496b5b92d00ecc010a95032fa30c5f76b81c7b8bbe660218222fab3db1b4c918095bee79f862074b7a6f815c29c987a7
# brainpoolP224r1 (named_curve, compressed public point)
# Random Sig: 303c021c4b458614cb122cde99f5e97cd6a570e2cbc5336d3820bbcad7b9d7c5021c166963c394ffb7bb34a77bdfe2bef38ec83f521e930ef5d37747411b
# Deterministic Sig: 303d021d008e82e39b11401c6cd80dbc47cc4f0fa96d72d4f7424609f0cdc37c4b021c0d4149a10ce458521615a0b544268b25cb568092165c67458a134175
# brainpoolP224t1 (named_curve, compressed public point)
# Random Sig: 303c021c3c92dca1492ccfb6d4d1b7628a94bafc071453797c5dfcf689d5c118021c5716ee52b9d2853dc7cb97c2e5cdecd4ae7d7891639c0c3fb6b0f081
# Deterministic Sig: 303e021d0098f65a3e397baa76e4ae6016dd8faf1fc7b8ab95d00046b61a6ae2c1021d00ceed4664d0b6c672464fadaaab4622ff1b5a2808d6670ecf2a6ab484
# brainpoolP256r1 (named_curve, compressed public point)
# Random Sig: 30450220499bf5f191d8f9fcf9f2f3d0ee64aba8d9497ef6859e019be1a69ca534efadb0022100a4cb7c1a46e60916c9b59f7b0c2f0331026ac4986f34f8fe0769bbe1df2a9305
# Deterministic Sig: 304502204502ce458f5a04bd8e2e01f38e0b656d1994b31d1189fa4099124de9e558e44d022100a397464af534a22546d052971d4c567f1f560493fcb3287f7826329c27b25f47
# brainpoolP256t1 (named_curve, compressed public point)
# Random Sig: 30440220411251d2a3a00d664b62bf39027234c2b0851f6e52980843abe4dd09be5316ae022020e996e0d7b24fcf9c150b9b6dc11f7d3799d9176f31171d3ce44e19daa2cc4f
# Deterministic Sig: 304502205062d0c3a784fe76e259a1f98d44e81fb082912492e5f95143400e6a95bf562f022100a3a487ee760fc18cc71c4551b03559b7135c5b6e52bfac140b953284b7229ce6
# brainpoolP320r1 (named_curve, compressed public point)
# Random Sig: 30540228096fcaaf181cc3aeaf4b96727cde9921793583b1008a75702ece4c605eab016623e9e872e6c94c4a0228737b143efd5bb132799ba14ef5372efbedd3ae345d1ac7b23f877333f9138119a35447e775e477fb
# Deterministic Sig: 3055022821a1d66b683068b536144f2982681ae610895c291653ae416cc57265fc91a86405416d7a8b6c11f102290096b177d5ccdf221e2f42e2eae4254ba4def2df870e097043f0e5a7652fce049bdf479922a3d9dafe
# brainpoolP320t1 (named_curve, compressed public point)
# Random Sig: 3055022900d2b61075f9a9a885153288455870bc9c01709c7d8f0aab7dae56351681a669be47e769b6e046b91d0228191e7262bb3a6e672c2920d7210b9c58af550aee064bf27b58e5b6e1e002e758b288e6b2af8946dc
# Deterministic Sig: 3055022857b9420a4386db69989289fde3b4a438830e823b5948f9ba5fde0d6ab49f2d7389986753bd9868c702290090bbe80c2bb1bf0474b9f5bb9f881528e8ed9ec56e23c297a736150f3d81083f4da89ff37b3c4e03
# brainpoolP384r1 (named_curve, compressed public point)
# Random Sig: 306402300ad8982982de2a71e0aa52dbe5c982df0cd02d34a954162bc825029206311f12dd261791108d2a8ca36cabbd179b73af023068df17d67f2295eee53bf4409a9ed51f29dc31f6f412ab26b8f148c3d372b9bb9da37ff470e4f35061543ffa892ffbcf
# Deterministic Sig: 3065023051cdb7851322a8919739a6033c7386fbaa831935f420fa63295c823b221aac5901301e37adfe6ef0c9127f262d6709a60231008a79627d84a842ac4aa5ff89b5e6b34531753705aaec53393294695eb7d877971f8a534a9caeb05ce829ed3d505d23b4
# brainpoolP384t1 (named_curve, compressed public point)
# Random Sig: 3064023003ecace578ad8bd02fe3e1861853cd48ea191943212bb1a7d86aece056d5362b4d4b30396975bf545716c98b88e584d502306717a049fb3b005c2afe9078b5c06a54b23fe64298d641ad6ccbf886b1b8dfc89f6844882cebd2b547f0a6129d9748d7
# Deterministic Sig: 306402306e75be8808ad288fee1201d1fc83ed745a497852c5e119edb569a158e75a08101ddb6b17fba0a4599f334cfa046748e2023042a945d02dc5edff3b5c60b3a7cca35a486766a9bc9a13ef96bb0b712f5dafe52a8e0d2532649bc7a473a50c635a3a0e
# brainpoolP512r1 (named_curve, compressed public point)
# Random Sig: 30818402401f91742c03b1e213c6e0ddbfd134dd67b45633bbca7d86980d611ca1bb5b71dd3febf6371d26966490ed709f638623d758020be455df8f0589a83e2ed7dee9f9024052464f90363a9c2264559e60aec4689f36fb966feb255e9d5809b9a70c822e9a8fcf34fd92bd27f4625bc3b85df77d077b5cbd7146b92a709b38778ae1a57e60
# Deterministic Sig: 3081850241008030fb398c3c8f1a979ca1f1407c12e1b746d7c9395372b766baa260a2a12be6d500aef21adff163f9787a6c1e67c2415ac8aadc3c9da42e71ddb5249a20cbfc0240760853549d50592f11fc17ad5f570b7cb7234d534f513549b02e07242973864152a777875a0e8c6e7b6e78e64a7899afda7ee9868d56aa2484ce32914df5e068
# brainpoolP512t1 (named_curve, compressed public point)
# Random Sig: 308185024100998a3524f560af8dfeaa16da833647b2ee9d2eb3c542c96c5f9fe49fb762d820786844fb21055b7e6df5998fd3d621f9704f71d6b6ed0e3f75ce146f907c034a0240474960517ec0f4135ffa4b8d26e52c22f3c8293a0a82a40700db321cd3f3c0462020c89cbdbb0d3fdfc856a2b55c550815f6f9cbaee75b9cf6e9d61c71f387cd
# Deterministic Sig: 308185024079c5e6858872069414690ccf1e6607a016bfee13c0059279151f885aee4c27f449fcea33039bc1cdd9fdc29bea65a35d8b68ba734d39dedbf6cf5c566cff2f49024100a352936c41456a502e1724a5b95b1616ad69075d03210d61bcb29da8d1b3a5b3768fe29c7f4db66f86a05f9347b0c2768e6e7697f92d93d9afd39367b87f83c6
# c2pnb163v1 (named_curve, compressed public point)
# c2pnb163v2 (named_curve, compressed public point)
# c2pnb163v3 (named_curve, compressed public point)
# c2pnb176v1 (named_curve, compressed public point)
# c2pnb208w1 (named_curve, compressed public point)
# c2pnb272w1 (named_curve, compressed public point)
# c2pnb304w1 (named_curve, compressed public point)
# c2pnb368w1 (named_curve, compressed public point)
# c2tnb191v1 (named_curve, compressed public point)
# c2tnb191v2 (named_curve, compressed public point)
# c2tnb191v3 (named_curve, compressed public point)
# c2tnb239v1 (named_curve, compressed public point)
# c2tnb239v2 (named_curve, compressed public point)
# c2tnb239v3 (named_curve, compressed public point)
# c2tnb359v1 (named_curve, compressed public point)
# c2tnb431r1 (named_curve, compressed public point)
# prime192v1 (named_curve, compressed public point)
# Random Sig: 30360219008407131b2224c9b6670bba380533b416dd252c8e24b47a0f021900a882fa1fd7c1f875dee3fce3f299c379d370ba65841dfe83
# Deterministic Sig: 3036021900cb60417e6fc5140b978dc2fe21f1ee4d6a9b7038488caf97021900b65ad4c10f5d931d6089f79c2ad5c16e0738a9bd3980a7b8
# prime192v2 (named_curve, compressed public point)
# Random Sig: 303502182283cad91baa36735f13168f1f4b6a9880a9bd9f1484191e021900a30f764cfce710613f0abe329cc360697cc2ddf916bc46c4
# Deterministic Sig: 303602190088309ad646b52260e41ba86dbf4129a17863a75305d17f6b021900921489818429440eb152bccc363cb622ac864f7204a9b41a
# prime192v3 (named_curve, compressed public point)
# Random Sig: 3035021870cfef5941a63aece5f0cb3fe7cae9394f7450ef7173abe1021900d7ba8dc05c1bc72418a5e2647bb4040c594f5a9276553f3c
# Deterministic Sig: 3035021900b2623c84a17a39a30bc6a3d1f8d7c3291beadf0d0470cab60218718e7590b68be6571cb38d0a72f8137abd27930922a23346
# prime239v1 (named_curve, compressed public point)
# Random Sig: 3040021e3237895c5dd5a2c2f42fb55351b8bc968a122ec73c4b6e040b5a2c157f21021e46d8a2c2660d1af49a7020d2484c72454467f04d4dc79237d8bc052e1e7a
# Deterministic Sig: 3040021e214bdaf9e52af5bfefd30cca00bf1c2a72b02ac573dd21f1f56c5c151d35021e4aca8f153c30704411f0a45cb65f0ca42b52bc1bfb5a73b074d74e303ee6
# prime239v2 (named_curve, compressed public point)
# Random Sig: 3040021e12abec608f648dad0c0df07bb0c46c2f36fe80f26308c4e92df38074432b021e776c567763e647c193262955cf3dd7e2c0ac2be72070d21ac9e9f1ed4ced
# Deterministic Sig: 3040021e6167047a987c93b89ab648af7334d354e9265c55fa04dec4d4050afe9e50021e5dcbf6e80742c02fc26fbf98f3411e67187d9c64f6175d184f229b173354
# prime239v3 (named_curve, compressed public point)
# Random Sig: 3040021e35596cfeb91d4db756c5650e2c57076b7db3914efb8ac09e7cc0b96a7ddf021e654a58edc09a9fd37380b992460a59509524aefd6610c6d075913cf9b563
# Deterministic Sig: 3040021e51fb8eb802fa58471aa70ddf1f9d6e2ed8142f8a2a27c13c61396c3acbeb021e350e3e2142aa03e73d563efd25eb31f1f8c54ae4a2fee787bb541f6f4d39
# prime256v1 (named_curve, compressed public point)
# Random Sig: 3045022100db62db17ede4941b30eb7b58ff4fd7eefc15566607e828e41855efdb3c0c314d02205aefc90041d9d33dd40895ff8fbef8aa9027c7a14d660c0c9dfb3a659eb593bd
# Deterministic Sig: 3045022100a13ef0273d3d19cd88b2d214fc87321f925af89948c3554a119959be2d8217f802207528607f4303cf7ccaef1723fa026532bee226549362cbdb18da819438f4c705
# secp112r1 (named_curve, compressed public point)
# secp112r2 (named_curve, compressed public point)
# secp128r1 (named_curve, compressed public point)
# secp128r2 (named_curve, compressed public point)
# secp160k1 (named_curve, compressed public point)
# Random Sig: 302d0215008782a0d8cf8eb78bbf9b7ed43183f1d6b3e1355402146686a17dd2e726426cf78f2d6b0fee8cf648e9bc
# Deterministic Sig: 302d0215009b7d9654fc8ac4aa8104f556c49c522004769bc7021441f4d7c6dda473e8081a075589161eab11c7e973
# secp160r1 (named_curve, compressed public point)
# Random Sig: 302d0214164c38eef389b6f7b8207da103f2a5217ae66f0202150097741217ad7f91b862fbdd8657f46fdbb98a6752
# Deterministic Sig: 302d021454342183f030fca608f61899556a109801616c4e021500d399954df61d319d105da88d9c7be72891e1c4f2
# secp160r2 (named_curve, compressed public point)
# Random Sig: 302e021500de81a4cf9c3807e6724eaae4bd97e7e60974b07f021500e22497917ef5b0ea2976611adfdbe57e54e1854c
# Deterministic Sig: 302e021500e1f47be38765c250daa773caf7a58e946934bf29021500f81670e13056ff722fbae7102bfce28d726f87aa
# secp192k1 (named_curve, compressed public point)
# Random Sig: 303402186dc7a07218891e1e46aa94381a5b6e3c0606f2d77ac76dc7021862bff15a992d100cb9246c520dbf75b8d790ea3d2e5f4695
# Deterministic Sig: 3035021900ca97c7d3fe306e36a1a7bb2d408e356083aab19c7257e5e502180644482fc10d61efd9167aa7930943a46f570b486c0acf9a
# secp224k1 (named_curve, compressed public point)
# Random Sig: 303e021d00c2e17032e0e5bcaa2d3ba68623fa40ff2e584ca18ef455d721bef137021d00f8447374e4601b95922fb1188240e0d2cb2afe0631d1cdc04f0028cd
# Deterministic Sig: 303d021c50d01beb78906e63b9ceba1361e1f385f3acb8f379fb58ce07cbb325021d00e04e68d1c8fbfc8d9620416db584daa2419f6e385966f887a2d38a37
# secp224r1 (named_curve, compressed public point)
# Random Sig: 303c021c1cb488924fa5d4818e12fe7f7eb082d0c0b88313984bc829093cd466021c0dece154fce109738cb967e483ce8a9bfa94ec13dc3b9d44af2a2b66
# Deterministic Sig: 303c021c139fc2f3c5974aa4fa0879bc2a851c847181fe012821bf33548af20b021c769749b7492a820e69a1dadb90c3ce0001444e839bae34f2530e0d5d
# secp256k1 (named_curve, compressed public point)
# Random Sig: 3045022100a39970eaed834d3e2b2e8cb1ce5430d3ec0234f67ef47bbd52cb297d67e66b1a022035efb306d8ae5caf6cd88e91f2d7829189cc1937f1a765dafaaf8b73633666b7
# Deterministic Sig: 304602210090ff00613c5545d620d17f9c5e734b7cb8dca1981767a6649b0a18a6975ca938022100dae652664f5845d46890ad2029ccf63ab50f2b73a45c9a693e118135795d0ce3
# secp384r1 (named_curve, compressed public point)
# Random Sig: 306402306ce089cb93b41783690c5fc4cb672f3a8a2d65527c764c3136266d5776baea5d63cf1c80276aa50421695d83179b268702300faae8cf459e6976591b0ef4ff7a31d63d5844ed4cf72df9b989c84baa987d8de3f7e73b3de16cd3a24efb2270b57f5f
# Deterministic Sig: 3066023100d5ce76235d56184ac2d70e24160eb011859cc9347a0ca002e6dbc3ce562102a4f61b93045150bdb316432c24e0184e60023100973dddb722ff333fd2693728f8e5fbffad86161607c6c914a2c161bde2c20c7c4fe47ca7d4290d6701a6531b29269fcb
# secp521r1 (named_curve, compressed public point)
# Random Sig: 3081880242019ceae0a41732894cf75538cb10fd26235c25d60ec55529c010ba03ae47cddb02f84eb74e1d1f055fce347b214e5df73245ac5f665b32366b975c56d0c46fb85a2202420092abd6e250e1f680159aaaae87ba28f5d2f4cf9d6a10411cea4b1d6fc9a0fe5dd79727cf3419c697205d3dd47e7f548765ad1399b1420a91dd2c1d8caf5e48f2ab
# Deterministic Sig: 308188024201031dd5c48ba9623be1844d235386690e88e701beb548156913f29be87b1cda95cabecf22aa7dedc318214beea0b90c9df5e51880d63f2f023ffc6ccc6109e0d14802420154dd8ffd9f4aefeea758ad9077efd7b6793e9f01cfad50c5d0c2e8435b5ee7c1a6d1b5c057994155e3898558fa7a09ee01f9fba6ab56a8578ff741fef13925a4df
# sect113r1 (named_curve, compressed public point)
# sect113r2 (named_curve, compressed public point)
# sect131r1 (named_curve, compressed public point)
# sect131r2 (named_curve, compressed public point)
# sect163k1 (named_curve, compressed public point)
# sect163r1 (named_curve, compressed public point)
# sect163r2 (named_curve, compressed public point)
# sect193r1 (named_curve, compressed public point)
# sect193r2 (named_curve, compressed public point)
# sect233k1 (named_curve, compressed public point)
# sect233r1 (named_curve, compressed public point)
# sect239k1 (named_curve, compressed public point)
# sect283k1 (named_curve, compressed public point)
# sect283r1 (named_curve, compressed public point)
# sect409k1 (named_curve, compressed public point)
# sect409r1 (named_curve, compressed public point)
# sect571k1 (named_curve, compressed public point)
# sect571r1 (named_curve, compressed public point)
# wap-wsg-idm-ecid-wtls1 (named_curve, compressed public point)
# wap-wsg-idm-ecid-wtls10 (named_curve, compressed public point)
# wap-wsg-idm-ecid-wtls11 (named_curve, compressed public point)
# wap-wsg-idm-ecid-wtls12 (named_curve, compressed public point)
# Random Sig: 303d021c176b49a4aefc8caecf6626ee9ef6f81907962e910433fe0d76db62b3021d00d9970b81db750ab80bf94437cdb833ccdcbb5d1fd8b87b1a7e4a91a6
# Deterministic Sig: 303d021c235e835d57dc07d02f8e326661bd59c8d920d7e9a313d227a7b1c590021d00b5037eaad7c99f0690b9f57d14dcfc9caab5ef6aac7615dee6393640
# wap-wsg-idm-ecid-wtls3 (named_curve, compressed public point)
# wap-wsg-idm-ecid-wtls4 (named_curve, compressed public point)
# wap-wsg-idm-ecid-wtls5 (named_curve, compressed public point)
# wap-wsg-idm-ecid-wtls6 (named_curve, compressed public point)
# wap-wsg-idm-ecid-wtls7 (named_curve, compressed public point)
# Random Sig: 302d02147a7aacb25add2cb3b4996a788d22278a3a7032ed02150080d704668042507fdce8d0381aec28bdc38bc55f
# Deterministic Sig: 302e0215009a5995f07e7b642f2d220f1256c59b7699c3d7c5021500c9d44c77f3d1b2c7e1e5da829523578dcdc59f64
# wap-wsg-idm-ecid-wtls8 (named_curve, compressed public point)
# wap-wsg-idm-ecid-wtls9 (named_curve, compressed public point)
# Random Sig: 302d021423c2a4d0c953c6eabbd0b0c4c9e1a5c1c5936997021500d097d1367457df944f8f9202f40ad6a0e7684a11
# Deterministic Sig: 302d021500fa1dc039bb55d910c0952e69114b0c3fed026c3e02141a751b0ed964fa1abcdfc41faead6b5d36cb3ba7
# brainpoolP160r1 (named_curve, uncompressed public point)
# Random Sig: 302d021500db87f3c626d9849a1eda87b14e0c45319dfdfd91021418600795bca871504e907d964c4888d9ce67f7b9
# Deterministic Sig: 302d02145f3fae102480355a6abd7e89ec1b0b1272d321cc021500b83500067f4a6c05bc8a69612a6c7bc461b418fd
# brainpoolP160t1 (named_curve, uncompressed public point)
# Random Sig: 302d021500cce2b94b98e107f4af5d02bc91f1910727440f0502146a22f93fe587a9e8d706946d0d65dc22dc195a19
# Deterministic Sig: 302c02143d3332367e1a8f5b30d1c746d2f91d079cea3355021476f87be8842efdf9dba1ee796833ac9690be454f
# brainpoolP192r1 (named_curve, uncompressed public point)
# Random Sig: 303502186201df57c36c123ebca60fdc30de6ea6d3defbd80d76b523021900b20d737e97b398a2de561f04d4a8994cba9fba37ea606d60
# Deterministic Sig: 3034021839ea492c45297d0bbe8100d91a165a594929269e549d67410218739bfe93df01be9c7242473ad2ab20e299461c93e70a80ee
# brainpoolP192t1 (named_curve, uncompressed public point)
# Random Sig: 3036021900b4ba3ce06febe95ce32c04d4e005659705fa74b20cb7dadc021900a807c0deabe5dc9673d962c2694236af4ead9763d6f4c2a8
# Deterministic Sig: 3036021900ae63d69af5efa3fc79b69d49696b3608dff322a3576a8cab021900811c8cbe9d747fee1747b46e3885cd523c5fc6fdd07e476a
# brainpoolP224r1 (named_curve, uncompressed public point)
# Random Sig: 303c021c51b88153d162f3150d6b5701f1f279bba7aa98f2ce90f40692309862021c25d96cfd74a10638612c4790c69d168685862fa428ef5a1591eaf6e7
# Deterministic Sig: 303d021c1ee1d3730c8c03d1ce33f3878a7a66ee7f59850655614001d218fbeb021d00bfeb5ca489625a57413ece87b3262911a17b04f498fe6264ae2d5962
# brainpoolP224t1 (named_curve, uncompressed public point)
# Random Sig: 303d021d009300e60aae708e21cb6c31c625219b26c527610c98ef639cdc58e12a021c5ef950fef98968fe6ef4ff1c207d475c8de52c752cc619a83a07d9fb
# Deterministic Sig: 303d021d0097a2e7b766a9c48b0dbc56971915dd5f96aa4b54718b7f62c331800e021c1fe803f899cd9844e84e4293f1af2f486087dd3251296389b847db1c
# brainpoolP256r1 (named_curve, uncompressed public point)
# Random Sig: 3044022068985edface5a1bd5aadfc33adbcf1039156a2d80ee3afe98d71139a17e10f300220577651fbaf99fee545a029b0880702c6b7750b9f53268d4443dc7825dbd6a370
# Deterministic Sig: 3045022045475bb1fd81dbe58762e08eaf26fed894219b091f4440779b924ea4aa71f4ec02210086affc9abf0cdd1a9aa206d03da0026fb2ea0ec92e3f3b1bc15aab547961544e
# brainpoolP256t1 (named_curve, uncompressed public point)
# Random Sig: 304402202f58874ab3d312e2d5670dc866b3a2bbbd5e7837a9a1ee8131ea9644ff49d6970220149eb9dc66b015b60d41b3c33e291a83db8f429a02d52a39ce8566183a48e219
# Deterministic Sig: 304402207b04d119a52f423ae422de360adb9cb3aaed444bec80377dadd68a400bfc7ff1022048e91192be1dbb6746ed7136ba733378e64e22bd105c07518e31ad8d61648a92
# brainpoolP320r1 (named_curve, uncompressed public point)
# Random Sig: 305502287627a083d1ff2727915d465713e756ccfe5eed55038d82297f6b07c9958b99851fed765ba52babef0229009b20963265b818e12490c5e210c54467806d7aed5f04883e8ecb0dd9ce77a2b0e950b942b168fcc9
# Deterministic Sig: 305402283d959b979f11eba2eb998cea846c73c43320546ebda5dc663ad759894c22eb46613a35fe892a6d5902283531b304fc0dbb124b7bfb48ebb8fd57915edd2bb409079e366f256156bdbea500799dd6a7961678
# brainpoolP320t1 (named_curve, uncompressed public point)
# Random Sig: 305502284f08a910fc465fc8af1151d548e849bd68f7aba7db39b5644e26ac93f638a1767b85f8e53c237c0f02290099a5b25125aaa6b8723734cb0980b24bc022f9299875f8879bf42cb0d1e9fe24f338d9f4c450a452
# Deterministic Sig: 3054022834f777a16aaa4bec55a3eed41d7073fbab15844fb0dce04ca20a8bf4d5e273b8582c88ceaa1525d4022803c9e4a40fd65f86ab1720ba9da307091bf30156e994ee93f94059bdb74c75cbb7637509f2ac2e10
# brainpoolP384r1 (named_curve, uncompressed public point)
# Random Sig: 306402304e1ede0bbaa8e7207eaf9d9c17b3a7fc8e8566265d7009e6bf0f05da30ec3aacc15e9d8951460dc648ce737e91672aaf0230163d5b4196d960091d929149d9998b42cc961a743c422183fd13d84c46ab4be7db8880b8dc414e9403f9928ba8a5f606
# Deterministic Sig: 306402307775dda7fd1374fa1c315c35712baa0245fc4836372a57952b277c964c5a613a58a21a445e5effb74bc65c23b963516e023065b524f62e4005867c96313fb270223ccf4354ed998e958ecdca9c15c4ce4f417d5d2505ca1e74a985681070df6c6cf6
# brainpoolP384t1 (named_curve, uncompressed public point)
# Random Sig: 306402302a2b31a418ecd0f0a2ccf843104ea2647911f761d827d85cd3c204939c957545b9971f78fca74695f426ee4cc029d681023017e8a70b13593a388ad941446842aaaa2898ac15411eb3856cfaf2b5ea57ee9135092cd2ac2f79a3a8e82bffb23efbe8
# Deterministic Sig: 306402302d021605e175bfd6d4ac644290a3acb54c7e86dfe77ccd756a7788f2154920cf6f97aabeadda22b212744e7c4c472c8202304a9d25ef23521e311bd678ceda1efb100817b3fdbf63a3c3d513bafa40dcbd5559342b640f5133347b7894b3468dd27d
# brainpoolP512r1 (named_curve, uncompressed public point)
# Random Sig: 3081850241008bd02634d8b3c8aacb7e96971f5b53317f29af5796bd17d16b6523410462d55bcd55eb99b31b06b76e68c749b8c38712711a9f9ef29f4141d4938da5b8002ae902403c7a6fc35b901f5aa9ab852b344593c5b749c65b57aa08945175839112a72c72ece32d6a3fcfd03eb577ea4bade38c26d865f5a503f800420d721dbe75efd999
# Deterministic Sig: 308184024004dc284360dc1a45e589adeff28c5af37ffcb9a65368775105cc8ae4f8967f989a778fd7ecdf8028ae55ea4f09440237a7468a87b087d28680ba5823b6f60ee502406237982bd30d8cae2acf3b10fc8971b1c214999f7e470a4c68487079b36b187eb4475fb09af4778ca0fb4216c18da76720c7991453c2687aad2bfdb58e5bace5
# brainpoolP512t1 (named_curve, uncompressed public point)
# Random Sig: 30818402406943f57d1d8a5f7bf5d26352cf67fe59192d42378028f2a5185866ddbbb8299c5b754e4614aa3a3a1c23bdc3f52fd3791b236ebed79ccc367a5edac1cb57647d02405056d0af3f01ca392cb304d3984dc49bc07f1bd6b7704db6f7b10b9aaea1dd3b4d71dfd0a1ab033bf7df63e7fc46112a4e26aaedcd7787b4944677ca8e667e29
# Deterministic Sig: 3081840240247316affaafa6893d685b5e6d30c927295ef7ae4c51c0cf64f383fd7e036fd4deaaeb8300806c524daa9bf742bc1c8c1392e719e3aaddc1bbe2704a9dcaa58c024058249d8c6c1d4ec0e7f128bcc831c9731f7459e51e7864d4639cf91f9a55a2feb57d444e5329392a18ca9753d59ed405c2fb18cb060a17c50aeb76b7d2d51280
# c2pnb163v1 (named_curve, uncompressed public point)
# c2pnb163v2 (named_curve, uncompressed public point)
# c2pnb163v3 (named_curve, uncompressed public point)
# c2pnb176v1 (named_curve, uncompressed public point)
# c2pnb208w1 (named_curve, uncompressed public point)
# c2pnb272w1 (named_curve, uncompressed public point)
# c2pnb304w1 (named_curve, uncompressed public point)
# c2pnb368w1 (named_curve, uncompressed public point)
# c2tnb191v1 (named_curve, uncompressed public point)
# c2tnb191v2 (named_curve, uncompressed public point)
# c2tnb191v3 (named_curve, uncompressed public point)
# c2tnb239v1 (named_curve, uncompressed public point)
# c2tnb239v2 (named_curve, uncompressed public point)
# c2tnb239v3 (named_curve, uncompressed public point)
# c2tnb359v1 (named_curve, uncompressed public point)
# c2tnb431r1 (named_curve, uncompressed public point)
# prime192v1 (named_curve, uncompressed public point)
# Random Sig: 303502187c14ba4df50c4d1a29c26463d56df4260f7c3dc4689b0da4021900860f4068f2ada8d93aba8a5fe23309570781cda4e9d39d1b
# Deterministic Sig: 30360219009d4e79b59a3903740d33b1093ff6fb0f7263a5ffbe5e9f53021900bb58f14b929175456e4c7ce2d1555bde1579bedd69150d0d
# prime192v2 (named_curve, uncompressed public point)
# Random Sig: 303502187f04ed4376e5c1f406f847e2cde7c6bb580ee9b353a4e3ff021900830f4dedb8d3f4d44cb1141b6a968b510248cf39821c71f1
# Deterministic Sig: 3035021900d2871e61ea4ae1155df09cedbf022be5b50c731f8dd82c0702184e92e4307846c76de6030ffd892f76aef99d4a9d0290c1cb
# prime192v3 (named_curve, uncompressed public point)
# Random Sig: 303402180113b0f7c95a75383eee737986e65b2c7ca966b6869f644a0218525d549c74ceba41e5ea73555f1577d682e739a01c9d2822
# Deterministic Sig: 3036021900b5fdffaaa94143ebb2d3c6ad3c25d992650f8e23a181e052021900ed40de6267617de32784799b47ac165c385846d67f40fe42
# prime239v1 (named_curve, uncompressed public point)
# Random Sig: 3040021e7212ec6dce912bd968d31f761c78d3950b29a7ee1982dde4715e9d653f38021e3acf423cf244a10feaf25ea274136133bb1d269090f99200416a456d0349
# Deterministic Sig: 3040021e3dfd1e18b2593779d92711e553e23fdc400a88d5cb7f876e0848381920d7021e174262afc6c96505a6a1f5e88fe76729c7a4d9233b5a86c1af67781cbc35
# prime239v2 (named_curve, uncompressed public point)
# Random Sig: 3040021e224179fc7247678c11211d024a0491cac33eab5f09d0dd1c457c3e74008d021e233b25eaa1b17b20cd4b0bceeefabf3f5e33fff4f4d508f1ab52b669b989
# Deterministic Sig: 3040021e191a5ff41bb68e837d11077464cde12f17d9345ce0e7068a5d13bef7bd7e021e496bdefc69dd42e63281432acff1760731cde21e01660a2101765ab28817
# prime239v3 (named_curve, uncompressed public point)
# Random Sig: 3040021e604c5d5c8bd47774145944b676109c3f7334378a05684d83a2c6679ec605021e518c1ad4a491e817a99af9f149732ae9ce1a4ee67d7add1a275de5c862b1
# Deterministic Sig: 3040021e655b4ea9f0a1e975fb737a6a899a3982eebd8eba79073114193704911355021e34464e6a9ee473ed7db21ca2f1cb2b75651e4f9c2a1dc1fc353736445780
# prime256v1 (named_curve, uncompressed public point)
# Random Sig: 3045022100ca66e52e728ae90768628f6023c0faa08f51cda31975bc6b9a2f85c537aca30f0220245ae1522cf4b04cce426ed7baa27f5556e7264530b7a2e6f4b0f98625d1cc94
# Deterministic Sig: 304402206dcb67e97635b8b7ba4fb02759b538845aafa601e85db6c65aad22d6a3cff3f60220247c464b5fd69007731594e61c725f7d3871b1c543c99f3c670d398df44f1120
# secp112r1 (named_curve, uncompressed public point)
# secp112r2 (named_curve, uncompressed public point)
# secp128r1 (named_curve, uncompressed public point)
# secp128r2 (named_curve, uncompressed public point)
# secp160k1 (named_curve, uncompressed public point)
# Random Sig: 302e021500f16718643c46856c7ea2d141579688b5bc94b138021500de3fa1fb36b860161c8009247e66a4edf84d1dd3
# Deterministic Sig: 302e021500d2406421e0253e4d6969c412e8c59acb4cbc2940021500faeba1c38bbdc68d56151e58f1952d464686e72c
# secp160r1 (named_curve, uncompressed public point)
# Random Sig: 302d021474490ae22923bf82359db31d82304dd8d05f09e2021500b0c848c73e782ba18940241a9ed82ad25201b623
# Deterministic Sig: 302e0215008f72c13e6552acf86115b8832dc509f4ba0defaf021500877222e90dc1f1d3d9e87178f135127949eda850
# secp160r2 (named_curve, uncompressed public point)
# Random Sig: 302d02150098c1287a4866f54c6e856527e848830462e5dbcf021425507c6f3123559bbddc4a02aad2afead83d3ea8
# Deterministic Sig: 302e021500ca17cc5eca337de9db87e06a45a39d4584c7dff3021500cc8a1e03b8d5344f61a5afd852bcd9ee178914fd
# secp192k1 (named_curve, uncompressed public point)
# Random Sig: 30340218486c62945b4f4ab224469ddcae7362419550a9d988f02d7f021806d10f284208c1d58f8ccb2c64616b91ffe33e59f99f7b48
# Deterministic Sig: 30360219008f5473f6a8415d3c2f57a428190ef4cce6537fe6a705a3f2021900d9d8f281cf3ad177ebf12d2d57bce24b536b7e88137f4f98
# secp224k1 (named_curve, uncompressed public point)
# Random Sig: 303e021d00b1e563cd0bc7bbc293aa747e2b807ef219e78c7769b7715d391fc17e021d00de948c7d454a0048194809815aa7ee591f1b8c785806d9a9c7150856
# Deterministic Sig: 303d021d00acb39d1a7c280198c2cc5c48f28e22994edaf2cb4d30f907217d1823021c60e8b8a9c70ac2e727495c5709007beb5dc7ab8580d4bc9a19792c09
# secp224r1 (named_curve, uncompressed public point)
# Random Sig: 303e021d00d4d3caad4442b6d98ec768084c0bc6bb2f748323890ba466574c5972021d00a651f6245c8f34ef40d4e6729a3134a05ed2178889f69d40a85429ad
# Deterministic Sig: 303e021d00e272f737af20075e1e85966e8fab8f41d84a50879009b3a8831db1fd021d00f1ed28328d0c8c0fff6887c51b91d18e858af518493c1f76774ce689
# secp256k1 (named_curve, uncompressed public point)
# Random Sig: 30450221009755d685d06e5a573f3ec8dc0f727b91f2a8f991ab71ea7b534a67d6f1ec2632022060ca66daa1c1a5ff4147113184bcf7ac77ebd3988fcf420c63688ee69b4d2fea
# Deterministic Sig: 3046022100c06da791e3f0e2e2e3f22fdc20e7d5a001bf05c1457a359b8b44ac804c681775022100cd7435da3b7927e897329d00824523af4babdd01739780c9b3864f7ee25fb982
# secp384r1 (named_curve, uncompressed public point)
# Random Sig: 3066023100dd5d4f4f107d452ca0d7c1adf5d94736faa92736ed83142a63253047240cf5af9983a1ca7c11a2f3132392d8ec527d2e023100ea9f525f3643eb6d92d38020e360b6db2fc7c1378dbc0f024fa2ef5c2e78665e43d9da875b491a478d6c8fa38eff8e8e
# Deterministic Sig: 30650230227b2475ea5dfe99740e0ec7f9b5dd1dc352cb7fcffc409c9436c82631e07f4681f3d8f582f48a5578ab62e1c7c965ce023100ce28b70f4c77a82d0a200c93a298d07ff404858195a8e8c1eef1185fc10d778c58d474902dfa5b0292d9fab6d2cb50e0
# secp521r1 (named_curve, uncompressed public point)
# Random Sig: 3081880242018dbd1de4248dd1c5bffc0f63bb0a60703165c44bf6be1eb972d91e0d9d6afeca4f8ab4bd5ddf4eda9f0665c00d28a4a9cfd3d24ecb4a210255df173db50a823327024201058d75ba06907d283d58a12dabd10b2ac09e0c5ecdf95ed25021e5b883be5acdde247a211da3f311cd1d954d51e50714d49791612bb38389ff89c6ea50bfa00d52
# Deterministic Sig: 30818702410d94a4c9dac4b191d4382751288e953b87658620073a44a1972169a79274cc154b469bf4ca75fdcf9c3b79d27473f6d39daa7765692be90a86f2a20740954a7231024200b087bff6899b487f82d506349d177d7b3e6b392f398d3953f6aa48247df4a90c6af370311003968d0fe970da4cbff790609009a8ea41886403d68bc3eeec0ef3c9
# sect113r1 (named_curve, uncompressed public point)
# sect113r2 (named_curve, uncompressed public point)
# sect131r1 (named_curve, uncompressed public point)
# sect131r2 (named_curve, uncompressed public point)
# sect163k1 (named_curve, uncompressed public point)
# sect163r1 (named_curve, uncompressed public point)
# sect163r2 (named_curve, uncompressed public point)
# sect193r1 (named_curve, uncompressed public point)
# sect193r2 (named_curve, uncompressed public point)
# sect233k1 (named_curve, uncompressed public point)
# sect233r1 (named_curve, uncompressed public point)
# sect239k1 (named_curve, uncompressed public point)
# sect283k1 (named_curve, uncompressed public point)
# sect283r1 (named_curve, uncompressed public point)
# sect409k1 (named_curve, uncompressed public point)
# sect409r1 (named_curve, uncompressed public point)
# sect571k1 (named_curve, uncompressed public point)
# sect571r1 (named_curve, uncompressed public point)
# wap-wsg-idm-ecid-wtls1 (named_curve, uncompressed public point)
# wap-wsg-idm-ecid-wtls10 (named_curve, uncompressed public point)
# wap-wsg-idm-ecid-wtls11 (named_curve, uncompressed public point)
# wap-wsg-idm-ecid-wtls12 (named_curve, uncompressed public point)
# Random Sig: 303e021d00886d562e60701a3bd5e35ef21545bedb4fe0460464e86be2f05fccba021d00d9cb7610a675010107f0540cc6e57dc5c76746a3272c9b3f1e21451e
# Deterministic Sig: 303d021c67e2c0087d805a299531e364e4427f07759409abc429a497c46e8e01021d00cc45666cc974b9f545283628c990e2c52b71cd5400c22bf6aa3426f3
# wap-wsg-idm-ecid-wtls3 (named_curve, uncompressed public point)
# wap-wsg-idm-ecid-wtls4 (named_curve, uncompressed public point)
# wap-wsg-idm-ecid-wtls5 (named_curve, uncompressed public point)
# wap-wsg-idm-ecid-wtls6 (named_curve, uncompressed public point)
# wap-wsg-idm-ecid-wtls7 (named_curve, uncompressed public point)
# Random Sig: 302d021500cbd887d23311055b08e3563f053732b13fbc4e22021479e84a93de9de7a3bf63a5597b368a75c1fbdc5a
# Deterministic Sig: 302e0215008fab2d0359e9de4393b7ee606cc2de168ed66fd302150080aea222d505743a57104302a56fb2429ec928cd
# wap-wsg-idm-ecid-wtls8 (named_curve, uncompressed public point)
# wap-wsg-idm-ecid-wtls9 (named_curve, uncompressed public point)
# Random Sig: 302e0215009086344d13d54c6deadd5408a48006e82986c445021500d3500d0bd045c03c292bc79101bd5cc1db46331a
# Deterministic Sig: 302e021500b92645a038b370376b89434a030778c040fd0fb4021500a2b6ac085f9e9ff9715684d98fb333eadcdcc581
# brainpoolP160r1 (named_curve, hybrid public point)
# Random Sig: 302e021500ad9aafb1e0ac2bfea2edc309e41db2e2400bcb73021500b0251cd0bb578bd9e0c62f81fe67114feb2182eb
# Deterministic Sig: 302c02145a5ae2c3cfe5828aa7609e7caf9e24219ac88a9a0214243049171cf7846dd69a087e0ac6cec8fa7f11d9
# brainpoolP160t1 (named_curve, hybrid public point)
# Random Sig: 302c02143aa70230a028e9bc2477b23ce01bde1c506b526c02143ddf3dbd5e9ccd57c3fd53692320cabdf4ea2f11
# Deterministic Sig: 302d021500c40202933078e262dee4b285f4f1b45cc7f3c9d1021477eeb5355d096e6409b24541adebf8619c95328f
# brainpoolP192r1 (named_curve, hybrid public point)
# Random Sig: 303502184220895504e03e87e210d69cb919c29e3397b2d8283300af021900bdd3bc07f37e629c7ffc83f1e30b7c0bdb4714ea571d0ab1
# Deterministic Sig: 303502181411b15caab61e9695279733bcaf9808edbb9ecd2790ed330219009811c5b6224892123d3fc15f881d6cca9bd5e418b7f96353
# brainpoolP192t1 (named_curve, hybrid public point)
# Random Sig: 303402182ef30afe4a58006e196d559c892eca4d7f079c81d2e818180218578a9d4334a70f43f5a58db91ac831bde549a0f67855a5ab
# Deterministic Sig: 3035021900a57cacb247afbb585f7d9c5ce7dab475ab4f721474bf49c502185935355d295bc689a9b27024e131146aab96d6756c17a8e3
# brainpoolP224r1 (named_curve, hybrid public point)
# Random Sig: 303c021c5f233fd83da05329a8d7ae8c5934178b312e4eb3ac140abddda8a310021c3827f75cf9eb19d2fb6c218921e6a228e4beb7cb7acd3bf5acd2ab99
# Deterministic Sig: 303c021c0e349e08c3119c7093a00e4daebbf31f3a7fb769961cdd68a7a8bcd3021c1552a1fa9e645e833af9ccba1d07d58586b2d12a8db831db9ce05167
# brainpoolP224t1 (named_curve, hybrid public point)
# Random Sig: 303e021d00883b230eaad4d43c3ef4e6d03f775d10ea56f445704e37b5230e6578021d00c9540a1e60e3c1da379b62aa872ee99749c6cad05991957a5afb7616
# Deterministic Sig: 303d021d00c3e57d33ebe368d53069ae5119d07128c85f31cf502c8f55c435af42021c27cbd6edce53e3f3f4c59e25c2534199867a965d343694a024dd9ec3
# brainpoolP256r1 (named_curve, hybrid public point)
# Random Sig: 30440220372a310019d4b84e36db82f22538e2dd44eeb697ed2267d991c131c91cd0a51e02207a72f242ef75283b9605ddf07c89dce44ac2d2a6dae79161c435ee6f37ad0452
# Deterministic Sig: 3045022023ef74d744bb2e5fe3568f04721b04a24d0cc497919b7e140cedba1c4f687fb10221009a21ef160beefbbe5de2b459593db8c95a975bd3bde02c8b09d4459dfe71998d
# brainpoolP256t1 (named_curve, hybrid public point)
# Random Sig: 304502203eb1700081d9b3c90fd0f28fa8335516ca5b062929903782fa42b867888575e902210085a38304537c1740cf7bafe26bbe111b6b681461c804ec39e2383cc8dfef8ace
# Deterministic Sig: 304402202bacbcd1a397ac7d933841ee1fc0328fff38157ec1dc29a15a99ac57c677233b022061d3667e099c26a0d246599101701b47ec4a98d9dfc86bec8ecf59d0e0787578
# brainpoolP320r1 (named_curve, hybrid public point)
# Random Sig: 3056022900c231a3194907da56ea9fb3fe635e21761e7f316fe9143b59f613e2dd21527571a31a7feb7efb6d97022900aae2c67337aa6dfa23ee32219c653684680f28ffa5f9d6b8ed74118e7529cfdbed534a65bbac65b0
# Deterministic Sig: 3055022900c7b56ee2a9d8a036805b48eaff2a4bbadf5c08719cb92ac1cf5482fb75770082358bc99b428c9774022851d40c5fdb70d809d3ad061cbe2e7759619939d232cbd52578c078d370f454d82d08402f709e9e21
# brainpoolP320t1 (named_curve, hybrid public point)
# Random Sig: 305502285dc00dddc117d504697d610bfe9e88303c4236c14a19aa20c3cc58e2a6a98627a7bfcfa24586810e02290098b41db45bc800f4270e8fc30a9bef97b97da735e3dccbb76df9d52d125b563899dfcabaffe36d7f
# Deterministic Sig: 305502282763c9ff010efb84e18543602c66aaf4772a229dbfe816daa61195e525f4b4fe62ea5a8b92845056022900bf2eb45756566e3b4deb33e1431c19760c46d5cc0d3f6c2cbe000595a472764e2ec93c9eedd3e9e1
# brainpoolP384r1 (named_curve, hybrid public point)
# Random Sig: 3064023054cbc051492ff302bb7f84101bc82341d9a87b73db83d44cf54df5d958d4ada89436285ab9f42e4be5057d9f633ad2c802303242903fdd21309cab3351d97855cb50bad3a8debfdc478a007bcd03bd48c9fd7a227e9356ac314bbbf8782669a58e16
# Deterministic Sig: 306402304210667c90e9b41627531c927bf75137cff49e416a25e7c90c5bb1e763d90fdaaa5f6909894fd2ae5b455617bbd87321023022b8b827dc980f8e857ee8e369d336e836d7d583a5851d077ca194dd69d55d7aab96e755a15258ec8a4abc0dc5424967
# brainpoolP384t1 (named_curve, hybrid public point)
# Random Sig: 306402307fc4dd227eec1b9f54efd7d85e96e422187a14c770c922d7f103b7d586a5f361124c97373bf57a7dd7043a71f97ac52f02304194fb087d1a1e6be2b724081b36f61574b91ae5bd4a631fceb3d07b5a1522a099e5159dc2147adbdb66d7c4f844c27d
# Deterministic Sig: 306402301130e413cc85fcc998001fd40068b403fe1c45c97a0075084b68ef59aa3701d337e4cbf1b779c058c6233d96881cbcbe02306a97303f2b8891dab6f03dbbbe801d7c1f85c0ec99d5754c1ee2d72f2a605b9271edb6c521e8f3ab03ee830352988e60
# brainpoolP512r1 (named_curve, hybrid public point)
# Random Sig: 3081850241008a7bd4c9cbd88843ee3cda444239d9289c0ff1d3e6649ef0ac6aafcdadd1d8b041c0f4f3f5a1f31198e4b040200002809aba06c4de1625eafb8e357b9432045b02400fe127d8065830239e6d5dc34a8473de3eaed650ea662a7798aed4f61e004374b6f49ba6d5b59e29387bf1053d72860317478700cb62d784fa19fa85dbe31875
# Deterministic Sig: 30818502406a80da0e9bd8c645932df85c7bb555085bc658704551a9c8d681ac1c75311215797a2cdc288230a2eb0eeaefe4e68aa5febb66cf63299a6decb6cc2d5fcc6b4d024100817f0156af5253b9022e8b738b683d812bc8c9bb5aff8a31fffaca8942390516f525e978643006dd631960606c26a2ed6fcc9313cd76aec539149c961976f356
# brainpoolP512t1 (named_curve, hybrid public point)
# Random Sig: 308184024066fc0427bf34b71d468538f844e59ad1e57a1daf39f0e93fc6274a6583a252da918dde319f1de949ffb271dd1f62dc35392d1f53b56626dc1b2d19c3919761700240088fa6ce7dc6d3cabbe3d0fad714e8823e5117a5351b061d2e0aad6ed58201dcd3eb5235844ab0acc38607e38b4155687aa657821af227e2a6b50d87bd32e70a
# Deterministic Sig: 308184024064ea9e4f66a2a505b28ae2605b262d2254e471aa49a39b76d4eb0b65b9deaffcbf32e32866e60dff36ec767d978815285456e3b3be6c3bdeea8b707fcf56eded024003ade3d91efc0eb922f048087f192deec57b1497490a0d622a8781b47d1ec206fd5721c1e627734900d8a56c4b6f56df0bc5a9ab2174d2b3ea910e2ba966e9b5
# c2pnb163v1 (named_curve, hybrid public point)
# c2pnb163v2 (named_curve, hybrid public point)
# c2pnb163v3 (named_curve, hybrid public point)
# c2pnb176v1 (named_curve, hybrid public point)
# c2pnb208w1 (named_curve, hybrid public point)
# c2pnb272w1 (named_curve, hybrid public point)
# c2pnb304w1 (named_curve, hybrid public point)
# c2pnb368w1 (named_curve, hybrid public point)
# c2tnb191v1 (named_curve, hybrid public point)
# c2tnb191v2 (named_curve, hybrid public point)
# c2tnb191v3 (named_curve, hybrid public point)
# c2tnb239v1 (named_curve, hybrid public point)
# c2tnb239v2 (named_curve, hybrid public point)
# c2tnb239v3 (named_curve, hybrid public point)
# c2tnb359v1 (named_curve, hybrid public point)
# c2tnb431r1 (named_curve, hybrid public point)
# prime192v1 (named_curve, hybrid public point)
# Random Sig: 3036021900e59c101b2bfd451b04406f2d1d42318997be6b08cf85f49d021900cf2dcfab8074418db0808082970d26bb77f7e99afe6a47f9
# Deterministic Sig: 3035021855beb4a4bf6779209528514d7a9487346fc8d138df00ada7021900ebb0c9ddfa99d4c14e12c165e9b471109c60af3fbc2101d6
# prime192v2 (named_curve, hybrid public point)
# Random Sig: 30340218140ea906a807faaa095b1432e256b159ad64a03f6dcde73c021808f3c0b113354827cfd9f6b671c7e9dd8cffe016b6254861
# Deterministic Sig: 3036021900d80de0b2892cf78dd57a6d16cad450e5c623993cd8e0747b0219008c0a4e03740cea97343837308d30f00a0ff5f9a63829fbe9
# prime192v3 (named_curve, hybrid public point)
# Random Sig: 3034021808ff290ebc97b397219ae4987fc677e4de0ea8d39832762802185c0125797cf99a85792e13fca0daffc46d3288182363a912
# Deterministic Sig: 3036021900e6e8adc69be28b521062e6cc2e706d0b978c0645803d5c2c021900c722864af133da9acf3951061a3db2dd91bebb206d428042
# prime239v1 (named_curve, hybrid public point)
# Random Sig: 3040021e4c8286c7f2036c7c0b0b63c69120b955cb46bd4b2e9cefe004234e3d2ba2021e08484810c4a8fe69cf4fa41ec9c1e736e3d35e85717151deeb314bf35a39
# Deterministic Sig: 3040021e26130234d24789020bbdac93c9630fcc958c9580acdef6a0b9d23b382fe0021e5e3ff15e3086ae2cf3188de2a9a9b4dd0831d42766c394bb71b39d4b9eba
# prime239v2 (named_curve, hybrid public point)
# Random Sig: 3040021e04c58490542065490a40c8544601a7c4ed1b63a0dc91530506db695db3b6021e35832ae8546491c1be4e49d00aa268588744615c80b1fd24cf316e352045
# Deterministic Sig: 3040021e0a0be19ec2e5bb918579c2d15d7b355b888944f730cbac892f6e079c0a52021e20f8588823c28ce1dc6677069461eb52ea4824e358ba8bac840d3d7e59c9
# prime239v3 (named_curve, hybrid public point)
# Random Sig: 3040021e5dc7b7e798bdc49fabe264265c3fe428805fb9eecfe8bb4c90711cac9663021e2c0f818b5c93a26df8b229f26cec6cae5d615981356c2e7c080fb8c5eba8
# Deterministic Sig: 3040021e3e876cf4ce147c75109e418d08933ddfc8039fd0f33f2f256870510b21b6021e17b9151c667d041871e65746ee6ebbdf1f13a1ca52a96e314d5587e121d4
# prime256v1 (named_curve, hybrid public point)
# Random Sig: 304402201b3bda0f014e544ae94ac6fb37423f5fa8b14a855245571d871880181972bdee022030ae36cca83d0756cfb9f845ab76c1f27e6bafea32b65168816b93ad16a1629b
# Deterministic Sig: 304502206b8d84f0da67e7cdee1dc62d3667a799c844234507b0bc6d623b609aa1d84659022100d5ab3b78cbcf1ad7fc4ad0ebec4e08678b9a8a47f0b56a37c4ae825fc2efdd62
# secp112r1 (named_curve, hybrid public point)
# secp112r2 (named_curve, hybrid public point)
# secp128r1 (named_curve, hybrid public point)
# secp128r2 (named_curve, hybrid public point)
# secp160k1 (named_curve, hybrid public point)
# Random Sig: 302d021467dc2fe638ca49e85b6d843681c090ee6f30ffcb021500c5c68e6f0e0c06de66a446539bdd93aa1115894d
# Deterministic Sig: 302c021441314a6503a5c8a80f29b8b5169fff6275c272e00214252226b7c38b0c8a6f6e6bce4128581688040a72
# secp160r1 (named_curve, hybrid public point)
# Random Sig: 302c02142d22dbc182ef9e92575e8f422667fcb651f33921021462f1011f6165c98d2b64add03ba75177b41e4105
# Deterministic Sig: 302d0214038bdfff5987abf47c01bd0e5695e5a9f1b6232302150087e9ddd99ae618544d20a2f755ad7cb2f55aa92c
# secp160r2 (named_curve, hybrid public point)
# Random Sig: 302e021500e5a3a09e91fd71045d4ed0d10cdb03be143343470215009533fe934156fb048dc838cad68f53fa6ec34e9d
# Deterministic Sig: 302e021500ef5db31cddb358ef49e24c3c98e5f82f6d8f23ba021500d9f2970e33b04692c8e3ed14327de44f143a0d65
# secp192k1 (named_curve, hybrid public point)
# Random Sig: 3036021900d6f83206aabd964bc991a9e54165bbeb3f35448ad186b99d021900ab7dddaa93d74768162cd59d56283c61e7a9340e8739b666
# Deterministic Sig: 3034021816fb2594b8b9647c6805e89af70a663ea2a384478e2b849c02185522040a08740f5affe6feddf6bbe93ec4de02595ba02178
# secp224k1 (named_curve, hybrid public point)
# Random Sig: 303d021d00e63dcbd0674cd10f8571db5a9b2b33c0cde2b06949ef26863908b01e021c249d51ed472058541dbaa2fd5ee00aea7ba31dc070341ea7de7840d4
# Deterministic Sig: 303d021d00ddd6e8cc1b970270d75cdfb8d850cdb977af548ec786832932d67ad2021c3919ab0ed6dac5247c207af1b517e7829d5a84f9c0f4712bdc604b8b
# secp224r1 (named_curve, hybrid public point)
# Random Sig: 303d021c25cf380d9aa32ca74259411bdc5ab2ec7a0e2a3b46b22353bc2a6f7d021d00d06f373915904d12a7415851302c441d88b39cd018bbd50d2d3d24a6
# Deterministic Sig: 303e021d00e051e4805f8fa1efef28c8cbaad403eff27f4b95cab43ab98094ad25021d0093b0e7616794223777584d9ac6ca28bbf2a97a50b0a8276824e68e63
# secp256k1 (named_curve, hybrid public point)
# Random Sig: 304502203c87c295fb9bef2bc1ffd60fce3aa919a793a29fd26659da94670a893986457c022100ad09a9263bc6b7b666ec86853954f8aeca2a5406e3fe8087f8567bc0f771d088
# Deterministic Sig: 304502204af269fef9e900366218b829f04a799236b81b1fce3f4d886871a0160064719b022100ff0fdcc4ee5408cbea62d655d5ddcde1fc671f32f9cbd99ce01bebb9fb6e3e59
# secp384r1 (named_curve, hybrid public point)
# Random Sig: 306502300cfc43447f3bfcdda3391ca194cae7a4d6c30f4f634a3011f23ab0cd44a2744a9f2f9ec24327edbbb71389b8139211fa023100a520f71bfd6d01de68103896c82c93fe76c87104cacfe4b185b13897230fa96938df9abf12089c219d110aae9bbe2cb5
# Deterministic Sig: 306402305f74d42f3b3eb7cb30ca19ac4d76de99574d3e2cb7aab30417eb186df71f6a65a2e10651a1cb6070c4a9699b8037f43202301ca1f35d002bd7b6469a5fdfdc3e89fcf3e0d9fce570bfca3bd18f9e0ae0d4c17adfa8407e034c444437b66f8220bb85
# secp521r1 (named_curve, hybrid public point)
# Random Sig: 308188024201d968848e523350a9f7f9eb37c46335dd2791c0c64d34867042862af443f3c699e9acf2f86b34acc067f10fae5889d3b95fd66b1142a4123a405c02e461fa6ca53c02420082aae5f42f57f138a39b3e476b833149eed1663fed417c15528def0ae0a1de9a4a836c94149a2c9bb47f414af68fdc592eeed2300ebe0fb4c5edee3f399d6b8f3e
# Deterministic Sig: 308188024200a0dc11d18ba50289ba2f84f6640857c3dd82dd9a3c24904a1e8874d05a91e32387fe8f929155717d3b3a81ecab2e2bd4af124de304f9f738b71549f88ba5737d7f024200dbbc29d3827a6c5767c1315d8172614f9351d28a2762488356501350767e3c04a4f1b41e3fa7c189457bea07beab17fbba3dabd6e59c413c327b827884103e11b9
# sect113r1 (named_curve, hybrid public point)
# sect113r2 (named_curve, hybrid public point)
# sect131r1 (named_curve, hybrid public point)
# sect131r2 (named_curve, hybrid public point)
# sect163k1 (named_curve, hybrid public point)
# sect163r1 (named_curve, hybrid public point)
# sect163r2 (named_curve, hybrid public point)
# sect193r1 (named_curve, hybrid public point)
# sect193r2 (named_curve, hybrid public point)
# sect233k1 (named_curve, hybrid public point)
# sect233r1 (named_curve, hybrid public point)
# sect239k1 (named_curve, hybrid public point)
# sect283k1 (named_curve, hybrid public point)
# sect283r1 (named_curve, hybrid public point)
# sect409k1 (named_curve, hybrid public point)
# sect409r1 (named_curve, hybrid public point)
# sect571k1 (named_curve, hybrid public point)
# sect571r1 (named_curve, hybrid public point)
# wap-wsg-idm-ecid-wtls1 (named_curve, hybrid public point)
# wap-wsg-idm-ecid-wtls10 (named_curve, hybrid public point)
# wap-wsg-idm-ecid-wtls11 (named_curve, hybrid public point)
# wap-wsg-idm-ecid-wtls12 (named_curve, hybrid public point)
# Random Sig: 303d021c0c1b8370f26ed3043710ad267d801f415f014f10f03f925afbae4207021d00fac517effe989faf1f11a0c68f5db41ffb70f50de745ab7ed5fbebac
# Deterministic Sig: 303d021c1dd02f455fff080149ea852b543475b0b2d319db08ee81edae3918fd021d00d9aa9f101edb115437df10c4ac69ec405896480e16b2276b57d2aba0
# wap-wsg-idm-ecid-wtls3 (named_curve, hybrid public point)
# wap-wsg-idm-ecid-wtls4 (named_curve, hybrid public point)
# wap-wsg-idm-ecid-wtls5 (named_curve, hybrid public point)
# wap-wsg-idm-ecid-wtls6 (named_curve, hybrid public point)
# wap-wsg-idm-ecid-wtls7 (named_curve, hybrid public point)
# Random Sig: 302e021500f5cf6f65a620254669d94e94c7088c581738d80b021500aaea8408defe5103b50dbd694dcdc57ee906a281
# Deterministic Sig: 302d021500da46558d7e1a83edc7c459f66593a00bb5d8de2102146bad28918789ed884f63a12385c888fd420f2457
# wap-wsg-idm-ecid-wtls8 (named_curve, hybrid public point)
# wap-wsg-idm-ecid-wtls9 (named_curve, hybrid public point)
# Random Sig: 302c02142dec89f09e355031e26ea28b5cb2718edd365f9502147ed37df0dc2dc67f2b2e9e0c8d9acb1c2b85fd76
# Deterministic Sig: 302c02140455eee901340418717f475c18e703b0bff1bdf902142866c2ab2bdce3f06607c74d8625db9f562fc852
# brainpoolP160r1 (explicit, compressed public point)
# Random Sig: 302c0214261451b22c4fa03c506814afdfed9fac2c48891802147c7c871bed7bad7790e7c4a15b8c849434993866
# Deterministic Sig: 302c02147dc42eabb7b27ad90cb1ebaf2e3921e9a13d815b02143fee0bdef2af8c54e3e4418a74a38a04dd242d97
# brainpoolP160t1 (explicit, compressed public point)
# Random Sig: 302c021434a6275bea6001df9d9ab4937c45cddb31b1b91e02144b1c91f024e52a070f29d03e5a2000500ceacc48
# Deterministic Sig: 302d02150084d59e3865a10d27ebe99382f7fc959500d8ecce0214390944161403fba4b9be342657ffedf27dcde86e
# brainpoolP192r1 (explicit, compressed public point)
# Random Sig: 3034021805c404ec25d8b0085c5522e826c27e3ef05d49cb0899f6e6021839aa8c9bad3e972d870fec9e15be064323c9a4730ba966fe
# Deterministic Sig: 3035021900914ba869face19f13f858f3b80d14a561ffa52bc120eb35c021837ae06187677f259ef5b3066c0560c5ce259986985a7347f
# brainpoolP192t1 (explicit, compressed public point)
# Random Sig: 3035021807a89a6db9d1150b0d8810bab3c4832f451bedcd547c7f3c02190092df228811370623dbbdb392b8670a7dfa265bd42303bb88
# Deterministic Sig: 3035021862caf25fd4bfe941fd0505b68e115aa9991d6bc09dbaa6330219009999ab580338bf42da0324ba3d700429d72c46f1c37b7caa
# brainpoolP224r1 (explicit, compressed public point)
# Random Sig: 303d021d00cc68f8d4833afbebaa650d926f4fe751d31754cd6df556d5d8698132021c40fa075df93331f55dc5672653c57a34b3217e1caf5be9e35dbafcee
# Deterministic Sig: 303c021c6128e107ae4f72a7e4389053733d8c8590b6e09592210259ddae9ea2021c132e3052d1de17050ac69f67c06e91fd4ae95e3721efd561e545bf1d
# brainpoolP224t1 (explicit, compressed public point)
# Random Sig: 303d021c65db15fd7daa6a3bd2c478c42622b6f480d98d0c695e0f600280bab9021d00a44e113d7a96d28f9f9834600ff7c91b3965524027ef6031064e6506
# Deterministic Sig: 303e021d00c368b2f791ba8540a89034f44fbe39732fb8d2cb5f5808fe2215f7fc021d0091af980297447e33e825e069d5036f338cfeffe5cb6f0f781bf53919
# brainpoolP256r1 (explicit, compressed public point)
# Random Sig: 30450220037105f62a22dd6925859d57ebc656146475ff7230c2f1ab2dc9eb03e4d29449022100a892be658cd4928606d6b73ec7a558b9fdd8786dd65cc529c9e641cd5dfe7194
# Deterministic Sig: 30450221008129a4f795cf6fa78235d17b876f3fbf67d7bf08c0123ced13b8d4d064c7337a02205e50f124745673f37a937b00167da9334c8cce4f5891cc879f8c583c96b56190
# brainpoolP256t1 (explicit, compressed public point)
# Random Sig: 304402207071d4077049a02f260ef4eb158197fcdf4e9d4be9d6a334fcdcadefa0bf59f402204166d38f95d82583c60c8a4384c7624d67de90a77fb1deaa31db6b984466dcff
# Deterministic Sig: 304402200a7c01e8a5c3981da3102048d33c9f5c8e536a22cc367320f4bf00bb350b3c9502202dd592f5f6d99bd150863d3cf903a8c7519ef8bbd2cfb98bc97bc6689361c91d
# brainpoolP320r1 (explicit, compressed public point)
# Random Sig: 3055022900a897724ce48e41893a9bd2cb9bb1bf9b25510460ba7dd373b7870d1d4acfd14e0231b77cf0913ca302285284077ee0c8e66729392c428656ad762e391704ac8ed346637d09170ab168c47186a0f26602f366
# Deterministic Sig: 305502281283cb1bfca58607c045ae9639d346e2e76400d3fe2124e2a8c1a1f0013a5bad1890daa2a4ba422a022900d063cb7994e83bda828ca60ca5cf5f9ddb51bf2e9e97182e96b29753e05bd9c2f70da1f36fffc160
# brainpoolP320t1 (explicit, compressed public point)
# Random Sig: 30540228528398fae4911b2415f533d49c4e66c629bb8d14af116cb518c5b98a5fd6f483dd1965cd1ec9d8f202284bdfbf80f63fee5a7f2eaed396730b13a009928f31c63f6e2596b5db7527877aa1830082f1016d69
# Deterministic Sig: 3054022857421577bf8e3ad3741e3895111a42f7795ed5d3c63bd67807996f1a3c5b640f6986f189846a6439022823c7667ef37ea3dc50f38a10a4c1023994eaaae1c8c1c712279b3cc6aeec1f9320bb3b4175a5f30d
# brainpoolP384r1 (explicit, compressed public point)
# Random Sig: 306402304e9a4f46c84d2b2e1619b685c1a6c0cf8250626c7790cc6fb67d37bb89e681cf352614d75bd1a45a0eee84e4393d0d9402305bec6ce7e6b7c947a1dbbe65121b954192e32ffa9bd372b454ab32d9e575c1af8788a49cdac51f261b811dcb402a71e4
# Deterministic Sig: 3064023011d3acb7930987166630a59c97714e49562d051d34ece31bd1ae05dd3783d9f05e4c7b4cd3e2749890cf2b1913793513023005709b05d9f182b0e4a6708614b0b31d6cbf18bb741161d959f8c5748a926e1566bda054a049279a956a2992e16f3499
# brainpoolP384t1 (explicit, compressed public point)
# Random Sig: 30640230293d0e6e6b05d3b83f55bb6990591d7537bdc0ca4878be636fab4cc1ea7e2340c3e256818abbd2a204d79c2ab794761b0230047e70201fe81c17366e087da73e173dac0661102aecb7ce781f3512c117f77574525c1a9375a8981d707cb142f3b990
# Deterministic Sig: 3065023100811fab2f3e6751e6fd834b91370b6299bd6dde14e0dd3a92562937af78a87d65aab10063b4d2a229c91bb116fbdd52ad02305606e33c436b77ee6770dd8a7666daed9f67b56904fbdff25df114352d88d316b455e15e6cc60cd95f46424e8eb51b50
# brainpoolP512r1 (explicit, compressed public point)
# Random Sig: 308185024070a698db8eceb600958c96251a04427b804f78eb73394b29f35107b7f95ed122d04b7cb03406e3c71f7c79d5640beaa0ce4f4d8c3018a8f148f7da9b595b5ebf024100a762bc5424365a005df87b22fd086824a5ac43b533eca9919c1682a70c8e8de29f03bcfb1e4ece3fb5a25c84e9f0f63e42890076d93f2d5e1830e0c8ee97a6ce
# Deterministic Sig: 308186024100aa87c538603d704d8ef82af4c9bf05e67ab5fa5056a7859232f2de2234d55b7d91b4ab50dc28f407a2ebcb47fc23a6ab56efbf1c0662c116a079de71a7c82036024100807c3b18fb8ea0401c443846f6ef17be362302f7e52c16a20f599000a66217a2ab606953e6bb4a5ecdcf76ed19cd2163304f83031405235c26a0c40c2efbe70f
# brainpoolP512t1 (explicit, compressed public point)
# Random Sig: 3081840240041c717bbffe00ff82fcf05d0f1ae0e05d2662d3d6e8d79b552f9e95b3f12c17e0b6b00e1e5f3e0162bdab2b859df590191686a36501e509fc7d60bca72f6ddb0240264751f0e166405e02c4e5f36acfb45df19c6e5b8162baf6aa5319eddbb44489ccef4a0d19955346b17bac24bc1cc811d88db04e4483e6e8285e80d65ddea808
# Deterministic Sig: 308184024065cc116efbb251a263632db29e00c3f53cb69fe612c48ce2139870ec5edcd95ff37bc4f3813e12af4eacb37a6d10468e4fd384ef69ed7d02b7d3e3b20825d36c024008f64ae0062191e9f0a1898751272939f38e0924002b9634f68d15476df430ba2b81d742d143fe0092f293c7fb02b0dd217773b8a9e90011b730094f0e030443
# c2pnb163v1 (explicit, compressed public point)
# c2pnb163v2 (explicit, compressed public point)
# c2pnb163v3 (explicit, compressed public point)
# c2pnb176v1 (explicit, compressed public point)
# c2pnb208w1 (explicit, compressed public point)
# c2pnb272w1 (explicit, compressed public point)
# c2pnb304w1 (explicit, compressed public point)
# c2pnb368w1 (explicit, compressed public point)
# c2tnb191v1 (explicit, compressed public point)
# c2tnb191v2 (explicit, compressed public point)
# c2tnb191v3 (explicit, compressed public point)
# c2tnb239v1 (explicit, compressed public point)
# c2tnb239v2 (explicit, compressed public point)
# c2tnb239v3 (explicit, compressed public point)
# c2tnb359v1 (explicit, compressed public point)
# c2tnb431r1 (explicit, compressed public point)
# prime192v1 (explicit, compressed public point)
# Random Sig: 3036021900b8c2bd4131d8a8c4007527e4a48dc3d9fddd6f807746507a021900db0290df31bb21dae31a133c33da0ad5c4bce1a45331162a
# Deterministic Sig: 30340218258f0bba7a5dcb2ab6974ddcd819039da89a8de0297ad1c002183a0887e11dc6633a3af6d488f2050b5cf25099b1714fa54f
# prime192v2 (explicit, compressed public point)
# Random Sig: 3036021900f95affe1687127b988f5186c1530d77b4f76f6deeb55268b021900cc31f9816d5ab1938ffb3d0f0e76bbced0f582bf232a2daf
# Deterministic Sig: 3035021802fa40e860269ce4f2b59d7c8878e9ec1e843577a5e0b61702190094d7327047440c1e0e9ba3f886100daa5aa64d3d6efd79ff
# prime192v3 (explicit, compressed public point)
# Random Sig: 3034021864e1670b7fa811c7f032a8bfb3d21e654cdb647669f31b8502182bb4cfbdad3ceafad5bc1dc3bc9b788e2c281feacd98d304
# Deterministic Sig: 30340218707f81b63b0c639e90cc19d9aee016593c2ee51295c0f01802187e0c50693ab0f11b7815fff9ded2d1a7947ad4e5dd670b64
# prime239v1 (explicit, compressed public point)
# Random Sig: 3040021e4a2fc1ff370e5a8622bc209160d5f5110a926a21fc4fc0bffb062619c8ff021e700762bd7b293c97fb19c7014dab1807444d4ef91ac8af210bf634bf6d7d
# Deterministic Sig: 3040021e7ed607f17f042c1b7af0492fa43ccf58e349c7d4067895a3e2c118e071e2021e13695f94507cd00dd9c16e6c5fb4c7c23502a73b0d65d1dce5eee4787daa
# prime239v2 (explicit, compressed public point)
# Random Sig: 3040021e40ceaa49914f582dc2d41be34a75c83453670b38174c4b755bccfff87694021e01f8f7a973baa9f3b6a5b786d0da6db097ed9c89675d5b0fdb8ac369b695
# Deterministic Sig: 3040021e1bda5e880387e2ced1ea806d4fd93a98cc5860a168c7d88249fd72b79b33021e58cfd66eeae25c695163428df1e3f6e4be8f16191b1ad4c29be49288eb8a
# prime239v3 (explicit, compressed public point)
# Random Sig: 3040021e0bb8882ecd1f7fc825c360629f2550e5723ed3a10bc5f90f97b44d47bdc9021e7c778ec52c5fe713171ac8c0095416d6d78072c1e41eb01674b384c9450f
# Deterministic Sig: 3040021e13bc832a1906f5ce01792b94e9570a084d7de3a27dff61563896edb5572e021e4b609b7a0d6e15287c24b624718ad76c3070bdb2c51f5e18582a86a695a8
# prime256v1 (explicit, compressed public point)
# Random Sig: 3046022100d7f8cb45c00dd9fe5a0baf439731f7d3df3482235e015fbf90267560e846d0df022100869db431765dacfebc9c455d57502faad12734de0b63a00f5a70170c21962acb
# Deterministic Sig: 304502203ea217e65e06bdee4926663b408443d985913e53767b2e8e690dd8f6bc4c1f1b022100d252db6fb68ba7bf426352f8b01fe95a321c660083c64599cf8ef9a89194be8b
# secp112r1 (explicit, compressed public point)
# secp112r2 (explicit, compressed public point)
# secp128r1 (explicit, compressed public point)
# secp128r2 (explicit, compressed public point)
# secp160k1 (explicit, compressed public point)
# Random Sig: 302d021500ad7ad2dcf6188e6ad2481c1e4e52416c522c0859021404383c032fdde88416d4b22f18978749f4eee6b6
# Deterministic Sig: 302e021500bf409864d7f69b2e9ce4bb16b869d70bc52a22c4021500a890b9360ee9947c2dbc718cf7ceada4f0ff9ea2
# secp160r1 (explicit, compressed public point)
# Random Sig: 302d021500a6ed3aa5f609157c230d2b81887fbd3ea6341bd002142933648aff4491f6d8e2a5aa5b8efa1f3c53ace9
# Deterministic Sig: 302c02147849e3d9625b08a520243ad35563fbc3837607bb0214527e90b4ab455b8797b03b17408407cdce7ea828
# secp160r2 (explicit, compressed public point)
# Random Sig: 302e021500b46f23617fe903f96f00145c63f028084a608d63021500ec18937d93e12b7f84ce5fe4baab2843b799c2bf
# Deterministic Sig: 302e021500f56cfa0a7c2310e5dc28c698db052804a6227cf10215009fd6fee54871a5edab6a3431d957f0612466f8f9
# secp192k1 (explicit, compressed public point)
# Random Sig: 3035021900a90b5850f0a8e8a31155d133ffa1ae541191b57588fdb27e0218094bc7362edd5e4937c44f73d7b112cd661d16a870a0f71f
# Deterministic Sig: 3035021900d22f6492e2bb3e00503a90693bade33342daf8858a1391ea02184458345f0588194526f0bbf1856d45bf7ad808e477c9ef7a
# secp224k1 (explicit, compressed public point)
# Random Sig: 303d021c0e1fe01105af67babff798471564bd3e652872e0a2fce07437f0a2c8021d00df36b977caaa8081b30667838f049b3e8ff16171bc9fefa17a5a1dc7
# Deterministic Sig: 303c021c3e674c99065c10baac143a9645df51805dd887ba5b0da59aba014bfd021c099f7dbf6d28137761d98a513bdf157fd414a716f8f775793ff26c6b
# secp224r1 (explicit, compressed public point)
# Random Sig: 303c021c70a82c48fd2ae4a5acd6d567b472c0aa6d0f0d8f98b8362c087138df021c29381fae627cd829b846f0436286a211754a379f44056faa8e34df14
# Deterministic Sig: 303c021c30cc7218f3db537aaa66782a8cbfe7bffc3b314c513eea1e5c77ea8d021c66e36b5d831a676b71a385eac695400fd1edb3e97b393a730d921209
# secp256k1 (explicit, compressed public point)
# Random Sig: 30450220092d538f05c26948ba7357951c98cfc29d4be8e37dc5275b7fbc92f6155e1d62022100e0b8ebecd2309b1939d7488e544f4fd0e32b1fda7e93758b6787dcd3f12c46cf
# Deterministic Sig: 304502204f0f78cd9b9ea489e0ffc8ed249986e591fe0d984c471c2b41cde2cc3c7c3fd0022100b7f29fc1bef5bf5b8fe5e4494cfbbcddce6ca0786042bf316f7d5e49954725d9
# secp384r1 (explicit, compressed public point)
# Random Sig: 3065023074ceb10553bb1a2b4a231de8a1d7544c8ac64fd46c1de380b6388a1c74781683371d56a74c85a3e1043f88c511a3c2360231009c2db593a68a4f9a5a4eb1cb1e5ae4f1bccc966dd4b569c7b8bd1fe8ab2c40349e32a181e9a88b5532610fcababf75bc
# Deterministic Sig: 30650230696f4543fa88c6186b9699d0bfdc6137e0a7a882c8ef6b2d9f030f29b553d5f9aae860fcf83a27714d6ec2f7ce030be3023100942e7cbc10893d8ef08e0c8a1beb29ecedcff554b82121cd9558333a2ad04ddcb02082e81d79cafa2275c90b31162871
# secp521r1 (explicit, compressed public point)
# Random Sig: 308188024201546ed19b14f76a40fba259710c808604c79939a2dc8d860214a5fc1e8db6e8c2d235a373dadee122235b2c9edce136a99bcfe3b0d687e74a69b66c51a3ecac755b024201479273731170bbaeb45514f36563c3417664dbaccaaffb49f0f9698ed033363b6ad3e5aa7c5bb9e5d84cbd453aeb50941c302e550914230f84ea906386c012c67e
# Deterministic Sig: 3081880242015a3a6ff57d8fe8bfd1c079b6fd8d6b8d6175c04535114b79648ffaa580d772b775e605a7c111c29351a66d06e1632008774f2b4154a291f4f09bc0a68a09eeb646024201801f4e941c9e11b2a69f1e1bcb43de15d06dc61bb720abf1191c80d64d356113a7931f767051d65ae27fa6f16374fd91daf545804b8a640d40244eac961ea7c13a
# sect113r1 (explicit, compressed public point)
# sect113r2 (explicit, compressed public point)
# sect131r1 (explicit, compressed public point)
# sect131r2 (explicit, compressed public point)
# sect163k1 (explicit, compressed public point)
# sect163r1 (explicit, compressed public point)
# sect163r2 (explicit, compressed public point)
# sect193r1 (explicit, compressed public point)
# sect193r2 (explicit, compressed public point)
# sect233k1 (explicit, compressed public point)
# sect233r1 (explicit, compressed public point)
# sect239k1 (explicit, compressed public point)
# sect283k1 (explicit, compressed public point)
# sect283r1 (explicit, compressed public point)
# sect409k1 (explicit, compressed public point)
# sect409r1 (explicit, compressed public point)
# sect571k1 (explicit, compressed public point)
# sect571r1 (explicit, compressed public point)
# wap-wsg-idm-ecid-wtls1 (explicit, compressed public point)
# wap-wsg-idm-ecid-wtls10 (explicit, compressed public point)
# wap-wsg-idm-ecid-wtls11 (explicit, compressed public point)
# wap-wsg-idm-ecid-wtls12 (explicit, compressed public point)
# Random Sig: 303d021d00c2b1e429e942c3eb55ca64e23fbd25be1dbd477ca3c3eab0cf6a15e5021c4766bbd27f831f0aff7e075c842b9edc61a96de5b2ea5e82341336e0
# Deterministic Sig: 303d021d00d15911290e3ddd01112658abfbefff73d688c2591c7ed165d7f19645021c2aa251bc8dee48cacca73e17dd99a9cba77d01f7bbbf96cfdcf9bc3a
# wap-wsg-idm-ecid-wtls3 (explicit, compressed public point)
# wap-wsg-idm-ecid-wtls4 (explicit, compressed public point)
# wap-wsg-idm-ecid-wtls5 (explicit, compressed public point)
# wap-wsg-idm-ecid-wtls6 (explicit, compressed public point)
# wap-wsg-idm-ecid-wtls7 (explicit, compressed public point)
# Random Sig: 302e021500e7d491250cd360e723cb41590686f6a763102029021500c218aa8aba23d0eecd12a41b44874c01509f6213
# Deterministic Sig: 302c02140c130440a52ff323e69afdcf3e5944a6aa69881b0214151b996b65c8170c15a894582d5f02a21bfb762c
# wap-wsg-idm-ecid-wtls8 (explicit, compressed public point)
# wap-wsg-idm-ecid-wtls9 (explicit, compressed public point)
# Random Sig: 302d021500d4dedc66a74e89deedc209d700878a388f3e7af6021427627e923e5e7c951e249118a15d6d5743ff743c
# Deterministic Sig: 302d02140c0814386eb1d1d11618579494939210d2241039021500e4d530623f04d6693ae5c464413bca18226862a7
# brainpoolP160r1 (explicit, uncompressed public point)
# Random Sig: 302d021500e3d691712ccf16c006628a8908247ae08e8f08fe021465554a64af286ef5af7b93ed020d8d0a886181d2
# Deterministic Sig: 302d0215009db3f663185125932b076fd1e84b4aa17659618802146b0fd5a962696f30628e57aac8720a82f8f1b8e8
# brainpoolP160t1 (explicit, uncompressed public point)
# Random Sig: 302d02143dc7860bd577760aaa71d430b3fa7b5773b5fb9e021500958bfb52985a69bb84b6866a92d09fdc820b2252
# Deterministic Sig: 302c02142a327b03b553798970c77942eea451162873fa7802144e037468ae9070ab1117777fcda78ecf39d9f2c2
# brainpoolP192r1 (explicit, uncompressed public point)
# Random Sig: 303402185f287856b9e0b6111b986c96bf8ed64058aca3732859452c021854cb78b59731fc457013f4d99eeffe232f3baf266e32a7ca
# Deterministic Sig: 303402187a8d2d4f4439223099de6bbf0b6b2bfa5c9cce4482d10d2302182ab69be755afebf73e2f47b8e0ac684ccc6263d6994ce6df
# brainpoolP192t1 (explicit, uncompressed public point)
# Random Sig: 3036021900b0dd4ad3ed86d76ee1926f353f9ed20d6d802df937fbdb070219008eb47c0bb50f947a0203b1529c5a431663b0a49974b6b210
# Deterministic Sig: 303502186142670e60891f36f5ba397f7bb81c322ee232e50ec1f603021900b3e0459fc7213fc6692de1b5c90d8379330f13d17beea4c3
# brainpoolP224r1 (explicit, uncompressed public point)
# Random Sig: 303d021c796fc619164b04d0ddb9ee02980b4c63322f1a8b9c0b169766e9e015021d00d349b3aedd9fb0f47ab02831dd22748e1ac9da8854b1edbad6cb41d4
# Deterministic Sig: 303d021c12365779e12b2395ee217faa8487497bd111a1e6a427c3760e5e0c34021d00c99f9ae681ecc5a9f9a62dcb54ffd2ef159c9a178368062324d3696a
# brainpoolP224t1 (explicit, uncompressed public point)
# Random Sig: 303c021c2ce09c83c2c622bae05a2020be9ece95fc5f21a7ae07471111a02311021c09e25b1d8dc3147a9590d6e8a2b6e492e6a72623defe3cbd2d42259d
# Deterministic Sig: 303c021c12871ee3117d4f4e5a56939e95341a346c8cd602438c1a896b8c264f021c44d11817f0d25c9166395deb39aae3086fc0d9197a26d5a3f538ee39
# brainpoolP256r1 (explicit, uncompressed public point)
# Random Sig: 3045022020e6a8612fd8fb7c8de3cf8a0229ec1a906e8aa80b5139981a976b23b3c112610221008e1bf077ca8703c74cd2d518528de59fec0313c8bfead10e8bf9d4d27a456ed4
# Deterministic Sig: 30440220325a6faf2f61e9236eed3c0ef4b752502a2492ff92a3383e30dff152004688ab022058c6671ebaecd32e8f8b60fb8a3f5f3442e8efd5fcd65a7f528ed8d39863f173
# brainpoolP256t1 (explicit, uncompressed public point)
# Random Sig: 3045022100889e407b42d9cabcd89c111a158656319a5c08b546edd17aa94227fa2bc2b613022050726113234dcec0687cd2aecc7c64eecda6586aefd5b356c489c1c9c3e68db5
# Deterministic Sig: 304502210088285696ed23ab693b4385a703a8bccc8270ca856120138220cd946bd09920b902207ae38df1ee2f7636d971753d4d02af3ae15d3ec99c4a442c06430c13d40dab04
# brainpoolP320r1 (explicit, uncompressed public point)
# Random Sig: 305502283f513a7462b601e24408664ae3ab08f178c75b3f083d3f758935ad60b1a1826072ac8fff932deeb902290098e299395bf65982a10c0bae114ef5edbee77aad1960f9051913b269df5320248deb0e0c3e1d6f5a
# Deterministic Sig: 3056022900caf2fbd92ad3f5f4f1c4a1bb12a3af8fc6417db2920f8d0faaf3ae26a8c3c225a6b8a63ff868609a022900802193812c3e0e9b25dcc8321f2f41ec012dba43e3e9c522a2ab40806b4407067f0855887733b3bc
# brainpoolP320t1 (explicit, uncompressed public point)
# Random Sig: 30540228572d3640bf2f68c2dbfd260171f0850c046245d4b454be2f60c4d8892dc39562e5b66da8088a2ce8022809e50a5c1055d351e296f3d9792140a018691eb115e2a86e4b1f82775225f6ea7b9147e4af4a8f79
# Deterministic Sig: 3054022825a731817613095508cd46cf9a3dc4357f624e9ed10e3ba1234e82809cfa9f465e1c0685e3f85ffe02285f33e31039f8fcd5a26358416981b98d590d643cf7355358cab8b24fa6523cee29acbcd0514b629d
# brainpoolP384r1 (explicit, uncompressed public point)
# Random Sig: 30640230331d703ada81336d8ada2d2a86f3ea7e19548ccf20079a1326e35d4655418961181d162f6503b4991fb38272c724be5a02304f04b2645ccae373b555c28ba20233821a5ec6e1f3c2a66f47b740d2239c288d3c39600b476f6775ee4e44c35e7f2390
# Deterministic Sig: 306402300617573ad46ee46cad741d49f3d673a0e5f49e4b0d0fe6183d9a444c2ea89243ece1936ddaac11687f889f95b8a7e9a9023034e16944f2d0260b61e4ff51da797718432f815371dedfac9a021abd2ca289434bc0ae5cc814b19e8e86e1ac4768aed2
# brainpoolP384t1 (explicit, uncompressed public point)
# Random Sig: 306302303a223633e7fbea62d5dcdc3c375978ad1a69c9e348e606d0121b1671911ce3a3af3a559112d5b3aba1f1da81350743ce022f267b3369708608ae217d866158dea7bb348dc3c7709331ffd089b74938b517b18130da590a2ae70074c89dbe65b9c1
# Deterministic Sig: 3064023063a0eafa0c1c4bafb11845b4bfbfd0f8035d9329f7606cc67f239c847d78ee1fde7d51c7d36462795b3be8f39eb47f0c023056e558c379dd159a71139ea38cd3da2c53d999c4b35c88f196f02d6f829db68d4738a86cc9dd72f571a6d94df3eab526
# brainpoolP512r1 (explicit, uncompressed public point)
# Random Sig: 30818402402ef236f229055d66d9d293c0359a1d023d651e1039516084d4a409f9ae8c23f76a253f4df11dfc6196d4002debdc66daccd33bf61fb9927e34b04f9176cfe65a02405cc183e04ed823a9f71005e7b4211336d21cc684729f11c7b3335a68e5c329e2b6933477cbb197aa0f2ae2880f59c0989b4385112be8a22ce948709474506ae7
# Deterministic Sig: 308185024017b75c5abaff2d85c9dfb6758a0de4d55dd616e60756cc1e3cd334a4a689001c798cce2903160de6020c4dd637d774f789635d1cff210365ec78447ba2ba9b3b0241009176beb0f4378d76392130d8c136366b571c6ac9f8d70e68a82ce1499e07e4529299e8f014fd714bf4c1e39eb6c342f9dd09bc0c818b9bc77c3685ab98ba3952
# brainpoolP512t1 (explicit, uncompressed public point)
# Random Sig: 308186024100969af20dd06f0eee7ba261fca149d024db127d17a69077a7a32e3acd28d147f0c4cf304129f4e1581f32a20a530830d2d856ab3a0a5f3632d5d886223650c47f024100a2b02fddf5de7706fe3027ddb4ec6a7f85124e0c93cb1cf80b20fd5e1e6a67465a42c10309051442b70fc6eced885181e5999e4540b9c20963ebfef2e58eeea9
# Deterministic Sig: 3081850240566d933b23a9310fb42dddfca254c3e016abb19fd72266b3ffcba2a12db5cce81704934ab53eddd733c96663b8cd0b67717b7c31fd489a19e0f6c0cf17720f53024100a0a5f919c08e6c7cac3dec4a64149504022d0ea8734ea26318f27ca4f6ea765cd80e0483aebbbaae9d80605490771d49b3045f8d61ed4d9a90fe1257c7023cfa
# c2pnb163v1 (explicit, uncompressed public point)
# c2pnb163v2 (explicit, uncompressed public point)
# c2pnb163v3 (explicit, uncompressed public point)
# c2pnb176v1 (explicit, uncompressed public point)
# c2pnb208w1 (explicit, uncompressed public point)
# c2pnb272w1 (explicit, uncompressed public point)
# c2pnb304w1 (explicit, uncompressed public point)
# c2pnb368w1 (explicit, uncompressed public point)
# c2tnb191v1 (explicit, uncompressed public point)
# c2tnb191v2 (explicit, uncompressed public point)
# c2tnb191v3 (explicit, uncompressed public point)
# c2tnb239v1 (explicit, uncompressed public point)
# c2tnb239v2 (explicit, uncompressed public point)
# c2tnb239v3 (explicit, uncompressed public point)
# c2tnb359v1 (explicit, uncompressed public point)
# c2tnb431r1 (explicit, uncompressed public point)
# prime192v1 (explicit, uncompressed public point)
# Random Sig: 3036021900cddd43218d9fc50a377bc13f772e4e53b709780c1229790b021900edf8ad48b86acd76ace7f3261f39c3921143d6e212fa61d6
# Deterministic Sig: 3035021900e60f87ea4e25bb5c757aa863fcf3e4955571ae6b370dd38502181e8cd1d1a71a389bd3523feb2129baccd6a0aab1d25ec5bd
# prime192v2 (explicit, uncompressed public point)
# Random Sig: 303402183f8c6ad3fccf2e369dbbe325a6ee7b838774407011dbc973021826a4333c535da95844fe49f8f2d5b040b01883fc7ad3c028
# Deterministic Sig: 3035021900a8d400d5509c8bc11fa6db49a80984bf69ac86a09666faed02182f04e9ffc6b1aca3725ac7987e0e81ed9bb3f1edda372fd6
# prime192v3 (explicit, uncompressed public point)
# Random Sig: 303502185ea928976a0e5a7e1afb38f6e87be381b62d4096a3c409ce021900ff14edc95ab13cbe9fae4eeba817c383a6c73570126ec64c
# Deterministic Sig: 3035021900db0aa6772c0b5e1c73685231c30147dea6e9141a732b76ff02185e04fd195e2d36a3fa2cfa116eec4e27ee5e05431cdee5ad
# prime239v1 (explicit, uncompressed public point)
# Random Sig: 3040021e09154875d91a337732d00d2c96d1cf3528635d651e7e30af21920dd2405b021e371a88f1942272932c5af9194778caa8de293f593a919c6b51407de230eb
# Deterministic Sig: 3040021e14096573edf8e6afb12689002a6f8c516a4c7375b0530596ed69176accfa021e19243cf47d148c1ce1b260943226a6e9858a7167b246a3178c9f09ca9142
# prime239v2 (explicit, uncompressed public point)
# Random Sig: 3040021e7c1690db66a30db5b3d36764068e38b89112a981fceec37d1883144cd679021e7bb8d08f7ae24268bbc2f2880d896da3dd0998a24d5384118fd81236dd26
# Deterministic Sig: 3040021e220e01afdd64d8a537339e94967d9bf859184a78ae29b155b583eef40059021e2b86ab007d5b39839700ebb9f5d4228f57b1b04695a4d3146a459668fd8c
# prime239v3 (explicit, uncompressed public point)
# Random Sig: 3040021e0baa75531e458aef3afe19cae72419cbfac35cb858274688240310269a12021e7164f86c39826a272b2b21dd78f1ebee5e77ca31295f96eb1126964fc1bb
# Deterministic Sig: 3040021e219cea2c9203ebf752e5b5753dc3a78eda0e69a80d1a90ec14f057e7a6f9021e78718d7e4f3c6b03df1efca347ea6b10c197960832429a92ed05b06145b7
# prime256v1 (explicit, uncompressed public point)
# Random Sig: 3045022039f67abf3585562b89ed26e04692322038b3ff7c97a270168413b52abe870ff4022100cc67e854175b8699c3a010c7a485c902b3d64b6185b8be56d390c71b5d74db10
# Deterministic Sig: 304402204193010731bf42ec6b09fa9ca0a5e08691d959991eaae17fe21466bd892bc3e702205f435634d7e96a139057f8e37fdbba4c11d8897339940efc06cbb59542fc1c25
# secp112r1 (explicit, uncompressed public point)
# secp112r2 (explicit, uncompressed public point)
# secp128r1 (explicit, uncompressed public point)
# secp128r2 (explicit, uncompressed public point)
# secp160k1 (explicit, uncompressed public point)
# Random Sig: 302d021500b61623685f72bc743ea42f247d56c88f93d4269702143f094983226c91cdbd8de176fb39546dcb20c5b3
# Deterministic Sig: 302d021500a68d1aa28d5bc7c7080e35b41e65e18bba2b7ac2021459bf8d64d0c1f7047df712534474720724075540
# secp160r1 (explicit, uncompressed public point)
# Random Sig: 302d0214387f54945f1c90d18cf2121b762050459be183fb0215009bda05c857b5474c9af3fd17fc6877b38edbc24e
# Deterministic Sig: 302c0214377b6b34eb941cafb6dcb6358a408757de9bd1970214396b135e25ecbf5b0d6f9b52383ffd9e083ec54a
# secp160r2 (explicit, uncompressed public point)
# Random Sig: 302d0214699cad0a5741a595953b14f2a9db3670018f06e102150091c2d6c5cf4e1fe408e548d19b8bcb1ad4f3e4b8
# Deterministic Sig: 302c0214249364feed5ace49b382b40d7c7cd8273121125002145aca704b6bf174185bc827e714f8919fbd4453bd
# secp192k1 (explicit, uncompressed public point)
# Random Sig: 303502182047007df2e9cd3ab72f243a5455af7d4232ed2eea2c1535021900e10f6ec8e122e3b1ebf38a2a593cb3caca3894ca4e1c3eb0
# Deterministic Sig: 3035021900ae6ce81ea5ed75dc948c1e9857df23e9763f3686adb8079e02183491b2b490f7e0623387344fe029ed5bfa53c8e6fec8a2c8
# secp224k1 (explicit, uncompressed public point)
# Random Sig: 303d021c40906bdc8d5fe239f5dbbb719965c32df353b7aba55c08db9dd70aaf021d00902bbf9eeb006d750710f20c9ba58903f65cab19270790b3e57e5d99
# Deterministic Sig: 303c021c1e3c74b4368843820cf9320992a985b887bf16e04166975827f97219021c124fcc35e538d0ed797716dd8ac0b09a7549f24d2f1f8aabb1d381d5
# secp224r1 (explicit, uncompressed public point)
# Random Sig: 303c021c07a0a877fe2052b4ad39166c775b8a23cad94c4d7d7e6490a55c2abc021c5c5e5b22dfc941e9c21f3caf901bbb272388a873198f891b96494387
# Deterministic Sig: 303d021d00afa94d9bb8cd5a03014369109c79d3456dc0a9d6286c46c39852568f021c034e57f42cf26b1efeccce81e1b1d357eede892a8abf5733af0ded43
# secp256k1 (explicit, uncompressed public point)
# Random Sig: 304502203c6285ab15c0c2e5556c750442e0ee0bf617969c2916867eedcf32f81b0d97de022100e5090a06712078c4969a1a6245e28069a2e266e189e9791020ba7366a3fb827d
# Deterministic Sig: 304402200a0b2e2290ce9966fe30c89a4f2538dad5fcd06edcae998b4001532cd9d10a6a02206e90c31964808ac41952ba962efd64a5b357324bce4729443c0d8de36b591bbd
# secp384r1 (explicit, uncompressed public point)
# Random Sig: 3066023100cc9cc79290022f3e2c873b21947a8f98e3f77b08a03bbb9cfa3ec44a4b3070099ec3e7b507a8845edcbfb2821283e0cb023100e74afa58beff4b1027486fd08ef25adeab9e85f77d8173e7344395ac4d22d703006d6a57ed7f3513ce94a57f215d4700
# Deterministic Sig: 30650230376fe9a4a7d0c49b3fa5c828f5a9ac1761f5f5e182013fe516460dc80722d974651c5f2d618b69f082d67291fee7b8aa023100a34ffc47f250212316e3782b4a454059aac43f200635431f62f5edc6d55f83c3e38a07f7cf8686360fcf65ebc3294d3f
# secp521r1 (explicit, uncompressed public point)
# Random Sig: 308187024171b1e66dff8414fafa96c968bf401cd2ea7a5d922a761c70ff3dfc3131d85f266d030a55aa2362284a2c37a905e2fd220190f5db763e59334de5322ac0605b8f1c024200c4621a8f124e6ea65fac7d8a68fe3bf68383e5d9507b27f537855e1aafceb79c9379839805e8f39ac6e376ba7a4800358623345acc8d3f8f4ee2356769a6ed4579
# Deterministic Sig: 30818802420158f4312c031b5c39c9e246ac48220906571d2a8494750e9bbe460e99110abe100129f40272178daf91aab5cdccffe2774a08fab58b99efaa2554e40f3b5acdb522024201e1d5b4a4b88aed64d563dd2b17b78a3fe825424bd2996652206aacaf3ac2978a6713296e2109467a8fc6b247de7ac531f8e24713a7a7eb680cc7fd66ed05ba4a35
# sect113r1 (explicit, uncompressed public point)
# sect113r2 (explicit, uncompressed public point)
# sect131r1 (explicit, uncompressed public point)
# sect131r2 (explicit, uncompressed public point)
# sect163k1 (explicit, uncompressed public point)
# sect163r1 (explicit, uncompressed public point)
# sect163r2 (explicit, uncompressed public point)
# sect193r1 (explicit, uncompressed public point)
# sect193r2 (explicit, uncompressed public point)
# sect233k1 (explicit, uncompressed public point)
# sect233r1 (explicit, uncompressed public point)
# sect239k1 (explicit, uncompressed public point)
# sect283k1 (explicit, uncompressed public point)
# sect283r1 (explicit, uncompressed public point)
# sect409k1 (explicit, uncompressed public point)
# sect409r1 (explicit, uncompressed public point)
# sect571k1 (explicit, uncompressed public point)
# sect571r1 (explicit, uncompressed public point)
# wap-wsg-idm-ecid-wtls1 (explicit, uncompressed public point)
# wap-wsg-idm-ecid-wtls10 (explicit, uncompressed public point)
# wap-wsg-idm-ecid-wtls11 (explicit, uncompressed public point)
# wap-wsg-idm-ecid-wtls12 (explicit, uncompressed public point)
# Random Sig: 303e021d00be742ce93b69fae7699723979a1aef9400f14bb79a9dedb16db97e92021d008482869a20fb59416d54cc07db7952e3b2c40281189d65baeda650d6
# Deterministic Sig: 303d021d008e9c0873beb507fc1a20fda416d7979c6e444aee37c7e60717545b05021c41af7e1c6a14921a88e1224ac9f45d6210c890d70ee3394c76376efb
# wap-wsg-idm-ecid-wtls3 (explicit, uncompressed public point)
# wap-wsg-idm-ecid-wtls4 (explicit, uncompressed public point)
# wap-wsg-idm-ecid-wtls5 (explicit, uncompressed public point)
# wap-wsg-idm-ecid-wtls6 (explicit, uncompressed public point)
# wap-wsg-idm-ecid-wtls7 (explicit, uncompressed public point)
# Random Sig: 302e021500939f0f1fb661f1e4ebc6424d24b8a8ecb7597812021500907ee0abdc9ffcc63ff250f9af10598a777ab661
# Deterministic Sig: 302e021500d2386192b7a5377dafe51454b3d53e2b1d3eeb71021500a3b634133f0b4cb840aec8f8ac9d1c703923674b
# wap-wsg-idm-ecid-wtls8 (explicit, uncompressed public point)
# wap-wsg-idm-ecid-wtls9 (explicit, uncompressed public point)
# Random Sig: 302d021418af69b883322f59e555d85ef7efffb57143d1fd021500c8267bde27b33f4bce8d5fae4b601c908ef85ae6
# Deterministic Sig: 302d02143bb755e59a6e051559cab9a633fe7d415fdeafca021500a8be70278c171026e1cbbb1d9c3e1303664ee30d
# brainpoolP160r1 (explicit, hybrid public point)
# Random Sig: 302d021500d093c99bcd700a673c00464571234bace5f01b5e0214368b4fc7163fc5cd68b617cfc9a5217c8ed34cbc
# Deterministic Sig: 302c0214444a4e12a2b61ba70614dd8435c577e41558f5da02141ae49aec1cd722278db74abf8c04a33b1314ae0e
# brainpoolP160t1 (explicit, hybrid public point)
# Random Sig: 302c02143f233a9ac2807ceec7aa574d248f8816b5c567a502144105f2fa06a0c19ac9cd39df864cd2f371f1cba1
# Deterministic Sig: 302c021469bbac0d4fb4418d7a8ef7c668405dd018359b19021477f90fcab8f5d8692ff857f02f8e6a9cce423c75
# brainpoolP192r1 (explicit, hybrid public point)
# Random Sig: 30360219008cef85a86438f785cec82bdf14f750a80f2b7fab97144ccf021900b0fd147d8a37fcc1c8070f5ec584c1cdc9c61c9c2df2caea
# Deterministic Sig: 3035021838c1621ff5d2b3e4fd81cd66523e3809925d1d19911869fd0219008d6688a0cdb5975e33eeefc1ed6c04e857955643709d323c
# brainpoolP192t1 (explicit, hybrid public point)
# Random Sig: 3035021900a27d054da2bf28ab8df7077dd0da3126ed9d43645a35b9aa02181eb342b96ed6af084817467337678eb74fc9c5ae3e3e0a18
# Deterministic Sig: 3035021900b9f8c4329f3e79b54f2ed366889f89e43bb4aadc627f0815021806d01b6077f9c8abcd1033b552150076759c8f1374ba1a0c
# brainpoolP224r1 (explicit, hybrid public point)
# Random Sig: 303d021d008daa070c53d9130d5b1753cb108318492b767e61bc449d9dae6ac3af021c13722ee0e8750b19b3a541ec21404500a2cca08ec568c7692ffa06d2
# Deterministic Sig: 303d021d0096535bb1158ac8ad2d0e79d7814897054687c5cd064c5419d241157d021c047ab9b8dc85bafc703196e38026b9b43a3f6022da0d9c846446ff83
# brainpoolP224t1 (explicit, hybrid public point)
# Random Sig: 303d021c67cc104ea5d5acfb3c5fb46b617bffdf1500b867c79167b510a50581021d00ab8f939ab9bdf65e350a2d0476ead667dd27560e1f0830c991b56ff6
# Deterministic Sig: 303e021d00cb4ed7bd78537ca3aa4c5831866c3252046ddf8cd7db4804a8c4cf88021d009235296a0012a459376f4f7b7c9090c8a082c8f6fbb35b7d6f84325b
# brainpoolP256r1 (explicit, hybrid public point)
# Random Sig: 3044022002b85be2d1bf62c46e469fee40e7a83bbfba3b0a8fcc7ad4ab667ff8471009b602207496335ad471905933385c7bf7c8da33489a41f587439d9c0905d3443e730a1a
# Deterministic Sig: 3045022030d03ac2a813a5d46ab1f82877b99caab56054b3689606f00a17cca1e7a3f80e022100904de9020fa03feef19969de41f2cd6f29f27658e11eb1f719b4a5c06508fb25
# brainpoolP256t1 (explicit, hybrid public point)
# Random Sig: 30450220492dcbb7838ae8a02b226eb12389ec625fed0247d8e219688514e4707c726c280221008f5630639782ba3ab2c189c7956f57f585dad97f044315e733c929273c06d5c8
# Deterministic Sig: 30440220082a01107114c4d6e8e446a60ef8970d842fc341ae1c333aef449cdb9a93ae1302204a1efcdfb81a694258a426b05fc54a73df2910541697533bb338ad2e6d437f19
# brainpoolP320r1 (explicit, hybrid public point)
# Random Sig: 3055022900ba93371d482cd0f388088f9b8bfb9321d15b3ca6d6c53e661ad6100de7245828723ced089786ffc80228278a4334fc0a818d606495235caace993a0ae6b406547498bd76ac3e8c77cd065caa89899be27282
# Deterministic Sig: 305602290083c626e6b7226c756bdbc9ed250a7bea986e3bd24026799b6c8a30f55c2298634f3acfdd69dc5dd0022900aa3098fd3b8f72c9c405a535acbbe5398b37637936ae85167fdb72b39ea2f03c4c859524c202d298
# brainpoolP320t1 (explicit, hybrid public point)
# Random Sig: 30550229009406e61bd38f85abf983ec824f86502e6425bed6d046a66cf316fc46f48ad7315995bdfa109f42f902283431ddf51572d23f2042a31884d280e50f0f3cea1e98b3977c494ff6169be796bc427bdf4ca4d900
# Deterministic Sig: 305502285080e449813e6ec8e0f630c5962d6d540228a1ddf6edf4385c568c7b1d5fda754f995382099ac2b1022900ad510d1373db3085703e4952716e304faecd558d9f1154bb6e3f3af0822cd1ea8ba16f76cc66a2da
# brainpoolP384r1 (explicit, hybrid public point)
# Random Sig: 30650231008959ae7426b346502ac06df1d303874c87fc430f7519600bf657ebb8a2b6985b530233a33a1dd67bebab35b8972cf5af023014abd76b7474789232c83910013fdaf0c7945ab5fa0c470e889bd181edd4699a7ececb91c2931a37dd59f5e2573561eb
# Deterministic Sig: 306402300a1d4d9b532c28ed033c3095267e1d12958243bd6ab482dfb2b50311f14ae4385a986b6c7d01ef69aeb8a5e15528dd2402300712fc085c2af8061a4e3914d32f8084ec6a030baed1cab84a18f6d0dbfc544d7628fafdc2fe1bdd512d7dcf736162ca
# brainpoolP384t1 (explicit, hybrid public point)
# Random Sig: 3064023028a60156c870d36c20e46bbd5442ce55bb2cde33c22126a68ca8eb081ec52ccb6d16069ef54bfcf6e00e03e3238dbb6a02306d307f732604d04dcc4927d99d2797ac928a0e26a6ca84050673ea2a587c8187c13948c3f8901279a61e6723e5630857
# Deterministic Sig: 3064023072788f67b86001ed44ff9af964608f687a93989827d5693d5ac75c6174bc6b5e1473d56abacd0b5c3c8063380110048302302c1f8fd5d87342099b06c0039c4e00dd7c3e224dca870c596c6f76cf7202d1f3bfc2d577197dfff6b448cbbadd351f20
# brainpoolP512r1 (explicit, hybrid public point)
# Random Sig: 30818502406d77884418cef316d59d7fe62d665d3658561508ac2a25411131abeaab8c1f9432bedd8e3715bb06498f9e3f497fb75b7af376e44e8f12842360c96dd91c86b10241009f0007c801ab4b16e195f6ae7465f4c1cbff2daef25537276664550758380522f148b86ded5a70de88042e5973bfc4b922015c07418c8a637de00905ec42edd5
# Deterministic Sig: 3081850240314eec8375d6f13c2b10525d78a05c57cd81a24149db0d9799cf1e72f967d515be5e90dbb7ebfbc7a5b1fffaf81230b8d43ab7a3c6421be0fd04e179797ba85c024100962f9b952da469227fe0785f1feaa75abef2cae1b023e6c71abdad5cb087634c7e1718e9eb4a4bfe65169ab9099a70e1bb9478d112713a5893b2a653eb5e7426
# brainpoolP512t1 (explicit, hybrid public point)
# Random Sig: 3081840240698b518664a34a55165e0186d59a1e16fd41bb3daa5f2aaa2e51492b723ed087540fadc4f54c069435ef5ed41a849447aba10415f2eedc3043e594b5c156907c024044d5b04df123a8de587a909ab817a9cb9fb994bbafc6647dec1eb7ed837b7681ffc465b8633851a5c6c6f79dcd06dbcadf9c06bbf8aab50d5ceaf0f4871a4dfb
# Deterministic Sig: 308185024070fd97cb91eb41f2ffa34bdd8079aa01fe67b04e5caf58232a4a827c8aabe378d3de9547a40deddcfc5a1e868b95003c049ca9764e359e603792a1ec2ba2b59702410090d5e216fe441d87d922b38f81a60d0f91bcb48fc9667e37e3161bc7bea967a8ea36c029e0f4fb6e4ad9092bc247ebae22d3d2d5ed67731fdf4392c3dd0a665d
# c2pnb163v1 (explicit, hybrid public point)
# c2pnb163v2 (explicit, hybrid public point)
# c2pnb163v3 (explicit, hybrid public point)
# c2pnb176v1 (explicit, hybrid public point)
# c2pnb208w1 (explicit, hybrid public point)
# c2pnb272w1 (explicit, hybrid public point)
# c2pnb304w1 (explicit, hybrid public point)
# c2pnb368w1 (explicit, hybrid public point)
# c2tnb191v1 (explicit, hybrid public point)
# c2tnb191v2 (explicit, hybrid public point)
# c2tnb191v3 (explicit, hybrid public point)
# c2tnb239v1 (explicit, hybrid public point)
# c2tnb239v2 (explicit, hybrid public point)
# c2tnb239v3 (explicit, hybrid public point)
# c2tnb359v1 (explicit, hybrid public point)
# c2tnb431r1 (explicit, hybrid public point)
# prime192v1 (explicit, hybrid public point)
# Random Sig: 303402183c5402ef3ff84a484012d644898e765c633221fd4ffe01f202183b7b0331a8619e674a30cbaf9221814745597c0217964c1a
# Deterministic Sig: 3035021900ae8ebff29fec86c6f628c822b711c60c57e488e00ac48fc60218794c82c78ee398365ac894e9ff78888e1b1f15b775ee3417
# prime192v2 (explicit, hybrid public point)
# Random Sig: 303402184a7072f4441390f9c4088e8f3f797644e9c2e2af19bf1dd4021800e7b1eebc34704bd1521fda577149cf0f66dcaeca18f12a
# Deterministic Sig: 3035021900b4df0a3fd3b8c53ceccbc91f8cf12ecd22b9552b71dcc22a02185db353a97b532fc3850bbfdbf0093f54808b77e38e2ff819
# prime192v3 (explicit, hybrid public point)
# Random Sig: 3036021900a26342a26b533292078d4b88baf78db5e0138058a79a0346021900f571bce02ecc02934d9806ff2b13725ebedae2d8ea6ba206
# Deterministic Sig: 303502182fffcf0cea1827d293ed74a96c05ddec60493cd16f8a6ad4021900ed06d49b19fe5b90c6f34e2670658067cedd1914f6a68c31
# prime239v1 (explicit, hybrid public point)
# Random Sig: 3040021e08379ff0387688f80f14a77a7da5402662fc47d49a9fced43a7979133c74021e3ff0ef3fcea78debdcd7062efd39925ffe65fc8cea0c7812f90f88fe3523
# Deterministic Sig: 3040021e59178edcdb4cd7cdb8a1ab629946a95f885ee61d47c460c6700c084e4a0b021e4a8a61e9e64ede6b59bc4644a59dc6a1757950743a1ac2850ab91045c075
# prime239v2 (explicit, hybrid public point)
# Random Sig: 3040021e3df0aadc78525f7c66b37e4a93edefe89b290af2e69bc9cfa6e44fe29b87021e424a782fcad9410b1e1e85d589c887725a32905b4095a1c50e42a98db812
# Deterministic Sig: 3040021e1ba4769a5d8b70e85528d989410d05a6dd5f4e332ae7dfc9ab145a2e65c7021e22e8fe3662a35a40ed380231598edd914069262362cc5ff706ec4f9fc7cb
# prime239v3 (explicit, hybrid public point)
# Random Sig: 3040021e72ba48b8cb047fe9456fb9e4c17232fa2d5d7937911d98b9b34970c53ada021e534eb000e7fa0f3503e6fc7fa83b6c4ced62b8a0e11eecaa28784e8ef55a
# Deterministic Sig: 3040021e4a3b5ba7a383bc6f8f753bbb9f958386894a8ab05622f428781f1024296e021e11a93bc2106fa37a69a5765143599819a73c9ee9765e88ea034dc6f16d6d
# prime256v1 (explicit, hybrid public point)
# Random Sig: 304402201aacf3c4e23711891d6c35e6eecc0c0e63c7b3bf95481b9561c49cb8976a5a19022075e4894ec8a2b73d715131729794949d7b58654bd6612898e3f09a5b7773ef80
# Deterministic Sig: 304402205e4ee44fdc4296598ab94b55ec11c5ecd774a7c24ad6da4fcaba9c50c51a086e022039c024de66a6828c9d7df43c12b139fd1a574034139a8f2facb1c3c8a3a84c12
# secp112r1 (explicit, hybrid public point)
# secp112r2 (explicit, hybrid public point)
# secp128r1 (explicit, hybrid public point)
# secp128r2 (explicit, hybrid public point)
# secp160k1 (explicit, hybrid public point)
# Random Sig: 302c02143b12ec563445ea0e2802b955c091b3c62f2f88f7021408f5cd7c44924d1b6ab9d2d7d0f69a8589dc9e4a
# Deterministic Sig: 302c02140a41b8bd28fdfcd53c19906d3b892afb77537773021403dea9fc7dadf06ab652ab7236f282c9772be986
# secp160r1 (explicit, hybrid public point)
# Random Sig: 302e021500ff1eb4fa21f527547f10ae266052b5e93d05602b021500b2709cda1683e3223226dbba18017286750a5314
# Deterministic Sig: 302e021500f2f57f47a571a70320caf6630a4a02aaece85c0d021500a30e928867fe3a21c99f23dad0cf096ea0e5e13f
# secp160r2 (explicit, hybrid public point)
# Random Sig: 302d021500d07d6ed4ede96c7303ee948a03374ab2005ed5a802144091a1d5edcc97ad0550987ca582ee43432db193
# Deterministic Sig: 302d02146e2ff0050a6bc808bdf2caea273700245ad9e78f0215008bec26b59cc8b5df60b9b268c3d2e71e5a0fdbdf
# secp192k1 (explicit, hybrid public point)
# Random Sig: 303402181d716520029a7b39454e321d21ee2124fd20a70440f63c3102187e29597f04baed5590c9c5a82d00ab226c18b6e7a7faeb6a
# Deterministic Sig: 3036021900c81edce592471236e733bfd455ef34f546890cf30484f2cc02190082c18497b6deba74599dc366f38616a99fa1e17fc77ea800
# secp224k1 (explicit, hybrid public point)
# Random Sig: 303d021c7392b853de5ebfce0fb0f7f94579dc352c2d29eb0963f90e3f213a28021d00baa617269f5033695f4aa9cf38f413b5ce2725e0a849785e623475a4
# Deterministic Sig: 303d021d00ca684d2676c8202742b707a5d3335cfc22882db654e967ccb40da184021c110c403cd5dcc2d1a041e2f323285efd173d8fb3a041344c98226cd4
# secp224r1 (explicit, hybrid public point)
# Random Sig: 303c021c76c23d3a89ee4e50cecc5b81a7c1dd4231494b038ebd37c90863a277021c4f20bea70685f7b69844b3b433e7e7b88afa99c3dff9c582ad76c0b5
# Deterministic Sig: 303d021c008ff3c36d3a88e69fc637dabb82a4a3ca0cd0f1d7239f77bf2b368c021d00936f3bd04731329e6b949e692d9ebefe4c7eacccb1c730c247ec77ec
# secp256k1 (explicit, hybrid public point)
# Random Sig: 3044022069c2ab4123dd7d33f30b5de15b6edd40a9a4c5baab8d6850cb2fdf06313c5a080220347581f30ca267d615b5bdbcaee27b52128fef13045c515d0b45560409224bca
# Deterministic Sig: 3045022100b71f7fe47508c13d3480c4b1c55af0a83105d0a148756768c1654c3cde6e180702206b7aafce381fbf9e7efa8b0570d79098c84b551f8afd9885af53fc8b6f3d80ce
# secp384r1 (explicit, hybrid public point)
# Random Sig: 3065023100c2a18b424ab35992341a181112ddd1694989304562674a230a4a0d2755fcf75c08bc4bed661716232c27b875513ff9bb02306a64c2fb5bbe40a05660707629784e42d7c335e65c79cba845a6a31429864e2682450240d21bc3c0953c9b253b3a7ff1
# Deterministic Sig: 306402306bb41e2e8fa84de1671d24296248e2490a0a1fb4cd0239d0076508a76190536b2ed41ac0f482b9ab161a89614180d32a02300b406085d61d3f67e8a9970dd26da74e6442f080b3241184e3d5bcd5f7336ea37368083ab49f3a7f056657a73c7c6f5c
# secp521r1 (explicit, hybrid public point)
# Random Sig: 30818702420089c5214ffc998cda942f6ea8d0826986ab3718ee040c6e15cc3ba3015dc67c30d4d60ad2b353aa889b86026c8b1ebefe7d47fbad2e1daff22b5341d17902a908bc024121e04dfdcbeb3d92e17369f97490af886e860475532e98be19e68aaa4a13bc6c54e3c166892c08df6c10d976cdcbc7cd9fb3746bb1b7579077ca68671830b72643
# Deterministic Sig: 3081880242013364214d6c783186fa0299852165d4730b26fe8b15257663126fc17236b456a8c25e8474259615829f072e5de0166552d52a22f09c00c2d0019336cc6d6b37a6340242015a7860906a72c18e8c2bda8582073ba4a76025c4ce834bb0ddc88426ce8117facd1e88621b12952aacf7953a2c64995eaf3d97d6f1173437ef84f0b0c58fae006b
# sect113r1 (explicit, hybrid public point)
# sect113r2 (explicit, hybrid public point)
# sect131r1 (explicit, hybrid public point)
# sect131r2 (explicit, hybrid public point)
# sect163k1 (explicit, hybrid public point)
# sect163r1 (explicit, hybrid public point)
# sect163r2 (explicit, hybrid public point)
# sect193r1 (explicit, hybrid public point)
# sect193r2 (explicit, hybrid public point)
# sect233k1 (explicit, hybrid public point)
# sect233r1 (explicit, hybrid public point)
# sect239k1 (explicit, hybrid public point)
# sect283k1 (explicit, hybrid public point)
# sect283r1 (explicit, hybrid public point)
# sect409k1 (explicit, hybrid public point)
# sect409r1 (explicit, hybrid public point)
# sect571k1 (explicit, hybrid public point)
# sect571r1 (explicit, hybrid public point)
# wap-wsg-idm-ecid-wtls1 (explicit, hybrid public point)
# wap-wsg-idm-ecid-wtls10 (explicit, hybrid public point)
# wap-wsg-idm-ecid-wtls11 (explicit, hybrid public point)
# wap-wsg-idm-ecid-wtls12 (explicit, hybrid public point)
# Random Sig: 303c021c01a77fd7a8fce36a5586a4f1e1140cf5286b8eb6a2aecc19f6d49d5b021c3444c0115915bc69266b4a1899557fa9d28efb5f632153664d6baa44
# Deterministic Sig: 303c021c1fb53bc06065dd5345934cc804ae9e0b1cbd4a577bfb8e6fb8e42ab9021c0d1113aa645ebb4832b97952e3240f17619f5aacee0e70b53c90d15e
# wap-wsg-idm-ecid-wtls3 (explicit, hybrid public point)
# wap-wsg-idm-ecid-wtls4 (explicit, hybrid public point)
# wap-wsg-idm-ecid-wtls5 (explicit, hybrid public point)
# wap-wsg-idm-ecid-wtls6 (explicit, hybrid public point)
# wap-wsg-idm-ecid-wtls7 (explicit, hybrid public point)
# Random Sig: 302c02146312f81cbeeae2a8373b274ab462672d10f12f3e02141874d749b8098fdf0d307213d2e8de6aa3f2a398
# Deterministic Sig: 302d021500dab940bd37ab7972313379b593d08060f4624a2c02145a22254ccc4c34990c62d673fd9b70e660175844
# wap-wsg-idm-ecid-wtls8 (explicit, hybrid public point)
# wap-wsg-idm-ecid-wtls9 (explicit, hybrid public point)
# Random Sig: 302c021431fe89fbb21e0077b33f16c1396ec8ca9715b0d002141ffc8c89dd643bb4e2fc37c072fd8247303fc208
# Deterministic Sig: 302d02145e05983d459ceaa66b91b118dd5dcb1bc9742d9a0215008633103cc05ce997575c12d5240f014b12e0b9d0
# {
#   'c2pnb163v1 (explicit, compressed public point)' => 'Crypt::Perl::X::ECDSA::CharacteristicTwoUnsupported',
#   'c2pnb163v1 (explicit, hybrid public point)' => 'Crypt::Perl::X::ECDSA::CharacteristicTwoUnsupported',
#   'c2pnb163v1 (explicit, uncompressed public point)' => 'Crypt::Perl::X::ECDSA::CharacteristicTwoUnsupported',
#   'c2pnb163v1 (named_curve, compressed public point)' => 'Crypt::Perl::X::ECDSA::NoCurveForOID',
#   'c2pnb163v1 (named_curve, hybrid public point)' => 'Crypt::Perl::X::ECDSA::NoCurveForOID',
#   'c2pnb163v1 (named_curve, uncompressed public point)' => 'Crypt::Perl::X::ECDSA::NoCurveForOID',
#   'c2pnb163v2 (explicit, compressed public point)' => 'Crypt::Perl::X::ECDSA::CharacteristicTwoUnsupported',
#   'c2pnb163v2 (explicit, hybrid public point)' => 'Crypt::Perl::X::ECDSA::CharacteristicTwoUnsupported',
#   'c2pnb163v2 (explicit, uncompressed public point)' => 'Crypt::Perl::X::ECDSA::CharacteristicTwoUnsupported',
#   'c2pnb163v2 (named_curve, compressed public point)' => 'Crypt::Perl::X::ECDSA::NoCurveForOID',
#   'c2pnb163v2 (named_curve, hybrid public point)' => 'Crypt::Perl::X::ECDSA::NoCurveForOID',
#   'c2pnb163v2 (named_curve, uncompressed public point)' => 'Crypt::Perl::X::ECDSA::NoCurveForOID',
#   'c2pnb163v3 (explicit, compressed public point)' => 'Crypt::Perl::X::ECDSA::CharacteristicTwoUnsupported',
#   'c2pnb163v3 (explicit, hybrid public point)' => 'Crypt::Perl::X::ECDSA::CharacteristicTwoUnsupported',
#   'c2pnb163v3 (explicit, uncompressed public point)' => 'Crypt::Perl::X::ECDSA::CharacteristicTwoUnsupported',
#   'c2pnb163v3 (named_curve, compressed public point)' => 'Crypt::Perl::X::ECDSA::NoCurveForOID',
#   'c2pnb163v3 (named_curve, hybrid public point)' => 'Crypt::Perl::X::ECDSA::NoCurveForOID',
#   'c2pnb163v3 (named_curve, uncompressed public point)' => 'Crypt::Perl::X::ECDSA::NoCurveForOID',
#   'c2pnb176v1 (explicit, compressed public point)' => 'Crypt::Perl::X::ECDSA::CharacteristicTwoUnsupported',
#   'c2pnb176v1 (explicit, hybrid public point)' => 'Crypt::Perl::X::ECDSA::CharacteristicTwoUnsupported',
#   'c2pnb176v1 (explicit, uncompressed public point)' => 'Crypt::Perl::X::ECDSA::CharacteristicTwoUnsupported',
#   'c2pnb176v1 (named_curve, compressed public point)' => 'Crypt::Perl::X::ECDSA::NoCurveForOID',
#   'c2pnb176v1 (named_curve, hybrid public point)' => 'Crypt::Perl::X::ECDSA::NoCurveForOID',
#   'c2pnb176v1 (named_curve, uncompressed public point)' => 'Crypt::Perl::X::ECDSA::NoCurveForOID',
#   'c2pnb208w1 (explicit, compressed public point)' => 'Crypt::Perl::X::ECDSA::CharacteristicTwoUnsupported',
#   'c2pnb208w1 (explicit, hybrid public point)' => 'Crypt::Perl::X::ECDSA::CharacteristicTwoUnsupported',
#   'c2pnb208w1 (explicit, uncompressed public point)' => 'Crypt::Perl::X::ECDSA::CharacteristicTwoUnsupported',
#   'c2pnb208w1 (named_curve, compressed public point)' => 'Crypt::Perl::X::ECDSA::NoCurveForOID',
#   'c2pnb208w1 (named_curve, hybrid public point)' => 'Crypt::Perl::X::ECDSA::NoCurveForOID',
#   'c2pnb208w1 (named_curve, uncompressed public point)' => 'Crypt::Perl::X::ECDSA::NoCurveForOID',
#   'c2pnb272w1 (explicit, compressed public point)' => 'Crypt::Perl::X::ECDSA::CharacteristicTwoUnsupported',
#   'c2pnb272w1 (explicit, hybrid public point)' => 'Crypt::Perl::X::ECDSA::CharacteristicTwoUnsupported',
#   'c2pnb272w1 (explicit, uncompressed public point)' => 'Crypt::Perl::X::ECDSA::CharacteristicTwoUnsupported',
#   'c2pnb272w1 (named_curve, compressed public point)' => 'Crypt::Perl::X::ECDSA::NoCurveForOID',
#   'c2pnb272w1 (named_curve, hybrid public point)' => 'Crypt::Perl::X::ECDSA::NoCurveForOID',
#   'c2pnb272w1 (named_curve, uncompressed public point)' => 'Crypt::Perl::X::ECDSA::NoCurveForOID',
#   'c2pnb304w1 (explicit, compressed public point)' => 'Crypt::Perl::X::ECDSA::CharacteristicTwoUnsupported',
#   'c2pnb304w1 (explicit, hybrid public point)' => 'Crypt::Perl::X::ECDSA::CharacteristicTwoUnsupported',
#   'c2pnb304w1 (explicit, uncompressed public point)' => 'Crypt::Perl::X::ECDSA::CharacteristicTwoUnsupported',
#   'c2pnb304w1 (named_curve, compressed public point)' => 'Crypt::Perl::X::ECDSA::NoCurveForOID',
#   'c2pnb304w1 (named_curve, hybrid public point)' => 'Crypt::Perl::X::ECDSA::NoCurveForOID',
#   'c2pnb304w1 (named_curve, uncompressed public point)' => 'Crypt::Perl::X::ECDSA::NoCurveForOID',
#   'c2pnb368w1 (explicit, compressed public point)' => 'Crypt::Perl::X::ECDSA::CharacteristicTwoUnsupported',
#   'c2pnb368w1 (explicit, hybrid public point)' => 'Crypt::Perl::X::ECDSA::CharacteristicTwoUnsupported',
#   'c2pnb368w1 (explicit, uncompressed public point)' => 'Crypt::Perl::X::ECDSA::CharacteristicTwoUnsupported',
#   'c2pnb368w1 (named_curve, compressed public point)' => 'Crypt::Perl::X::ECDSA::NoCurveForOID',
#   'c2pnb368w1 (named_curve, hybrid public point)' => 'Crypt::Perl::X::ECDSA::NoCurveForOID',
#   'c2pnb368w1 (named_curve, uncompressed public point)' => 'Crypt::Perl::X::ECDSA::NoCurveForOID',
#   'c2tnb191v1 (explicit, compressed public point)' => 'Crypt::Perl::X::ECDSA::CharacteristicTwoUnsupported',
#   'c2tnb191v1 (explicit, hybrid public point)' => 'Crypt::Perl::X::ECDSA::CharacteristicTwoUnsupported',
#   'c2tnb191v1 (explicit, uncompressed public point)' => 'Crypt::Perl::X::ECDSA::CharacteristicTwoUnsupported',
#   'c2tnb191v1 (named_curve, compressed public point)' => 'Crypt::Perl::X::ECDSA::NoCurveForOID',
#   'c2tnb191v1 (named_curve, hybrid public point)' => 'Crypt::Perl::X::ECDSA::NoCurveForOID',
#   'c2tnb191v1 (named_curve, uncompressed public point)' => 'Crypt::Perl::X::ECDSA::NoCurveForOID',
#   'c2tnb191v2 (explicit, compressed public point)' => 'Crypt::Perl::X::ECDSA::CharacteristicTwoUnsupported',
#   'c2tnb191v2 (explicit, hybrid public point)' => 'Crypt::Perl::X::ECDSA::CharacteristicTwoUnsupported',
#   'c2tnb191v2 (explicit, uncompressed public point)' => 'Crypt::Perl::X::ECDSA::CharacteristicTwoUnsupported',
#   'c2tnb191v2 (named_curve, compressed public point)' => 'Crypt::Perl::X::ECDSA::NoCurveForOID',
#   'c2tnb191v2 (named_curve, hybrid public point)' => 'Crypt::Perl::X::ECDSA::NoCurveForOID',
#   'c2tnb191v2 (named_curve, uncompressed public point)' => 'Crypt::Perl::X::ECDSA::NoCurveForOID',
#   'c2tnb191v3 (explicit, compressed public point)' => 'Crypt::Perl::X::ECDSA::CharacteristicTwoUnsupported',
#   'c2tnb191v3 (explicit, hybrid public point)' => 'Crypt::Perl::X::ECDSA::CharacteristicTwoUnsupported',
#   'c2tnb191v3 (explicit, uncompressed public point)' => 'Crypt::Perl::X::ECDSA::CharacteristicTwoUnsupported',
#   'c2tnb191v3 (named_curve, compressed public point)' => 'Crypt::Perl::X::ECDSA::NoCurveForOID',
#   'c2tnb191v3 (named_curve, hybrid public point)' => 'Crypt::Perl::X::ECDSA::NoCurveForOID',
#   'c2tnb191v3 (named_curve, uncompressed public point)' => 'Crypt::Perl::X::ECDSA::NoCurveForOID',
#   'c2tnb239v1 (explicit, compressed public point)' => 'Crypt::Perl::X::ECDSA::CharacteristicTwoUnsupported',
#   'c2tnb239v1 (explicit, hybrid public point)' => 'Crypt::Perl::X::ECDSA::CharacteristicTwoUnsupported',
#   'c2tnb239v1 (explicit, uncompressed public point)' => 'Crypt::Perl::X::ECDSA::CharacteristicTwoUnsupported',
#   'c2tnb239v1 (named_curve, compressed public point)' => 'Crypt::Perl::X::ECDSA::NoCurveForOID',
#   'c2tnb239v1 (named_curve, hybrid public point)' => 'Crypt::Perl::X::ECDSA::NoCurveForOID',
#   'c2tnb239v1 (named_curve, uncompressed public point)' => 'Crypt::Perl::X::ECDSA::NoCurveForOID',
#   'c2tnb239v2 (explicit, compressed public point)' => 'Crypt::Perl::X::ECDSA::CharacteristicTwoUnsupported',
#   'c2tnb239v2 (explicit, hybrid public point)' => 'Crypt::Perl::X::ECDSA::CharacteristicTwoUnsupported',
#   'c2tnb239v2 (explicit, uncompressed public point)' => 'Crypt::Perl::X::ECDSA::CharacteristicTwoUnsupported',
#   'c2tnb239v2 (named_curve, compressed public point)' => 'Crypt::Perl::X::ECDSA::NoCurveForOID',
#   'c2tnb239v2 (named_curve, hybrid public point)' => 'Crypt::Perl::X::ECDSA::NoCurveForOID',
#   'c2tnb239v2 (named_curve, uncompressed public point)' => 'Crypt::Perl::X::ECDSA::NoCurveForOID',
#   'c2tnb239v3 (explicit, compressed public point)' => 'Crypt::Perl::X::ECDSA::CharacteristicTwoUnsupported',
#   'c2tnb239v3 (explicit, hybrid public point)' => 'Crypt::Perl::X::ECDSA::CharacteristicTwoUnsupported',
#   'c2tnb239v3 (explicit, uncompressed public point)' => 'Crypt::Perl::X::ECDSA::CharacteristicTwoUnsupported',
#   'c2tnb239v3 (named_curve, compressed public point)' => 'Crypt::Perl::X::ECDSA::NoCurveForOID',
#   'c2tnb239v3 (named_curve, hybrid public point)' => 'Crypt::Perl::X::ECDSA::NoCurveForOID',
#   'c2tnb239v3 (named_curve, uncompressed public point)' => 'Crypt::Perl::X::ECDSA::NoCurveForOID',
#   'c2tnb359v1 (explicit, compressed public point)' => 'Crypt::Perl::X::ECDSA::CharacteristicTwoUnsupported',
#   'c2tnb359v1 (explicit, hybrid public point)' => 'Crypt::Perl::X::ECDSA::CharacteristicTwoUnsupported',
#   'c2tnb359v1 (explicit, uncompressed public point)' => 'Crypt::Perl::X::ECDSA::CharacteristicTwoUnsupported',
#   'c2tnb359v1 (named_curve, compressed public point)' => 'Crypt::Perl::X::ECDSA::NoCurveForOID',
#   'c2tnb359v1 (named_curve, hybrid public point)' => 'Crypt::Perl::X::ECDSA::NoCurveForOID',
#   'c2tnb359v1 (named_curve, uncompressed public point)' => 'Crypt::Perl::X::ECDSA::NoCurveForOID',
#   'c2tnb431r1 (explicit, compressed public point)' => 'Crypt::Perl::X::ECDSA::CharacteristicTwoUnsupported',
#   'c2tnb431r1 (explicit, hybrid public point)' => 'Crypt::Perl::X::ECDSA::CharacteristicTwoUnsupported',
#   'c2tnb431r1 (explicit, uncompressed public point)' => 'Crypt::Perl::X::ECDSA::CharacteristicTwoUnsupported',
#   'c2tnb431r1 (named_curve, compressed public point)' => 'Crypt::Perl::X::ECDSA::NoCurveForOID',
#   'c2tnb431r1 (named_curve, hybrid public point)' => 'Crypt::Perl::X::ECDSA::NoCurveForOID',
#   'c2tnb431r1 (named_curve, uncompressed public point)' => 'Crypt::Perl::X::ECDSA::NoCurveForOID',
#   'secp112r1 (explicit, compressed public point)' => 'Crypt::Perl::X::TooLongToSign',
#   'secp112r1 (explicit, hybrid public point)' => 'Crypt::Perl::X::TooLongToSign',
#   'secp112r1 (explicit, uncompressed public point)' => 'Crypt::Perl::X::TooLongToSign',
#   'secp112r1 (named_curve, compressed public point)' => 'Crypt::Perl::X::TooLongToSign',
#   'secp112r1 (named_curve, hybrid public point)' => 'Crypt::Perl::X::TooLongToSign',
#   'secp112r1 (named_curve, uncompressed public point)' => 'Crypt::Perl::X::TooLongToSign',
#   'secp112r2 (explicit, compressed public point)' => 'Crypt::Perl::X::TooLongToSign',
#   'secp112r2 (explicit, hybrid public point)' => 'Crypt::Perl::X::TooLongToSign',
#   'secp112r2 (explicit, uncompressed public point)' => 'Crypt::Perl::X::TooLongToSign',
#   'secp112r2 (named_curve, compressed public point)' => 'Crypt::Perl::X::TooLongToSign',
#   'secp112r2 (named_curve, hybrid public point)' => 'Crypt::Perl::X::TooLongToSign',
#   'secp112r2 (named_curve, uncompressed public point)' => 'Crypt::Perl::X::TooLongToSign',
#   'secp128r1 (explicit, compressed public point)' => 'Crypt::Perl::X::TooLongToSign',
#   'secp128r1 (explicit, hybrid public point)' => 'Crypt::Perl::X::TooLongToSign',
#   'secp128r1 (explicit, uncompressed public point)' => 'Crypt::Perl::X::TooLongToSign',
#   'secp128r1 (named_curve, compressed public point)' => 'Crypt::Perl::X::TooLongToSign',
#   'secp128r1 (named_curve, hybrid public point)' => 'Crypt::Perl::X::TooLongToSign',
#   'secp128r1 (named_curve, uncompressed public point)' => 'Crypt::Perl::X::TooLongToSign',
#   'secp128r2 (explicit, compressed public point)' => 'Crypt::Perl::X::TooLongToSign',
#   'secp128r2 (explicit, hybrid public point)' => 'Crypt::Perl::X::TooLongToSign',
#   'secp128r2 (explicit, uncompressed public point)' => 'Crypt::Perl::X::TooLongToSign',
#   'secp128r2 (named_curve, compressed public point)' => 'Crypt::Perl::X::TooLongToSign',
#   'secp128r2 (named_curve, hybrid public point)' => 'Crypt::Perl::X::TooLongToSign',
#   'secp128r2 (named_curve, uncompressed public point)' => 'Crypt::Perl::X::TooLongToSign',
#   'sect113r1 (explicit, compressed public point)' => 'Crypt::Perl::X::ECDSA::CharacteristicTwoUnsupported',
#   'sect113r1 (explicit, hybrid public point)' => 'Crypt::Perl::X::ECDSA::CharacteristicTwoUnsupported',
#   'sect113r1 (explicit, uncompressed public point)' => 'Crypt::Perl::X::ECDSA::CharacteristicTwoUnsupported',
#   'sect113r1 (named_curve, compressed public point)' => 'Crypt::Perl::X::ECDSA::NoCurveForOID',
#   'sect113r1 (named_curve, hybrid public point)' => 'Crypt::Perl::X::ECDSA::NoCurveForOID',
#   'sect113r1 (named_curve, uncompressed public point)' => 'Crypt::Perl::X::ECDSA::NoCurveForOID',
#   'sect113r2 (explicit, compressed public point)' => 'Crypt::Perl::X::ECDSA::CharacteristicTwoUnsupported',
#   'sect113r2 (explicit, hybrid public point)' => 'Crypt::Perl::X::ECDSA::CharacteristicTwoUnsupported',
#   'sect113r2 (explicit, uncompressed public point)' => 'Crypt::Perl::X::ECDSA::CharacteristicTwoUnsupported',
#   'sect113r2 (named_curve, compressed public point)' => 'Crypt::Perl::X::ECDSA::NoCurveForOID',
#   'sect113r2 (named_curve, hybrid public point)' => 'Crypt::Perl::X::ECDSA::NoCurveForOID',
#   'sect113r2 (named_curve, uncompressed public point)' => 'Crypt::Perl::X::ECDSA::NoCurveForOID',
#   'sect131r1 (explicit, compressed public point)' => 'Crypt::Perl::X::ECDSA::CharacteristicTwoUnsupported',
#   'sect131r1 (explicit, hybrid public point)' => 'Crypt::Perl::X::ECDSA::CharacteristicTwoUnsupported',
#   'sect131r1 (explicit, uncompressed public point)' => 'Crypt::Perl::X::ECDSA::CharacteristicTwoUnsupported',
#   'sect131r1 (named_curve, compressed public point)' => 'Crypt::Perl::X::ECDSA::NoCurveForOID',
#   'sect131r1 (named_curve, hybrid public point)' => 'Crypt::Perl::X::ECDSA::NoCurveForOID',
#   'sect131r1 (named_curve, uncompressed public point)' => 'Crypt::Perl::X::ECDSA::NoCurveForOID',
#   'sect131r2 (explicit, compressed public point)' => 'Crypt::Perl::X::ECDSA::CharacteristicTwoUnsupported',
#   'sect131r2 (explicit, hybrid public point)' => 'Crypt::Perl::X::ECDSA::CharacteristicTwoUnsupported',
#   'sect131r2 (explicit, uncompressed public point)' => 'Crypt::Perl::X::ECDSA::CharacteristicTwoUnsupported',
#   'sect131r2 (named_curve, compressed public point)' => 'Crypt::Perl::X::ECDSA::NoCurveForOID',
#   'sect131r2 (named_curve, hybrid public point)' => 'Crypt::Perl::X::ECDSA::NoCurveForOID',
#   'sect131r2 (named_curve, uncompressed public point)' => 'Crypt::Perl::X::ECDSA::NoCurveForOID',
#   'sect163k1 (explicit, compressed public point)' => 'Crypt::Perl::X::ECDSA::CharacteristicTwoUnsupported',
#   'sect163k1 (explicit, hybrid public point)' => 'Crypt::Perl::X::ECDSA::CharacteristicTwoUnsupported',
#   'sect163k1 (explicit, uncompressed public point)' => 'Crypt::Perl::X::ECDSA::CharacteristicTwoUnsupported',
#   'sect163k1 (named_curve, compressed public point)' => 'Crypt::Perl::X::ECDSA::NoCurveForOID',
#   'sect163k1 (named_curve, hybrid public point)' => 'Crypt::Perl::X::ECDSA::NoCurveForOID',
#   'sect163k1 (named_curve, uncompressed public point)' => 'Crypt::Perl::X::ECDSA::NoCurveForOID',
#   'sect163r1 (explicit, compressed public point)' => 'Crypt::Perl::X::ECDSA::CharacteristicTwoUnsupported',
#   'sect163r1 (explicit, hybrid public point)' => 'Crypt::Perl::X::ECDSA::CharacteristicTwoUnsupported',
#   'sect163r1 (explicit, uncompressed public point)' => 'Crypt::Perl::X::ECDSA::CharacteristicTwoUnsupported',
#   'sect163r1 (named_curve, compressed public point)' => 'Crypt::Perl::X::ECDSA::NoCurveForOID',
#   'sect163r1 (named_curve, hybrid public point)' => 'Crypt::Perl::X::ECDSA::NoCurveForOID',
#   'sect163r1 (named_curve, uncompressed public point)' => 'Crypt::Perl::X::ECDSA::NoCurveForOID',
#   'sect163r2 (explicit, compressed public point)' => 'Crypt::Perl::X::ECDSA::CharacteristicTwoUnsupported',
#   'sect163r2 (explicit, hybrid public point)' => 'Crypt::Perl::X::ECDSA::CharacteristicTwoUnsupported',
#   'sect163r2 (explicit, uncompressed public point)' => 'Crypt::Perl::X::ECDSA::CharacteristicTwoUnsupported',
#   'sect163r2 (named_curve, compressed public point)' => 'Crypt::Perl::X::ECDSA::NoCurveForOID',
#   'sect163r2 (named_curve, hybrid public point)' => 'Crypt::Perl::X::ECDSA::NoCurveForOID',
#   'sect163r2 (named_curve, uncompressed public point)' => 'Crypt::Perl::X::ECDSA::NoCurveForOID',
#   'sect193r1 (explicit, compressed public point)' => 'Crypt::Perl::X::ECDSA::CharacteristicTwoUnsupported',
#   'sect193r1 (explicit, hybrid public point)' => 'Crypt::Perl::X::ECDSA::CharacteristicTwoUnsupported',
#   'sect193r1 (explicit, uncompressed public point)' => 'Crypt::Perl::X::ECDSA::CharacteristicTwoUnsupported',
#   'sect193r1 (named_curve, compressed public point)' => 'Crypt::Perl::X::ECDSA::NoCurveForOID',
#   'sect193r1 (named_curve, hybrid public point)' => 'Crypt::Perl::X::ECDSA::NoCurveForOID',
#   'sect193r1 (named_curve, uncompressed public point)' => 'Crypt::Perl::X::ECDSA::NoCurveForOID',
#   'sect193r2 (explicit, compressed public point)' => 'Crypt::Perl::X::ECDSA::CharacteristicTwoUnsupported',
#   'sect193r2 (explicit, hybrid public point)' => 'Crypt::Perl::X::ECDSA::CharacteristicTwoUnsupported',
#   'sect193r2 (explicit, uncompressed public point)' => 'Crypt::Perl::X::ECDSA::CharacteristicTwoUnsupported',
#   'sect193r2 (named_curve, compressed public point)' => 'Crypt::Perl::X::ECDSA::NoCurveForOID',
#   'sect193r2 (named_curve, hybrid public point)' => 'Crypt::Perl::X::ECDSA::NoCurveForOID',
#   'sect193r2 (named_curve, uncompressed public point)' => 'Crypt::Perl::X::ECDSA::NoCurveForOID',
#   'sect233k1 (explicit, compressed public point)' => 'Crypt::Perl::X::ECDSA::CharacteristicTwoUnsupported',
#   'sect233k1 (explicit, hybrid public point)' => 'Crypt::Perl::X::ECDSA::CharacteristicTwoUnsupported',
#   'sect233k1 (explicit, uncompressed public point)' => 'Crypt::Perl::X::ECDSA::CharacteristicTwoUnsupported',
#   'sect233k1 (named_curve, compressed public point)' => 'Crypt::Perl::X::ECDSA::NoCurveForOID',
#   'sect233k1 (named_curve, hybrid public point)' => 'Crypt::Perl::X::ECDSA::NoCurveForOID',
#   'sect233k1 (named_curve, uncompressed public point)' => 'Crypt::Perl::X::ECDSA::NoCurveForOID',
#   'sect233r1 (explicit, compressed public point)' => 'Crypt::Perl::X::ECDSA::CharacteristicTwoUnsupported',
#   'sect233r1 (explicit, hybrid public point)' => 'Crypt::Perl::X::ECDSA::CharacteristicTwoUnsupported',
#   'sect233r1 (explicit, uncompressed public point)' => 'Crypt::Perl::X::ECDSA::CharacteristicTwoUnsupported',
#   'sect233r1 (named_curve, compressed public point)' => 'Crypt::Perl::X::ECDSA::NoCurveForOID',
#   'sect233r1 (named_curve, hybrid public point)' => 'Crypt::Perl::X::ECDSA::NoCurveForOID',
#   'sect233r1 (named_curve, uncompressed public point)' => 'Crypt::Perl::X::ECDSA::NoCurveForOID',
#   'sect239k1 (explicit, compressed public point)' => 'Crypt::Perl::X::ECDSA::CharacteristicTwoUnsupported',
#   'sect239k1 (explicit, hybrid public point)' => 'Crypt::Perl::X::ECDSA::CharacteristicTwoUnsupported',
#   'sect239k1 (explicit, uncompressed public point)' => 'Crypt::Perl::X::ECDSA::CharacteristicTwoUnsupported',
#   'sect239k1 (named_curve, compressed public point)' => 'Crypt::Perl::X::ECDSA::NoCurveForOID',
#   'sect239k1 (named_curve, hybrid public point)' => 'Crypt::Perl::X::ECDSA::NoCurveForOID',
#   'sect239k1 (named_curve, uncompressed public point)' => 'Crypt::Perl::X::ECDSA::NoCurveForOID',
#   'sect283k1 (explicit, compressed public point)' => 'Crypt::Perl::X::ECDSA::CharacteristicTwoUnsupported',
#   'sect283k1 (explicit, hybrid public point)' => 'Crypt::Perl::X::ECDSA::CharacteristicTwoUnsupported',
#   'sect283k1 (explicit, uncompressed public point)' => 'Crypt::Perl::X::ECDSA::CharacteristicTwoUnsupported',
#   'sect283k1 (named_curve, compressed public point)' => 'Crypt::Perl::X::ECDSA::NoCurveForOID',
#   'sect283k1 (named_curve, hybrid public point)' => 'Crypt::Perl::X::ECDSA::NoCurveForOID',
#   'sect283k1 (named_curve, uncompressed public point)' => 'Crypt::Perl::X::ECDSA::NoCurveForOID',
#   'sect283r1 (explicit, compressed public point)' => 'Crypt::Perl::X::ECDSA::CharacteristicTwoUnsupported',
#   'sect283r1 (explicit, hybrid public point)' => 'Crypt::Perl::X::ECDSA::CharacteristicTwoUnsupported',
#   'sect283r1 (explicit, uncompressed public point)' => 'Crypt::Perl::X::ECDSA::CharacteristicTwoUnsupported',
#   'sect283r1 (named_curve, compressed public point)' => 'Crypt::Perl::X::ECDSA::NoCurveForOID',
#   'sect283r1 (named_curve, hybrid public point)' => 'Crypt::Perl::X::ECDSA::NoCurveForOID',
#   'sect283r1 (named_curve, uncompressed public point)' => 'Crypt::Perl::X::ECDSA::NoCurveForOID',
#   'sect409k1 (explicit, compressed public point)' => 'Crypt::Perl::X::ECDSA::CharacteristicTwoUnsupported',
#   'sect409k1 (explicit, hybrid public point)' => 'Crypt::Perl::X::ECDSA::CharacteristicTwoUnsupported',
#   'sect409k1 (explicit, uncompressed public point)' => 'Crypt::Perl::X::ECDSA::CharacteristicTwoUnsupported',
#   'sect409k1 (named_curve, compressed public point)' => 'Crypt::Perl::X::ECDSA::NoCurveForOID',
#   'sect409k1 (named_curve, hybrid public point)' => 'Crypt::Perl::X::ECDSA::NoCurveForOID',
#   'sect409k1 (named_curve, uncompressed public point)' => 'Crypt::Perl::X::ECDSA::NoCurveForOID',
#   'sect409r1 (explicit, compressed public point)' => 'Crypt::Perl::X::ECDSA::CharacteristicTwoUnsupported',
#   'sect409r1 (explicit, hybrid public point)' => 'Crypt::Perl::X::ECDSA::CharacteristicTwoUnsupported',
#   'sect409r1 (explicit, uncompressed public point)' => 'Crypt::Perl::X::ECDSA::CharacteristicTwoUnsupported',
#   'sect409r1 (named_curve, compressed public point)' => 'Crypt::Perl::X::ECDSA::NoCurveForOID',
#   'sect409r1 (named_curve, hybrid public point)' => 'Crypt::Perl::X::ECDSA::NoCurveForOID',
#   'sect409r1 (named_curve, uncompressed public point)' => 'Crypt::Perl::X::ECDSA::NoCurveForOID',
#   'sect571k1 (explicit, compressed public point)' => 'Crypt::Perl::X::ECDSA::CharacteristicTwoUnsupported',
#   'sect571k1 (explicit, hybrid public point)' => 'Crypt::Perl::X::ECDSA::CharacteristicTwoUnsupported',
#   'sect571k1 (explicit, uncompressed public point)' => 'Crypt::Perl::X::ECDSA::CharacteristicTwoUnsupported',
#   'sect571k1 (named_curve, compressed public point)' => 'Crypt::Perl::X::ECDSA::NoCurveForOID',
#   'sect571k1 (named_curve, hybrid public point)' => 'Crypt::Perl::X::ECDSA::NoCurveForOID',
#   'sect571k1 (named_curve, uncompressed public point)' => 'Crypt::Perl::X::ECDSA::NoCurveForOID',
#   'sect571r1 (explicit, compressed public point)' => 'Crypt::Perl::X::ECDSA::CharacteristicTwoUnsupported',
#   'sect571r1 (explicit, hybrid public point)' => 'Crypt::Perl::X::ECDSA::CharacteristicTwoUnsupported',
#   'sect571r1 (explicit, uncompressed public point)' => 'Crypt::Perl::X::ECDSA::CharacteristicTwoUnsupported',
#   'sect571r1 (named_curve, compressed public point)' => 'Crypt::Perl::X::ECDSA::NoCurveForOID',
#   'sect571r1 (named_curve, hybrid public point)' => 'Crypt::Perl::X::ECDSA::NoCurveForOID',
#   'sect571r1 (named_curve, uncompressed public point)' => 'Crypt::Perl::X::ECDSA::NoCurveForOID',
#   'wap-wsg-idm-ecid-wtls1 (explicit, compressed public point)' => 'Crypt::Perl::X::ECDSA::CharacteristicTwoUnsupported',
#   'wap-wsg-idm-ecid-wtls1 (explicit, hybrid public point)' => 'Crypt::Perl::X::ECDSA::CharacteristicTwoUnsupported',
#   'wap-wsg-idm-ecid-wtls1 (explicit, uncompressed public point)' => 'Crypt::Perl::X::ECDSA::CharacteristicTwoUnsupported',
#   'wap-wsg-idm-ecid-wtls1 (named_curve, compressed public point)' => 'Crypt::Perl::X::ECDSA::NoCurveForOID',
#   'wap-wsg-idm-ecid-wtls1 (named_curve, hybrid public point)' => 'Crypt::Perl::X::ECDSA::NoCurveForOID',
#   'wap-wsg-idm-ecid-wtls1 (named_curve, uncompressed public point)' => 'Crypt::Perl::X::ECDSA::NoCurveForOID',
#   'wap-wsg-idm-ecid-wtls10 (explicit, compressed public point)' => 'Crypt::Perl::X::ECDSA::CharacteristicTwoUnsupported',
#   'wap-wsg-idm-ecid-wtls10 (explicit, hybrid public point)' => 'Crypt::Perl::X::ECDSA::CharacteristicTwoUnsupported',
#   'wap-wsg-idm-ecid-wtls10 (explicit, uncompressed public point)' => 'Crypt::Perl::X::ECDSA::CharacteristicTwoUnsupported',
#   'wap-wsg-idm-ecid-wtls10 (named_curve, compressed public point)' => 'Crypt::Perl::X::ECDSA::NoCurveForOID',
#   'wap-wsg-idm-ecid-wtls10 (named_curve, hybrid public point)' => 'Crypt::Perl::X::ECDSA::NoCurveForOID',
#   'wap-wsg-idm-ecid-wtls10 (named_curve, uncompressed public point)' => 'Crypt::Perl::X::ECDSA::NoCurveForOID',
#   'wap-wsg-idm-ecid-wtls11 (explicit, compressed public point)' => 'Crypt::Perl::X::ECDSA::CharacteristicTwoUnsupported',
#   'wap-wsg-idm-ecid-wtls11 (explicit, hybrid public point)' => 'Crypt::Perl::X::ECDSA::CharacteristicTwoUnsupported',
#   'wap-wsg-idm-ecid-wtls11 (explicit, uncompressed public point)' => 'Crypt::Perl::X::ECDSA::CharacteristicTwoUnsupported',
#   'wap-wsg-idm-ecid-wtls11 (named_curve, compressed public point)' => 'Crypt::Perl::X::ECDSA::NoCurveForOID',
#   'wap-wsg-idm-ecid-wtls11 (named_curve, hybrid public point)' => 'Crypt::Perl::X::ECDSA::NoCurveForOID',
#   'wap-wsg-idm-ecid-wtls11 (named_curve, uncompressed public point)' => 'Crypt::Perl::X::ECDSA::NoCurveForOID',
#   'wap-wsg-idm-ecid-wtls3 (explicit, compressed public point)' => 'Crypt::Perl::X::ECDSA::CharacteristicTwoUnsupported',
#   'wap-wsg-idm-ecid-wtls3 (explicit, hybrid public point)' => 'Crypt::Perl::X::ECDSA::CharacteristicTwoUnsupported',
#   'wap-wsg-idm-ecid-wtls3 (explicit, uncompressed public point)' => 'Crypt::Perl::X::ECDSA::CharacteristicTwoUnsupported',
#   'wap-wsg-idm-ecid-wtls3 (named_curve, compressed public point)' => 'Crypt::Perl::X::ECDSA::NoCurveForOID',
#   'wap-wsg-idm-ecid-wtls3 (named_curve, hybrid public point)' => 'Crypt::Perl::X::ECDSA::NoCurveForOID',
#   'wap-wsg-idm-ecid-wtls3 (named_curve, uncompressed public point)' => 'Crypt::Perl::X::ECDSA::NoCurveForOID',
#   'wap-wsg-idm-ecid-wtls4 (explicit, compressed public point)' => 'Crypt::Perl::X::ECDSA::CharacteristicTwoUnsupported',
#   'wap-wsg-idm-ecid-wtls4 (explicit, hybrid public point)' => 'Crypt::Perl::X::ECDSA::CharacteristicTwoUnsupported',
#   'wap-wsg-idm-ecid-wtls4 (explicit, uncompressed public point)' => 'Crypt::Perl::X::ECDSA::CharacteristicTwoUnsupported',
#   'wap-wsg-idm-ecid-wtls4 (named_curve, compressed public point)' => 'Crypt::Perl::X::ECDSA::NoCurveForOID',
#   'wap-wsg-idm-ecid-wtls4 (named_curve, hybrid public point)' => 'Crypt::Perl::X::ECDSA::NoCurveForOID',
#   'wap-wsg-idm-ecid-wtls4 (named_curve, uncompressed public point)' => 'Crypt::Perl::X::ECDSA::NoCurveForOID',
#   'wap-wsg-idm-ecid-wtls5 (explicit, compressed public point)' => 'Crypt::Perl::X::ECDSA::CharacteristicTwoUnsupported',
#   'wap-wsg-idm-ecid-wtls5 (explicit, hybrid public point)' => 'Crypt::Perl::X::ECDSA::CharacteristicTwoUnsupported',
#   'wap-wsg-idm-ecid-wtls5 (explicit, uncompressed public point)' => 'Crypt::Perl::X::ECDSA::CharacteristicTwoUnsupported',
#   'wap-wsg-idm-ecid-wtls5 (named_curve, compressed public point)' => 'Crypt::Perl::X::ECDSA::NoCurveForOID',
#   'wap-wsg-idm-ecid-wtls5 (named_curve, hybrid public point)' => 'Crypt::Perl::X::ECDSA::NoCurveForOID',
#   'wap-wsg-idm-ecid-wtls5 (named_curve, uncompressed public point)' => 'Crypt::Perl::X::ECDSA::NoCurveForOID',
#   'wap-wsg-idm-ecid-wtls6 (explicit, compressed public point)' => 'Crypt::Perl::X::TooLongToSign',
#   'wap-wsg-idm-ecid-wtls6 (explicit, hybrid public point)' => 'Crypt::Perl::X::TooLongToSign',
#   'wap-wsg-idm-ecid-wtls6 (explicit, uncompressed public point)' => 'Crypt::Perl::X::TooLongToSign',
#   'wap-wsg-idm-ecid-wtls6 (named_curve, compressed public point)' => 'Crypt::Perl::X::TooLongToSign',
#   'wap-wsg-idm-ecid-wtls6 (named_curve, hybrid public point)' => 'Crypt::Perl::X::TooLongToSign',
#   'wap-wsg-idm-ecid-wtls6 (named_curve, uncompressed public point)' => 'Crypt::Perl::X::TooLongToSign',
#   'wap-wsg-idm-ecid-wtls8 (explicit, compressed public point)' => 'Crypt::Perl::X::TooLongToSign',
#   'wap-wsg-idm-ecid-wtls8 (explicit, hybrid public point)' => 'Crypt::Perl::X::TooLongToSign',
#   'wap-wsg-idm-ecid-wtls8 (explicit, uncompressed public point)' => 'Crypt::Perl::X::TooLongToSign',
#   'wap-wsg-idm-ecid-wtls8 (named_curve, compressed public point)' => 'Crypt::Perl::X::TooLongToSign',
#   'wap-wsg-idm-ecid-wtls8 (named_curve, hybrid public point)' => 'Crypt::Perl::X::TooLongToSign',
#   'wap-wsg-idm-ecid-wtls8 (named_curve, uncompressed public point)' => 'Crypt::Perl::X::TooLongToSign'
# }
t/Crypt-Perl-ECDSA-PrivateKey.t ................... ok
# Looking for OpenSSL binary …
# Found OpenSSL: /usr/bin/openssl
# OpenSSL 1.1.1q  5 Jul 2022
# options:  bn(64,64) rc4(16x,int) des(int) blowfish(ptr) 
# compiler: gcc -fPIC -pthread -m64 -Wa,--noexecstack -Os -fomit-frame-pointer -g -Os -fomit-frame-pointer -Os -fomit-frame-pointer -g -Wa,--noexecstack -DOPENSSL_USE_NODELETE -DL_ENDIAN -DOPENSSL_PIC -DOPENSSL_CPUID_OBJ -DOPENSSL_IA32_SSE2 -DOPENSSL_BN_ASM_MONT -DOPENSSL_BN_ASM_MONT5 -DOPENSSL_BN_ASM_GF2m -DSHA1_ASM -DSHA256_ASM -DSHA512_ASM -DKECCAK1600_ASM -DRC4_ASM -DMD5_ASM -DAESNI_ASM -DVPAES_ASM -DGHASH_ASM -DECP_NISTZ256_ASM -DX25519_ASM -DPOLY1305_ASM -DNDEBUG -Os -fomit-frame-pointer
# Math::BigInt 1.999837 (backend: Math::BigInt::Calc 1.999837)
read EC key
writing EC key
t/Crypt-Perl-ECDSA-PublicKey.t .................... ok
t/Crypt-Perl-Ed25519-Math.t ....................... ok
t/Crypt-Perl-Ed25519-Parse.t ...................... ok
t/Crypt-Perl-Ed25519-PrivateKey.t ................. ok
# Math::BigInt 1.999837 (backend: Math::BigInt::Calc 1.999837)
t/Crypt-Perl-Math.t ............................... ok
# Math::BigInt 1.999837 (backend: Math::BigInt::Calc 1.999837)
t/Crypt-Perl-PK.t ................................. ok
# Math::BigInt 1.999837 (backend: Math::BigInt::Calc 1.999837)
t/Crypt-Perl-PKCS10-Attribute-extensionRequest.t .. ok
# Looking for OpenSSL binary …
# Found OpenSSL: /usr/bin/openssl
# OpenSSL 1.1.1q  5 Jul 2022
# options:  bn(64,64) rc4(16x,int) des(int) blowfish(ptr) 
# compiler: gcc -fPIC -pthread -m64 -Wa,--noexecstack -Os -fomit-frame-pointer -g -Os -fomit-frame-pointer -Os -fomit-frame-pointer -g -Wa,--noexecstack -DOPENSSL_USE_NODELETE -DL_ENDIAN -DOPENSSL_PIC -DOPENSSL_CPUID_OBJ -DOPENSSL_IA32_SSE2 -DOPENSSL_BN_ASM_MONT -DOPENSSL_BN_ASM_MONT5 -DOPENSSL_BN_ASM_GF2m -DSHA1_ASM -DSHA256_ASM -DSHA512_ASM -DKECCAK1600_ASM -DRC4_ASM -DMD5_ASM -DAESNI_ASM -DVPAES_ASM -DGHASH_ASM -DECP_NISTZ256_ASM -DX25519_ASM -DPOLY1305_ASM -DNDEBUG -Os -fomit-frame-pointer
# Checking /usr/bin/openssl for ed25519 support …
Algorithm ed25519" not found
# /usr/bin/openssl does not support ed25519.
# Math::BigInt 1.999837 (backend: Math::BigInt::Calc 1.999837)
Generating RSA private key, 1024 bit long modulus (2 primes)
......................+++++
.................+++++
e is 65537 (0x010001)
Generating RSA private key, 2048 bit long modulus (2 primes)
.................................................................+++++
...........+++++
e is 65537 (0x010001)
read EC key
writing EC key
read EC key
writing EC key
read EC key
writing EC key
read EC key
writing EC key
read EC key
writing EC key
read EC key
writing EC key
read EC key
writing EC key
t/Crypt-Perl-PKCS10.t ............................. ok
# Looking for OpenSSL binary …
# Found OpenSSL: /usr/bin/openssl
# OpenSSL 1.1.1q  5 Jul 2022
# options:  bn(64,64) rc4(16x,int) des(int) blowfish(ptr) 
# compiler: gcc -fPIC -pthread -m64 -Wa,--noexecstack -Os -fomit-frame-pointer -g -Os -fomit-frame-pointer -Os -fomit-frame-pointer -g -Wa,--noexecstack -DOPENSSL_USE_NODELETE -DL_ENDIAN -DOPENSSL_PIC -DOPENSSL_CPUID_OBJ -DOPENSSL_IA32_SSE2 -DOPENSSL_BN_ASM_MONT -DOPENSSL_BN_ASM_MONT5 -DOPENSSL_BN_ASM_GF2m -DSHA1_ASM -DSHA256_ASM -DSHA512_ASM -DKECCAK1600_ASM -DRC4_ASM -DMD5_ASM -DAESNI_ASM -DVPAES_ASM -DGHASH_ASM -DECP_NISTZ256_ASM -DX25519_ASM -DPOLY1305_ASM -DNDEBUG -Os -fomit-frame-pointer
# Math::BigInt 1.999837 (backend: Math::BigInt::Calc 1.999837)
# Your Crypt::Perl::BigInt backend is “Math::BigInt::Calc”.
t/Crypt-Perl-RSA-Generate.t ....................... ok
# Math::BigInt 1.999837 (backend: Math::BigInt::Calc 1.999837)
t/Crypt-Perl-RSA-Parse.t .......................... ok
t/Crypt-Perl-RSA-PKCS1_v1_5.t ..................... ok
# Math::BigInt 1.999837 (backend: Math::BigInt::Calc 1.999837)
t/Crypt-Perl-RSA-PrivateKey.t ..................... ok
# Math::BigInt 1.999837 (backend: Math::BigInt::Calc 1.999837)
t/Crypt-Perl-RSA-PublicKey.t ...................... ok
# Math::BigInt 1.999837 (backend: Math::BigInt::Calc 1.999837)
t/Crypt-Perl-X509-Extension-subjectAltName.t ...... ok
t/Crypt-Perl-X509-SCT.t ........................... ok
# Looking for OpenSSL binary …
# Found OpenSSL: /usr/bin/openssl
# OpenSSL 1.1.1q  5 Jul 2022
# options:  bn(64,64) rc4(16x,int) des(int) blowfish(ptr) 
# compiler: gcc -fPIC -pthread -m64 -Wa,--noexecstack -Os -fomit-frame-pointer -g -Os -fomit-frame-pointer -Os -fomit-frame-pointer -g -Wa,--noexecstack -DOPENSSL_USE_NODELETE -DL_ENDIAN -DOPENSSL_PIC -DOPENSSL_CPUID_OBJ -DOPENSSL_IA32_SSE2 -DOPENSSL_BN_ASM_MONT -DOPENSSL_BN_ASM_MONT5 -DOPENSSL_BN_ASM_GF2m -DSHA1_ASM -DSHA256_ASM -DSHA512_ASM -DKECCAK1600_ASM -DRC4_ASM -DMD5_ASM -DAESNI_ASM -DVPAES_ASM -DGHASH_ASM -DECP_NISTZ256_ASM -DX25519_ASM -DPOLY1305_ASM -DNDEBUG -Os -fomit-frame-pointer
# Checking /usr/bin/openssl for ed25519 support …
Algorithm ed25519" not found
# /usr/bin/openssl does not support ed25519.
# Math::BigInt 1.999837 (backend: Math::BigInt::Calc 1.999837)
# self-sign - RSA
# two RSAs
# self-sign - ECC
# two ECCs
# subject RSA, signer ECC
# subject ECC, signer RSA
t/Crypt-Perl-X509v3.t ............................. ok
# Looking for OpenSSL binary …
# Found OpenSSL: /usr/bin/openssl
# OpenSSL 1.1.1q  5 Jul 2022
# options:  bn(64,64) rc4(16x,int) des(int) blowfish(ptr) 
# compiler: gcc -fPIC -pthread -m64 -Wa,--noexecstack -Os -fomit-frame-pointer -g -Os -fomit-frame-pointer -Os -fomit-frame-pointer -g -Wa,--noexecstack -DOPENSSL_USE_NODELETE -DL_ENDIAN -DOPENSSL_PIC -DOPENSSL_CPUID_OBJ -DOPENSSL_IA32_SSE2 -DOPENSSL_BN_ASM_MONT -DOPENSSL_BN_ASM_MONT5 -DOPENSSL_BN_ASM_GF2m -DSHA1_ASM -DSHA256_ASM -DSHA512_ASM -DKECCAK1600_ASM -DRC4_ASM -DMD5_ASM -DAESNI_ASM -DVPAES_ASM -DGHASH_ASM -DECP_NISTZ256_ASM -DX25519_ASM -DPOLY1305_ASM -DNDEBUG -Os -fomit-frame-pointer
# Checking /usr/bin/openssl for ed25519 support …
Algorithm ed25519" not found
# /usr/bin/openssl does not support ed25519.
t/Crypt-Perl-X509v3_ed25519.t ..................... ok
# Parsing...
t/ecdsa_verify_small_r_and_s.t .................... ok
All tests successful.
Files=26, Tests=3872, 2488 wallclock secs ( 0.67 usr  0.07 sys + 2471.30 cusr  4.89 csys = 2476.93 CPU)
Result: PASS


PREREQUISITES:

Here is a list of prerequisites you specified and versions we
managed to load:

	  Module Name                        Have     Want
	  Bytes::Random::Secure::Tiny       1.011    1.008
	  Call::Context                      0.03        0
	  Class::Accessor::Fast              0.51     0.34
	  Convert::ASN1                      0.33     0.27
	  Crypt::Format                      0.12     0.12
	  Digest::SHA                        6.03        0
	  ExtUtils::MakeMaker                7.64        0
	  File::Slurp                     9999.32        0
	  File::Which                        1.27        0
	  MIME::Base64                       3.16     3.11
	  Math::BigInt                   1.999837 1.999818
	  Math::ProvablePrime                0.51     0.51
	  Symbol::Get                        0.10     0.02
	  Test::Class                        0.52      0.4
	  Test::Deep                        1.204        0
	  Test::Exception                    0.43     0.40
	  Test::FailWarnings                0.008        0
	  Test::More                     1.302191        0
	  Try::Tiny                          0.31        0
	  autodie                            2.10        0
	  parent                            0.225    0.225

Perl module toolchain versions installed:
	Module Name                        Have
	CPANPLUS                         0.9914
	CPANPLUS::Dist::Build              0.90
	Cwd                                3.75
	ExtUtils::CBuilder             0.280236
	ExtUtils::Command                  7.64
	ExtUtils::Install                  2.20
	ExtUtils::MakeMaker                7.64
	ExtUtils::Manifest                 1.73
	ExtUtils::ParseXS                  3.44
	File::Spec                         3.75
	Module::Build                    0.4231
	Pod::Parser                        1.51
	Pod::Simple                        3.20
	Test2                          1.302191
	Test::Harness                      3.44
	Test::More                     1.302191
	version                          0.9929

******************************** NOTE ********************************
The comments above are created mechanically, possibly without manual
checking by the sender.  As there are many people performing automatic
tests on each upload to CPAN, it is likely that you will receive
identical messages about the same problem.

If you believe that the message is mistaken, please reply to the first
one with correction and/or additional informations, and do not take
it personally.  We appreciate your patience. :)
**********************************************************************

Additional comments:


This report was machine-generated by CPANPLUS::Dist::YACSmoke 1.08.
Powered by minismokebox version 0.68

CPANPLUS is prefering Build.PL

------------------------------
ENVIRONMENT AND OTHER CONTEXT
------------------------------

Environment variables:

    AUTOMATED_TESTING = 1
    LANG = C.UTF-8
    LC_COLLATE = C
    NONINTERACTIVE_TESTING = 1
    PATH = /usr/local/sbin:/usr/local/bin:/usr/sbin:/usr/bin:/sbin:/bin
    PERL5LIB = /home/cpan/pit/jail/lR4jIjIJbM/lib/perl5:/home/cpan/pit/bare/conf/perl-5.16.2/.cpanplus/5.16.2/build/Vl0DkVmStf/Crypt-Perl-0.38/blib/lib:/home/cpan/pit/bare/conf/perl-5.16.2/.cpanplus/5.16.2/build/Vl0DkVmStf/Crypt-Perl-0.38/blib/arch
    PERL5_CPANPLUS_IS_RUNNING = 15906
    PERL5_CPANPLUS_IS_VERSION = 0.9914
    PERL5_MINISMOKEBOX = 0.68
    PERL5_YACSMOKE_BASE = /home/cpan/pit/bare/conf/perl-5.16.2
    PERL_EXTUTILS_AUTOINSTALL = --defaultdeps
    PERL_LOCAL_LIB_ROOT = /home/cpan/pit/jail/lR4jIjIJbM
    PERL_MB_OPT = --install_base "/home/cpan/pit/jail/lR4jIjIJbM"
    PERL_MM_OPT = INSTALL_BASE=/home/cpan/pit/jail/lR4jIjIJbM
    PERL_MM_USE_DEFAULT = 1
    PERL_USE_UNSAFE_INC = 1
    SHELL = /bin/bash
    TERM = screen

Perl special variables (and OS-specific diagnostics, for MSWin32):

    Perl: $^X = /home/cpan/pit/bare/perl-5.16.2/bin/perl
    UID:  $<  = 1001
    EUID: $>  = 1001
    GID:  $(  = 1001 1001
    EGID: $)  = 1001 1001


-------------------------------


--

Summary of my perl5 (revision 5 version 16 subversion 2) configuration:
   
  Platform:
    osname=linux, osvers=5.10.16-0-lts, archname=x86_64-linux
    uname='linux agaric 5.10.16-0-lts #1-alpine smp wed, 17 feb 2021 08:17:06 utc x86_64 linux '
    config_args='-des -Dprefix=/home/cpan/pit/bare/perl-5.16.2'
    hint=recommended, useposix=true, d_sigaction=define
    useithreads=undef, usemultiplicity=undef
    useperlio=define, d_sfio=undef, uselargefiles=define, usesocks=undef
    use64bitint=define, use64bitall=define, uselongdouble=undef
    usemymalloc=n, bincompat5005=undef
  Compiler:
    cc='cc', ccflags ='-D_GNU_SOURCE -fwrapv -fno-strict-aliasing -pipe -fstack-protector -D_LARGEFILE_SOURCE -D_FILE_OFFSET_BITS=64',
    optimize='-O2',
    cppflags='-D_GNU_SOURCE -fwrapv -fno-strict-aliasing -pipe -fstack-protector'
    ccversion='', gccversion='10.2.1 20201203', gccosandvers=''
    intsize=4, longsize=8, ptrsize=8, doublesize=8, byteorder=12345678
    d_longlong=define, longlongsize=8, d_longdbl=define, longdblsize=16
    ivtype='long', ivsize=8, nvtype='double', nvsize=8, Off_t='off_t', lseeksize=8
    alignbytes=8, prototype=define
  Linker and Libraries:
    ld='cc', ldflags =' -fstack-protector -L/usr/local/lib'
    libpth=/usr/local/lib /lib/../lib /usr/lib/../lib /lib /usr/lib
    libs=-lgdbm -ldl -lm -lcrypt -lutil -lc -lgdbm_compat
    perllibs=-ldl -lm -lcrypt -lutil -lc
    libc=/usr/lib/libc.a, so=so, useshrplib=false, libperl=libperl.a
    gnulibc_version=''
  Dynamic Linking:
    dlsrc=dl_dlopen.xs, dlext=so, d_dlsymun=undef, ccdlflags='-Wl,-E'
    cccdlflags='-fPIC', lddlflags='-shared -O2 -L/usr/local/lib -fstack-protector'


Characteristics of this binary (from libperl): 
  Compile-time options: HAS_TIMES PERLIO_LAYERS PERL_DONT_CREATE_GVSV
                        PERL_MALLOC_WRAP PERL_PRESERVE_IVUV USE_64_BIT_ALL
                        USE_64_BIT_INT USE_LARGE_FILES USE_LOCALE
                        USE_LOCALE_COLLATE USE_LOCALE_CTYPE
                        USE_LOCALE_NUMERIC USE_PERLIO USE_PERL_ATOF
  Locally applied patches:
	Devel::PatchPerl 2.08
  Built under linux
  Compiled at Mar 11 2021 23:10:44
  %ENV:
    PERL5LIB="/home/cpan/pit/jail/lR4jIjIJbM/lib/perl5:/home/cpan/pit/bare/conf/perl-5.16.2/.cpanplus/5.16.2/build/Vl0DkVmStf/Crypt-Perl-0.38/blib/lib:/home/cpan/pit/bare/conf/perl-5.16.2/.cpanplus/5.16.2/build/Vl0DkVmStf/Crypt-Perl-0.38/blib/arch"
    PERL5_CPANPLUS_IS_RUNNING="15906"
    PERL5_CPANPLUS_IS_VERSION="0.9914"
    PERL5_MINISMOKEBOX="0.68"
    PERL5_YACSMOKE_BASE="/home/cpan/pit/bare/conf/perl-5.16.2"
    PERL_EXTUTILS_AUTOINSTALL="--defaultdeps"
    PERL_LOCAL_LIB_ROOT="/home/cpan/pit/jail/lR4jIjIJbM"
    PERL_MB_OPT="--install_base "/home/cpan/pit/jail/lR4jIjIJbM""
    PERL_MM_OPT="INSTALL_BASE=/home/cpan/pit/jail/lR4jIjIJbM"
    PERL_MM_USE_DEFAULT="1"
    PERL_USE_UNSAFE_INC="1"
  @INC:
    /home/cpan/pit/jail/lR4jIjIJbM/lib/perl5/5.16.2/x86_64-linux
    /home/cpan/pit/jail/lR4jIjIJbM/lib/perl5/5.16.2
    /home/cpan/pit/jail/lR4jIjIJbM/lib/perl5/x86_64-linux
    /home/cpan/pit/jail/lR4jIjIJbM/lib/perl5
    /home/cpan/pit/bare/conf/perl-5.16.2/.cpanplus/5.16.2/build/Vl0DkVmStf/Crypt-Perl-0.38/blib/lib
    /home/cpan/pit/bare/conf/perl-5.16.2/.cpanplus/5.16.2/build/Vl0DkVmStf/Crypt-Perl-0.38/blib/arch
    /home/cpan/pit/bare/perl-5.16.2/lib/site_perl/5.16.2/x86_64-linux
    /home/cpan/pit/bare/perl-5.16.2/lib/site_perl/5.16.2
    /home/cpan/pit/bare/perl-5.16.2/lib/5.16.2/x86_64-linux
    /home/cpan/pit/bare/perl-5.16.2/lib/5.16.2
    .