Back
From: metabase:user:9762ed18-1c33-11e1-8beb-fb37bdc4c604
Subject: PASS Data-Section-0.200006 v5.21.7 GNU/Linux
Date: 2014-12-25T00:28:45Z
This distribution has been tested as part of the CPAN Testers
project, supporting the Perl programming language. See
http://wiki.cpantesters.org/ for more information or email
questions to cpan-testers-discuss@perl.org
--
Dear Ricardo SIGNES,
This is a computer-generated report for Data-Section-0.200006
on perl 5.21.7, created by CPAN-Reporter-1.2011.
Thank you for uploading your work to CPAN. Congratulations!
All tests were successful.
Sections of this report:
* Tester comments
* Program output
* Prerequisites
* Environment and other context
------------------------------
TESTER COMMENTS
------------------------------
Additional comments from tester:
none provided
------------------------------
PROGRAM OUTPUT
------------------------------
Output from '/usr/bin/make test':
PERL_DL_NONLAZY=1 "/home/kevin/perl5/perlbrew/perls/perl-5.21.7/bin/perl5.21.7" "-MExtUtils::Command::MM" "-MTest::Harness" "-e" "undef *Test::Harness::Switches; test_harness(0, 'blib/lib', 'blib/arch')" t/*.t
#
# Generated by Dist::Zilla::Plugin::ReportVersions::Tiny v1.10
# perl: 5.021007 (wanted any version) on linux from /home/kevin/perl5/perlbrew/perls/perl-5.21.7/bin/perl5.21.7
#
# Encode => 2.67 (want any version)
# ExtUtils::MakeMaker => 7.04 (want 6.30)
# MRO::Compat => 0.12 (want 0.09)
# Sub::Exporter => 0.987 (want 0.979)
# Test::FailWarnings => 0.008 (want any version)
# Test::More => 1.30100109 (want 0.96)
# base => 2.22 (want any version)
# lib => 0.63 (want any version)
# strict => 1.09 (want any version)
# utf8 => 1.14 (want any version)
# warnings => 1.29 (want any version)
#
# Thanks for using my code. I hope it works for you.
# If not, please try and include this output in the bug report.
# That will help me reproduce the issue and solve your problem.
#
t/000-report-versions-tiny.t .. ok
t/basic.t ..................... ok
t/encodings.t ................. ok
All tests successful.
Files=3, Tests=40, 0 wallclock secs ( 0.05 usr 0.00 sys + 0.50 cusr 0.03 csys = 0.58 CPU)
Result: PASS
------------------------------
PREREQUISITES
------------------------------
Prerequisite modules loaded:
requires:
Module Need Have
------------------- ----- ------------
Encode 0 2.67
MRO::Compat 0.09 0.12
strict 0 1.09
Sub::Exporter 0.979 0.987
warnings 0 1.29
build_requires:
Module Need Have
------------------- ----- ------------
base 0 2.22
lib 0 0.63
Test::FailWarnings 0 0.008
Test::More 0.96 1.301001_090
utf8 0 1.14
configure_requires:
Module Need Have
------------------- ----- ------------
ExtUtils::MakeMaker 6.30 7.04
------------------------------
ENVIRONMENT AND OTHER CONTEXT
------------------------------
Environment variables:
LANG = en_GB.UTF-8
LANGUAGE = en_GB:en
LC_COLLATE = en_GB.UTF-8
LC_CTYPE = en_GB.UTF-8
LC_MESSAGES = en_GB.UTF-8
LC_TIME = en_DK.utf8
PATH = /home/kevin/perl5/perlbrew/bin:/home/kevin/perl5/perlbrew/perls/perl-5.21.7/bin:/home/kevin/bin:/usr/local/sbin:/usr/local/bin:/usr/sbin:/usr/bin:/sbin:/bin:/usr/games:/usr/local/games
PERL5LIB =
PERL5OPT =
PERL5_CPANPLUS_IS_RUNNING = 28195
PERL5_CPAN_IS_RUNNING = 28195
PERLBREW_BASHRC_VERSION = 0.61
PERLBREW_HOME = /home/kevin/.perlbrew
PERLBREW_MANPATH = /home/kevin/perl5/perlbrew/perls/perl-5.21.7/man
PERLBREW_PATH = /home/kevin/perl5/perlbrew/bin:/home/kevin/perl5/perlbrew/perls/perl-5.21.7/bin
PERLBREW_PERL = perl-5.21.7
PERLBREW_ROOT = /home/kevin/perl5/perlbrew
PERLBREW_VERSION = 0.61
SHELL = /bin/bash
TERM = screen
Perl special variables (and OS-specific diagnostics, for MSWin32):
$^X = /home/kevin/perl5/perlbrew/perls/perl-5.21.7/bin/perl5.21.7
$UID/$EUID = 1001 / 1001
$GID = 1001 4 20 21 24 25 26 29 30 39 40 44 46 104 105 112 119 122 132 1000 1001
$EGID = 1001 4 20 21 24 25 26 29 30 39 40 44 46 104 105 112 119 122 132 1000 1001
Perl module toolchain versions installed:
Module Have
------------------- ------------
CPAN 2.05
CPAN::Meta 2.143240
Cwd 3.54
ExtUtils::CBuilder 0.280221
ExtUtils::Command 1.18
ExtUtils::Install 2.04
ExtUtils::MakeMaker 7.04
ExtUtils::Manifest 1.69
ExtUtils::ParseXS 3.27
File::Spec 3.53
JSON 2.90
JSON::PP 2.27300
Module::Build 0.4210
Module::Signature n/a
Parse::CPAN::Meta 1.4414
Test::Harness 3.34
Test::More 1.301001_090
YAML 1.13
YAML::Syck n/a
version 0.9909
--
Summary of my perl5 (revision 5 version 21 subversion 7) configuration:
Platform:
osname=linux, osvers=3.16.0-25-generic, archname=i686-linux-thread-multi
uname='linux vinny 3.16.0-25-generic #33-ubuntu smp tue nov 4 12:05:25 utc 2014 i686 i686 i686 gnulinux '
config_args='-de -Dprefix=/home/kevin/perl5/perlbrew/perls/perl-5.21.7 -Dusethreads -Dusedevel -Aeval:scriptdir=/home/kevin/perl5/perlbrew/perls/perl-5.21.7/bin'
hint=recommended, useposix=true, d_sigaction=define
useithreads=define, usemultiplicity=define
use64bitint=undef, use64bitall=undef, uselongdouble=undef
usemymalloc=n, bincompat5005=undef
Compiler:
cc='cc', ccflags ='-D_REENTRANT -D_GNU_SOURCE -fwrapv -fno-strict-aliasing -pipe -fstack-protector-strong -I/usr/local/include -D_LARGEFILE_SOURCE -D_FILE_OFFSET_BITS=64',
optimize='-O2',
cppflags='-D_REENTRANT -D_GNU_SOURCE -fwrapv -fno-strict-aliasing -pipe -fstack-protector-strong -I/usr/local/include'
ccversion='', gccversion='4.9.1', gccosandvers=''
intsize=4, longsize=4, ptrsize=4, doublesize=8, byteorder=1234, doublekind=3
d_longlong=define, longlongsize=8, d_longdbl=define, longdblsize=12, longdblkind=3
ivtype='long', ivsize=4, nvtype='double', nvsize=8, Off_t='off_t', lseeksize=8
alignbytes=4, prototype=define
Linker and Libraries:
ld='cc', ldflags =' -fstack-protector-strong -L/usr/local/lib'
libpth=/usr/local/lib /usr/lib/gcc/i686-linux-gnu/4.9/include-fixed /usr/include/i386-linux-gnu /usr/lib /lib/i386-linux-gnu /lib/../lib /usr/lib/i386-linux-gnu /usr/lib/../lib /lib
libs=-lnsl -ldl -lm -lcrypt -lutil -lc -lpthread
perllibs=-lnsl -ldl -lm -lcrypt -lutil -lc -lpthread
libc=libc-2.19.so, so=so, useshrplib=false, libperl=libperl.a
gnulibc_version='2.19'
Dynamic Linking:
dlsrc=dl_dlopen.xs, dlext=so, d_dlsymun=undef, ccdlflags='-Wl,-E'
cccdlflags='-fPIC', lddlflags='-shared -O2 -L/usr/local/lib -fstack-protector-strong'
Characteristics of this binary (from libperl):
Compile-time options: HAS_TIMES MULTIPLICITY PERLIO_LAYERS
PERL_DONT_CREATE_GVSV
PERL_HASH_FUNC_ONE_AT_A_TIME_HARD
PERL_IMPLICIT_CONTEXT PERL_MALLOC_WRAP
PERL_NEW_COPY_ON_WRITE PERL_PRESERVE_IVUV
PERL_USE_DEVEL USE_ITHREADS USE_LARGE_FILES
USE_LOCALE USE_LOCALE_COLLATE USE_LOCALE_CTYPE
USE_LOCALE_NUMERIC USE_LOCALE_TIME USE_PERLIO
USE_PERL_ATOF USE_REENTRANT_API
Built under linux
Compiled at Dec 24 2014 21:42:52
%ENV:
PERL5LIB=""
PERL5OPT=""
PERL5_CPANPLUS_IS_RUNNING="28195"
PERL5_CPAN_IS_RUNNING="28195"
PERLBREW_BASHRC_VERSION="0.61"
PERLBREW_HOME="/home/kevin/.perlbrew"
PERLBREW_MANPATH="/home/kevin/perl5/perlbrew/perls/perl-5.21.7/man"
PERLBREW_PATH="/home/kevin/perl5/perlbrew/bin:/home/kevin/perl5/perlbrew/perls/perl-5.21.7/bin"
PERLBREW_PERL="perl-5.21.7"
PERLBREW_ROOT="/home/kevin/perl5/perlbrew"
PERLBREW_VERSION="0.61"
@INC:
/home/kevin/perl5/perlbrew/perls/perl-5.21.7/lib/site_perl/5.21.7/i686-linux-thread-multi
/home/kevin/perl5/perlbrew/perls/perl-5.21.7/lib/site_perl/5.21.7
/home/kevin/perl5/perlbrew/perls/perl-5.21.7/lib/5.21.7/i686-linux-thread-multi
/home/kevin/perl5/perlbrew/perls/perl-5.21.7/lib/5.21.7
.