Report for Catalyst-View-RRDGraph-0.10

Back
From: metabase:user:320bfe00-2aae-11df-837a-5e0a49663a4f
Subject: PASS Catalyst-View-RRDGraph-0.10 v5.20.1 GNU/Linux
Date: 2017-04-01T13:56:21Z

This distribution has been tested as part of the CPAN Testers
project, supporting the Perl programming language.  See
http://wiki.cpantesters.org/ for more information or email
questions to cpan-testers-discuss@perl.org


--
Dear Miquel Ruiz Martin,

This is a computer-generated report for Catalyst-View-RRDGraph-0.10
on perl 5.20.1, created by CPAN-Reporter-1.2018.

Thank you for uploading your work to CPAN.  Congratulations!
All tests were successful.

Sections of this report:

    * Tester comments
    * Program output
    * Prerequisites
    * Environment and other context

------------------------------
TESTER COMMENTS
------------------------------

Additional comments from tester:

this report is from an automated smoke testing program
and was not reviewed by a human for accuracy

------------------------------
PROGRAM OUTPUT
------------------------------

Output from '/usr/bin/make test':

PERL_DL_NONLAZY=1 "/home/sand/src/perl/repoperls/installed-perls/host/k93msid/v5.20.1/276a/bin/perl" "-MExtUtils::Command::MM" "-MTest::Harness" "-e" "undef *Test::Harness::Switches; test_harness(0, 'blib/lib', 'blib/arch')" t/*.t
t/001_load.t ............ ok
t/002_process.t ......... ok
[debug] Debug messages enabled
[debug] Statistics enabled
[debug] Loaded PSGI Middleware:
.-----------------------------------------------------------------------------.
| Catalyst::Middleware::Stash                                                 |
| Plack::Middleware::HTTPExceptions                                           |
| Plack::Middleware::RemoveRedundantBody  0.04                                |
| Plack::Middleware::FixMissingBodyInRedirect  0.12                           |
| Plack::Middleware::ContentLength                                            |
| Plack::Middleware::MethodOverride  0.15                                     |
| Plack::Middleware::Head                                                     |
'-----------------------------------------------------------------------------'

[debug] Loaded Request Data Handlers:
.-----------------------------------------------------------------------------.
| application/x-www-form-urlencoded                                           |
| application/json                                                            |
'-----------------------------------------------------------------------------'

[debug] Loaded dispatcher "Catalyst::Dispatcher"
[debug] Loaded engine "Catalyst::Engine"
[debug] Found home "/tmp/loop_over_bdir-14638-chQvDb/Catalyst-View-RRDGraph-0.10-0/t/lib/RRDGraphTest003"
[debug] Loaded components:
.------------------------------------------------------------------+----------.
| Class                                                            | Type     |
+------------------------------------------------------------------+----------+
| RRDGraphTest003::Controller::Root                                | instance |
| RRDGraphTest003::View::RRDNormal                                 | instance |
| RRDGraphTest003::View::RRDOnServe                                | instance |
| RRDGraphTest003::View::RRDOnServeFunction                        | instance |
'------------------------------------------------------------------+----------'

[debug] Loaded Private actions:
.----------------------+--------------------------------------+---------------.
| Private              | Class                                | Method        |
+----------------------+--------------------------------------+---------------+
| /zero_byte_error_fu- | RRDGraphTest003::Controller::Root    | zero_byte_er- |
| nction               |                                      | ror_function  |
| /image_error_normal  | RRDGraphTest003::Controller::Root    | image_error_- |
|                      |                                      | normal        |
| /zero_byte_error     | RRDGraphTest003::Controller::Root    | zero_byte_er- |
|                      |                                      | ror           |
| /image_error         | RRDGraphTest003::Controller::Root    | image_error   |
| /image_error_functi- | RRDGraphTest003::Controller::Root    | image_error_- |
| on                   |                                      | function      |
| /zero_byte_error_no- | RRDGraphTest003::Controller::Root    | zero_byte_er- |
| rmal                 |                                      | ror_normal    |
'----------------------+--------------------------------------+---------------'

[debug] Loaded Path actions:
.--------------------------------------+--------------------------------------.
| Path                                 | Private                              |
+--------------------------------------+--------------------------------------+
| /image_error/...                     | /image_error                         |
| /image_error_function/...            | /image_error_function                |
| /image_error_normal/...              | /image_error_normal                  |
| /zero_byte_error/...                 | /zero_byte_error                     |
| /zero_byte_error_function/...        | /zero_byte_error_function            |
| /zero_byte_error_normal/...          | /zero_byte_error_normal              |
'--------------------------------------+--------------------------------------'

[info] RRDGraphTest003 powered by Catalyst 5.90114
[info] *** Request 1 (1.000/s) [15319] [Sat Apr  1 13:53:47 2017] ***
[debug] Path is "zero_byte_error"
[debug] "GET" request for "zero_byte_error" from "127.0.0.1"
[error] RRDgraph is 0 bytes
[debug] Static::Simple: Serving static file: error_image.png as image/png
[debug] Response Code: 200; Content-Type: image/png; Content-Length: 14
[info] Request took 0.024997s (40.005/s)
.-------------------------------------------------------------+-----------.
| Action                                                      | Time      |
+-------------------------------------------------------------+-----------+
| /zero_byte_error                                            | 0.011859s |
|  -> RRDGraphTest003::View::RRDOnServe->process              | 0.011400s |
'-------------------------------------------------------------+-----------'

[info] *** Request 2 (2.000/s) [15319] [Sat Apr  1 13:53:47 2017] ***
[debug] Path is "image_error"
[debug] "GET" request for "image_error" from "127.0.0.1"
[error] Unknown option
[debug] Static::Simple: Serving static file: error_image.png as image/png
[debug] Response Code: 200; Content-Type: image/png; Content-Length: 14
[info] Request took 0.003174s (315.060/s)
.-------------------------------------------------------------+-----------.
| Action                                                      | Time      |
+-------------------------------------------------------------+-----------+
| /image_error                                                | 0.001010s |
|  -> RRDGraphTest003::View::RRDOnServe->process              | 0.000732s |
'-------------------------------------------------------------+-----------'

[info] *** Request 3 (3.000/s) [15319] [Sat Apr  1 13:53:47 2017] ***
[debug] Path is "zero_byte_error_normal"
[debug] "GET" request for "zero_byte_error_normal" from "127.0.0.1"
[error] RRDgraph is 0 bytes
[debug] Response Code: 500; Content-Type: text/html; charset=utf-8; Content-Length: unknown
[info] Request took 0.006375s (156.863/s)
.-------------------------------------------------------------+-----------.
| Action                                                      | Time      |
+-------------------------------------------------------------+-----------+
| /zero_byte_error_normal                                     | 0.001202s |
|  -> RRDGraphTest003::View::RRDNormal->process               | 0.000851s |
'-------------------------------------------------------------+-----------'

[info] *** Request 4 (4.000/s) [15319] [Sat Apr  1 13:53:47 2017] ***
[debug] Path is "image_error_normal"
[debug] "GET" request for "image_error_normal" from "127.0.0.1"
[error] Unknown option
[debug] Response Code: 500; Content-Type: text/html; charset=utf-8; Content-Length: unknown
[info] Request took 0.005704s (175.316/s)
.-------------------------------------------------------------+-----------.
| Action                                                      | Time      |
+-------------------------------------------------------------+-----------+
| /image_error_normal                                         | 0.000744s |
|  -> RRDGraphTest003::View::RRDNormal->process               | 0.000454s |
'-------------------------------------------------------------+-----------'

[info] *** Request 5 (5.000/s) [15319] [Sat Apr  1 13:53:47 2017] ***
[debug] Path is "zero_byte_error_function"
[debug] "GET" request for "zero_byte_error_function" from "127.0.0.1"
[debug] Response Code: 200; Content-Type: unknown; Content-Length: unknown
[info] Request took 0.004149s (241.022/s)
.-------------------------------------------------------------+-----------.
| Action                                                      | Time      |
+-------------------------------------------------------------+-----------+
| /zero_byte_error_function                                   | 0.000692s |
|  -> RRDGraphTest003::View::RRDOnServeFunction->process      | 0.000424s |
'-------------------------------------------------------------+-----------'

[info] *** Request 6 (6.000/s) [15319] [Sat Apr  1 13:53:47 2017] ***
[debug] Path is "image_error_function"
[debug] "GET" request for "image_error_function" from "127.0.0.1"
[debug] Response Code: 200; Content-Type: unknown; Content-Length: unknown
[info] Request took 0.003538s (282.646/s)
.-------------------------------------------------------------+-----------.
| Action                                                      | Time      |
+-------------------------------------------------------------+-----------+
| /image_error_function                                       | 0.000696s |
|  -> RRDGraphTest003::View::RRDOnServeFunction->process      | 0.000429s |
'-------------------------------------------------------------+-----------'

t/003_on_error_serve.t .. ok
All tests successful.
Files=3, Tests=17,  7 wallclock secs ( 0.03 usr  0.02 sys +  1.71 cusr  0.23 csys =  1.99 CPU)
Result: PASS

------------------------------
PREREQUISITES
------------------------------

Prerequisite modules loaded:

requires:

    Module                           Need Have      
    -------------------------------- ---- ----------
    Catalyst::Plugin::Static::Simple 0    0.33      
    Catalyst::Runtime                5.7  5.90114   
    MRO::Compat                      0    0.13      

build_requires:

    Module                           Need Have      
    -------------------------------- ---- ----------
    Catalyst::Test                   0    0         
    Test::MockObject                 0    1.20161202
    Test::More                       0    1.302078  

configure_requires:

    Module                           Need Have      
    -------------------------------- ---- ----------
    ExtUtils::MakeMaker              6.30 7.24      


------------------------------
ENVIRONMENT AND OTHER CONTEXT
------------------------------

Environment variables:

    AUTOMATED_TESTING = 1
    LANG = en_US.UTF-8
    PATH = /home/sand/bin:/usr/local/bin:/usr/bin:/bin:/usr/games:/usr/local/perl/bin:/usr/X11/bin:/sbin:/usr/sbin
    PERL5LIB = 
    PERL5OPT = 
    PERL5_CPANPLUS_IS_RUNNING = 14650
    PERL5_CPAN_IS_RUNNING = 14650
    PERL_CANARY_STABILITY_NOPROMPT = 1
    PERL_MM_USE_DEFAULT = 1
    PERL_USE_UNSAFE_INC = 1
    SHELL = /usr/bin/zsh
    TERM = screen

Perl special variables (and OS-specific diagnostics, for MSWin32):

    $^X = /home/sand/src/perl/repoperls/installed-perls/host/k93msid/v5.20.1/276a/bin/perl
    $UID/$EUID = 1005 / 1005
    $GID = 1005 1005
    $EGID = 1005 1005

Perl module toolchain versions installed:

    Module              Have    
    ------------------- --------
    CPAN                2.18    
    CPAN::Meta          2.150010
    Cwd                 3.62    
    ExtUtils::CBuilder  0.280224
    ExtUtils::Command   7.24    
    ExtUtils::Install   1.67    
    ExtUtils::MakeMaker 7.24    
    ExtUtils::Manifest  1.70    
    ExtUtils::ParseXS   3.24    
    File::Spec          3.62    
    JSON                2.90    
    JSON::PP            2.27400 
    Module::Build       0.42_21 
    Module::Signature   0.81    
    Parse::CPAN::Meta   2.150010
    Test::Harness       3.38    
    Test::More          1.302078
    YAML                1.23    
    YAML::Syck          1.29    
    version             0.9909  


--

Summary of my perl5 (revision 5 version 20 subversion 1) configuration:
  Derived from: 4f732e9acf9b96a6e70ba729c7eae63906b663e5
  Platform:
    osname=linux, osvers=4.9.0-2-amd64, archname=x86_64-linux-thread-multi
    uname='linux k93msid 4.9.0-2-amd64 #1 smp debian 4.9.13-1 (2017-02-27) x86_64 gnulinux '
    config_args='-Dprefix=/home/sand/src/perl/repoperls/installed-perls/host/k93msid/v5.20.1/276a -Dmyhostname=k93msid -Dinstallusrbinperl=n -Uversiononly -Dusedevel -des -Ui_db -Dlibswanted=cl pthread socket inet nsl gdbm dbm malloc dl ld sun m crypt sec util c cposix posix ucb BSD gdbm_compat -Duseithreads -Uuselongdouble -DDEBUGGING=both'
    hint=recommended, useposix=true, d_sigaction=define
    useithreads=define, usemultiplicity=define
    use64bitint=define, use64bitall=define, uselongdouble=undef
    usemymalloc=n, bincompat5005=undef
  Compiler:
    cc='cc', ccflags ='-D_REENTRANT -D_GNU_SOURCE -fwrapv -DDEBUGGING -fno-strict-aliasing -pipe -fstack-protector -I/usr/local/include -D_LARGEFILE_SOURCE -D_FILE_OFFSET_BITS=64',
    optimize='-O2 -g',
    cppflags='-D_REENTRANT -D_GNU_SOURCE -fwrapv -DDEBUGGING -fno-strict-aliasing -pipe -fstack-protector -I/usr/local/include'
    ccversion='', gccversion='6.3.0 20170316', gccosandvers=''
    intsize=4, longsize=8, ptrsize=8, doublesize=8, byteorder=12345678
    d_longlong=define, longlongsize=8, d_longdbl=define, longdblsize=16
    ivtype='long', ivsize=8, nvtype='double', nvsize=8, Off_t='off_t', lseeksize=8
    alignbytes=8, prototype=define
  Linker and Libraries:
    ld='cc', ldflags =' -fstack-protector -L/usr/local/lib'
    libpth=/usr/local/lib /usr/lib/gcc/x86_64-linux-gnu/6/include-fixed /usr/include/x86_64-linux-gnu /usr/lib /lib/x86_64-linux-gnu /lib/../lib /usr/lib/x86_64-linux-gnu /usr/lib/../lib /lib
    libs=-lpthread -lnsl -ldl -lm -lcrypt -lutil -lc
    perllibs=-lpthread -lnsl -ldl -lm -lcrypt -lutil -lc
    libc=libc-2.24.so, so=so, useshrplib=false, libperl=libperl.a
    gnulibc_version='2.24'
  Dynamic Linking:
    dlsrc=dl_dlopen.xs, dlext=so, d_dlsymun=undef, ccdlflags='-Wl,-E'
    cccdlflags='-fPIC', lddlflags='-shared -O2 -g -L/usr/local/lib -fstack-protector'


Characteristics of this binary (from libperl): 
  Compile-time options: DEBUGGING HAS_TIMES MULTIPLICITY PERLIO_LAYERS
                        PERL_DONT_CREATE_GVSV
                        PERL_HASH_FUNC_ONE_AT_A_TIME_HARD
                        PERL_IMPLICIT_CONTEXT PERL_MALLOC_WRAP
                        PERL_NEW_COPY_ON_WRITE PERL_PRESERVE_IVUV
                        PERL_TRACK_MEMPOOL PERL_USE_DEVEL USE_64_BIT_ALL
                        USE_64_BIT_INT USE_ITHREADS USE_LARGE_FILES
                        USE_LOCALE USE_LOCALE_COLLATE USE_LOCALE_CTYPE
                        USE_LOCALE_NUMERIC USE_PERLIO USE_PERL_ATOF
                        USE_REENTRANT_API
  Locally applied patches:
	uncommitted-changes
  Built under linux
  Compiled at Mar 19 2017 15:58:40
  %ENV:
    PERL5LIB=""
    PERL5OPT=""
    PERL5_CPANPLUS_IS_RUNNING="14650"
    PERL5_CPAN_IS_RUNNING="14650"
    PERL_CANARY_STABILITY_NOPROMPT="1"
    PERL_MM_USE_DEFAULT="1"
    PERL_USE_UNSAFE_INC="1"
  @INC:
    /home/sand/src/perl/repoperls/installed-perls/host/k93msid/v5.20.1/276a/lib/site_perl/5.20.1/x86_64-linux-thread-multi
    /home/sand/src/perl/repoperls/installed-perls/host/k93msid/v5.20.1/276a/lib/site_perl/5.20.1
    /home/sand/src/perl/repoperls/installed-perls/host/k93msid/v5.20.1/276a/lib/5.20.1/x86_64-linux-thread-multi
    /home/sand/src/perl/repoperls/installed-perls/host/k93msid/v5.20.1/276a/lib/5.20.1
    .