Report for Crypt-SSLeay-0.72

Back
From: metabase:user:323dcade-2aae-11df-837a-5e0a49663a4f
Subject: PASS Crypt-SSLeay-0.72 v5.21.8 Mac OS X
Date: 2014-12-28T22:43:46Z

This distribution has been tested as part of the CPAN Testers
project, supporting the Perl programming language.  See
http://wiki.cpantesters.org/ for more information or email
questions to cpan-testers-discuss@perl.org


--
Dear A. Sinan Unur,

This is a computer-generated report for Crypt-SSLeay-0.72
on perl 5.21.8, created by CPAN-Reporter-1.2011.

Thank you for uploading your work to CPAN.  Congratulations!
All tests were successful.

Sections of this report:

    * Tester comments
    * Program output
    * Prerequisites
    * Environment and other context

------------------------------
TESTER COMMENTS
------------------------------

Additional comments from tester:

this report is from an automated smoke testing program
and was not reviewed by a human for accuracy

------------------------------
PROGRAM OUTPUT
------------------------------

Output from '/usr/bin/make test':

Running Mkbootstrap for Crypt::SSLeay ()
chmod 644 "SSLeay.bs"
PERL_DL_NONLAZY=1 "/usr/local/bin/perl5.21.8-nt@83ada4d1" "-MExtUtils::Command::MM" "-MTest::Harness" "-e" "undef *Test::Harness::Switches; test_harness(0, 'blib/lib', 'blib/arch')" t/*.t
t/00-basic.t ..... ok
t/01-connect.t ... ok
# Reading configuration from 'test.config' on darwin
# network_tests : 0
t/02-live.t ...... skipped: Network tests disabled
t/03-version.t ... ok
t/boilerplate.t .. ok
t/manifest.t ..... skipped: Author tests not required for installation
All tests successful.
Files=6, Tests=43,  0 wallclock secs ( 0.04 usr  0.02 sys +  0.51 cusr  0.08 csys =  0.65 CPU)
Result: PASS

------------------------------
PREREQUISITES
------------------------------

Prerequisite modules loaded:

requires:

    Module               Need     Have        
    -------------------- -------- ------------
    LWP::Protocol::https 6.02     6.06        
    MIME::Base64         0        3.14        
    perl                 5.006    5.021008    

build_requires:

    Module               Need     Have        
    -------------------- -------- ------------
    ExtUtils::MakeMaker  0        7.04        
    Test::More           0.19     1.301001_093
    Try::Tiny            0.19     0.22        

configure_requires:

    Module               Need     Have        
    -------------------- -------- ------------
    ExtUtils::CBuilder   0.280205 0.280221    
    Getopt::Long         0        2.42        
    Path::Class          0.26     0.35        
    Try::Tiny            0.19     0.22        


------------------------------
ENVIRONMENT AND OTHER CONTEXT
------------------------------

Environment variables:

    AUTOMATED_TESTING = 1
    LANG = en_US.UTF-8
    LC_CTYPE = en_US.UTF-8
    PATH = /opt/local/bin:/opt/local/sbin:/opt/local/libexec/gnubin:/opt/local/bin:/opt/local/sbin:/Users/rurban/bin:/opt/local/libexec/perl5.18/sitebin:/usr/local/bin:/usr/bin:/bin:/usr/sbin:/sbin:/opt/X11/bin:/Users/rurban
    PERL5LIB = 
    PERL5OPT = 
    PERL5_CPANPLUS_IS_RUNNING = 64394
    PERL5_CPAN_IS_RUNNING = 64394
    PERL_MM_USE_DEFAULT = 1
    SHELL = /bin/bash
    TERM = xterm-256color
    TMPDIR = /var/folders/dm/fgccrpz14rlglhrvqy2xh95m0000gn/T/

Perl special variables (and OS-specific diagnostics, for MSWin32):

    $^X = /usr/local/bin/perl5.21.8-nt@83ada4d1
    $UID/$EUID = 501 / 501
    $GID = 20 20 701 12 61 79 80 81 98 33 100 204 398 399
    $EGID = 20 20 701 12 61 79 80 81 98 33 100 204 398 399

Perl module toolchain versions installed:

    Module              Have        
    ------------------- ------------
    CPAN                2.05        
    CPAN::Meta          2.143240    
    Cwd                 3.54        
    ExtUtils::CBuilder  0.280221    
    ExtUtils::Command   1.19        
    ExtUtils::Install   2.04        
    ExtUtils::MakeMaker 7.04        
    ExtUtils::Manifest  1.69        
    ExtUtils::ParseXS   3.27        
    File::Spec          3.53        
    JSON                2.90        
    JSON::PP            2.27300     
    Module::Build       0.4210      
    Module::Signature   0.73        
    Parse::CPAN::Meta   1.4414      
    Test::Harness       3.34        
    Test::More          1.301001_093
    YAML                1.13        
    YAML::Syck          n/a         
    version             0.9909      


--

Summary of my perl5 (revision 5 version 21 subversion 8) configuration:
  Derived from: 83ada4d17b78a0043ecf4bbf1dc101a27bffa0c5
  Platform:
    osname=darwin, osvers=14.0.0, archname=darwin@83ada4d1
    uname='darwin reinhards-air 14.0.0 darwin kernel version 14.0.0: fri sep 19 00:26:44 pdt 2014; root:xnu-2782.1.97~2release_x86_64 x86_64 i386 macbookair6,2 darwin '
    config_args='-de -Dusedevel -Uversiononly -Dinstallman1dir=none -Dinstallman3dir=none -Dinstallsiteman1dir=none -Dinstallsiteman3dir=none -Uuseithreads -Dcc='gcc-mp-4.8' -Dld='gcc-mp-4.8' -Accflags='-m64' -Accflags='-mssse3' -Duseshrplib -Aldflags=-flat_namespace'
    hint=recommended, useposix=true, d_sigaction=define
    useithreads=undef, usemultiplicity=undef
    use64bitint=define, use64bitall=define, uselongdouble=undef
    usemymalloc=n, bincompat5005=undef
  Compiler:
    cc='gcc-mp-4.8', ccflags ='-fno-common -DPERL_DARWIN -m64 -mssse3 -fwrapv -fno-strict-aliasing -pipe -fstack-protector -I/usr/local/include -I/opt/local/include',
    optimize='-O3',
    cppflags='-fno-common -DPERL_DARWIN -m64 -mssse3 -fwrapv -fno-strict-aliasing -pipe -fstack-protector -I/usr/local/include -I/opt/local/include'
    ccversion='', gccversion='4.8.3', gccosandvers=''
    intsize=4, longsize=8, ptrsize=8, doublesize=8, byteorder=12345678, doublekind=3
    d_longlong=define, longlongsize=8, d_longdbl=define, longdblsize=16, longdblkind=3
    ivtype='long', ivsize=8, nvtype='double', nvsize=8, Off_t='off_t', lseeksize=8
    alignbytes=8, prototype=define
  Linker and Libraries:
    ld='gcc-mp-4.8', ldflags =' -flat_namespace -fstack-protector -L/opt/local/lib -L/usr/local/lib -L/opt/local/lib/libgcc'
    libpth=/opt/local/lib /opt/local/lib/gcc48/gcc/x86_64-apple-darwin14/4.8.3/include-fixed /usr/lib /usr/local/lib /opt/local/lib/libgcc
    libs=-lgdbm -ldbm -ldl -lm -lutil -lc -lpthread
    perllibs=-ldl -lm -lutil -lc -lpthread
    libc=, so=dylib, useshrplib=true, libperl=libperl.dylib
    gnulibc_version=''
  Dynamic Linking:
    dlsrc=dl_dlopen.xs, dlext=bundle, d_dlsymun=undef, ccdlflags=' '
    cccdlflags=' ', lddlflags=' -bundle -undefined dynamic_lookup -L/opt/local/lib -L/usr/local/lib -L/opt/local/lib/libgcc -fstack-protector'


Characteristics of this binary (from libperl): 
  Compile-time options: HAS_TIMES PERLIO_LAYERS PERL_DONT_CREATE_GVSV
                        PERL_HASH_FUNC_ONE_AT_A_TIME_HARD PERL_MALLOC_WRAP
                        PERL_NEW_COPY_ON_WRITE PERL_PRESERVE_IVUV
                        PERL_USE_DEVEL USE_64_BIT_ALL USE_64_BIT_INT
                        USE_LARGE_FILES USE_LOCALE USE_LOCALE_COLLATE
                        USE_LOCALE_CTYPE USE_LOCALE_NUMERIC USE_LOCALE_TIME
                        USE_PERLIO USE_PERL_ATOF
  Locally applied patches:
	uncommitted-changes
	Devel::PatchPerl 1.30
  Built under darwin
  Compiled at Dec 28 2014 22:50:44
  %ENV:
    PERL5LIB=""
    PERL5OPT=""
    PERL5_CPANPLUS_IS_RUNNING="64394"
    PERL5_CPAN_IS_RUNNING="64394"
    PERL_MM_USE_DEFAULT="1"
  @INC:
    /usr/local/lib/perl5/site_perl/5.21.8/darwin@83ada4d1
    /usr/local/lib/perl5/site_perl/5.21.8
    /usr/local/lib/perl5/5.21.8/darwin@83ada4d1
    /usr/local/lib/perl5/5.21.8
    /usr/local/lib/perl5/site_perl/5.21.5
    /usr/local/lib/perl5/site_perl/5.21.4
    /usr/local/lib/perl5/site_perl/5.21.3
    /usr/local/lib/perl5/site_perl/5.21.2
    /usr/local/lib/perl5/site_perl/5.21.1
    /usr/local/lib/perl5/site_perl/5.20.1
    /usr/local/lib/perl5/site_perl/5.20.0
    /usr/local/lib/perl5/site_perl/5.19.9
    /usr/local/lib/perl5/site_perl/5.19.8
    /usr/local/lib/perl5/site_perl/5.19.6
    /usr/local/lib/perl5/site_perl/5.19.4
    /usr/local/lib/perl5/site_perl/5.19.2
    /usr/local/lib/perl5/site_perl/5.18.2
    /usr/local/lib/perl5/site_perl/5.18.1
    /usr/local/lib/perl5/site_perl/5.18.0
    /usr/local/lib/perl5/site_perl/5.17.7
    /usr/local/lib/perl5/site_perl/5.17.6
    /usr/local/lib/perl5/site_perl/5.17.5
    /usr/local/lib/perl5/site_perl/5.16.3
    /usr/local/lib/perl5/site_perl/5.16.1
    /usr/local/lib/perl5/site_perl/5.15.8
    /usr/local/lib/perl5/site_perl/5.15.7
    /usr/local/lib/perl5/site_perl/5.15.6
    /usr/local/lib/perl5/site_perl/5.15.5
    /usr/local/lib/perl5/site_perl/5.15.4
    /usr/local/lib/perl5/site_perl/5.15.3
    /usr/local/lib/perl5/site_perl/5.15.2
    /usr/local/lib/perl5/site_perl/5.15.1
    /usr/local/lib/perl5/site_perl/5.15.0
    /usr/local/lib/perl5/site_perl/5.14.4
    /usr/local/lib/perl5/site_perl/5.14.3
    /usr/local/lib/perl5/site_perl/5.14.2
    /usr/local/lib/perl5/site_perl/5.14.1
    /usr/local/lib/perl5/site_perl/5.14.0
    /usr/local/lib/perl5/site_perl/5.12.5
    /usr/local/lib/perl5/site_perl/5.12.4
    /usr/local/lib/perl5/site_perl/5.10.1
    /usr/local/lib/perl5/site_perl/5.8.9
    /usr/local/lib/perl5/site_perl/5.8.8
    /usr/local/lib/perl5/site_perl/5.8.5
    /usr/local/lib/perl5/site_perl/5.8.4
    /usr/local/lib/perl5/site_perl/5.6.2
    /usr/local/lib/perl5/site_perl
    .