Reaction v0.002005 Perl 5 v5.37.4 x86_64-linux-thread-multi
- Status
- Pass
- From
- Andreas J. König (ANDK)
- Dist
-
Reaction v0.002005
- Platform
- Perl 5 v5.37.4 x86_64-linux-thread-multi
- Date
- 2022-09-28 11:23:32
- ID
- fbf447de-3f1f-11ed-a5cf-930ee48453bc
This distribution has been tested as part of the CPAN Testers
project, supporting the Perl programming language. See
http://wiki.cpantesters.org/ for more information or email
questions to cpan-testers-discuss@perl.org
--
Dear Justin Hunter,
This is a computer-generated report for Reaction-0.002005
on perl 5.37.4, created by CPAN-Reporter-1.2018.
Thank you for uploading your work to CPAN. Congratulations!
All tests were successful.
Sections of this report:
* Tester comments
* Program output
* Prerequisites
* Environment and other context
------------------------------
TESTER COMMENTS
------------------------------
Additional comments from tester:
this report is from an automated smoke testing program
and was not reviewed by a human for accuracy
------------------------------
PROGRAM OUTPUT
------------------------------
Output from '/usr/bin/make test':
PERL_DL_NONLAZY=1 "/tmp/basesmoker-reloperl-paRY/bin/perl" "-MExtUtils::Command::MM" "-MTest::Harness" "-e" "undef *Test::Harness::Switches; test_harness(0, 'inc', 'blib/lib', 'blib/arch')" t/00componentui_compiles.t t/01app.t t/04load_all.t t/05reflect_attr_from.t t/im_dbic.t t/ui_focus_stack.t t/ui_view.t t/ui_viewport.t t/uncheck_bool_field.t
Class::MOP::load_class is deprecated at /home/sand/src/perl/repoperls/installed-perls/host/k93focal/v5.37.4/d119/lib/site_perl/5.37.4/x86_64-linux-thread-multi/Class/MOP.pm line 69.
Class::MOP::load_class("ComponentUI::TestModel") called at /tmp/loop_over_bdir-2945421-pdrHb6/Reaction-0.002005-0/blib/lib/Catalyst/Model/Reaction/InterfaceModel/DBIC.pm line 24
Catalyst::Model::Reaction::InterfaceModel::DBIC::COMPONENT("ComponentUI::Model::TestModel", "ComponentUI", HASH(0x55bfa040b0f0)) called at /home/sand/src/perl/repoperls/installed-perls/host/k93focal/v5.37.4/d119/lib/site_perl/5.37.4/Catalyst.pm line 3234
eval {...} called at /home/sand/src/perl/repoperls/installed-perls/host/k93focal/v5.37.4/d119/lib/site_perl/5.37.4/Catalyst.pm line 3235
Catalyst::setup_component("ComponentUI", "ComponentUI::Model::TestModel") called at /home/sand/src/perl/repoperls/installed-perls/host/k93focal/v5.37.4/d119/lib/site_perl/5.37.4/Catalyst.pm line 3212
Catalyst::__ANON__() called at /home/sand/src/perl/repoperls/installed-perls/host/k93focal/v5.37.4/d119/lib/site_perl/5.37.4/Catalyst.pm line 3059
Catalyst::setup_components("ComponentUI") called at /home/sand/src/perl/repoperls/installed-perls/host/k93focal/v5.37.4/d119/lib/site_perl/5.37.4/Catalyst.pm line 1431
Catalyst::setup("ComponentUI") called at /tmp/loop_over_bdir-2945421-pdrHb6/Reaction-0.002005-0/blib/lib/ComponentUI.pm line 32
require ComponentUI.pm called at t/00componentui_compiles.t line 7
main::BEGIN() called at t/00componentui_compiles.t line 7
eval {...} called at t/00componentui_compiles.t line 7
eval 'package main;
BEGIN { ${^WARNING_BITS} = $args[-1] if defined $args[-1] }
#line 7 t/00componentui_compiles.t
use ComponentUI @{$args[0]};
1;
' called at /home/sand/src/perl/repoperls/installed-perls/host/k93focal/v5.37.4/d119/lib/5.37.4/Test/More.pm line 1034
Test::More::_eval("package main;\x{a}BEGIN { \${^WARNING_BITS} = \$args[-1] if defined"..., ARRAY(0x55bf99ad8888), "UUUUUUUUUUUUUUUUUUUU") called at /home/sand/src/perl/repoperls/installed-perls/host/k93focal/v5.37.4/d119/lib/5.37.4/Test/More.pm line 1009
Test::More::use_ok("ComponentUI") called at t/00componentui_compiles.t line 7
Class::MOP::load_class is deprecated at /home/sand/src/perl/repoperls/installed-perls/host/k93focal/v5.37.4/d119/lib/site_perl/5.37.4/x86_64-linux-thread-multi/Class/MOP.pm line 69.
Class::MOP::load_class("Reaction::InterfaceModel::Object") called at /tmp/loop_over_bdir-2945421-pdrHb6/Reaction-0.002005-0/blib/lib/Reaction/InterfaceModel/Reflector/DBIC.pm line 149
Reaction::InterfaceModel::Reflector::DBIC::reflect_schema(Reaction::InterfaceModel::Reflector::DBIC=HASH(0x55bfa0d40a28), "model_class", "ComponentUI::TestModel", "schema_class", "RTest::TestDB", "sources", ARRAY(0x55bfa1092508)) called at /tmp/loop_over_bdir-2945421-pdrHb6/Reaction-0.002005-0/blib/lib/ComponentUI/TestModel.pm line 10
require ComponentUI/TestModel.pm called at /home/sand/src/perl/repoperls/installed-perls/host/k93focal/v5.37.4/d119/lib/site_perl/5.37.4/Module/Runtime.pm line 314
Module::Runtime::require_module("ComponentUI::TestModel") called at /home/sand/src/perl/repoperls/installed-perls/host/k93focal/v5.37.4/d119/lib/site_perl/5.37.4/Class/Load.pm line 174
Class::Load::try {...} () called at /home/sand/src/perl/repoperls/installed-perls/host/k93focal/v5.37.4/d119/lib/site_perl/5.37.4/Try/Tiny.pm line 98
eval {...} called at /home/sand/src/perl/repoperls/installed-perls/host/k93focal/v5.37.4/d119/lib/site_perl/5.37.4/Try/Tiny.pm line 93
Try::Tiny::try(CODE(0x55bf9c47f2e8), Try::Tiny::Catch=REF(0x55bfa0a64370)) called at /home/sand/src/perl/repoperls/installed-perls/host/k93focal/v5.37.4/d119/lib/site_perl/5.37.4/Class/Load.pm line 180
Class::Load::try_load_class("ComponentUI::TestModel", undef) called at /home/sand/src/perl/repoperls/installed-perls/host/k93focal/v5.37.4/d119/lib/site_perl/5.37.4/Class/Load.pm line 35
Class::Load::load_class("ComponentUI::TestModel") called at /tmp/loop_over_bdir-2945421-pdrHb6/Reaction-0.002005-0/blib/lib/Catalyst/Model/Reaction/InterfaceModel/DBIC.pm line 24
Catalyst::Model::Reaction::InterfaceModel::DBIC::COMPONENT("ComponentUI::Model::TestModel", "ComponentUI", HASH(0x55bfa040b0f0)) called at /home/sand/src/perl/repoperls/installed-perls/host/k93focal/v5.37.4/d119/lib/site_perl/5.37.4/Catalyst.pm line 3234
eval {...} called at /home/sand/src/perl/repoperls/installed-perls/host/k93focal/v5.37.4/d119/lib/site_perl/5.37.4/Catalyst.pm line 3235
Catalyst::setup_component("ComponentUI", "ComponentUI::Model::TestModel") called at /home/sand/src/perl/repoperls/installed-perls/host/k93focal/v5.37.4/d119/lib/site_perl/5.37.4/Catalyst.pm line 3212
Catalyst::__ANON__() called at /home/sand/src/perl/repoperls/installed-perls/host/k93focal/v5.37.4/d119/lib/site_perl/5.37.4/Catalyst.pm line 3059
Catalyst::setup_components("ComponentUI") called at /home/sand/src/perl/repoperls/installed-perls/host/k93focal/v5.37.4/d119/lib/site_perl/5.37.4/Catalyst.pm line 1431
Catalyst::setup("ComponentUI") called at /tmp/loop_over_bdir-2945421-pdrHb6/Reaction-0.002005-0/blib/lib/ComponentUI.pm line 32
require ComponentUI.pm called at t/00componentui_compiles.t line 7
main::BEGIN() called at t/00componentui_compiles.t line 7
eval {...} called at t/00componentui_compiles.t line 7
eval 'package main;
BEGIN { ${^WARNING_BITS} = $args[-1] if defined $args[-1] }
#line 7 t/00componentui_compiles.t
use ComponentUI @{$args[0]};
1;
' called at /home/sand/src/perl/repoperls/installed-perls/host/k93focal/v5.37.4/d119/lib/5.37.4/Test/More.pm line 1034
Test::More::_eval("package main;\x{a}BEGIN { \${^WARNING_BITS} = \$args[-1] if defined"..., ARRAY(0x55bf99ad8888), "UUUUUUUUUUUUUUUUUUUU") called at /home/sand/src/perl/repoperls/installed-perls/host/k93focal/v5.37.4/d119/lib/5.37.4/Test/More.pm line 1009
Test::More::use_ok("ComponentUI") called at t/00componentui_compiles.t line 7
Class::MOP::load_class is deprecated at /home/sand/src/perl/repoperls/installed-perls/host/k93focal/v5.37.4/d119/lib/site_perl/5.37.4/x86_64-linux-thread-multi/Class/MOP.pm line 69.
Class::MOP::load_class("Reaction::InterfaceModel::Object") called at /tmp/loop_over_bdir-2945421-pdrHb6/Reaction-0.002005-0/blib/lib/Reaction/Class.pm line 123
Reaction::Class::do_class_sub("Reaction::Class", "ComponentUI::TestModel::Foo", "ComponentUI::TestModel::Foo", "is", "Reaction::InterfaceModel::Object", "which", CODE(0x55bfa1418f50)) called at /tmp/loop_over_bdir-2945421-pdrHb6/Reaction-0.002005-0/blib/lib/Reaction/Class.pm line 86
Reaction::Class::("ComponentUI::TestModel::Foo", "is", "Reaction::InterfaceModel::Object", "which", CODE(0x55bfa1418f50)) called at /tmp/loop_over_bdir-2945421-pdrHb6/Reaction-0.002005-0/blib/lib/ComponentUI/TestModel/Foo.pm line 8
require ComponentUI/TestModel/Foo.pm called at /home/sand/src/perl/repoperls/installed-perls/host/k93focal/v5.37.4/d119/lib/site_perl/5.37.4/Module/Runtime.pm line 314
Module::Runtime::require_module("ComponentUI::TestModel::Foo") called at /home/sand/src/perl/repoperls/installed-perls/host/k93focal/v5.37.4/d119/lib/site_perl/5.37.4/Class/Load.pm line 174
Class::Load::try {...} () called at /home/sand/src/perl/repoperls/installed-perls/host/k93focal/v5.37.4/d119/lib/site_perl/5.37.4/Try/Tiny.pm line 98
eval {...} called at /home/sand/src/perl/repoperls/installed-perls/host/k93focal/v5.37.4/d119/lib/site_perl/5.37.4/Try/Tiny.pm line 93
Try::Tiny::try(CODE(0x55bfa13679b8), Try::Tiny::Catch=REF(0x55bfa13e41d8)) called at /home/sand/src/perl/repoperls/installed-perls/host/k93focal/v5.37.4/d119/lib/site_perl/5.37.4/Class/Load.pm line 180
Class::Load::try_load_class("ComponentUI::TestModel::Foo", undef) called at /home/sand/src/perl/repoperls/installed-perls/host/k93focal/v5.37.4/d119/lib/site_perl/5.37.4/Class/Load.pm line 35
Class::Load::load_class("ComponentUI::TestModel::Foo") called at /tmp/loop_over_bdir-2945421-pdrHb6/Reaction-0.002005-0/blib/lib/Reaction/InterfaceModel/Reflector/DBIC.pm line 892
eval {...} called at /tmp/loop_over_bdir-2945421-pdrHb6/Reaction-0.002005-0/blib/lib/Reaction/InterfaceModel/Reflector/DBIC.pm line 892
Reaction::InterfaceModel::Reflector::DBIC::_maybe_load_class(Reaction::InterfaceModel::Reflector::DBIC=HASH(0x55bfa0d40a28), "ComponentUI::TestModel::Foo") called at /tmp/loop_over_bdir-2945421-pdrHb6/Reaction-0.002005-0/blib/lib/Reaction/InterfaceModel/Reflector/DBIC.pm line 876
Reaction::InterfaceModel::Reflector::DBIC::_load_or_create(Reaction::InterfaceModel::Reflector::DBIC=HASH(0x55bfa0d40a28), "ComponentUI::TestModel::Foo", "superclasses", ARRAY(0x55bfa1306310)) called at /tmp/loop_over_bdir-2945421-pdrHb6/Reaction-0.002005-0/blib/lib/Reaction/InterfaceModel/Reflector/DBIC.pm line 448
Reaction::InterfaceModel::Reflector::DBIC::reflect_source_object(Reaction::InterfaceModel::Reflector::DBIC=HASH(0x55bfa0d40a28), "source_name", "Foo", "parent_domain_model_name", "_rtest_test_db_store", "schema_class", "RTest::TestDB", "parent_class", ...) called at /tmp/loop_over_bdir-2945421-pdrHb6/Reaction-0.002005-0/blib/lib/Reaction/InterfaceModel/Reflector/DBIC.pm line 323
Reaction::InterfaceModel::Reflector::DBIC::reflect_source(Reaction::InterfaceModel::Reflector::DBIC=HASH(0x55bfa0d40a28), "source_name", "Foo", "parent_class", "ComponentUI::TestModel", "schema_class", "RTest::TestDB", "source_class", ...) called at /tmp/loop_over_bdir-2945421-pdrHb6/Reaction-0.002005-0/blib/lib/Reaction/InterfaceModel/Reflector/DBIC.pm line 185
Reaction::InterfaceModel::Reflector::DBIC::reflect_schema(Reaction::InterfaceModel::Reflector::DBIC=HASH(0x55bfa0d40a28), "model_class", "ComponentUI::TestModel", "schema_class", "RTest::TestDB", "sources", ARRAY(0x55bfa1092508)) called at /tmp/loop_over_bdir-2945421-pdrHb6/Reaction-0.002005-0/blib/lib/ComponentUI/TestModel.pm line 10
require ComponentUI/TestModel.pm called at /home/sand/src/perl/repoperls/installed-perls/host/k93focal/v5.37.4/d119/lib/site_perl/5.37.4/Module/Runtime.pm line 314
Module::Runtime::require_module("ComponentUI::TestModel") called at /home/sand/src/perl/repoperls/installed-perls/host/k93focal/v5.37.4/d119/lib/site_perl/5.37.4/Class/Load.pm line 174
Class::Load::try {...} () called at /home/sand/src/perl/repoperls/installed-perls/host/k93focal/v5.37.4/d119/lib/site_perl/5.37.4/Try/Tiny.pm line 98
eval {...} called at /home/sand/src/perl/repoperls/installed-perls/host/k93focal/v5.37.4/d119/lib/site_perl/5.37.4/Try/Tiny.pm line 93
Try::Tiny::try(CODE(0x55bf9c47f2e8), Try::Tiny::Catch=REF(0x55bfa0a64370)) called at /home/sand/src/perl/repoperls/installed-perls/host/k93focal/v5.37.4/d119/lib/site_perl/5.37.4/Class/Load.pm line 180
Class::Load::try_load_class("ComponentUI::TestModel", undef) called at /home/sand/src/perl/repoperls/installed-perls/host/k93focal/v5.37.4/d119/lib/site_perl/5.37.4/Class/Load.pm line 35
Class::Load::load_class("ComponentUI::TestModel") called at /tmp/loop_over_bdir-2945421-pdrHb6/Reaction-0.002005-0/blib/lib/Catalyst/Model/Reaction/InterfaceModel/DBIC.pm line 24
Catalyst::Model::Reaction::InterfaceModel::DBIC::COMPONENT("ComponentUI::Model::TestModel", "ComponentUI", HASH(0x55bfa040b0f0)) called at /home/sand/src/perl/repoperls/installed-perls/host/k93focal/v5.37.4/d119/lib/site_perl/5.37.4/Catalyst.pm line 3234
eval {...} called at /home/sand/src/perl/repoperls/installed-perls/host/k93focal/v5.37.4/d119/lib/site_perl/5.37.4/Catalyst.pm line 3235
Catalyst::setup_component("ComponentUI", "ComponentUI::Model::TestModel") called at /home/sand/src/perl/repoperls/installed-perls/host/k93focal/v5.37.4/d119/lib/site_perl/5.37.4/Catalyst.pm line 3212
Catalyst::__ANON__() called at /home/sand/src/perl/repoperls/installed-perls/host/k93focal/v5.37.4/d119/lib/site_perl/5.37.4/Catalyst.pm line 3059
Catalyst::setup_components("ComponentUI") called at /home/sand/src/perl/repoperls/installed-perls/host/k93focal/v5.37.4/d119/lib/site_perl/5.37.4/Catalyst.pm line 1431
Catalyst::setup("ComponentUI") called at /tmp/loop_over_bdir-2945421-pdrHb6/Reaction-0.002005-0/blib/lib/ComponentUI.pm line 32
require ComponentUI.pm called at t/00componentui_compiles.t line 7
main::BEGIN() called at t/00componentui_compiles.t line 7
eval {...} called at t/00componentui_compiles.t line 7
eval 'package main;
BEGIN { ${^WARNING_BITS} = $args[-1] if defined $args[-1] }
#line 7 t/00componentui_compiles.t
use ComponentUI @{$args[0]};
1;
' called at /home/sand/src/perl/repoperls/installed-perls/host/k93focal/v5.37.4/d119/lib/5.37.4/Test/More.pm line 1034
Test::More::_eval("package main;\x{a}BEGIN { \${^WARNING_BITS} = \$args[-1] if defined"..., ARRAY(0x55bf99ad8888), "UUUUUUUUUUUUUUUUUUUU") called at /home/sand/src/perl/repoperls/installed-perls/host/k93focal/v5.37.4/d119/lib/5.37.4/Test/More.pm line 1009
Test::More::use_ok("ComponentUI") called at t/00componentui_compiles.t line 7
t/00componentui_compiles.t .. ok
Class::MOP::load_class is deprecated at /home/sand/src/perl/repoperls/installed-perls/host/k93focal/v5.37.4/d119/lib/site_perl/5.37.4/x86_64-linux-thread-multi/Class/MOP.pm line 69.
Class::MOP::load_class("ComponentUI::TestModel") called at /tmp/loop_over_bdir-2945421-pdrHb6/Reaction-0.002005-0/blib/lib/Catalyst/Model/Reaction/InterfaceModel/DBIC.pm line 24
Catalyst::Model::Reaction::InterfaceModel::DBIC::COMPONENT("ComponentUI::Model::TestModel", "ComponentUI", HASH(0x559efee5a9b8)) called at /home/sand/src/perl/repoperls/installed-perls/host/k93focal/v5.37.4/d119/lib/site_perl/5.37.4/Catalyst.pm line 3234
eval {...} called at /home/sand/src/perl/repoperls/installed-perls/host/k93focal/v5.37.4/d119/lib/site_perl/5.37.4/Catalyst.pm line 3235
Catalyst::setup_component("ComponentUI", "ComponentUI::Model::TestModel") called at /home/sand/src/perl/repoperls/installed-perls/host/k93focal/v5.37.4/d119/lib/site_perl/5.37.4/Catalyst.pm line 3212
Catalyst::__ANON__() called at /home/sand/src/perl/repoperls/installed-perls/host/k93focal/v5.37.4/d119/lib/site_perl/5.37.4/Catalyst.pm line 3059
Catalyst::setup_components("ComponentUI") called at /home/sand/src/perl/repoperls/installed-perls/host/k93focal/v5.37.4/d119/lib/site_perl/5.37.4/Catalyst.pm line 1431
Catalyst::setup("ComponentUI") called at /tmp/loop_over_bdir-2945421-pdrHb6/Reaction-0.002005-0/blib/lib/ComponentUI.pm line 32
require ComponentUI.pm called at /home/sand/src/perl/repoperls/installed-perls/host/k93focal/v5.37.4/d119/lib/site_perl/5.37.4/Module/Runtime.pm line 314
Module::Runtime::require_module("ComponentUI") called at /home/sand/src/perl/repoperls/installed-perls/host/k93focal/v5.37.4/d119/lib/site_perl/5.37.4/Class/Load.pm line 174
Class::Load::try {...} () called at /home/sand/src/perl/repoperls/installed-perls/host/k93focal/v5.37.4/d119/lib/site_perl/5.37.4/Try/Tiny.pm line 98
eval {...} called at /home/sand/src/perl/repoperls/installed-perls/host/k93focal/v5.37.4/d119/lib/site_perl/5.37.4/Try/Tiny.pm line 93
Try::Tiny::try(CODE(0x559ef8548c28), Try::Tiny::Catch=REF(0x559ef9472ea0)) called at /home/sand/src/perl/repoperls/installed-perls/host/k93focal/v5.37.4/d119/lib/site_perl/5.37.4/Class/Load.pm line 180
Class::Load::try_load_class("ComponentUI", undef) called at /home/sand/src/perl/repoperls/installed-perls/host/k93focal/v5.37.4/d119/lib/site_perl/5.37.4/Class/Load.pm line 35
Class::Load::load_class("ComponentUI") called at /home/sand/src/perl/repoperls/installed-perls/host/k93focal/v5.37.4/d119/lib/site_perl/5.37.4/Catalyst/Test.pm line 29
Catalyst::Test::_build_request_export("Catalyst::Test", HASH(0x559ef851c248)) called at /home/sand/src/perl/repoperls/installed-perls/host/k93focal/v5.37.4/d119/lib/site_perl/5.37.4/Catalyst/Test.pm line 95
Catalyst::Test::__ANON__("Catalyst::Test", "all", HASH(0x559ef84fa070), HASH(0x559ef7d48820)) called at /home/sand/src/perl/repoperls/installed-perls/host/k93focal/v5.37.4/d119/lib/site_perl/5.37.4/Sub/Exporter.pm line 492
Sub::Exporter::_expand_group("Catalyst::Test", HASH(0x559ef99c8180), ARRAY(0x559ef7d487d8), HASH(0x559ef7d48820), HASH(0x559ef7d48460), HASH(0x559ef7d48880)) called at /home/sand/src/perl/repoperls/installed-perls/host/k93focal/v5.37.4/d119/lib/site_perl/5.37.4/Sub/Exporter.pm line 423
Sub::Exporter::_expand_groups("Catalyst::Test", HASH(0x559ef99c8180), ARRAY(0x559ef99c85d0), HASH(0x559ef7d48820)) called at /home/sand/src/perl/repoperls/installed-perls/host/k93focal/v5.37.4/d119/lib/site_perl/5.37.4/Sub/Exporter.pm line 741
Sub::Exporter::__ANON__("Catalyst::Test", "-all", HASH(0x559ef7d6ed38)) called at /home/sand/src/perl/repoperls/installed-perls/host/k93focal/v5.37.4/d119/lib/site_perl/5.37.4/Catalyst/Test.pm line 155
Catalyst::Test::import("Catalyst::Test", "ComponentUI") called at t/01app.t line 7
main::BEGIN() called at t/01app.t line 7
eval {...} called at t/01app.t line 7
eval 'package main;
BEGIN { ${^WARNING_BITS} = $args[-1] if defined $args[-1] }
#line 7 t/01app.t
use Catalyst::Test @{$args[0]};
1;
' called at /home/sand/src/perl/repoperls/installed-perls/host/k93focal/v5.37.4/d119/lib/5.37.4/Test/More.pm line 1034
Test::More::_eval("package main;\x{a}BEGIN { \${^WARNING_BITS} = \$args[-1] if defined"..., ARRAY(0x559ef84f9c98), "UUUUUUUUUUUUUUUUUUUU") called at /home/sand/src/perl/repoperls/installed-perls/host/k93focal/v5.37.4/d119/lib/5.37.4/Test/More.pm line 1009
Test::More::use_ok("Catalyst::Test", "ComponentUI") called at t/01app.t line 7
main::BEGIN() called at t/01app.t line 8
eval {...} called at t/01app.t line 8
Class::MOP::load_class is deprecated at /home/sand/src/perl/repoperls/installed-perls/host/k93focal/v5.37.4/d119/lib/site_perl/5.37.4/x86_64-linux-thread-multi/Class/MOP.pm line 69.
Class::MOP::load_class("Reaction::InterfaceModel::Object") called at /tmp/loop_over_bdir-2945421-pdrHb6/Reaction-0.002005-0/blib/lib/Reaction/InterfaceModel/Reflector/DBIC.pm line 149
Reaction::InterfaceModel::Reflector::DBIC::reflect_schema(Reaction::InterfaceModel::Reflector::DBIC=HASH(0x559eff4557d8), "model_class", "ComponentUI::TestModel", "schema_class", "RTest::TestDB", "sources", ARRAY(0x559efba10f58)) called at /tmp/loop_over_bdir-2945421-pdrHb6/Reaction-0.002005-0/blib/lib/ComponentUI/TestModel.pm line 10
require ComponentUI/TestModel.pm called at /home/sand/src/perl/repoperls/installed-perls/host/k93focal/v5.37.4/d119/lib/site_perl/5.37.4/Module/Runtime.pm line 314
Module::Runtime::require_module("ComponentUI::TestModel") called at /home/sand/src/perl/repoperls/installed-perls/host/k93focal/v5.37.4/d119/lib/site_perl/5.37.4/Class/Load.pm line 174
Class::Load::try {...} () called at /home/sand/src/perl/repoperls/installed-perls/host/k93focal/v5.37.4/d119/lib/site_perl/5.37.4/Try/Tiny.pm line 98
eval {...} called at /home/sand/src/perl/repoperls/installed-perls/host/k93focal/v5.37.4/d119/lib/site_perl/5.37.4/Try/Tiny.pm line 93
Try::Tiny::try(CODE(0x559efedc6990), Try::Tiny::Catch=REF(0x559eff4c5bf8)) called at /home/sand/src/perl/repoperls/installed-perls/host/k93focal/v5.37.4/d119/lib/site_perl/5.37.4/Class/Load.pm line 180
Class::Load::try_load_class("ComponentUI::TestModel", undef) called at /home/sand/src/perl/repoperls/installed-perls/host/k93focal/v5.37.4/d119/lib/site_perl/5.37.4/Class/Load.pm line 35
Class::Load::load_class("ComponentUI::TestModel") called at /tmp/loop_over_bdir-2945421-pdrHb6/Reaction-0.002005-0/blib/lib/Catalyst/Model/Reaction/InterfaceModel/DBIC.pm line 24
Catalyst::Model::Reaction::InterfaceModel::DBIC::COMPONENT("ComponentUI::Model::TestModel", "ComponentUI", HASH(0x559efee5a9b8)) called at /home/sand/src/perl/repoperls/installed-perls/host/k93focal/v5.37.4/d119/lib/site_perl/5.37.4/Catalyst.pm line 3234
eval {...} called at /home/sand/src/perl/repoperls/installed-perls/host/k93focal/v5.37.4/d119/lib/site_perl/5.37.4/Catalyst.pm line 3235
Catalyst::setup_component("ComponentUI", "ComponentUI::Model::TestModel") called at /home/sand/src/perl/repoperls/installed-perls/host/k93focal/v5.37.4/d119/lib/site_perl/5.37.4/Catalyst.pm line 3212
Catalyst::__ANON__() called at /home/sand/src/perl/repoperls/installed-perls/host/k93focal/v5.37.4/d119/lib/site_perl/5.37.4/Catalyst.pm line 3059
Catalyst::setup_components("ComponentUI") called at /home/sand/src/perl/repoperls/installed-perls/host/k93focal/v5.37.4/d119/lib/site_perl/5.37.4/Catalyst.pm line 1431
Catalyst::setup("ComponentUI") called at /tmp/loop_over_bdir-2945421-pdrHb6/Reaction-0.002005-0/blib/lib/ComponentUI.pm line 32
require ComponentUI.pm called at /home/sand/src/perl/repoperls/installed-perls/host/k93focal/v5.37.4/d119/lib/site_perl/5.37.4/Module/Runtime.pm line 314
Module::Runtime::require_module("ComponentUI") called at /home/sand/src/perl/repoperls/installed-perls/host/k93focal/v5.37.4/d119/lib/site_perl/5.37.4/Class/Load.pm line 174
Class::Load::try {...} () called at /home/sand/src/perl/repoperls/installed-perls/host/k93focal/v5.37.4/d119/lib/site_perl/5.37.4/Try/Tiny.pm line 98
eval {...} called at /home/sand/src/perl/repoperls/installed-perls/host/k93focal/v5.37.4/d119/lib/site_perl/5.37.4/Try/Tiny.pm line 93
Try::Tiny::try(CODE(0x559ef8548c28), Try::Tiny::Catch=REF(0x559ef9472ea0)) called at /home/sand/src/perl/repoperls/installed-perls/host/k93focal/v5.37.4/d119/lib/site_perl/5.37.4/Class/Load.pm line 180
Class::Load::try_load_class("ComponentUI", undef) called at /home/sand/src/perl/repoperls/installed-perls/host/k93focal/v5.37.4/d119/lib/site_perl/5.37.4/Class/Load.pm line 35
Class::Load::load_class("ComponentUI") called at /home/sand/src/perl/repoperls/installed-perls/host/k93focal/v5.37.4/d119/lib/site_perl/5.37.4/Catalyst/Test.pm line 29
Catalyst::Test::_build_request_export("Catalyst::Test", HASH(0x559ef851c248)) called at /home/sand/src/perl/repoperls/installed-perls/host/k93focal/v5.37.4/d119/lib/site_perl/5.37.4/Catalyst/Test.pm line 95
Catalyst::Test::__ANON__("Catalyst::Test", "all", HASH(0x559ef84fa070), HASH(0x559ef7d48820)) called at /home/sand/src/perl/repoperls/installed-perls/host/k93focal/v5.37.4/d119/lib/site_perl/5.37.4/Sub/Exporter.pm line 492
Sub::Exporter::_expand_group("Catalyst::Test", HASH(0x559ef99c8180), ARRAY(0x559ef7d487d8), HASH(0x559ef7d48820), HASH(0x559ef7d48460), HASH(0x559ef7d48880)) called at /home/sand/src/perl/repoperls/installed-perls/host/k93focal/v5.37.4/d119/lib/site_perl/5.37.4/Sub/Exporter.pm line 423
Sub::Exporter::_expand_groups("Catalyst::Test", HASH(0x559ef99c8180), ARRAY(0x559ef99c85d0), HASH(0x559ef7d48820)) called at /home/sand/src/perl/repoperls/installed-perls/host/k93focal/v5.37.4/d119/lib/site_perl/5.37.4/Sub/Exporter.pm line 741
Sub::Exporter::__ANON__("Catalyst::Test", "-all", HASH(0x559ef7d6ed38)) called at /home/sand/src/perl/repoperls/installed-perls/host/k93focal/v5.37.4/d119/lib/site_perl/5.37.4/Catalyst/Test.pm line 155
Catalyst::Test::import("Catalyst::Test", "ComponentUI") called at t/01app.t line 7
main::BEGIN() called at t/01app.t line 7
eval {...} called at t/01app.t line 7
eval 'package main;
BEGIN { ${^WARNING_BITS} = $args[-1] if defined $args[-1] }
#line 7 t/01app.t
use Catalyst::Test @{$args[0]};
1;
' called at /home/sand/src/perl/repoperls/installed-perls/host/k93focal/v5.37.4/d119/lib/5.37.4/Test/More.pm line 1034
Test::More::_eval("package main;\x{a}BEGIN { \${^WARNING_BITS} = \$args[-1] if defined"..., ARRAY(0x559ef84f9c98), "UUUUUUUUUUUUUUUUUUUU") called at /home/sand/src/perl/repoperls/installed-perls/host/k93focal/v5.37.4/d119/lib/5.37.4/Test/More.pm line 1009
Test::More::use_ok("Catalyst::Test", "ComponentUI") called at t/01app.t line 7
main::BEGIN() called at t/01app.t line 8
eval {...} called at t/01app.t line 8
Class::MOP::load_class is deprecated at /home/sand/src/perl/repoperls/installed-perls/host/k93focal/v5.37.4/d119/lib/site_perl/5.37.4/x86_64-linux-thread-multi/Class/MOP.pm line 69.
Class::MOP::load_class("Reaction::InterfaceModel::Object") called at /tmp/loop_over_bdir-2945421-pdrHb6/Reaction-0.002005-0/blib/lib/Reaction/Class.pm line 123
Reaction::Class::do_class_sub("Reaction::Class", "ComponentUI::TestModel::Foo", "ComponentUI::TestModel::Foo", "is", "Reaction::InterfaceModel::Object", "which", CODE(0x559effd1b498)) called at /tmp/loop_over_bdir-2945421-pdrHb6/Reaction-0.002005-0/blib/lib/Reaction/Class.pm line 86
Reaction::Class::("ComponentUI::TestModel::Foo", "is", "Reaction::InterfaceModel::Object", "which", CODE(0x559effd1b498)) called at /tmp/loop_over_bdir-2945421-pdrHb6/Reaction-0.002005-0/blib/lib/ComponentUI/TestModel/Foo.pm line 8
require ComponentUI/TestModel/Foo.pm called at /home/sand/src/perl/repoperls/installed-perls/host/k93focal/v5.37.4/d119/lib/site_perl/5.37.4/Module/Runtime.pm line 314
Module::Runtime::require_module("ComponentUI::TestModel::Foo") called at /home/sand/src/perl/repoperls/installed-perls/host/k93focal/v5.37.4/d119/lib/site_perl/5.37.4/Class/Load.pm line 174
Class::Load::try {...} () called at /home/sand/src/perl/repoperls/installed-perls/host/k93focal/v5.37.4/d119/lib/site_perl/5.37.4/Try/Tiny.pm line 98
eval {...} called at /home/sand/src/perl/repoperls/installed-perls/host/k93focal/v5.37.4/d119/lib/site_perl/5.37.4/Try/Tiny.pm line 93
Try::Tiny::try(CODE(0x559effcc7e28), Try::Tiny::Catch=REF(0x559effce4088)) called at /home/sand/src/perl/repoperls/installed-perls/host/k93focal/v5.37.4/d119/lib/site_perl/5.37.4/Class/Load.pm line 180
Class::Load::try_load_class("ComponentUI::TestModel::Foo", undef) called at /home/sand/src/perl/repoperls/installed-perls/host/k93focal/v5.37.4/d119/lib/site_perl/5.37.4/Class/Load.pm line 35
Class::Load::load_class("ComponentUI::TestModel::Foo") called at /tmp/loop_over_bdir-2945421-pdrHb6/Reaction-0.002005-0/blib/lib/Reaction/InterfaceModel/Reflector/DBIC.pm line 892
eval {...} called at /tmp/loop_over_bdir-2945421-pdrHb6/Reaction-0.002005-0/blib/lib/Reaction/InterfaceModel/Reflector/DBIC.pm line 892
Reaction::InterfaceModel::Reflector::DBIC::_maybe_load_class(Reaction::InterfaceModel::Reflector::DBIC=HASH(0x559eff4557d8), "ComponentUI::TestModel::Foo") called at /tmp/loop_over_bdir-2945421-pdrHb6/Reaction-0.002005-0/blib/lib/Reaction/InterfaceModel/Reflector/DBIC.pm line 876
Reaction::InterfaceModel::Reflector::DBIC::_load_or_create(Reaction::InterfaceModel::Reflector::DBIC=HASH(0x559eff4557d8), "ComponentUI::TestModel::Foo", "superclasses", ARRAY(0x559effc982a8)) called at /tmp/loop_over_bdir-2945421-pdrHb6/Reaction-0.002005-0/blib/lib/Reaction/InterfaceModel/Reflector/DBIC.pm line 448
Reaction::InterfaceModel::Reflector::DBIC::reflect_source_object(Reaction::InterfaceModel::Reflector::DBIC=HASH(0x559eff4557d8), "source_class", "RTest::TestDB::Foo", "parent_class", "ComponentUI::TestModel", "source_name", "Foo", "parent_domain_model_name", ...) called at /tmp/loop_over_bdir-2945421-pdrHb6/Reaction-0.002005-0/blib/lib/Reaction/InterfaceModel/Reflector/DBIC.pm line 323
Reaction::InterfaceModel::Reflector::DBIC::reflect_source(Reaction::InterfaceModel::Reflector::DBIC=HASH(0x559eff4557d8), "source_name", "Foo", "parent_class", "ComponentUI::TestModel", "schema_class", "RTest::TestDB", "source_class", ...) called at /tmp/loop_over_bdir-2945421-pdrHb6/Reaction-0.002005-0/blib/lib/Reaction/InterfaceModel/Reflector/DBIC.pm line 185
Reaction::InterfaceModel::Reflector::DBIC::reflect_schema(Reaction::InterfaceModel::Reflector::DBIC=HASH(0x559eff4557d8), "model_class", "ComponentUI::TestModel", "schema_class", "RTest::TestDB", "sources", ARRAY(0x559efba10f58)) called at /tmp/loop_over_bdir-2945421-pdrHb6/Reaction-0.002005-0/blib/lib/ComponentUI/TestModel.pm line 10
require ComponentUI/TestModel.pm called at /home/sand/src/perl/repoperls/installed-perls/host/k93focal/v5.37.4/d119/lib/site_perl/5.37.4/Module/Runtime.pm line 314
Module::Runtime::require_module("ComponentUI::TestModel") called at /home/sand/src/perl/repoperls/installed-perls/host/k93focal/v5.37.4/d119/lib/site_perl/5.37.4/Class/Load.pm line 174
Class::Load::try {...} () called at /home/sand/src/perl/repoperls/installed-perls/host/k93focal/v5.37.4/d119/lib/site_perl/5.37.4/Try/Tiny.pm line 98
eval {...} called at /home/sand/src/perl/repoperls/installed-perls/host/k93focal/v5.37.4/d119/lib/site_perl/5.37.4/Try/Tiny.pm line 93
Try::Tiny::try(CODE(0x559efedc6990), Try::Tiny::Catch=REF(0x559eff4c5bf8)) called at /home/sand/src/perl/repoperls/installed-perls/host/k93focal/v5.37.4/d119/lib/site_perl/5.37.4/Class/Load.pm line 180
Class::Load::try_load_class("ComponentUI::TestModel", undef) called at /home/sand/src/perl/repoperls/installed-perls/host/k93focal/v5.37.4/d119/lib/site_perl/5.37.4/Class/Load.pm line 35
Class::Load::load_class("ComponentUI::TestModel") called at /tmp/loop_over_bdir-2945421-pdrHb6/Reaction-0.002005-0/blib/lib/Catalyst/Model/Reaction/InterfaceModel/DBIC.pm line 24
Catalyst::Model::Reaction::InterfaceModel::DBIC::COMPONENT("ComponentUI::Model::TestModel", "ComponentUI", HASH(0x559efee5a9b8)) called at /home/sand/src/perl/repoperls/installed-perls/host/k93focal/v5.37.4/d119/lib/site_perl/5.37.4/Catalyst.pm line 3234
eval {...} called at /home/sand/src/perl/repoperls/installed-perls/host/k93focal/v5.37.4/d119/lib/site_perl/5.37.4/Catalyst.pm line 3235
Catalyst::setup_component("ComponentUI", "ComponentUI::Model::TestModel") called at /home/sand/src/perl/repoperls/installed-perls/host/k93focal/v5.37.4/d119/lib/site_perl/5.37.4/Catalyst.pm line 3212
Catalyst::__ANON__() called at /home/sand/src/perl/repoperls/installed-perls/host/k93focal/v5.37.4/d119/lib/site_perl/5.37.4/Catalyst.pm line 3059
Catalyst::setup_components("ComponentUI") called at /home/sand/src/perl/repoperls/installed-perls/host/k93focal/v5.37.4/d119/lib/site_perl/5.37.4/Catalyst.pm line 1431
Catalyst::setup("ComponentUI") called at /tmp/loop_over_bdir-2945421-pdrHb6/Reaction-0.002005-0/blib/lib/ComponentUI.pm line 32
require ComponentUI.pm called at /home/sand/src/perl/repoperls/installed-perls/host/k93focal/v5.37.4/d119/lib/site_perl/5.37.4/Module/Runtime.pm line 314
Module::Runtime::require_module("ComponentUI") called at /home/sand/src/perl/repoperls/installed-perls/host/k93focal/v5.37.4/d119/lib/site_perl/5.37.4/Class/Load.pm line 174
Class::Load::try {...} () called at /home/sand/src/perl/repoperls/installed-perls/host/k93focal/v5.37.4/d119/lib/site_perl/5.37.4/Try/Tiny.pm line 98
eval {...} called at /home/sand/src/perl/repoperls/installed-perls/host/k93focal/v5.37.4/d119/lib/site_perl/5.37.4/Try/Tiny.pm line 93
Try::Tiny::try(CODE(0x559ef8548c28), Try::Tiny::Catch=REF(0x559ef9472ea0)) called at /home/sand/src/perl/repoperls/installed-perls/host/k93focal/v5.37.4/d119/lib/site_perl/5.37.4/Class/Load.pm line 180
Class::Load::try_load_class("ComponentUI", undef) called at /home/sand/src/perl/repoperls/installed-perls/host/k93focal/v5.37.4/d119/lib/site_perl/5.37.4/Class/Load.pm line 35
Class::Load::load_class("ComponentUI") called at /home/sand/src/perl/repoperls/installed-perls/host/k93focal/v5.37.4/d119/lib/site_perl/5.37.4/Catalyst/Test.pm line 29
Catalyst::Test::_build_request_export("Catalyst::Test", HASH(0x559ef851c248)) called at /home/sand/src/perl/repoperls/installed-perls/host/k93focal/v5.37.4/d119/lib/site_perl/5.37.4/Catalyst/Test.pm line 95
Catalyst::Test::__ANON__("Catalyst::Test", "all", HASH(0x559ef84fa070), HASH(0x559ef7d48820)) called at /home/sand/src/perl/repoperls/installed-perls/host/k93focal/v5.37.4/d119/lib/site_perl/5.37.4/Sub/Exporter.pm line 492
Sub::Exporter::_expand_group("Catalyst::Test", HASH(0x559ef99c8180), ARRAY(0x559ef7d487d8), HASH(0x559ef7d48820), HASH(0x559ef7d48460), HASH(0x559ef7d48880)) called at /home/sand/src/perl/repoperls/installed-perls/host/k93focal/v5.37.4/d119/lib/site_perl/5.37.4/Sub/Exporter.pm line 423
Sub::Exporter::_expand_groups("Catalyst::Test", HASH(0x559ef99c8180), ARRAY(0x559ef99c85d0), HASH(0x559ef7d48820)) called at /home/sand/src/perl/repoperls/installed-perls/host/k93focal/v5.37.4/d119/lib/site_perl/5.37.4/Sub/Exporter.pm line 741
Sub::Exporter::__ANON__("Catalyst::Test", "-all", HASH(0x559ef7d6ed38)) called at /home/sand/src/perl/repoperls/installed-perls/host/k93focal/v5.37.4/d119/lib/site_perl/5.37.4/Catalyst/Test.pm line 155
Catalyst::Test::import("Catalyst::Test", "ComponentUI") called at t/01app.t line 7
main::BEGIN() called at t/01app.t line 7
eval {...} called at t/01app.t line 7
eval 'package main;
BEGIN { ${^WARNING_BITS} = $args[-1] if defined $args[-1] }
#line 7 t/01app.t
use Catalyst::Test @{$args[0]};
1;
' called at /home/sand/src/perl/repoperls/installed-perls/host/k93focal/v5.37.4/d119/lib/5.37.4/Test/More.pm line 1034
Test::More::_eval("package main;\x{a}BEGIN { \${^WARNING_BITS} = \$args[-1] if defined"..., ARRAY(0x559ef84f9c98), "UUUUUUUUUUUUUUUUUUUU") called at /home/sand/src/perl/repoperls/installed-perls/host/k93focal/v5.37.4/d119/lib/5.37.4/Test/More.pm line 1009
Test::More::use_ok("Catalyst::Test", "ComponentUI") called at t/01app.t line 7
main::BEGIN() called at t/01app.t line 8
eval {...} called at t/01app.t line 8
Class::MOP::load_class is deprecated at /home/sand/src/perl/repoperls/installed-perls/host/k93focal/v5.37.4/d119/lib/site_perl/5.37.4/x86_64-linux-thread-multi/Class/MOP.pm line 69.
Class::MOP::load_class("ComponentUI::RenderingContext::Site") called at /tmp/loop_over_bdir-2945421-pdrHb6/Reaction-0.002005-0/blib/lib/Reaction/UI/View.pm line 125
eval {...} called at /tmp/loop_over_bdir-2945421-pdrHb6/Reaction-0.002005-0/blib/lib/Reaction/UI/View.pm line 125
Reaction::UI::View::find_related_class(ComponentUI::View::Site=HASH(0x559efc2c29c0), "RenderingContext") called at /tmp/loop_over_bdir-2945421-pdrHb6/Reaction-0.002005-0/blib/lib/Reaction/UI/View.pm line 43
Reaction::UI::View::_build_rendering_context_class(ComponentUI::View::Site=HASH(0x559efc2c29c0)) called at reader Reaction::UI::View::rendering_context_class (defined at /tmp/loop_over_bdir-2945421-pdrHb6/Reaction-0.002005-0/blib/lib/Reaction/UI/View.pm line 29) line 8
Reaction::UI::View::rendering_context_class(ComponentUI::View::Site=HASH(0x559efc2c29c0)) called at /tmp/loop_over_bdir-2945421-pdrHb6/Reaction-0.002005-0/blib/lib/Reaction/UI/View.pm line 134
Reaction::UI::View::create_rendering_context(ComponentUI::View::Site=HASH(0x559efc2c29c0)) called at /tmp/loop_over_bdir-2945421-pdrHb6/Reaction-0.002005-0/blib/lib/Reaction/UI/View.pm line 60
Reaction::UI::View::render_window(ComponentUI::View::Site=HASH(0x559efc2c29c0), Reaction::UI::Window=HASH(0x559f00402360)) called at /tmp/loop_over_bdir-2945421-pdrHb6/Reaction-0.002005-0/blib/lib/Reaction/UI/Window.pm line 74
Reaction::UI::Window::flush_view(Reaction::UI::Window=HASH(0x559f00402360)) called at /tmp/loop_over_bdir-2945421-pdrHb6/Reaction-0.002005-0/blib/lib/Reaction/UI/Window.pm line 36
Reaction::UI::Window::flush(Reaction::UI::Window=HASH(0x559f00402360)) called at /tmp/loop_over_bdir-2945421-pdrHb6/Reaction-0.002005-0/blib/lib/Reaction/UI/Controller/Root.pm line 38
Reaction::UI::Controller::Root::end(ComponentUI::Controller::Root=HASH(0x559f00391098), ComponentUI=HASH(0x559f0038a260)) called at /home/sand/src/perl/repoperls/installed-perls/host/k93focal/v5.37.4/d119/lib/site_perl/5.37.4/Catalyst/Action.pm line 369
Catalyst::Action::execute(Catalyst::Action=HASH(0x559effd11468), ComponentUI::Controller::Root=HASH(0x559f00391098), ComponentUI=HASH(0x559f0038a260)) called at /home/sand/src/perl/repoperls/installed-perls/host/k93focal/v5.37.4/d119/lib/site_perl/5.37.4/Catalyst.pm line 2060
eval {...} called at /home/sand/src/perl/repoperls/installed-perls/host/k93focal/v5.37.4/d119/lib/site_perl/5.37.4/Catalyst.pm line 2060
Catalyst::execute(ComponentUI=HASH(0x559f0038a260), "ComponentUI::Controller::Root", Catalyst::Action=HASH(0x559effd11468)) called at /home/sand/src/perl/repoperls/installed-perls/host/k93focal/v5.37.4/d119/lib/site_perl/5.37.4/Catalyst/Action.pm line 364
Catalyst::Action::dispatch(Catalyst::Action=HASH(0x559effd11468), ComponentUI=HASH(0x559f0038a260)) called at /home/sand/src/perl/repoperls/installed-perls/host/k93focal/v5.37.4/d119/lib/site_perl/5.37.4/Catalyst/Controller.pm line 188
Catalyst::Controller::_END(ComponentUI::Controller::Root=HASH(0x559f00391098), ComponentUI=HASH(0x559f0038a260)) called at /home/sand/src/perl/repoperls/installed-perls/host/k93focal/v5.37.4/d119/lib/site_perl/5.37.4/Catalyst/Action.pm line 369
Catalyst::Action::execute(Catalyst::Action=HASH(0x559f000e9080), ComponentUI::Controller::Root=HASH(0x559f00391098), ComponentUI=HASH(0x559f0038a260)) called at /home/sand/src/perl/repoperls/installed-perls/host/k93focal/v5.37.4/d119/lib/site_perl/5.37.4/Catalyst.pm line 2060
eval {...} called at /home/sand/src/perl/repoperls/installed-perls/host/k93focal/v5.37.4/d119/lib/site_perl/5.37.4/Catalyst.pm line 2060
Catalyst::execute(ComponentUI=HASH(0x559f0038a260), "ComponentUI::Controller::Root", Catalyst::Action=HASH(0x559f000e9080)) called at /home/sand/src/perl/repoperls/installed-perls/host/k93focal/v5.37.4/d119/lib/site_perl/5.37.4/Catalyst/Action.pm line 364
Catalyst::Action::dispatch(Catalyst::Action=HASH(0x559f000e9080), ComponentUI=HASH(0x559f0038a260)) called at /home/sand/src/perl/repoperls/installed-perls/host/k93focal/v5.37.4/d119/lib/site_perl/5.37.4/Catalyst/Dispatcher.pm line 261
Catalyst::Dispatcher::_do_forward(Catalyst::Dispatcher=HASH(0x559efa2cc430), "forward", ComponentUI=HASH(0x559f0038a260), "_END") called at /home/sand/src/perl/repoperls/installed-perls/host/k93focal/v5.37.4/d119/lib/site_perl/5.37.4/Catalyst/Dispatcher.pm line 241
Catalyst::Dispatcher::forward(Catalyst::Dispatcher=HASH(0x559efa2cc430), ComponentUI=HASH(0x559f0038a260), "_END") called at /home/sand/src/perl/repoperls/installed-perls/host/k93focal/v5.37.4/d119/lib/site_perl/5.37.4/Catalyst.pm line 482
Catalyst::forward(ComponentUI=HASH(0x559f0038a260), "_END") called at /home/sand/src/perl/repoperls/installed-perls/host/k93focal/v5.37.4/d119/lib/site_perl/5.37.4/Catalyst/Controller.pm line 137
Catalyst::Controller::_DISPATCH(ComponentUI::Controller::Root=HASH(0x559f00391098), ComponentUI=HASH(0x559f0038a260)) called at /home/sand/src/perl/repoperls/installed-perls/host/k93focal/v5.37.4/d119/lib/site_perl/5.37.4/Catalyst/Action.pm line 369
Catalyst::Action::execute(Catalyst::Action=HASH(0x559f000e8e40), ComponentUI::Controller::Root=HASH(0x559f00391098), ComponentUI=HASH(0x559f0038a260)) called at /home/sand/src/perl/repoperls/installed-perls/host/k93focal/v5.37.4/d119/lib/site_perl/5.37.4/Catalyst.pm line 2060
eval {...} called at /home/sand/src/perl/repoperls/installed-perls/host/k93focal/v5.37.4/d119/lib/site_perl/5.37.4/Catalyst.pm line 2060
Catalyst::execute(ComponentUI=HASH(0x559f0038a260), "ComponentUI::Controller::Root", Catalyst::Action=HASH(0x559f000e8e40)) called at /home/sand/src/perl/repoperls/installed-perls/host/k93focal/v5.37.4/d119/lib/site_perl/5.37.4/Catalyst/Action.pm line 364
Catalyst::Action::dispatch(Catalyst::Action=HASH(0x559f000e8e40), ComponentUI=HASH(0x559f0038a260)) called at /home/sand/src/perl/repoperls/installed-perls/host/k93focal/v5.37.4/d119/lib/site_perl/5.37.4/Catalyst/Dispatcher.pm line 261
Catalyst::Dispatcher::_do_forward(Catalyst::Dispatcher=HASH(0x559efa2cc430), "forward", ComponentUI=HASH(0x559f0038a260), "//_DISPATCH") called at /home/sand/src/perl/repoperls/installed-perls/host/k93focal/v5.37.4/d119/lib/site_perl/5.37.4/Catalyst/Dispatcher.pm line 241
Catalyst::Dispatcher::forward(Catalyst::Dispatcher=HASH(0x559efa2cc430), ComponentUI=HASH(0x559f0038a260), "//_DISPATCH") called at /home/sand/src/perl/repoperls/installed-perls/host/k93focal/v5.37.4/d119/lib/site_perl/5.37.4/Catalyst.pm line 482
Catalyst::forward(ComponentUI=HASH(0x559f0038a260), "//_DISPATCH") called at /home/sand/src/perl/repoperls/installed-perls/host/k93focal/v5.37.4/d119/lib/site_perl/5.37.4/Catalyst/Dispatcher.pm line 107
Catalyst::Dispatcher::dispatch(Catalyst::Dispatcher=HASH(0x559efa2cc430), ComponentUI=HASH(0x559f0038a260)) called at /home/sand/src/perl/repoperls/installed-perls/host/k93focal/v5.37.4/d119/lib/site_perl/5.37.4/Catalyst.pm line 2006
Catalyst::dispatch(ComponentUI=HASH(0x559f0038a260)) called at /home/sand/src/perl/repoperls/installed-perls/host/k93focal/v5.37.4/d119/lib/site_perl/5.37.4/Catalyst/Plugin/Static/Simple.pm line 85
Class::MOP::Class:::around(CODE(0x559efa8178e0), ComponentUI=HASH(0x559f0038a260)) called at /home/sand/src/perl/repoperls/installed-perls/host/k93focal/v5.37.4/d119/lib/site_perl/5.37.4/x86_64-linux-thread-multi/Class/MOP/Method/Wrapped.pm line 166
ComponentUI::_wrapped_dispatch(ComponentUI=HASH(0x559f0038a260)) called at /home/sand/src/perl/repoperls/installed-perls/host/k93focal/v5.37.4/d119/lib/site_perl/5.37.4/x86_64-linux-thread-multi/Class/MOP/Method/Wrapped.pm line 97
ComponentUI::dispatch(ComponentUI=HASH(0x559f0038a260)) called at /home/sand/src/perl/repoperls/installed-perls/host/k93focal/v5.37.4/d119/lib/site_perl/5.37.4/Catalyst.pm line 2412
Catalyst::try {...} () called at /home/sand/src/perl/repoperls/installed-perls/host/k93focal/v5.37.4/d119/lib/site_perl/5.37.4/Try/Tiny.pm line 102
eval {...} called at /home/sand/src/perl/repoperls/installed-perls/host/k93focal/v5.37.4/d119/lib/site_perl/5.37.4/Try/Tiny.pm line 93
Try::Tiny::try(CODE(0x559f00389c60), Try::Tiny::Catch=REF(0x559f00389a68)) called at /home/sand/src/perl/repoperls/installed-perls/host/k93focal/v5.37.4/d119/lib/site_perl/5.37.4/Catalyst.pm line 2421
Catalyst::handle_request("ComponentUI", "env", HASH(0x559ef7d4f4d0), "response_cb", CODE(0x559f00389ac8)) called at /home/sand/src/perl/repoperls/installed-perls/host/k93focal/v5.37.4/d119/lib/site_perl/5.37.4/Catalyst/Engine.pm line 807
Catalyst::Engine::__ANON__(CODE(0x559f00389ac8)) called at /home/sand/src/perl/repoperls/installed-perls/host/k93focal/v5.37.4/d119/lib/site_perl/5.37.4/Plack/Middleware/HTTPExceptions.pm line 32
Plack::Middleware::HTTPExceptions::try {...} () called at /home/sand/src/perl/repoperls/installed-perls/host/k93focal/v5.37.4/d119/lib/site_perl/5.37.4/Try/Tiny.pm line 102
eval {...} called at /home/sand/src/perl/repoperls/installed-perls/host/k93focal/v5.37.4/d119/lib/site_perl/5.37.4/Try/Tiny.pm line 93
Try::Tiny::try(CODE(0x559f00389900), Try::Tiny::Catch=REF(0x559f003fdbe8)) called at /home/sand/src/perl/repoperls/installed-perls/host/k93focal/v5.37.4/d119/lib/site_perl/5.37.4/Plack/Middleware/HTTPExceptions.pm line 41
Plack::Middleware::HTTPExceptions::__ANON__(CODE(0x559f003fd9a8)) called at /home/sand/src/perl/repoperls/installed-perls/host/k93focal/v5.37.4/d119/lib/site_perl/5.37.4/Plack/Util.pm line 339
Plack::Util::__ANON__(CODE(0x559f003d6048)) called at /home/sand/src/perl/repoperls/installed-perls/host/k93focal/v5.37.4/d119/lib/site_perl/5.37.4/Plack/Util.pm line 339
Plack::Util::__ANON__(CODE(0x559f003ad1e0)) called at /home/sand/src/perl/repoperls/installed-perls/host/k93focal/v5.37.4/d119/lib/site_perl/5.37.4/Plack/Util.pm line 339
Plack::Util::__ANON__(CODE(0x559ef7d4f3b0)) called at /home/sand/src/perl/repoperls/installed-perls/host/k93focal/v5.37.4/d119/lib/site_perl/5.37.4/HTTP/Message/PSGI.pm line 100
HTTP::Message::PSGI::res_from_psgi(CODE(0x559f00389678)) called at /home/sand/src/perl/repoperls/installed-perls/host/k93focal/v5.37.4/d119/lib/site_perl/5.37.4/HTTP/Message/PSGI.pm line 157
HTTP::Response::from_psgi("HTTP::Response", CODE(0x559f00389678)) called at /home/sand/src/perl/repoperls/installed-perls/host/k93focal/v5.37.4/d119/lib/site_perl/5.37.4/Plack/Test/MockHTTP.pm line 24
Plack::Test::MockHTTP::try {...} () called at /home/sand/src/perl/repoperls/installed-perls/host/k93focal/v5.37.4/d119/lib/site_perl/5.37.4/Try/Tiny.pm line 100
eval {...} called at /home/sand/src/perl/repoperls/installed-perls/host/k93focal/v5.37.4/d119/lib/site_perl/5.37.4/Try/Tiny.pm line 93
Try::Tiny::try(CODE(0x559ef7d3d740), Try::Tiny::Catch=REF(0x559f0025fa48)) called at /home/sand/src/perl/repoperls/installed-perls/host/k93focal/v5.37.4/d119/lib/site_perl/5.37.4/Plack/Test/MockHTTP.pm line 27
Plack::Test::MockHTTP::request(Plack::Test::MockHTTP=HASH(0x559ef7d4eea0), HTTP::Request=HASH(0x559ef7d4eb28)) called at /home/sand/src/perl/repoperls/installed-perls/host/k93focal/v5.37.4/d119/lib/site_perl/5.37.4/Plack/Test.pm line 38
Plack::Test::__ANON__(HTTP::Request=HASH(0x559ef7d4eb28)) called at /home/sand/src/perl/repoperls/installed-perls/host/k93focal/v5.37.4/d119/lib/site_perl/5.37.4/Catalyst/Test.pm line 290
Catalyst::Test::__ANON__(CODE(0x559ef7d4ee58)) called at /home/sand/src/perl/repoperls/installed-perls/host/k93focal/v5.37.4/d119/lib/site_perl/5.37.4/Plack/Test.pm line 38
Plack::Test::test_psgi("app", CODE(0x559f0027af38), "mangle_response", CODE(0x559ef99b7a40), "app", CODE(0x559f00287b00), "client", CODE(0x559ef7d4ecf0)) called at /home/sand/src/perl/repoperls/installed-perls/host/k93focal/v5.37.4/d119/lib/site_perl/5.37.4/Catalyst/Test.pm line 293
Catalyst::Test::_request(HASH(0x559f0027a518), "/") called at /home/sand/src/perl/repoperls/installed-perls/host/k93focal/v5.37.4/d119/lib/site_perl/5.37.4/Catalyst/Test.pm line 336
Catalyst::Test::_local_request("ComponentUI", "/") called at /home/sand/src/perl/repoperls/installed-perls/host/k93focal/v5.37.4/d119/lib/site_perl/5.37.4/Catalyst/Test.pm line 32
Catalyst::Test::__ANON__("/") called at t/01app.t line 10
Class::MOP::is_class_loaded is deprecated at /home/sand/src/perl/repoperls/installed-perls/host/k93focal/v5.37.4/d119/lib/site_perl/5.37.4/x86_64-linux-thread-multi/Class/MOP.pm line 87.
Class::MOP::is_class_loaded("ComponentUI::UI::Widget::SiteLayout") called at /tmp/loop_over_bdir-2945421-pdrHb6/Reaction-0.002005-0/blib/lib/Reaction/UI/Skin.pm line 178
Reaction::UI::Skin::widget_class_for(Reaction::UI::Skin=HASH(0x559f00415658), Reaction::UI::LayoutSet::TT=HASH(0x559f004a89e0)) called at /tmp/loop_over_bdir-2945421-pdrHb6/Reaction-0.002005-0/blib/lib/Reaction/UI/LayoutSet.pm line 29
Reaction::UI::LayoutSet::BUILD(Reaction::UI::LayoutSet::TT=HASH(0x559f004a89e0), HASH(0x559f004a89c8)) called at constructor Reaction::UI::LayoutSet::TT::new (defined at /tmp/loop_over_bdir-2945421-pdrHb6/Reaction-0.002005-0/blib/lib/Reaction/UI/LayoutSet/TT.pm line 43) line 80
Reaction::UI::LayoutSet::TT::new("Reaction::UI::LayoutSet::TT", "name", "site_layout", "skin", Reaction::UI::Skin=HASH(0x559f00415658), "tt_object", Template=HASH(0x559effc0fab8), "source_file", ...) called at /tmp/loop_over_bdir-2945421-pdrHb6/Reaction-0.002005-0/blib/lib/Reaction/UI/Skin.pm line 115
Reaction::UI::Skin::_create_layout_set(Reaction::UI::Skin=HASH(0x559f00415658), "site_layout", ARRAY(0x559f004095b0), Reaction::UI::Skin=HASH(0x559f00415658)) called at /tmp/loop_over_bdir-2945421-pdrHb6/Reaction-0.002005-0/blib/lib/Reaction/UI/Skin.pm line 110
Reaction::UI::Skin::create_layout_set(Reaction::UI::Skin=HASH(0x559f00415658), "site_layout") called at /tmp/loop_over_bdir-2945421-pdrHb6/Reaction-0.002005-0/blib/lib/Reaction/UI/LayoutSet.pm line 83
Reaction::UI::LayoutSet::_load_file(Reaction::UI::LayoutSet::TT=HASH(0x559f00480520), Path::Class::File=HASH(0x559f00430650), HASH(0x559f004310c8)) called at /tmp/loop_over_bdir-2945421-pdrHb6/Reaction-0.002005-0/blib/lib/Reaction/UI/LayoutSet.pm line 27
Reaction::UI::LayoutSet::BUILD(Reaction::UI::LayoutSet::TT=HASH(0x559f00480520), HASH(0x559f004310c8)) called at constructor Reaction::UI::LayoutSet::TT::new (defined at /tmp/loop_over_bdir-2945421-pdrHb6/Reaction-0.002005-0/blib/lib/Reaction/UI/LayoutSet/TT.pm line 43) line 80
Reaction::UI::LayoutSet::TT::new("Reaction::UI::LayoutSet::TT", "name", "site_layout", "skin", Reaction::UI::Skin=HASH(0x559efae87950), "next_skin", Reaction::UI::Skin=HASH(0x559f00415658), "tt_object", ...) called at /tmp/loop_over_bdir-2945421-pdrHb6/Reaction-0.002005-0/blib/lib/Reaction/UI/Skin.pm line 115
Reaction::UI::Skin::_create_layout_set(Reaction::UI::Skin=HASH(0x559efae87950), "site_layout", ARRAY(0x559f004158b0), Reaction::UI::Skin=HASH(0x559efae87950)) called at /tmp/loop_over_bdir-2945421-pdrHb6/Reaction-0.002005-0/blib/lib/Reaction/UI/Skin.pm line 110
Reaction::UI::Skin::create_layout_set(Reaction::UI::Skin=HASH(0x559efae87950), "site_layout") called at /tmp/loop_over_bdir-2945421-pdrHb6/Reaction-0.002005-0/blib/lib/Reaction/UI/LayoutSet.pm line 83
Reaction::UI::LayoutSet::_load_file(Reaction::UI::LayoutSet::TT=HASH(0x559f004150e8), Path::Class::File=HASH(0x559f00402ed0), HASH(0x559f00251e98)) called at /tmp/loop_over_bdir-2945421-pdrHb6/Reaction-0.002005-0/blib/lib/Reaction/UI/LayoutSet.pm line 27
Reaction::UI::LayoutSet::BUILD(Reaction::UI::LayoutSet::TT=HASH(0x559f004150e8), HASH(0x559f00251e98)) called at constructor Reaction::UI::LayoutSet::TT::new (defined at /tmp/loop_over_bdir-2945421-pdrHb6/Reaction-0.002005-0/blib/lib/Reaction/UI/LayoutSet/TT.pm line 43) line 80
Reaction::UI::LayoutSet::TT::new("Reaction::UI::LayoutSet::TT", "name", "site_layout", "skin", Reaction::UI::Skin=HASH(0x559f00402e70), "next_skin", Reaction::UI::Skin=HASH(0x559efae87950), "tt_object", ...) called at /tmp/loop_over_bdir-2945421-pdrHb6/Reaction-0.002005-0/blib/lib/Reaction/UI/Skin.pm line 115
Reaction::UI::Skin::_create_layout_set(Reaction::UI::Skin=HASH(0x559f00402e70), "site_layout", ARRAY(0x559efae875f0), Reaction::UI::Skin=HASH(0x559f00402e70)) called at /tmp/loop_over_bdir-2945421-pdrHb6/Reaction-0.002005-0/blib/lib/Reaction/UI/Skin.pm line 110
Reaction::UI::Skin::create_layout_set(Reaction::UI::Skin=HASH(0x559f00402e70), "site_layout") called at inline delegation in Reaction::UI::View for skin->create_layout_set (attribute declared in /tmp/loop_over_bdir-2945421-pdrHb6/Reaction-0.002005-0/blib/lib/Reaction/UI/View.pm at line 22) line 18
Reaction::UI::View::create_layout_set(ComponentUI::View::Site=HASH(0x559efc2c29c0), "site_layout") called at /tmp/loop_over_bdir-2945421-pdrHb6/Reaction-0.002005-0/blib/lib/Reaction/UI/View.pm line 99
Reaction::UI::View::layout_set_for(ComponentUI::View::Site=HASH(0x559efc2c29c0), Reaction::UI::ViewPort::SiteLayout=HASH(0x559f00402978)) called at /tmp/loop_over_bdir-2945421-pdrHb6/Reaction-0.002005-0/blib/lib/Reaction/UI/View.pm line 78
Reaction::UI::View::render_viewport_args(ComponentUI::View::Site=HASH(0x559efc2c29c0), Reaction::UI::ViewPort::SiteLayout=HASH(0x559f00402978)) called at /tmp/loop_over_bdir-2945421-pdrHb6/Reaction-0.002005-0/blib/lib/Reaction/UI/View.pm line 61
Reaction::UI::View::render_window(ComponentUI::View::Site=HASH(0x559efc2c29c0), Reaction::UI::Window=HASH(0x559f00402360)) called at /tmp/loop_over_bdir-2945421-pdrHb6/Reaction-0.002005-0/blib/lib/Reaction/UI/Window.pm line 74
Reaction::UI::Window::flush_view(Reaction::UI::Window=HASH(0x559f00402360)) called at /tmp/loop_over_bdir-2945421-pdrHb6/Reaction-0.002005-0/blib/lib/Reaction/UI/Window.pm line 36
Reaction::UI::Window::flush(Reaction::UI::Window=HASH(0x559f00402360)) called at /tmp/loop_over_bdir-2945421-pdrHb6/Reaction-0.002005-0/blib/lib/Reaction/UI/Controller/Root.pm line 38
Reaction::UI::Controller::Root::end(ComponentUI::Controller::Root=HASH(0x559f00391098), ComponentUI=HASH(0x559f0038a260)) called at /home/sand/src/perl/repoperls/installed-perls/host/k93focal/v5.37.4/d119/lib/site_perl/5.37.4/Catalyst/Action.pm line 369
Catalyst::Action::execute(Catalyst::Action=HASH(0x559effd11468), ComponentUI::Controller::Root=HASH(0x559f00391098), ComponentUI=HASH(0x559f0038a260)) called at /home/sand/src/perl/repoperls/installed-perls/host/k93focal/v5.37.4/d119/lib/site_perl/5.37.4/Catalyst.pm line 2060
eval {...} called at /home/sand/src/perl/repoperls/installed-perls/host/k93focal/v5.37.4/d119/lib/site_perl/5.37.4/Catalyst.pm line 2060
Catalyst::execute(ComponentUI=HASH(0x559f0038a260), "ComponentUI::Controller::Root", Catalyst::Action=HASH(0x559effd11468)) called at /home/sand/src/perl/repoperls/installed-perls/host/k93focal/v5.37.4/d119/lib/site_perl/5.37.4/Catalyst/Action.pm line 364
Catalyst::Action::dispatch(Catalyst::Action=HASH(0x559effd11468), ComponentUI=HASH(0x559f0038a260)) called at /home/sand/src/perl/repoperls/installed-perls/host/k93focal/v5.37.4/d119/lib/site_perl/5.37.4/Catalyst/Controller.pm line 188
Catalyst::Controller::_END(ComponentUI::Controller::Root=HASH(0x559f00391098), ComponentUI=HASH(0x559f0038a260)) called at /home/sand/src/perl/repoperls/installed-perls/host/k93focal/v5.37.4/d119/lib/site_perl/5.37.4/Catalyst/Action.pm line 369
Catalyst::Action::execute(Catalyst::Action=HASH(0x559f000e9080), ComponentUI::Controller::Root=HASH(0x559f00391098), ComponentUI=HASH(0x559f0038a260)) called at /home/sand/src/perl/repoperls/installed-perls/host/k93focal/v5.37.4/d119/lib/site_perl/5.37.4/Catalyst.pm line 2060
eval {...} called at /home/sand/src/perl/repoperls/installed-perls/host/k93focal/v5.37.4/d119/lib/site_perl/5.37.4/Catalyst.pm line 2060
Catalyst::execute(ComponentUI=HASH(0x559f0038a260), "ComponentUI::Controller::Root", Catalyst::Action=HASH(0x559f000e9080)) called at /home/sand/src/perl/repoperls/installed-perls/host/k93focal/v5.37.4/d119/lib/site_perl/5.37.4/Catalyst/Action.pm line 364
Catalyst::Action::dispatch(Catalyst::Action=HASH(0x559f000e9080), ComponentUI=HASH(0x559f0038a260)) called at /home/sand/src/perl/repoperls/installed-perls/host/k93focal/v5.37.4/d119/lib/site_perl/5.37.4/Catalyst/Dispatcher.pm line 261
Catalyst::Dispatcher::_do_forward(Catalyst::Dispatcher=HASH(0x559efa2cc430), "forward", ComponentUI=HASH(0x559f0038a260), "_END") called at /home/sand/src/perl/repoperls/installed-perls/host/k93focal/v5.37.4/d119/lib/site_perl/5.37.4/Catalyst/Dispatcher.pm line 241
Catalyst::Dispatcher::forward(Catalyst::Dispatcher=HASH(0x559efa2cc430), ComponentUI=HASH(0x559f0038a260), "_END") called at /home/sand/src/perl/repoperls/installed-perls/host/k93focal/v5.37.4/d119/lib/site_perl/5.37.4/Catalyst.pm line 482
Catalyst::forward(ComponentUI=HASH(0x559f0038a260), "_END") called at /home/sand/src/perl/repoperls/installed-perls/host/k93focal/v5.37.4/d119/lib/site_perl/5.37.4/Catalyst/Controller.pm line 137
Catalyst::Controller::_DISPATCH(ComponentUI::Controller::Root=HASH(0x559f00391098), ComponentUI=HASH(0x559f0038a260)) called at /home/sand/src/perl/repoperls/installed-perls/host/k93focal/v5.37.4/d119/lib/site_perl/5.37.4/Catalyst/Action.pm line 369
Catalyst::Action::execute(Catalyst::Action=HASH(0x559f000e8e40), ComponentUI::Controller::Root=HASH(0x559f00391098), ComponentUI=HASH(0x559f0038a260)) called at /home/sand/src/perl/repoperls/installed-perls/host/k93focal/v5.37.4/d119/lib/site_perl/5.37.4/Catalyst.pm line 2060
eval {...} called at /home/sand/src/perl/repoperls/installed-perls/host/k93focal/v5.37.4/d119/lib/site_perl/5.37.4/Catalyst.pm line 2060
Catalyst::execute(ComponentUI=HASH(0x559f0038a260), "ComponentUI::Controller::Root", Catalyst::Action=HASH(0x559f000e8e40)) called at /home/sand/src/perl/repoperls/installed-perls/host/k93focal/v5.37.4/d119/lib/site_perl/5.37.4/Catalyst/Action.pm line 364
Catalyst::Action::dispatch(Catalyst::Action=HASH(0x559f000e8e40), ComponentUI=HASH(0x559f0038a260)) called at /home/sand/src/perl/repoperls/installed-perls/host/k93focal/v5.37.4/d119/lib/site_perl/5.37.4/Catalyst/Dispatcher.pm line 261
Catalyst::Dispatcher::_do_forward(Catalyst::Dispatcher=HASH(0x559efa2cc430), "forward", ComponentUI=HASH(0x559f0038a260), "//_DISPATCH") called at /home/sand/src/perl/repoperls/installed-perls/host/k93focal/v5.37.4/d119/lib/site_perl/5.37.4/Catalyst/Dispatcher.pm line 241
Catalyst::Dispatcher::forward(Catalyst::Dispatcher=HASH(0x559efa2cc430), ComponentUI=HASH(0x559f0038a260), "//_DISPATCH") called at /home/sand/src/perl/repoperls/installed-perls/host/k93focal/v5.37.4/d119/lib/site_perl/5.37.4/Catalyst.pm line 482
Catalyst::forward(ComponentUI=HASH(0x559f0038a260), "//_DISPATCH") called at /home/sand/src/perl/repoperls/installed-perls/host/k93focal/v5.37.4/d119/lib/site_perl/5.37.4/Catalyst/Dispatcher.pm line 107
Catalyst::Dispatcher::dispatch(Catalyst::Dispatcher=HASH(0x559efa2cc430), ComponentUI=HASH(0x559f0038a260)) called at /home/sand/src/perl/repoperls/installed-perls/host/k93focal/v5.37.4/d119/lib/site_perl/5.37.4/Catalyst.pm line 2006
Catalyst::dispatch(ComponentUI=HASH(0x559f0038a260)) called at /home/sand/src/perl/repoperls/installed-perls/host/k93focal/v5.37.4/d119/lib/site_perl/5.37.4/Catalyst/Plugin/Static/Simple.pm line 85
Class::MOP::Class:::around(CODE(0x559efa8178e0), ComponentUI=HASH(0x559f0038a260)) called at /home/sand/src/perl/repoperls/installed-perls/host/k93focal/v5.37.4/d119/lib/site_perl/5.37.4/x86_64-linux-thread-multi/Class/MOP/Method/Wrapped.pm line 166
ComponentUI::_wrapped_dispatch(ComponentUI=HASH(0x559f0038a260)) called at /home/sand/src/perl/repoperls/installed-perls/host/k93focal/v5.37.4/d119/lib/site_perl/5.37.4/x86_64-linux-thread-multi/Class/MOP/Method/Wrapped.pm line 97
ComponentUI::dispatch(ComponentUI=HASH(0x559f0038a260)) called at /home/sand/src/perl/repoperls/installed-perls/host/k93focal/v5.37.4/d119/lib/site_perl/5.37.4/Catalyst.pm line 2412
Catalyst::try {...} () called at /home/sand/src/perl/repoperls/installed-perls/host/k93focal/v5.37.4/d119/lib/site_perl/5.37.4/Try/Tiny.pm line 102
eval {...} called at /home/sand/src/perl/repoperls/installed-perls/host/k93focal/v5.37.4/d119/lib/site_perl/5.37.4/Try/Tiny.pm line 93
Try::Tiny::try(CODE(0x559f00389c60), Try::Tiny::Catch=REF(0x559f00389a68)) called at /home/sand/src/perl/repoperls/installed-perls/host/k93focal/v5.37.4/d119/lib/site_perl/5.37.4/Catalyst.pm line 2421
Catalyst::handle_request("ComponentUI", "env", HASH(0x559ef7d4f4d0), "response_cb", CODE(0x559f00389ac8)) called at /home/sand/src/perl/repoperls/installed-perls/host/k93focal/v5.37.4/d119/lib/site_perl/5.37.4/Catalyst/Engine.pm line 807
Catalyst::Engine::__ANON__(CODE(0x559f00389ac8)) called at /home/sand/src/perl/repoperls/installed-perls/host/k93focal/v5.37.4/d119/lib/site_perl/5.37.4/Plack/Middleware/HTTPExceptions.pm line 32
Plack::Middleware::HTTPExceptions::try {...} () called at /home/sand/src/perl/repoperls/installed-perls/host/k93focal/v5.37.4/d119/lib/site_perl/5.37.4/Try/Tiny.pm line 102
eval {...} called at /home/sand/src/perl/repoperls/installed-perls/host/k93focal/v5.37.4/d119/lib/site_perl/5.37.4/Try/Tiny.pm line 93
Try::Tiny::try(CODE(0x559f00389900), Try::Tiny::Catch=REF(0x559f003fdbe8)) called at /home/sand/src/perl/repoperls/installed-perls/host/k93focal/v5.37.4/d119/lib/site_perl/5.37.4/Plack/Middleware/HTTPExceptions.pm line 41
Plack::Middleware::HTTPExceptions::__ANON__(CODE(0x559f003fd9a8)) called at /home/sand/src/perl/repoperls/installed-perls/host/k93focal/v5.37.4/d119/lib/site_perl/5.37.4/Plack/Util.pm line 339
Plack::Util::__ANON__(CODE(0x559f003d6048)) called at /home/sand/src/perl/repoperls/installed-perls/host/k93focal/v5.37.4/d119/lib/site_perl/5.37.4/Plack/Util.pm line 339
Plack::Util::__ANON__(CODE(0x559f003ad1e0)) called at /home/sand/src/perl/repoperls/installed-perls/host/k93focal/v5.37.4/d119/lib/site_perl/5.37.4/Plack/Util.pm line 339
Plack::Util::__ANON__(CODE(0x559ef7d4f3b0)) called at /home/sand/src/perl/repoperls/installed-perls/host/k93focal/v5.37.4/d119/lib/site_perl/5.37.4/HTTP/Message/PSGI.pm line 100
HTTP::Message::PSGI::res_from_psgi(CODE(0x559f00389678)) called at /home/sand/src/perl/repoperls/installed-perls/host/k93focal/v5.37.4/d119/lib/site_perl/5.37.4/HTTP/Message/PSGI.pm line 157
HTTP::Response::from_psgi("HTTP::Response", CODE(0x559f00389678)) called at /home/sand/src/perl/repoperls/installed-perls/host/k93focal/v5.37.4/d119/lib/site_perl/5.37.4/Plack/Test/MockHTTP.pm line 24
Plack::Test::MockHTTP::try {...} () called at /home/sand/src/perl/repoperls/installed-perls/host/k93focal/v5.37.4/d119/lib/site_perl/5.37.4/Try/Tiny.pm line 100
eval {...} called at /home/sand/src/perl/repoperls/installed-perls/host/k93focal/v5.37.4/d119/lib/site_perl/5.37.4/Try/Tiny.pm line 93
Try::Tiny::try(CODE(0x559ef7d3d740), Try::Tiny::Catch=REF(0x559f0025fa48)) called at /home/sand/src/perl/repoperls/installed-perls/host/k93focal/v5.37.4/d119/lib/site_perl/5.37.4/Plack/Test/MockHTTP.pm line 27
Plack::Test::MockHTTP::request(Plack::Test::MockHTTP=HASH(0x559ef7d4eea0), HTTP::Request=HASH(0x559ef7d4eb28)) called at /home/sand/src/perl/repoperls/installed-perls/host/k93focal/v5.37.4/d119/lib/site_perl/5.37.4/Plack/Test.pm line 38
Plack::Test::__ANON__(HTTP::Request=HASH(0x559ef7d4eb28)) called at /home/sand/src/perl/repoperls/installed-perls/host/k93focal/v5.37.4/d119/lib/site_perl/5.37.4/Catalyst/Test.pm line 290
Catalyst::Test::__ANON__(CODE(0x559ef7d4ee58)) called at /home/sand/src/perl/repoperls/installed-perls/host/k93focal/v5.37.4/d119/lib/site_perl/5.37.4/Plack/Test.pm line 38
Plack::Test::test_psgi("app", CODE(0x559f0027af38), "mangle_response", CODE(0x559ef99b7a40), "app", CODE(0x559f00287b00), "client", CODE(0x559ef7d4ecf0)) called at /home/sand/src/perl/repoperls/installed-perls/host/k93focal/v5.37.4/d119/lib/site_perl/5.37.4/Catalyst/Test.pm line 293
Catalyst::Test::_request(HASH(0x559f0027a518), "/") called at /home/sand/src/perl/repoperls/installed-perls/host/k93focal/v5.37.4/d119/lib/site_perl/5.37.4/Catalyst/Test.pm line 336
Catalyst::Test::_local_request("ComponentUI", "/") called at /home/sand/src/perl/repoperls/installed-perls/host/k93focal/v5.37.4/d119/lib/site_perl/5.37.4/Catalyst/Test.pm line 32
Catalyst::Test::__ANON__("/") called at t/01app.t line 10
Class::MOP::load_class is deprecated at /home/sand/src/perl/repoperls/installed-perls/host/k93focal/v5.37.4/d119/lib/site_perl/5.37.4/x86_64-linux-thread-multi/Class/MOP.pm line 69.
Class::MOP::load_class("Reaction::UI::Widget::SiteLayout") called at /tmp/loop_over_bdir-2945421-pdrHb6/Reaction-0.002005-0/blib/lib/Reaction/UI/Skin.pm line 181
eval {...} called at /tmp/loop_over_bdir-2945421-pdrHb6/Reaction-0.002005-0/blib/lib/Reaction/UI/Skin.pm line 181
Reaction::UI::Skin::widget_class_for(Reaction::UI::Skin=HASH(0x559f00415658), Reaction::UI::LayoutSet::TT=HASH(0x559f004a89e0)) called at /tmp/loop_over_bdir-2945421-pdrHb6/Reaction-0.002005-0/blib/lib/Reaction/UI/LayoutSet.pm line 29
Reaction::UI::LayoutSet::BUILD(Reaction::UI::LayoutSet::TT=HASH(0x559f004a89e0), HASH(0x559f004a89c8)) called at constructor Reaction::UI::LayoutSet::TT::new (defined at /tmp/loop_over_bdir-2945421-pdrHb6/Reaction-0.002005-0/blib/lib/Reaction/UI/LayoutSet/TT.pm line 43) line 80
Reaction::UI::LayoutSet::TT::new("Reaction::UI::LayoutSet::TT", "name", "site_layout", "skin", Reaction::UI::Skin=HASH(0x559f00415658), "tt_object", Template=HASH(0x559effc0fab8), "source_file", ...) called at /tmp/loop_over_bdir-2945421-pdrHb6/Reaction-0.002005-0/blib/lib/Reaction/UI/Skin.pm line 115
Reaction::UI::Skin::_create_layout_set(Reaction::UI::Skin=HASH(0x559f00415658), "site_layout", ARRAY(0x559f004095b0), Reaction::UI::Skin=HASH(0x559f00415658)) called at /tmp/loop_over_bdir-2945421-pdrHb6/Reaction-0.002005-0/blib/lib/Reaction/UI/Skin.pm line 110
Reaction::UI::Skin::create_layout_set(Reaction::UI::Skin=HASH(0x559f00415658), "site_layout") called at /tmp/loop_over_bdir-2945421-pdrHb6/Reaction-0.002005-0/blib/lib/Reaction/UI/LayoutSet.pm line 83
Reaction::UI::LayoutSet::_load_file(Reaction::UI::LayoutSet::TT=HASH(0x559f00480520), Path::Class::File=HASH(0x559f00430650), HASH(0x559f004310c8)) called at /tmp/loop_over_bdir-2945421-pdrHb6/Reaction-0.002005-0/blib/lib/Reaction/UI/LayoutSet.pm line 27
Reaction::UI::LayoutSet::BUILD(Reaction::UI::LayoutSet::TT=HASH(0x559f00480520), HASH(0x559f004310c8)) called at constructor Reaction::UI::LayoutSet::TT::new (defined at /tmp/loop_over_bdir-2945421-pdrHb6/Reaction-0.002005-0/blib/lib/Reaction/UI/LayoutSet/TT.pm line 43) line 80
Reaction::UI::LayoutSet::TT::new("Reaction::UI::LayoutSet::TT", "name", "site_layout", "skin", Reaction::UI::Skin=HASH(0x559efae87950), "next_skin", Reaction::UI::Skin=HASH(0x559f00415658), "tt_object", ...) called at /tmp/loop_over_bdir-2945421-pdrHb6/Reaction-0.002005-0/blib/lib/Reaction/UI/Skin.pm line 115
Reaction::UI::Skin::_create_layout_set(Reaction::UI::Skin=HASH(0x559efae87950), "site_layout", ARRAY(0x559f004158b0), Reaction::UI::Skin=HASH(0x559efae87950)) called at /tmp/loop_over_bdir-2945421-pdrHb6/Reaction-0.002005-0/blib/lib/Reaction/UI/Skin.pm line 110
Reaction::UI::Skin::create_layout_set(Reaction::UI::Skin=HASH(0x559efae87950), "site_layout") called at /tmp/loop_over_bdir-2945421-pdrHb6/Reaction-0.002005-0/blib/lib/Reaction/UI/LayoutSet.pm line 83
Reaction::UI::LayoutSet::_load_file(Reaction::UI::LayoutSet::TT=HASH(0x559f004150e8), Path::Class::File=HASH(0x559f00402ed0), HASH(0x559f00251e98)) called at /tmp/loop_over_bdir-2945421-pdrHb6/Reaction-0.002005-0/blib/lib/Reaction/UI/LayoutSet.pm line 27
Reaction::UI::LayoutSet::BUILD(Reaction::UI::LayoutSet::TT=HASH(0x559f004150e8), HASH(0x559f00251e98)) called at constructor Reaction::UI::LayoutSet::TT::new (defined at /tmp/loop_over_bdir-2945421-pdrHb6/Reaction-0.002005-0/blib/lib/Reaction/UI/LayoutSet/TT.pm line 43) line 80
Reaction::UI::LayoutSet::TT::new("Reaction::UI::LayoutSet::TT", "name", "site_layout", "skin", Reaction::UI::Skin=HASH(0x559f00402e70), "next_skin", Reaction::UI::Skin=HASH(0x559efae87950), "tt_object", ...) called at /tmp/loop_over_bdir-2945421-pdrHb6/Reaction-0.002005-0/blib/lib/Reaction/UI/Skin.pm line 115
Reaction::UI::Skin::_create_layout_set(Reaction::UI::Skin=HASH(0x559f00402e70), "site_layout", ARRAY(0x559efae875f0), Reaction::UI::Skin=HASH(0x559f00402e70)) called at /tmp/loop_over_bdir-2945421-pdrHb6/Reaction-0.002005-0/blib/lib/Reaction/UI/Skin.pm line 110
Reaction::UI::Skin::create_layout_set(Reaction::UI::Skin=HASH(0x559f00402e70), "site_layout") called at inline delegation in Reaction::UI::View for skin->create_layout_set (attribute declared in /tmp/loop_over_bdir-2945421-pdrHb6/Reaction-0.002005-0/blib/lib/Reaction/UI/View.pm at line 22) line 18
Reaction::UI::View::create_layout_set(ComponentUI::View::Site=HASH(0x559efc2c29c0), "site_layout") called at /tmp/loop_over_bdir-2945421-pdrHb6/Reaction-0.002005-0/blib/lib/Reaction/UI/View.pm line 99
Reaction::UI::View::layout_set_for(ComponentUI::View::Site=HASH(0x559efc2c29c0), Reaction::UI::ViewPort::SiteLayout=HASH(0x559f00402978)) called at /tmp/loop_over_bdir-2945421-pdrHb6/Reaction-0.002005-0/blib/lib/Reaction/UI/View.pm line 78
Reaction::UI::View::render_viewport_args(ComponentUI::View::Site=HASH(0x559efc2c29c0), Reaction::UI::ViewPort::SiteLayout=HASH(0x559f00402978)) called at /tmp/loop_over_bdir-2945421-pdrHb6/Reaction-0.002005-0/blib/lib/Reaction/UI/View.pm line 61
Reaction::UI::View::render_window(ComponentUI::View::Site=HASH(0x559efc2c29c0), Reaction::UI::Window=HASH(0x559f00402360)) called at /tmp/loop_over_bdir-2945421-pdrHb6/Reaction-0.002005-0/blib/lib/Reaction/UI/Window.pm line 74
Reaction::UI::Window::flush_view(Reaction::UI::Window=HASH(0x559f00402360)) called at /tmp/loop_over_bdir-2945421-pdrHb6/Reaction-0.002005-0/blib/lib/Reaction/UI/Window.pm line 36
Reaction::UI::Window::flush(Reaction::UI::Window=HASH(0x559f00402360)) called at /tmp/loop_over_bdir-2945421-pdrHb6/Reaction-0.002005-0/blib/lib/Reaction/UI/Controller/Root.pm line 38
Reaction::UI::Controller::Root::end(ComponentUI::Controller::Root=HASH(0x559f00391098), ComponentUI=HASH(0x559f0038a260)) called at /home/sand/src/perl/repoperls/installed-perls/host/k93focal/v5.37.4/d119/lib/site_perl/5.37.4/Catalyst/Action.pm line 369
Catalyst::Action::execute(Catalyst::Action=HASH(0x559effd11468), ComponentUI::Controller::Root=HASH(0x559f00391098), ComponentUI=HASH(0x559f0038a260)) called at /home/sand/src/perl/repoperls/installed-perls/host/k93focal/v5.37.4/d119/lib/site_perl/5.37.4/Catalyst.pm line 2060
eval {...} called at /home/sand/src/perl/repoperls/installed-perls/host/k93focal/v5.37.4/d119/lib/site_perl/5.37.4/Catalyst.pm line 2060
Catalyst::execute(ComponentUI=HASH(0x559f0038a260), "ComponentUI::Controller::Root", Catalyst::Action=HASH(0x559effd11468)) called at /home/sand/src/perl/repoperls/installed-perls/host/k93focal/v5.37.4/d119/lib/site_perl/5.37.4/Catalyst/Action.pm line 364
Catalyst::Action::dispatch(Catalyst::Action=HASH(0x559effd11468), ComponentUI=HASH(0x559f0038a260)) called at /home/sand/src/perl/repoperls/installed-perls/host/k93focal/v5.37.4/d119/lib/site_perl/5.37.4/Catalyst/Controller.pm line 188
Catalyst::Controller::_END(ComponentUI::Controller::Root=HASH(0x559f00391098), ComponentUI=HASH(0x559f0038a260)) called at /home/sand/src/perl/repoperls/installed-perls/host/k93focal/v5.37.4/d119/lib/site_perl/5.37.4/Catalyst/Action.pm line 369
Catalyst::Action::execute(Catalyst::Action=HASH(0x559f000e9080), ComponentUI::Controller::Root=HASH(0x559f00391098), ComponentUI=HASH(0x559f0038a260)) called at /home/sand/src/perl/repoperls/installed-perls/host/k93focal/v5.37.4/d119/lib/site_perl/5.37.4/Catalyst.pm line 2060
eval {...} called at /home/sand/src/perl/repoperls/installed-perls/host/k93focal/v5.37.4/d119/lib/site_perl/5.37.4/Catalyst.pm line 2060
Catalyst::execute(ComponentUI=HASH(0x559f0038a260), "ComponentUI::Controller::Root", Catalyst::Action=HASH(0x559f000e9080)) called at /home/sand/src/perl/repoperls/installed-perls/host/k93focal/v5.37.4/d119/lib/site_perl/5.37.4/Catalyst/Action.pm line 364
Catalyst::Action::dispatch(Catalyst::Action=HASH(0x559f000e9080), ComponentUI=HASH(0x559f0038a260)) called at /home/sand/src/perl/repoperls/installed-perls/host/k93focal/v5.37.4/d119/lib/site_perl/5.37.4/Catalyst/Dispatcher.pm line 261
Catalyst::Dispatcher::_do_forward(Catalyst::Dispatcher=HASH(0x559efa2cc430), "forward", ComponentUI=HASH(0x559f0038a260), "_END") called at /home/sand/src/perl/repoperls/installed-perls/host/k93focal/v5.37.4/d119/lib/site_perl/5.37.4/Catalyst/Dispatcher.pm line 241
Catalyst::Dispatcher::forward(Catalyst::Dispatcher=HASH(0x559efa2cc430), ComponentUI=HASH(0x559f0038a260), "_END") called at /home/sand/src/perl/repoperls/installed-perls/host/k93focal/v5.37.4/d119/lib/site_perl/5.37.4/Catalyst.pm line 482
Catalyst::forward(ComponentUI=HASH(0x559f0038a260), "_END") called at /home/sand/src/perl/repoperls/installed-perls/host/k93focal/v5.37.4/d119/lib/site_perl/5.37.4/Catalyst/Controller.pm line 137
Catalyst::Controller::_DISPATCH(ComponentUI::Controller::Root=HASH(0x559f00391098), ComponentUI=HASH(0x559f0038a260)) called at /home/sand/src/perl/repoperls/installed-perls/host/k93focal/v5.37.4/d119/lib/site_perl/5.37.4/Catalyst/Action.pm line 369
Catalyst::Action::execute(Catalyst::Action=HASH(0x559f000e8e40), ComponentUI::Controller::Root=HASH(0x559f00391098), ComponentUI=HASH(0x559f0038a260)) called at /home/sand/src/perl/repoperls/installed-perls/host/k93focal/v5.37.4/d119/lib/site_perl/5.37.4/Catalyst.pm line 2060
eval {...} called at /home/sand/src/perl/repoperls/installed-perls/host/k93focal/v5.37.4/d119/lib/site_perl/5.37.4/Catalyst.pm line 2060
Catalyst::execute(ComponentUI=HASH(0x559f0038a260), "ComponentUI::Controller::Root", Catalyst::Action=HASH(0x559f000e8e40)) called at /home/sand/src/perl/repoperls/installed-perls/host/k93focal/v5.37.4/d119/lib/site_perl/5.37.4/Catalyst/Action.pm line 364
Catalyst::Action::dispatch(Catalyst::Action=HASH(0x559f000e8e40), ComponentUI=HASH(0x559f0038a260)) called at /home/sand/src/perl/repoperls/installed-perls/host/k93focal/v5.37.4/d119/lib/site_perl/5.37.4/Catalyst/Dispatcher.pm line 261
Catalyst::Dispatcher::_do_forward(Catalyst::Dispatcher=HASH(0x559efa2cc430), "forward", ComponentUI=HASH(0x559f0038a260), "//_DISPATCH") called at /home/sand/src/perl/repoperls/installed-perls/host/k93focal/v5.37.4/d119/lib/site_perl/5.37.4/Catalyst/Dispatcher.pm line 241
Catalyst::Dispatcher::forward(Catalyst::Dispatcher=HASH(0x559efa2cc430), ComponentUI=HASH(0x559f0038a260), "//_DISPATCH") called at /home/sand/src/perl/repoperls/installed-perls/host/k93focal/v5.37.4/d119/lib/site_perl/5.37.4/Catalyst.pm line 482
Catalyst::forward(ComponentUI=HASH(0x559f0038a260), "//_DISPATCH") called at /home/sand/src/perl/repoperls/installed-perls/host/k93focal/v5.37.4/d119/lib/site_perl/5.37.4/Catalyst/Dispatcher.pm line 107
Catalyst::Dispatcher::dispatch(Catalyst::Dispatcher=HASH(0x559efa2cc430), ComponentUI=HASH(0x559f0038a260)) called at /home/sand/src/perl/repoperls/installed-perls/host/k93focal/v5.37.4/d119/lib/site_perl/5.37.4/Catalyst.pm line 2006
Catalyst::dispatch(ComponentUI=HASH(0x559f0038a260)) called at /home/sand/src/perl/repoperls/installed-perls/host/k93focal/v5.37.4/d119/lib/site_perl/5.37.4/Catalyst/Plugin/Static/Simple.pm line 85
Class::MOP::Class:::around(CODE(0x559efa8178e0), ComponentUI=HASH(0x559f0038a260)) called at /home/sand/src/perl/repoperls/installed-perls/host/k93focal/v5.37.4/d119/lib/site_perl/5.37.4/x86_64-linux-thread-multi/Class/MOP/Method/Wrapped.pm line 166
ComponentUI::_wrapped_dispatch(ComponentUI=HASH(0x559f0038a260)) called at /home/sand/src/perl/repoperls/installed-perls/host/k93focal/v5.37.4/d119/lib/site_perl/5.37.4/x86_64-linux-thread-multi/Class/MOP/Method/Wrapped.pm line 97
ComponentUI::dispatch(ComponentUI=HASH(0x559f0038a260)) called at /home/sand/src/perl/repoperls/installed-perls/host/k93focal/v5.37.4/d119/lib/site_perl/5.37.4/Catalyst.pm line 2412
Catalyst::try {...} () called at /home/sand/src/perl/repoperls/installed-perls/host/k93focal/v5.37.4/d119/lib/site_perl/5.37.4/Try/Tiny.pm line 102
eval {...} called at /home/sand/src/perl/repoperls/installed-perls/host/k93focal/v5.37.4/d119/lib/site_perl/5.37.4/Try/Tiny.pm line 93
Try::Tiny::try(CODE(0x559f00389c60), Try::Tiny::Catch=REF(0x559f00389a68)) called at /home/sand/src/perl/repoperls/installed-perls/host/k93focal/v5.37.4/d119/lib/site_perl/5.37.4/Catalyst.pm line 2421
Catalyst::handle_request("ComponentUI", "env", HASH(0x559ef7d4f4d0), "response_cb", CODE(0x559f00389ac8)) called at /home/sand/src/perl/repoperls/installed-perls/host/k93focal/v5.37.4/d119/lib/site_perl/5.37.4/Catalyst/Engine.pm line 807
Catalyst::Engine::__ANON__(CODE(0x559f00389ac8)) called at /home/sand/src/perl/repoperls/installed-perls/host/k93focal/v5.37.4/d119/lib/site_perl/5.37.4/Plack/Middleware/HTTPExceptions.pm line 32
Plack::Middleware::HTTPExceptions::try {...} () called at /home/sand/src/perl/repoperls/installed-perls/host/k93focal/v5.37.4/d119/lib/site_perl/5.37.4/Try/Tiny.pm line 102
eval {...} called at /home/sand/src/perl/repoperls/installed-perls/host/k93focal/v5.37.4/d119/lib/site_perl/5.37.4/Try/Tiny.pm line 93
Try::Tiny::try(CODE(0x559f00389900), Try::Tiny::Catch=REF(0x559f003fdbe8)) called at /home/sand/src/perl/repoperls/installed-perls/host/k93focal/v5.37.4/d119/lib/site_perl/5.37.4/Plack/Middleware/HTTPExceptions.pm line 41
Plack::Middleware::HTTPExceptions::__ANON__(CODE(0x559f003fd9a8)) called at /home/sand/src/perl/repoperls/installed-perls/host/k93focal/v5.37.4/d119/lib/site_perl/5.37.4/Plack/Util.pm line 339
Plack::Util::__ANON__(CODE(0x559f003d6048)) called at /home/sand/src/perl/repoperls/installed-perls/host/k93focal/v5.37.4/d119/lib/site_perl/5.37.4/Plack/Util.pm line 339
Plack::Util::__ANON__(CODE(0x559f003ad1e0)) called at /home/sand/src/perl/repoperls/installed-perls/host/k93focal/v5.37.4/d119/lib/site_perl/5.37.4/Plack/Util.pm line 339
Plack::Util::__ANON__(CODE(0x559ef7d4f3b0)) called at /home/sand/src/perl/repoperls/installed-perls/host/k93focal/v5.37.4/d119/lib/site_perl/5.37.4/HTTP/Message/PSGI.pm line 100
HTTP::Message::PSGI::res_from_psgi(CODE(0x559f00389678)) called at /home/sand/src/perl/repoperls/installed-perls/host/k93focal/v5.37.4/d119/lib/site_perl/5.37.4/HTTP/Message/PSGI.pm line 157
HTTP::Response::from_psgi("HTTP::Response", CODE(0x559f00389678)) called at /home/sand/src/perl/repoperls/installed-perls/host/k93focal/v5.37.4/d119/lib/site_perl/5.37.4/Plack/Test/MockHTTP.pm line 24
Plack::Test::MockHTTP::try {...} () called at /home/sand/src/perl/repoperls/installed-perls/host/k93focal/v5.37.4/d119/lib/site_perl/5.37.4/Try/Tiny.pm line 100
eval {...} called at /home/sand/src/perl/repoperls/installed-perls/host/k93focal/v5.37.4/d119/lib/site_perl/5.37.4/Try/Tiny.pm line 93
Try::Tiny::try(CODE(0x559ef7d3d740), Try::Tiny::Catch=REF(0x559f0025fa48)) called at /home/sand/src/perl/repoperls/installed-perls/host/k93focal/v5.37.4/d119/lib/site_perl/5.37.4/Plack/Test/MockHTTP.pm line 27
Plack::Test::MockHTTP::request(Plack::Test::MockHTTP=HASH(0x559ef7d4eea0), HTTP::Request=HASH(0x559ef7d4eb28)) called at /home/sand/src/perl/repoperls/installed-perls/host/k93focal/v5.37.4/d119/lib/site_perl/5.37.4/Plack/Test.pm line 38
Plack::Test::__ANON__(HTTP::Request=HASH(0x559ef7d4eb28)) called at /home/sand/src/perl/repoperls/installed-perls/host/k93focal/v5.37.4/d119/lib/site_perl/5.37.4/Catalyst/Test.pm line 290
Catalyst::Test::__ANON__(CODE(0x559ef7d4ee58)) called at /home/sand/src/perl/repoperls/installed-perls/host/k93focal/v5.37.4/d119/lib/site_perl/5.37.4/Plack/Test.pm line 38
Plack::Test::test_psgi("app", CODE(0x559f0027af38), "mangle_response", CODE(0x559ef99b7a40), "app", CODE(0x559f00287b00), "client", CODE(0x559ef7d4ecf0)) called at /home/sand/src/perl/repoperls/installed-perls/host/k93focal/v5.37.4/d119/lib/site_perl/5.37.4/Catalyst/Test.pm line 293
Catalyst::Test::_request(HASH(0x559f0027a518), "/") called at /home/sand/src/perl/repoperls/installed-perls/host/k93focal/v5.37.4/d119/lib/site_perl/5.37.4/Catalyst/Test.pm line 336
Catalyst::Test::_local_request("ComponentUI", "/") called at /home/sand/src/perl/repoperls/installed-perls/host/k93focal/v5.37.4/d119/lib/site_perl/5.37.4/Catalyst/Test.pm line 32
Catalyst::Test::__ANON__("/") called at t/01app.t line 10
[debug] remote
t/01app.t ................... ok
t/04load_all.t .............. ok
t/05reflect_attr_from.t ..... ok
Class::MOP::load_class is deprecated at /home/sand/src/perl/repoperls/installed-perls/host/k93focal/v5.37.4/d119/lib/site_perl/5.37.4/x86_64-linux-thread-multi/Class/MOP.pm line 69.
Class::MOP::load_class("Reaction::InterfaceModel::Object") called at /tmp/loop_over_bdir-2945421-pdrHb6/Reaction-0.002005-0/blib/lib/Reaction/InterfaceModel/Reflector/DBIC.pm line 149
Reaction::InterfaceModel::Reflector::DBIC::reflect_schema(Reaction::InterfaceModel::Reflector::DBIC=HASH(0x55e924a97290), "model_class", "ComponentUI::TestModel", "schema_class", "RTest::TestDB", "sources", ARRAY(0x55e9253a4db0)) called at /tmp/loop_over_bdir-2945421-pdrHb6/Reaction-0.002005-0/blib/lib/ComponentUI/TestModel.pm line 10
require ComponentUI/TestModel.pm called at t/lib/RTest/InterfaceModel/Reflector/DBIC.pm line 6
RTest::InterfaceModel::Reflector::DBIC::BEGIN() called at t/lib/RTest/InterfaceModel/Reflector/DBIC.pm line 6
eval {...} called at t/lib/RTest/InterfaceModel/Reflector/DBIC.pm line 6
require RTest/InterfaceModel/Reflector/DBIC.pm called at t/im_dbic.t line 7
main::BEGIN() called at t/im_dbic.t line 7
eval {...} called at t/im_dbic.t line 7
Class::MOP::load_class is deprecated at /home/sand/src/perl/repoperls/installed-perls/host/k93focal/v5.37.4/d119/lib/site_perl/5.37.4/x86_64-linux-thread-multi/Class/MOP.pm line 69.
Class::MOP::load_class("Reaction::InterfaceModel::Object") called at /tmp/loop_over_bdir-2945421-pdrHb6/Reaction-0.002005-0/blib/lib/Reaction/Class.pm line 123
Reaction::Class::do_class_sub("Reaction::Class", "ComponentUI::TestModel::Foo", "ComponentUI::TestModel::Foo", "is", "Reaction::InterfaceModel::Object", "which", CODE(0x55e926baae18)) called at /tmp/loop_over_bdir-2945421-pdrHb6/Reaction-0.002005-0/blib/lib/Reaction/Class.pm line 86
Reaction::Class::("ComponentUI::TestModel::Foo", "is", "Reaction::InterfaceModel::Object", "which", CODE(0x55e926baae18)) called at /tmp/loop_over_bdir-2945421-pdrHb6/Reaction-0.002005-0/blib/lib/ComponentUI/TestModel/Foo.pm line 8
require ComponentUI/TestModel/Foo.pm called at /home/sand/src/perl/repoperls/installed-perls/host/k93focal/v5.37.4/d119/lib/site_perl/5.37.4/Module/Runtime.pm line 314
Module::Runtime::require_module("ComponentUI::TestModel::Foo") called at /home/sand/src/perl/repoperls/installed-perls/host/k93focal/v5.37.4/d119/lib/site_perl/5.37.4/Class/Load.pm line 174
Class::Load::try {...} () called at /home/sand/src/perl/repoperls/installed-perls/host/k93focal/v5.37.4/d119/lib/site_perl/5.37.4/Try/Tiny.pm line 98
eval {...} called at /home/sand/src/perl/repoperls/installed-perls/host/k93focal/v5.37.4/d119/lib/site_perl/5.37.4/Try/Tiny.pm line 93
Try::Tiny::try(CODE(0x55e926b2abe8), Try::Tiny::Catch=REF(0x55e926b7d478)) called at /home/sand/src/perl/repoperls/installed-perls/host/k93focal/v5.37.4/d119/lib/site_perl/5.37.4/Class/Load.pm line 180
Class::Load::try_load_class("ComponentUI::TestModel::Foo", undef) called at /home/sand/src/perl/repoperls/installed-perls/host/k93focal/v5.37.4/d119/lib/site_perl/5.37.4/Class/Load.pm line 35
Class::Load::load_class("ComponentUI::TestModel::Foo") called at /tmp/loop_over_bdir-2945421-pdrHb6/Reaction-0.002005-0/blib/lib/Reaction/InterfaceModel/Reflector/DBIC.pm line 892
eval {...} called at /tmp/loop_over_bdir-2945421-pdrHb6/Reaction-0.002005-0/blib/lib/Reaction/InterfaceModel/Reflector/DBIC.pm line 892
Reaction::InterfaceModel::Reflector::DBIC::_maybe_load_class(Reaction::InterfaceModel::Reflector::DBIC=HASH(0x55e924a97290), "ComponentUI::TestModel::Foo") called at /tmp/loop_over_bdir-2945421-pdrHb6/Reaction-0.002005-0/blib/lib/Reaction/InterfaceModel/Reflector/DBIC.pm line 876
Reaction::InterfaceModel::Reflector::DBIC::_load_or_create(Reaction::InterfaceModel::Reflector::DBIC=HASH(0x55e924a97290), "ComponentUI::TestModel::Foo", "superclasses", ARRAY(0x55e926b03690)) called at /tmp/loop_over_bdir-2945421-pdrHb6/Reaction-0.002005-0/blib/lib/Reaction/InterfaceModel/Reflector/DBIC.pm line 448
Reaction::InterfaceModel::Reflector::DBIC::reflect_source_object(Reaction::InterfaceModel::Reflector::DBIC=HASH(0x55e924a97290), "source_class", "RTest::TestDB::Foo", "parent_class", "ComponentUI::TestModel", "schema_class", "RTest::TestDB", "parent_domain_model_name", ...) called at /tmp/loop_over_bdir-2945421-pdrHb6/Reaction-0.002005-0/blib/lib/Reaction/InterfaceModel/Reflector/DBIC.pm line 323
Reaction::InterfaceModel::Reflector::DBIC::reflect_source(Reaction::InterfaceModel::Reflector::DBIC=HASH(0x55e924a97290), "source_name", "Foo", "parent_class", "ComponentUI::TestModel", "schema_class", "RTest::TestDB", "source_class", ...) called at /tmp/loop_over_bdir-2945421-pdrHb6/Reaction-0.002005-0/blib/lib/Reaction/InterfaceModel/Reflector/DBIC.pm line 185
Reaction::InterfaceModel::Reflector::DBIC::reflect_schema(Reaction::InterfaceModel::Reflector::DBIC=HASH(0x55e924a97290), "model_class", "ComponentUI::TestModel", "schema_class", "RTest::TestDB", "sources", ARRAY(0x55e9253a4db0)) called at /tmp/loop_over_bdir-2945421-pdrHb6/Reaction-0.002005-0/blib/lib/ComponentUI/TestModel.pm line 10
require ComponentUI/TestModel.pm called at t/lib/RTest/InterfaceModel/Reflector/DBIC.pm line 6
RTest::InterfaceModel::Reflector::DBIC::BEGIN() called at t/lib/RTest/InterfaceModel/Reflector/DBIC.pm line 6
eval {...} called at t/lib/RTest/InterfaceModel/Reflector/DBIC.pm line 6
require RTest/InterfaceModel/Reflector/DBIC.pm called at t/im_dbic.t line 7
main::BEGIN() called at t/im_dbic.t line 7
eval {...} called at t/im_dbic.t line 7
Class::MOP::is_class_loaded is deprecated at /home/sand/src/perl/repoperls/installed-perls/host/k93focal/v5.37.4/d119/lib/site_perl/5.37.4/x86_64-linux-thread-multi/Class/MOP.pm line 87.
Class::MOP::is_class_loaded("RTest::TestIM::Foo") called at t/lib/RTest/InterfaceModel/Reflector/DBIC.pm line 74
RTest::InterfaceModel::Reflector::DBIC::test_reflect_schema(RTest::InterfaceModel::Reflector::DBIC=HASH(0x55e926effc50)) called at /home/sand/src/perl/repoperls/installed-perls/host/k93focal/v5.37.4/d119/lib/site_perl/5.37.4/Test/Class.pm line 293
Test::Class::try {...} () called at /home/sand/src/perl/repoperls/installed-perls/host/k93focal/v5.37.4/d119/lib/site_perl/5.37.4/Try/Tiny.pm line 100
eval {...} called at /home/sand/src/perl/repoperls/installed-perls/host/k93focal/v5.37.4/d119/lib/site_perl/5.37.4/Try/Tiny.pm line 93
Try::Tiny::try(CODE(0x55e9284c2718), Try::Tiny::Catch=REF(0x55e9284c26a0)) called at /home/sand/src/perl/repoperls/installed-perls/host/k93focal/v5.37.4/d119/lib/site_perl/5.37.4/Test/Class.pm line 293
Test::Class::_run_method(RTest::InterfaceModel::Reflector::DBIC=HASH(0x55e926effc50), "test_reflect_schema", ARRAY(0x55e923970b90)) called at /home/sand/src/perl/repoperls/installed-perls/host/k93focal/v5.37.4/d119/lib/site_perl/5.37.4/Test/Class.pm line 402
Test::Class::runtests("Test::Class", RTest::InterfaceModel::Reflector::DBIC=HASH(0x55e926effc50)) called at t/im_dbic.t line 10
t/im_dbic.t ................. ok
t/ui_focus_stack.t .......... ok
t/ui_view.t ................. ok
t/ui_viewport.t ............. ok
Class::MOP::load_class is deprecated at /home/sand/src/perl/repoperls/installed-perls/host/k93focal/v5.37.4/d119/lib/site_perl/5.37.4/x86_64-linux-thread-multi/Class/MOP.pm line 69.
Class::MOP::load_class("ComponentUI::TestModel") called at /tmp/loop_over_bdir-2945421-pdrHb6/Reaction-0.002005-0/blib/lib/Catalyst/Model/Reaction/InterfaceModel/DBIC.pm line 24
Catalyst::Model::Reaction::InterfaceModel::DBIC::COMPONENT("ComponentUI::Model::TestModel", "ComponentUI", HASH(0x5649750e8c80)) called at /home/sand/src/perl/repoperls/installed-perls/host/k93focal/v5.37.4/d119/lib/site_perl/5.37.4/Catalyst.pm line 3234
eval {...} called at /home/sand/src/perl/repoperls/installed-perls/host/k93focal/v5.37.4/d119/lib/site_perl/5.37.4/Catalyst.pm line 3235
Catalyst::setup_component("ComponentUI", "ComponentUI::Model::TestModel") called at /home/sand/src/perl/repoperls/installed-perls/host/k93focal/v5.37.4/d119/lib/site_perl/5.37.4/Catalyst.pm line 3212
Catalyst::__ANON__() called at /home/sand/src/perl/repoperls/installed-perls/host/k93focal/v5.37.4/d119/lib/site_perl/5.37.4/Catalyst.pm line 3059
Catalyst::setup_components("ComponentUI") called at /home/sand/src/perl/repoperls/installed-perls/host/k93focal/v5.37.4/d119/lib/site_perl/5.37.4/Catalyst.pm line 1431
Catalyst::setup("ComponentUI") called at /tmp/loop_over_bdir-2945421-pdrHb6/Reaction-0.002005-0/blib/lib/ComponentUI.pm line 32
require ComponentUI.pm called at /home/sand/src/perl/repoperls/installed-perls/host/k93focal/v5.37.4/d119/lib/site_perl/5.37.4/Module/Runtime.pm line 314
Module::Runtime::require_module("ComponentUI") called at /home/sand/src/perl/repoperls/installed-perls/host/k93focal/v5.37.4/d119/lib/site_perl/5.37.4/Class/Load.pm line 174
Class::Load::try {...} () called at /home/sand/src/perl/repoperls/installed-perls/host/k93focal/v5.37.4/d119/lib/site_perl/5.37.4/Try/Tiny.pm line 98
eval {...} called at /home/sand/src/perl/repoperls/installed-perls/host/k93focal/v5.37.4/d119/lib/site_perl/5.37.4/Try/Tiny.pm line 93
Try::Tiny::try(CODE(0x56496d6e7fb8), Try::Tiny::Catch=REF(0x56496fde8e70)) called at /home/sand/src/perl/repoperls/installed-perls/host/k93focal/v5.37.4/d119/lib/site_perl/5.37.4/Class/Load.pm line 180
Class::Load::try_load_class("ComponentUI", undef) called at /home/sand/src/perl/repoperls/installed-perls/host/k93focal/v5.37.4/d119/lib/site_perl/5.37.4/Class/Load.pm line 35
Class::Load::load_class("ComponentUI") called at /home/sand/src/perl/repoperls/installed-perls/host/k93focal/v5.37.4/d119/lib/site_perl/5.37.4/Test/WWW/Mechanize/Catalyst.pm line 245
Test::WWW::Mechanize::Catalyst::import("Test::WWW::Mechanize::Catalyst", "ComponentUI") called at t/uncheck_bool_field.t line 6
main::BEGIN() called at t/uncheck_bool_field.t line 6
eval {...} called at t/uncheck_bool_field.t line 6
Class::MOP::load_class is deprecated at /home/sand/src/perl/repoperls/installed-perls/host/k93focal/v5.37.4/d119/lib/site_perl/5.37.4/x86_64-linux-thread-multi/Class/MOP.pm line 69.
Class::MOP::load_class("Reaction::InterfaceModel::Object") called at /tmp/loop_over_bdir-2945421-pdrHb6/Reaction-0.002005-0/blib/lib/Reaction/InterfaceModel/Reflector/DBIC.pm line 149
Reaction::InterfaceModel::Reflector::DBIC::reflect_schema(Reaction::InterfaceModel::Reflector::DBIC=HASH(0x564975a313a8), "model_class", "ComponentUI::TestModel", "schema_class", "RTest::TestDB", "sources", ARRAY(0x564975d75f20)) called at /tmp/loop_over_bdir-2945421-pdrHb6/Reaction-0.002005-0/blib/lib/ComponentUI/TestModel.pm line 10
require ComponentUI/TestModel.pm called at /home/sand/src/perl/repoperls/installed-perls/host/k93focal/v5.37.4/d119/lib/site_perl/5.37.4/Module/Runtime.pm line 314
Module::Runtime::require_module("ComponentUI::TestModel") called at /home/sand/src/perl/repoperls/installed-perls/host/k93focal/v5.37.4/d119/lib/site_perl/5.37.4/Class/Load.pm line 174
Class::Load::try {...} () called at /home/sand/src/perl/repoperls/installed-perls/host/k93focal/v5.37.4/d119/lib/site_perl/5.37.4/Try/Tiny.pm line 98
eval {...} called at /home/sand/src/perl/repoperls/installed-perls/host/k93focal/v5.37.4/d119/lib/site_perl/5.37.4/Try/Tiny.pm line 93
Try::Tiny::try(CODE(0x56497118d4d0), Try::Tiny::Catch=REF(0x56497574e8c8)) called at /home/sand/src/perl/repoperls/installed-perls/host/k93focal/v5.37.4/d119/lib/site_perl/5.37.4/Class/Load.pm line 180
Class::Load::try_load_class("ComponentUI::TestModel", undef) called at /home/sand/src/perl/repoperls/installed-perls/host/k93focal/v5.37.4/d119/lib/site_perl/5.37.4/Class/Load.pm line 35
Class::Load::load_class("ComponentUI::TestModel") called at /tmp/loop_over_bdir-2945421-pdrHb6/Reaction-0.002005-0/blib/lib/Catalyst/Model/Reaction/InterfaceModel/DBIC.pm line 24
Catalyst::Model::Reaction::InterfaceModel::DBIC::COMPONENT("ComponentUI::Model::TestModel", "ComponentUI", HASH(0x5649750e8c80)) called at /home/sand/src/perl/repoperls/installed-perls/host/k93focal/v5.37.4/d119/lib/site_perl/5.37.4/Catalyst.pm line 3234
eval {...} called at /home/sand/src/perl/repoperls/installed-perls/host/k93focal/v5.37.4/d119/lib/site_perl/5.37.4/Catalyst.pm line 3235
Catalyst::setup_component("ComponentUI", "ComponentUI::Model::TestModel") called at /home/sand/src/perl/repoperls/installed-perls/host/k93focal/v5.37.4/d119/lib/site_perl/5.37.4/Catalyst.pm line 3212
Catalyst::__ANON__() called at /home/sand/src/perl/repoperls/installed-perls/host/k93focal/v5.37.4/d119/lib/site_perl/5.37.4/Catalyst.pm line 3059
Catalyst::setup_components("ComponentUI") called at /home/sand/src/perl/repoperls/installed-perls/host/k93focal/v5.37.4/d119/lib/site_perl/5.37.4/Catalyst.pm line 1431
Catalyst::setup("ComponentUI") called at /tmp/loop_over_bdir-2945421-pdrHb6/Reaction-0.002005-0/blib/lib/ComponentUI.pm line 32
require ComponentUI.pm called at /home/sand/src/perl/repoperls/installed-perls/host/k93focal/v5.37.4/d119/lib/site_perl/5.37.4/Module/Runtime.pm line 314
Module::Runtime::require_module("ComponentUI") called at /home/sand/src/perl/repoperls/installed-perls/host/k93focal/v5.37.4/d119/lib/site_perl/5.37.4/Class/Load.pm line 174
Class::Load::try {...} () called at /home/sand/src/perl/repoperls/installed-perls/host/k93focal/v5.37.4/d119/lib/site_perl/5.37.4/Try/Tiny.pm line 98
eval {...} called at /home/sand/src/perl/repoperls/installed-perls/host/k93focal/v5.37.4/d119/lib/site_perl/5.37.4/Try/Tiny.pm line 93
Try::Tiny::try(CODE(0x56496d6e7fb8), Try::Tiny::Catch=REF(0x56496fde8e70)) called at /home/sand/src/perl/repoperls/installed-perls/host/k93focal/v5.37.4/d119/lib/site_perl/5.37.4/Class/Load.pm line 180
Class::Load::try_load_class("ComponentUI", undef) called at /home/sand/src/perl/repoperls/installed-perls/host/k93focal/v5.37.4/d119/lib/site_perl/5.37.4/Class/Load.pm line 35
Class::Load::load_class("ComponentUI") called at /home/sand/src/perl/repoperls/installed-perls/host/k93focal/v5.37.4/d119/lib/site_perl/5.37.4/Test/WWW/Mechanize/Catalyst.pm line 245
Test::WWW::Mechanize::Catalyst::import("Test::WWW::Mechanize::Catalyst", "ComponentUI") called at t/uncheck_bool_field.t line 6
main::BEGIN() called at t/uncheck_bool_field.t line 6
eval {...} called at t/uncheck_bool_field.t line 6
Class::MOP::load_class is deprecated at /home/sand/src/perl/repoperls/installed-perls/host/k93focal/v5.37.4/d119/lib/site_perl/5.37.4/x86_64-linux-thread-multi/Class/MOP.pm line 69.
Class::MOP::load_class("Reaction::InterfaceModel::Object") called at /tmp/loop_over_bdir-2945421-pdrHb6/Reaction-0.002005-0/blib/lib/Reaction/Class.pm line 123
Reaction::Class::do_class_sub("Reaction::Class", "ComponentUI::TestModel::Foo", "ComponentUI::TestModel::Foo", "is", "Reaction::InterfaceModel::Object", "which", CODE(0x56497609c148)) called at /tmp/loop_over_bdir-2945421-pdrHb6/Reaction-0.002005-0/blib/lib/Reaction/Class.pm line 86
Reaction::Class::("ComponentUI::TestModel::Foo", "is", "Reaction::InterfaceModel::Object", "which", CODE(0x56497609c148)) called at /tmp/loop_over_bdir-2945421-pdrHb6/Reaction-0.002005-0/blib/lib/ComponentUI/TestModel/Foo.pm line 8
require ComponentUI/TestModel/Foo.pm called at /home/sand/src/perl/repoperls/installed-perls/host/k93focal/v5.37.4/d119/lib/site_perl/5.37.4/Module/Runtime.pm line 314
Module::Runtime::require_module("ComponentUI::TestModel::Foo") called at /home/sand/src/perl/repoperls/installed-perls/host/k93focal/v5.37.4/d119/lib/site_perl/5.37.4/Class/Load.pm line 174
Class::Load::try {...} () called at /home/sand/src/perl/repoperls/installed-perls/host/k93focal/v5.37.4/d119/lib/site_perl/5.37.4/Try/Tiny.pm line 98
eval {...} called at /home/sand/src/perl/repoperls/installed-perls/host/k93focal/v5.37.4/d119/lib/site_perl/5.37.4/Try/Tiny.pm line 93
Try::Tiny::try(CODE(0x564975fdc9c8), Try::Tiny::Catch=REF(0x5649760f9248)) called at /home/sand/src/perl/repoperls/installed-perls/host/k93focal/v5.37.4/d119/lib/site_perl/5.37.4/Class/Load.pm line 180
Class::Load::try_load_class("ComponentUI::TestModel::Foo", undef) called at /home/sand/src/perl/repoperls/installed-perls/host/k93focal/v5.37.4/d119/lib/site_perl/5.37.4/Class/Load.pm line 35
Class::Load::load_class("ComponentUI::TestModel::Foo") called at /tmp/loop_over_bdir-2945421-pdrHb6/Reaction-0.002005-0/blib/lib/Reaction/InterfaceModel/Reflector/DBIC.pm line 892
eval {...} called at /tmp/loop_over_bdir-2945421-pdrHb6/Reaction-0.002005-0/blib/lib/Reaction/InterfaceModel/Reflector/DBIC.pm line 892
Reaction::InterfaceModel::Reflector::DBIC::_maybe_load_class(Reaction::InterfaceModel::Reflector::DBIC=HASH(0x564975a313a8), "ComponentUI::TestModel::Foo") called at /tmp/loop_over_bdir-2945421-pdrHb6/Reaction-0.002005-0/blib/lib/Reaction/InterfaceModel/Reflector/DBIC.pm line 876
Reaction::InterfaceModel::Reflector::DBIC::_load_or_create(Reaction::InterfaceModel::Reflector::DBIC=HASH(0x564975a313a8), "ComponentUI::TestModel::Foo", "superclasses", ARRAY(0x564975fb2ab0)) called at /tmp/loop_over_bdir-2945421-pdrHb6/Reaction-0.002005-0/blib/lib/Reaction/InterfaceModel/Reflector/DBIC.pm line 448
Reaction::InterfaceModel::Reflector::DBIC::reflect_source_object(Reaction::InterfaceModel::Reflector::DBIC=HASH(0x564975a313a8), "schema_class", "RTest::TestDB", "source_name", "Foo", "parent_domain_model_name", "_rtest_test_db_store", "source_class", ...) called at /tmp/loop_over_bdir-2945421-pdrHb6/Reaction-0.002005-0/blib/lib/Reaction/InterfaceModel/Reflector/DBIC.pm line 323
Reaction::InterfaceModel::Reflector::DBIC::reflect_source(Reaction::InterfaceModel::Reflector::DBIC=HASH(0x564975a313a8), "source_name", "Foo", "parent_class", "ComponentUI::TestModel", "schema_class", "RTest::TestDB", "source_class", ...) called at /tmp/loop_over_bdir-2945421-pdrHb6/Reaction-0.002005-0/blib/lib/Reaction/InterfaceModel/Reflector/DBIC.pm line 185
Reaction::InterfaceModel::Reflector::DBIC::reflect_schema(Reaction::InterfaceModel::Reflector::DBIC=HASH(0x564975a313a8), "model_class", "ComponentUI::TestModel", "schema_class", "RTest::TestDB", "sources", ARRAY(0x564975d75f20)) called at /tmp/loop_over_bdir-2945421-pdrHb6/Reaction-0.002005-0/blib/lib/ComponentUI/TestModel.pm line 10
require ComponentUI/TestModel.pm called at /home/sand/src/perl/repoperls/installed-perls/host/k93focal/v5.37.4/d119/lib/site_perl/5.37.4/Module/Runtime.pm line 314
Module::Runtime::require_module("ComponentUI::TestModel") called at /home/sand/src/perl/repoperls/installed-perls/host/k93focal/v5.37.4/d119/lib/site_perl/5.37.4/Class/Load.pm line 174
Class::Load::try {...} () called at /home/sand/src/perl/repoperls/installed-perls/host/k93focal/v5.37.4/d119/lib/site_perl/5.37.4/Try/Tiny.pm line 98
eval {...} called at /home/sand/src/perl/repoperls/installed-perls/host/k93focal/v5.37.4/d119/lib/site_perl/5.37.4/Try/Tiny.pm line 93
Try::Tiny::try(CODE(0x56497118d4d0), Try::Tiny::Catch=REF(0x56497574e8c8)) called at /home/sand/src/perl/repoperls/installed-perls/host/k93focal/v5.37.4/d119/lib/site_perl/5.37.4/Class/Load.pm line 180
Class::Load::try_load_class("ComponentUI::TestModel", undef) called at /home/sand/src/perl/repoperls/installed-perls/host/k93focal/v5.37.4/d119/lib/site_perl/5.37.4/Class/Load.pm line 35
Class::Load::load_class("ComponentUI::TestModel") called at /tmp/loop_over_bdir-2945421-pdrHb6/Reaction-0.002005-0/blib/lib/Catalyst/Model/Reaction/InterfaceModel/DBIC.pm line 24
Catalyst::Model::Reaction::InterfaceModel::DBIC::COMPONENT("ComponentUI::Model::TestModel", "ComponentUI", HASH(0x5649750e8c80)) called at /home/sand/src/perl/repoperls/installed-perls/host/k93focal/v5.37.4/d119/lib/site_perl/5.37.4/Catalyst.pm line 3234
eval {...} called at /home/sand/src/perl/repoperls/installed-perls/host/k93focal/v5.37.4/d119/lib/site_perl/5.37.4/Catalyst.pm line 3235
Catalyst::setup_component("ComponentUI", "ComponentUI::Model::TestModel") called at /home/sand/src/perl/repoperls/installed-perls/host/k93focal/v5.37.4/d119/lib/site_perl/5.37.4/Catalyst.pm line 3212
Catalyst::__ANON__() called at /home/sand/src/perl/repoperls/installed-perls/host/k93focal/v5.37.4/d119/lib/site_perl/5.37.4/Catalyst.pm line 3059
Catalyst::setup_components("ComponentUI") called at /home/sand/src/perl/repoperls/installed-perls/host/k93focal/v5.37.4/d119/lib/site_perl/5.37.4/Catalyst.pm line 1431
Catalyst::setup("ComponentUI") called at /tmp/loop_over_bdir-2945421-pdrHb6/Reaction-0.002005-0/blib/lib/ComponentUI.pm line 32
require ComponentUI.pm called at /home/sand/src/perl/repoperls/installed-perls/host/k93focal/v5.37.4/d119/lib/site_perl/5.37.4/Module/Runtime.pm line 314
Module::Runtime::require_module("ComponentUI") called at /home/sand/src/perl/repoperls/installed-perls/host/k93focal/v5.37.4/d119/lib/site_perl/5.37.4/Class/Load.pm line 174
Class::Load::try {...} () called at /home/sand/src/perl/repoperls/installed-perls/host/k93focal/v5.37.4/d119/lib/site_perl/5.37.4/Try/Tiny.pm line 98
eval {...} called at /home/sand/src/perl/repoperls/installed-perls/host/k93focal/v5.37.4/d119/lib/site_perl/5.37.4/Try/Tiny.pm line 93
Try::Tiny::try(CODE(0x56496d6e7fb8), Try::Tiny::Catch=REF(0x56496fde8e70)) called at /home/sand/src/perl/repoperls/installed-perls/host/k93focal/v5.37.4/d119/lib/site_perl/5.37.4/Class/Load.pm line 180
Class::Load::try_load_class("ComponentUI", undef) called at /home/sand/src/perl/repoperls/installed-perls/host/k93focal/v5.37.4/d119/lib/site_perl/5.37.4/Class/Load.pm line 35
Class::Load::load_class("ComponentUI") called at /home/sand/src/perl/repoperls/installed-perls/host/k93focal/v5.37.4/d119/lib/site_perl/5.37.4/Test/WWW/Mechanize/Catalyst.pm line 245
Test::WWW::Mechanize::Catalyst::import("Test::WWW::Mechanize::Catalyst", "ComponentUI") called at t/uncheck_bool_field.t line 6
main::BEGIN() called at t/uncheck_bool_field.t line 6
eval {...} called at t/uncheck_bool_field.t line 6
Class::MOP::load_class is deprecated at /home/sand/src/perl/repoperls/installed-perls/host/k93focal/v5.37.4/d119/lib/site_perl/5.37.4/x86_64-linux-thread-multi/Class/MOP.pm line 69.
Class::MOP::load_class("ComponentUI::RenderingContext::Site") called at /tmp/loop_over_bdir-2945421-pdrHb6/Reaction-0.002005-0/blib/lib/Reaction/UI/View.pm line 125
eval {...} called at /tmp/loop_over_bdir-2945421-pdrHb6/Reaction-0.002005-0/blib/lib/Reaction/UI/View.pm line 125
Reaction::UI::View::find_related_class(ComponentUI::View::Site=HASH(0x564972556fe0), "RenderingContext") called at /tmp/loop_over_bdir-2945421-pdrHb6/Reaction-0.002005-0/blib/lib/Reaction/UI/View.pm line 43
Reaction::UI::View::_build_rendering_context_class(ComponentUI::View::Site=HASH(0x564972556fe0)) called at reader Reaction::UI::View::rendering_context_class (defined at /tmp/loop_over_bdir-2945421-pdrHb6/Reaction-0.002005-0/blib/lib/Reaction/UI/View.pm line 29) line 8
Reaction::UI::View::rendering_context_class(ComponentUI::View::Site=HASH(0x564972556fe0)) called at /tmp/loop_over_bdir-2945421-pdrHb6/Reaction-0.002005-0/blib/lib/Reaction/UI/View.pm line 134
Reaction::UI::View::create_rendering_context(ComponentUI::View::Site=HASH(0x564972556fe0)) called at /tmp/loop_over_bdir-2945421-pdrHb6/Reaction-0.002005-0/blib/lib/Reaction/UI/View.pm line 60
Reaction::UI::View::render_window(ComponentUI::View::Site=HASH(0x564972556fe0), Reaction::UI::Window=HASH(0x564976784798)) called at /tmp/loop_over_bdir-2945421-pdrHb6/Reaction-0.002005-0/blib/lib/Reaction/UI/Window.pm line 74
Reaction::UI::Window::flush_view(Reaction::UI::Window=HASH(0x564976784798)) called at /tmp/loop_over_bdir-2945421-pdrHb6/Reaction-0.002005-0/blib/lib/Reaction/UI/Window.pm line 36
Reaction::UI::Window::flush(Reaction::UI::Window=HASH(0x564976784798)) called at /tmp/loop_over_bdir-2945421-pdrHb6/Reaction-0.002005-0/blib/lib/Reaction/UI/Controller/Root.pm line 38
Reaction::UI::Controller::Root::end(ComponentUI::Controller::Root=HASH(0x5649767848a0), ComponentUI=HASH(0x56497676f520)) called at /home/sand/src/perl/repoperls/installed-perls/host/k93focal/v5.37.4/d119/lib/site_perl/5.37.4/Catalyst/Action.pm line 369
Catalyst::Action::execute(Catalyst::Action=HASH(0x5649764428a8), ComponentUI::Controller::Root=HASH(0x5649767848a0), ComponentUI=HASH(0x56497676f520)) called at /home/sand/src/perl/repoperls/installed-perls/host/k93focal/v5.37.4/d119/lib/site_perl/5.37.4/Catalyst.pm line 2060
eval {...} called at /home/sand/src/perl/repoperls/installed-perls/host/k93focal/v5.37.4/d119/lib/site_perl/5.37.4/Catalyst.pm line 2060
Catalyst::execute(ComponentUI=HASH(0x56497676f520), "ComponentUI::Controller::Root", Catalyst::Action=HASH(0x5649764428a8)) called at /home/sand/src/perl/repoperls/installed-perls/host/k93focal/v5.37.4/d119/lib/site_perl/5.37.4/Catalyst/Action.pm line 364
Catalyst::Action::dispatch(Catalyst::Action=HASH(0x5649764428a8), ComponentUI=HASH(0x56497676f520)) called at /home/sand/src/perl/repoperls/installed-perls/host/k93focal/v5.37.4/d119/lib/site_perl/5.37.4/Catalyst/Controller.pm line 188
Catalyst::Controller::_END(ComponentUI::Controller::TestModel::Baz=HASH(0x564976745fb0), ComponentUI=HASH(0x56497676f520)) called at /home/sand/src/perl/repoperls/installed-perls/host/k93focal/v5.37.4/d119/lib/site_perl/5.37.4/Catalyst/Action.pm line 369
Catalyst::Action::execute(Catalyst::Action=HASH(0x5649764ed360), ComponentUI::Controller::TestModel::Baz=HASH(0x564976745fb0), ComponentUI=HASH(0x56497676f520)) called at /home/sand/src/perl/repoperls/installed-perls/host/k93focal/v5.37.4/d119/lib/site_perl/5.37.4/Catalyst.pm line 2060
eval {...} called at /home/sand/src/perl/repoperls/installed-perls/host/k93focal/v5.37.4/d119/lib/site_perl/5.37.4/Catalyst.pm line 2060
Catalyst::execute(ComponentUI=HASH(0x56497676f520), "ComponentUI::Controller::TestModel::Baz", Catalyst::Action=HASH(0x5649764ed360)) called at /home/sand/src/perl/repoperls/installed-perls/host/k93focal/v5.37.4/d119/lib/site_perl/5.37.4/Catalyst/Action.pm line 364
Catalyst::Action::dispatch(Catalyst::Action=HASH(0x5649764ed360), ComponentUI=HASH(0x56497676f520)) called at /home/sand/src/perl/repoperls/installed-perls/host/k93focal/v5.37.4/d119/lib/site_perl/5.37.4/Catalyst/Dispatcher.pm line 261
Catalyst::Dispatcher::_do_forward(Catalyst::Dispatcher=HASH(0x5649705af0a8), "forward", ComponentUI=HASH(0x56497676f520), "_END") called at /home/sand/src/perl/repoperls/installed-perls/host/k93focal/v5.37.4/d119/lib/site_perl/5.37.4/Catalyst/Dispatcher.pm line 241
Catalyst::Dispatcher::forward(Catalyst::Dispatcher=HASH(0x5649705af0a8), ComponentUI=HASH(0x56497676f520), "_END") called at /home/sand/src/perl/repoperls/installed-perls/host/k93focal/v5.37.4/d119/lib/site_perl/5.37.4/Catalyst.pm line 482
Catalyst::forward(ComponentUI=HASH(0x56497676f520), "_END") called at /home/sand/src/perl/repoperls/installed-perls/host/k93focal/v5.37.4/d119/lib/site_perl/5.37.4/Catalyst/Controller.pm line 137
Catalyst::Controller::_DISPATCH(ComponentUI::Controller::TestModel::Baz=HASH(0x564976745fb0), ComponentUI=HASH(0x56497676f520)) called at /home/sand/src/perl/repoperls/installed-perls/host/k93focal/v5.37.4/d119/lib/site_perl/5.37.4/Catalyst/Action.pm line 369
Catalyst::Action::execute(Catalyst::Action=HASH(0x5649764d9748), ComponentUI::Controller::TestModel::Baz=HASH(0x564976745fb0), ComponentUI=HASH(0x56497676f520)) called at /home/sand/src/perl/repoperls/installed-perls/host/k93focal/v5.37.4/d119/lib/site_perl/5.37.4/Catalyst.pm line 2060
eval {...} called at /home/sand/src/perl/repoperls/installed-perls/host/k93focal/v5.37.4/d119/lib/site_perl/5.37.4/Catalyst.pm line 2060
Catalyst::execute(ComponentUI=HASH(0x56497676f520), "ComponentUI::Controller::TestModel::Baz", Catalyst::Action=HASH(0x5649764d9748)) called at /home/sand/src/perl/repoperls/installed-perls/host/k93focal/v5.37.4/d119/lib/site_perl/5.37.4/Catalyst/Action.pm line 364
Catalyst::Action::dispatch(Catalyst::Action=HASH(0x5649764d9748), ComponentUI=HASH(0x56497676f520)) called at /home/sand/src/perl/repoperls/installed-perls/host/k93focal/v5.37.4/d119/lib/site_perl/5.37.4/Catalyst/Dispatcher.pm line 261
Catalyst::Dispatcher::_do_forward(Catalyst::Dispatcher=HASH(0x5649705af0a8), "forward", ComponentUI=HASH(0x56497676f520), "/testmodel/baz/_DISPATCH") called at /home/sand/src/perl/repoperls/installed-perls/host/k93focal/v5.37.4/d119/lib/site_perl/5.37.4/Catalyst/Dispatcher.pm line 241
Catalyst::Dispatcher::forward(Catalyst::Dispatcher=HASH(0x5649705af0a8), ComponentUI=HASH(0x56497676f520), "/testmodel/baz/_DISPATCH") called at /home/sand/src/perl/repoperls/installed-perls/host/k93focal/v5.37.4/d119/lib/site_perl/5.37.4/Catalyst.pm line 482
Catalyst::forward(ComponentUI=HASH(0x56497676f520), "/testmodel/baz/_DISPATCH") called at /home/sand/src/perl/repoperls/installed-perls/host/k93focal/v5.37.4/d119/lib/site_perl/5.37.4/Catalyst/Dispatcher.pm line 107
Catalyst::Dispatcher::dispatch(Catalyst::Dispatcher=HASH(0x5649705af0a8), ComponentUI=HASH(0x56497676f520)) called at /home/sand/src/perl/repoperls/installed-perls/host/k93focal/v5.37.4/d119/lib/site_perl/5.37.4/Catalyst.pm line 2006
Catalyst::dispatch(ComponentUI=HASH(0x56497676f520)) called at /home/sand/src/perl/repoperls/installed-perls/host/k93focal/v5.37.4/d119/lib/site_perl/5.37.4/Catalyst/Plugin/Static/Simple.pm line 85
Class::MOP::Class:::around(CODE(0x564970ac4410), ComponentUI=HASH(0x56497676f520)) called at /home/sand/src/perl/repoperls/installed-perls/host/k93focal/v5.37.4/d119/lib/site_perl/5.37.4/x86_64-linux-thread-multi/Class/MOP/Method/Wrapped.pm line 166
ComponentUI::_wrapped_dispatch(ComponentUI=HASH(0x56497676f520)) called at /home/sand/src/perl/repoperls/installed-perls/host/k93focal/v5.37.4/d119/lib/site_perl/5.37.4/x86_64-linux-thread-multi/Class/MOP/Method/Wrapped.pm line 97
ComponentUI::dispatch(ComponentUI=HASH(0x56497676f520)) called at /home/sand/src/perl/repoperls/installed-perls/host/k93focal/v5.37.4/d119/lib/site_perl/5.37.4/Catalyst.pm line 2412
Catalyst::try {...} () called at /home/sand/src/perl/repoperls/installed-perls/host/k93focal/v5.37.4/d119/lib/site_perl/5.37.4/Try/Tiny.pm line 102
eval {...} called at /home/sand/src/perl/repoperls/installed-perls/host/k93focal/v5.37.4/d119/lib/site_perl/5.37.4/Try/Tiny.pm line 93
Try::Tiny::try(CODE(0x56497673be88), Try::Tiny::Catch=REF(0x56497673bc90)) called at /home/sand/src/perl/repoperls/installed-perls/host/k93focal/v5.37.4/d119/lib/site_perl/5.37.4/Catalyst.pm line 2421
Catalyst::handle_request("ComponentUI", "env", HASH(0x5649767366c0), "response_cb", CODE(0x56497673bcf0)) called at /home/sand/src/perl/repoperls/installed-perls/host/k93focal/v5.37.4/d119/lib/site_perl/5.37.4/Catalyst/Engine.pm line 807
Catalyst::Engine::__ANON__(CODE(0x56497673bcf0)) called at /home/sand/src/perl/repoperls/installed-perls/host/k93focal/v5.37.4/d119/lib/site_perl/5.37.4/Plack/Middleware/HTTPExceptions.pm line 32
Plack::Middleware::HTTPExceptions::try {...} () called at /home/sand/src/perl/repoperls/installed-perls/host/k93focal/v5.37.4/d119/lib/site_perl/5.37.4/Try/Tiny.pm line 102
eval {...} called at /home/sand/src/perl/repoperls/installed-perls/host/k93focal/v5.37.4/d119/lib/site_perl/5.37.4/Try/Tiny.pm line 93
Try::Tiny::try(CODE(0x56497673bb28), Try::Tiny::Catch=REF(0x56497673b3a8)) called at /home/sand/src/perl/repoperls/installed-perls/host/k93focal/v5.37.4/d119/lib/site_perl/5.37.4/Plack/Middleware/HTTPExceptions.pm line 41
Plack::Middleware::HTTPExceptions::__ANON__(CODE(0x564976762ec0)) called at /home/sand/src/perl/repoperls/installed-perls/host/k93focal/v5.37.4/d119/lib/site_perl/5.37.4/Plack/Util.pm line 339
Plack::Util::__ANON__(CODE(0x564976736618)) called at /home/sand/src/perl/repoperls/installed-perls/host/k93focal/v5.37.4/d119/lib/site_perl/5.37.4/Plack/Util.pm line 339
Plack::Util::__ANON__(CODE(0x564976736630)) called at /home/sand/src/perl/repoperls/installed-perls/host/k93focal/v5.37.4/d119/lib/site_perl/5.37.4/Plack/Util.pm line 339
Plack::Util::__ANON__(CODE(0x5649766179e8)) called at /home/sand/src/perl/repoperls/installed-perls/host/k93focal/v5.37.4/d119/lib/site_perl/5.37.4/HTTP/Message/PSGI.pm line 100
HTTP::Message::PSGI::res_from_psgi(CODE(0x56497673b8d0)) called at /home/sand/src/perl/repoperls/installed-perls/host/k93focal/v5.37.4/d119/lib/site_perl/5.37.4/HTTP/Message/PSGI.pm line 157
HTTP::Response::from_psgi("HTTP::Response", CODE(0x56497673b8d0)) called at /home/sand/src/perl/repoperls/installed-perls/host/k93focal/v5.37.4/d119/lib/site_perl/5.37.4/Plack/Test/MockHTTP.pm line 24
Plack::Test::MockHTTP::try {...} () called at /home/sand/src/perl/repoperls/installed-perls/host/k93focal/v5.37.4/d119/lib/site_perl/5.37.4/Try/Tiny.pm line 100
eval {...} called at /home/sand/src/perl/repoperls/installed-perls/host/k93focal/v5.37.4/d119/lib/site_perl/5.37.4/Try/Tiny.pm line 93
Try::Tiny::try(CODE(0x5649766a7388), Try::Tiny::Catch=REF(0x5649764fd5a8)) called at /home/sand/src/perl/repoperls/installed-perls/host/k93focal/v5.37.4/d119/lib/site_perl/5.37.4/Plack/Test/MockHTTP.pm line 27
Plack::Test::MockHTTP::request(Plack::Test::MockHTTP=HASH(0x564976617730), HTTP::Request=HASH(0x5649766c50d0)) called at /home/sand/src/perl/repoperls/installed-perls/host/k93focal/v5.37.4/d119/lib/site_perl/5.37.4/Plack/Test.pm line 38
Plack::Test::__ANON__(HTTP::Request=HASH(0x5649766c50d0)) called at /home/sand/src/perl/repoperls/installed-perls/host/k93focal/v5.37.4/d119/lib/site_perl/5.37.4/Catalyst/Test.pm line 290
Catalyst::Test::__ANON__(CODE(0x5649766176e8)) called at /home/sand/src/perl/repoperls/installed-perls/host/k93focal/v5.37.4/d119/lib/site_perl/5.37.4/Plack/Test.pm line 38
Plack::Test::test_psgi("app", CODE(0x564976617298), "mangle_response", CODE(0x56496fdb6600), "app", CODE(0x5649766174d8), "client", CODE(0x564976617580)) called at /home/sand/src/perl/repoperls/installed-perls/host/k93focal/v5.37.4/d119/lib/site_perl/5.37.4/Catalyst/Test.pm line 293
Catalyst::Test::_request(HASH(0x564976725aa0), HTTP::Request=HASH(0x5649766c50d0)) called at /home/sand/src/perl/repoperls/installed-perls/host/k93focal/v5.37.4/d119/lib/site_perl/5.37.4/Catalyst/Test.pm line 336
Catalyst::Test::_local_request("ComponentUI", HTTP::Request=HASH(0x5649766c50d0)) called at /home/sand/src/perl/repoperls/installed-perls/host/k93focal/v5.37.4/d119/lib/site_perl/5.37.4/Test/WWW/Mechanize/Catalyst.pm line 176
Test::WWW::Mechanize::Catalyst::_do_catalyst_request(Test::WWW::Mechanize::Catalyst=HASH(0x564970a219e8), HTTP::Request=HASH(0x5649766c50d0)) called at /home/sand/src/perl/repoperls/installed-perls/host/k93focal/v5.37.4/d119/lib/site_perl/5.37.4/Test/WWW/Mechanize/Catalyst.pm line 78
Test::WWW::Mechanize::Catalyst::_make_request(Test::WWW::Mechanize::Catalyst=HASH(0x564970a219e8), HTTP::Request=HASH(0x5649766c50d0)) called at /home/sand/src/perl/repoperls/installed-perls/host/k93focal/v5.37.4/d119/lib/site_perl/5.37.4/WWW/Mechanize.pm line 1424
WWW::Mechanize::request(Test::WWW::Mechanize::Catalyst=HASH(0x564970a219e8), HTTP::Request=HASH(0x5649766c50d0)) called at /home/sand/src/perl/repoperls/installed-perls/host/k93focal/v5.37.4/d119/lib/site_perl/5.37.4/LWP/UserAgent.pm line 446
LWP::UserAgent::get(Test::WWW::Mechanize::Catalyst=HASH(0x564970a219e8), "http://localhost/testmodel/baz/id/1/update") called at /home/sand/src/perl/repoperls/installed-perls/host/k93focal/v5.37.4/d119/lib/site_perl/5.37.4/WWW/Mechanize.pm line 123
WWW::Mechanize::get(Test::WWW::Mechanize::Catalyst=HASH(0x564970a219e8), "http://localhost/testmodel/baz/id/1/update") called at /home/sand/src/perl/repoperls/installed-perls/host/k93focal/v5.37.4/d119/lib/site_perl/5.37.4/Test/WWW/Mechanize.pm line 192
Test::WWW::Mechanize::get_ok(Test::WWW::Mechanize::Catalyst=HASH(0x564970a219e8), "http://localhost/testmodel/baz/id/1/update") called at t/uncheck_bool_field.t line 9
Class::MOP::is_class_loaded is deprecated at /home/sand/src/perl/repoperls/installed-perls/host/k93focal/v5.37.4/d119/lib/site_perl/5.37.4/x86_64-linux-thread-multi/Class/MOP.pm line 87.
Class::MOP::is_class_loaded("ComponentUI::UI::Widget::SiteLayout") called at /tmp/loop_over_bdir-2945421-pdrHb6/Reaction-0.002005-0/blib/lib/Reaction/UI/Skin.pm line 178
Reaction::UI::Skin::widget_class_for(Reaction::UI::Skin=HASH(0x564976c16370), Reaction::UI::LayoutSet::TT=HASH(0x564976ceefb8)) called at /tmp/loop_over_bdir-2945421-pdrHb6/Reaction-0.002005-0/blib/lib/Reaction/UI/LayoutSet.pm line 29
Reaction::UI::LayoutSet::BUILD(Reaction::UI::LayoutSet::TT=HASH(0x564976ceefb8), HASH(0x564976ceefa0)) called at constructor Reaction::UI::LayoutSet::TT::new (defined at /tmp/loop_over_bdir-2945421-pdrHb6/Reaction-0.002005-0/blib/lib/Reaction/UI/LayoutSet/TT.pm line 43) line 80
Reaction::UI::LayoutSet::TT::new("Reaction::UI::LayoutSet::TT", "name", "site_layout", "skin", Reaction::UI::Skin=HASH(0x564976c16370), "tt_object", Template=HASH(0x5649761b6670), "source_file", ...) called at /tmp/loop_over_bdir-2945421-pdrHb6/Reaction-0.002005-0/blib/lib/Reaction/UI/Skin.pm line 115
Reaction::UI::Skin::_create_layout_set(Reaction::UI::Skin=HASH(0x564976c16370), "site_layout", ARRAY(0x56497678b098), Reaction::UI::Skin=HASH(0x564976c16370)) called at /tmp/loop_over_bdir-2945421-pdrHb6/Reaction-0.002005-0/blib/lib/Reaction/UI/Skin.pm line 110
Reaction::UI::Skin::create_layout_set(Reaction::UI::Skin=HASH(0x564976c16370), "site_layout") called at /tmp/loop_over_bdir-2945421-pdrHb6/Reaction-0.002005-0/blib/lib/Reaction/UI/LayoutSet.pm line 83
Reaction::UI::LayoutSet::_load_file(Reaction::UI::LayoutSet::TT=HASH(0x564976cc9930), Path::Class::File=HASH(0x564976c5c3b8), HASH(0x564976c78388)) called at /tmp/loop_over_bdir-2945421-pdrHb6/Reaction-0.002005-0/blib/lib/Reaction/UI/LayoutSet.pm line 27
Reaction::UI::LayoutSet::BUILD(Reaction::UI::LayoutSet::TT=HASH(0x564976cc9930), HASH(0x564976c78388)) called at constructor Reaction::UI::LayoutSet::TT::new (defined at /tmp/loop_over_bdir-2945421-pdrHb6/Reaction-0.002005-0/blib/lib/Reaction/UI/LayoutSet/TT.pm line 43) line 80
Reaction::UI::LayoutSet::TT::new("Reaction::UI::LayoutSet::TT", "name", "site_layout", "skin", Reaction::UI::Skin=HASH(0x564976b3f060), "next_skin", Reaction::UI::Skin=HASH(0x564976c16370), "tt_object", ...) called at /tmp/loop_over_bdir-2945421-pdrHb6/Reaction-0.002005-0/blib/lib/Reaction/UI/Skin.pm line 115
Reaction::UI::Skin::_create_layout_set(Reaction::UI::Skin=HASH(0x564976b3f060), "site_layout", ARRAY(0x5649761222b0), Reaction::UI::Skin=HASH(0x564976b3f060)) called at /tmp/loop_over_bdir-2945421-pdrHb6/Reaction-0.002005-0/blib/lib/Reaction/UI/Skin.pm line 110
Reaction::UI::Skin::create_layout_set(Reaction::UI::Skin=HASH(0x564976b3f060), "site_layout") called at /tmp/loop_over_bdir-2945421-pdrHb6/Reaction-0.002005-0/blib/lib/Reaction/UI/LayoutSet.pm line 83
Reaction::UI::LayoutSet::_load_file(Reaction::UI::LayoutSet::TT=HASH(0x564976cb9928), Path::Class::File=HASH(0x56496d6e80f0), HASH(0x564976c387b0)) called at /tmp/loop_over_bdir-2945421-pdrHb6/Reaction-0.002005-0/blib/lib/Reaction/UI/LayoutSet.pm line 27
Reaction::UI::LayoutSet::BUILD(Reaction::UI::LayoutSet::TT=HASH(0x564976cb9928), HASH(0x564976c387b0)) called at constructor Reaction::UI::LayoutSet::TT::new (defined at /tmp/loop_over_bdir-2945421-pdrHb6/Reaction-0.002005-0/blib/lib/Reaction/UI/LayoutSet/TT.pm line 43) line 80
Reaction::UI::LayoutSet::TT::new("Reaction::UI::LayoutSet::TT", "name", "site_layout", "skin", Reaction::UI::Skin=HASH(0x564976cb1620), "next_skin", Reaction::UI::Skin=HASH(0x564976b3f060), "tt_object", ...) called at /tmp/loop_over_bdir-2945421-pdrHb6/Reaction-0.002005-0/blib/lib/Reaction/UI/Skin.pm line 115
Reaction::UI::Skin::_create_layout_set(Reaction::UI::Skin=HASH(0x564976cb1620), "site_layout", ARRAY(0x564976cb9040), Reaction::UI::Skin=HASH(0x564976cb1620)) called at /tmp/loop_over_bdir-2945421-pdrHb6/Reaction-0.002005-0/blib/lib/Reaction/UI/Skin.pm line 110
Reaction::UI::Skin::create_layout_set(Reaction::UI::Skin=HASH(0x564976cb1620), "site_layout") called at inline delegation in Reaction::UI::View for skin->create_layout_set (attribute declared in /tmp/loop_over_bdir-2945421-pdrHb6/Reaction-0.002005-0/blib/lib/Reaction/UI/View.pm at line 22) line 18
Reaction::UI::View::create_layout_set(ComponentUI::View::Site=HASH(0x564972556fe0), "site_layout") called at /tmp/loop_over_bdir-2945421-pdrHb6/Reaction-0.002005-0/blib/lib/Reaction/UI/View.pm line 99
Reaction::UI::View::layout_set_for(ComponentUI::View::Site=HASH(0x564972556fe0), Reaction::UI::ViewPort::SiteLayout=HASH(0x564976784f48)) called at /tmp/loop_over_bdir-2945421-pdrHb6/Reaction-0.002005-0/blib/lib/Reaction/UI/View.pm line 78
Reaction::UI::View::render_viewport_args(ComponentUI::View::Site=HASH(0x564972556fe0), Reaction::UI::ViewPort::SiteLayout=HASH(0x564976784f48)) called at /tmp/loop_over_bdir-2945421-pdrHb6/Reaction-0.002005-0/blib/lib/Reaction/UI/View.pm line 61
Reaction::UI::View::render_window(ComponentUI::View::Site=HASH(0x564972556fe0), Reaction::UI::Window=HASH(0x564976784798)) called at /tmp/loop_over_bdir-2945421-pdrHb6/Reaction-0.002005-0/blib/lib/Reaction/UI/Window.pm line 74
Reaction::UI::Window::flush_view(Reaction::UI::Window=HASH(0x564976784798)) called at /tmp/loop_over_bdir-2945421-pdrHb6/Reaction-0.002005-0/blib/lib/Reaction/UI/Window.pm line 36
Reaction::UI::Window::flush(Reaction::UI::Window=HASH(0x564976784798)) called at /tmp/loop_over_bdir-2945421-pdrHb6/Reaction-0.002005-0/blib/lib/Reaction/UI/Controller/Root.pm line 38
Reaction::UI::Controller::Root::end(ComponentUI::Controller::Root=HASH(0x5649767848a0), ComponentUI=HASH(0x56497676f520)) called at /home/sand/src/perl/repoperls/installed-perls/host/k93focal/v5.37.4/d119/lib/site_perl/5.37.4/Catalyst/Action.pm line 369
Catalyst::Action::execute(Catalyst::Action=HASH(0x5649764428a8), ComponentUI::Controller::Root=HASH(0x5649767848a0), ComponentUI=HASH(0x56497676f520)) called at /home/sand/src/perl/repoperls/installed-perls/host/k93focal/v5.37.4/d119/lib/site_perl/5.37.4/Catalyst.pm line 2060
eval {...} called at /home/sand/src/perl/repoperls/installed-perls/host/k93focal/v5.37.4/d119/lib/site_perl/5.37.4/Catalyst.pm line 2060
Catalyst::execute(ComponentUI=HASH(0x56497676f520), "ComponentUI::Controller::Root", Catalyst::Action=HASH(0x5649764428a8)) called at /home/sand/src/perl/repoperls/installed-perls/host/k93focal/v5.37.4/d119/lib/site_perl/5.37.4/Catalyst/Action.pm line 364
Catalyst::Action::dispatch(Catalyst::Action=HASH(0x5649764428a8), ComponentUI=HASH(0x56497676f520)) called at /home/sand/src/perl/repoperls/installed-perls/host/k93focal/v5.37.4/d119/lib/site_perl/5.37.4/Catalyst/Controller.pm line 188
Catalyst::Controller::_END(ComponentUI::Controller::TestModel::Baz=HASH(0x564976745fb0), ComponentUI=HASH(0x56497676f520)) called at /home/sand/src/perl/repoperls/installed-perls/host/k93focal/v5.37.4/d119/lib/site_perl/5.37.4/Catalyst/Action.pm line 369
Catalyst::Action::execute(Catalyst::Action=HASH(0x5649764ed360), ComponentUI::Controller::TestModel::Baz=HASH(0x564976745fb0), ComponentUI=HASH(0x56497676f520)) called at /home/sand/src/perl/repoperls/installed-perls/host/k93focal/v5.37.4/d119/lib/site_perl/5.37.4/Catalyst.pm line 2060
eval {...} called at /home/sand/src/perl/repoperls/installed-perls/host/k93focal/v5.37.4/d119/lib/site_perl/5.37.4/Catalyst.pm line 2060
Catalyst::execute(ComponentUI=HASH(0x56497676f520), "ComponentUI::Controller::TestModel::Baz", Catalyst::Action=HASH(0x5649764ed360)) called at /home/sand/src/perl/repoperls/installed-perls/host/k93focal/v5.37.4/d119/lib/site_perl/5.37.4/Catalyst/Action.pm line 364
Catalyst::Action::dispatch(Catalyst::Action=HASH(0x5649764ed360), ComponentUI=HASH(0x56497676f520)) called at /home/sand/src/perl/repoperls/installed-perls/host/k93focal/v5.37.4/d119/lib/site_perl/5.37.4/Catalyst/Dispatcher.pm line 261
Catalyst::Dispatcher::_do_forward(Catalyst::Dispatcher=HASH(0x5649705af0a8), "forward", ComponentUI=HASH(0x56497676f520), "_END") called at /home/sand/src/perl/repoperls/installed-perls/host/k93focal/v5.37.4/d119/lib/site_perl/5.37.4/Catalyst/Dispatcher.pm line 241
Catalyst::Dispatcher::forward(Catalyst::Dispatcher=HASH(0x5649705af0a8), ComponentUI=HASH(0x56497676f520), "_END") called at /home/sand/src/perl/repoperls/installed-perls/host/k93focal/v5.37.4/d119/lib/site_perl/5.37.4/Catalyst.pm line 482
Catalyst::forward(ComponentUI=HASH(0x56497676f520), "_END") called at /home/sand/src/perl/repoperls/installed-perls/host/k93focal/v5.37.4/d119/lib/site_perl/5.37.4/Catalyst/Controller.pm line 137
Catalyst::Controller::_DISPATCH(ComponentUI::Controller::TestModel::Baz=HASH(0x564976745fb0), ComponentUI=HASH(0x56497676f520)) called at /home/sand/src/perl/repoperls/installed-perls/host/k93focal/v5.37.4/d119/lib/site_perl/5.37.4/Catalyst/Action.pm line 369
Catalyst::Action::execute(Catalyst::Action=HASH(0x5649764d9748), ComponentUI::Controller::TestModel::Baz=HASH(0x564976745fb0), ComponentUI=HASH(0x56497676f520)) called at /home/sand/src/perl/repoperls/installed-perls/host/k93focal/v5.37.4/d119/lib/site_perl/5.37.4/Catalyst.pm line 2060
eval {...} called at /home/sand/src/perl/repoperls/installed-perls/host/k93focal/v5.37.4/d119/lib/site_perl/5.37.4/Catalyst.pm line 2060
Catalyst::execute(ComponentUI=HASH(0x56497676f520), "ComponentUI::Controller::TestModel::Baz", Catalyst::Action=HASH(0x5649764d9748)) called at /home/sand/src/perl/repoperls/installed-perls/host/k93focal/v5.37.4/d119/lib/site_perl/5.37.4/Catalyst/Action.pm line 364
Catalyst::Action::dispatch(Catalyst::Action=HASH(0x5649764d9748), ComponentUI=HASH(0x56497676f520)) called at /home/sand/src/perl/repoperls/installed-perls/host/k93focal/v5.37.4/d119/lib/site_perl/5.37.4/Catalyst/Dispatcher.pm line 261
Catalyst::Dispatcher::_do_forward(Catalyst::Dispatcher=HASH(0x5649705af0a8), "forward", ComponentUI=HASH(0x56497676f520), "/testmodel/baz/_DISPATCH") called at /home/sand/src/perl/repoperls/installed-perls/host/k93focal/v5.37.4/d119/lib/site_perl/5.37.4/Catalyst/Dispatcher.pm line 241
Catalyst::Dispatcher::forward(Catalyst::Dispatcher=HASH(0x5649705af0a8), ComponentUI=HASH(0x56497676f520), "/testmodel/baz/_DISPATCH") called at /home/sand/src/perl/repoperls/installed-perls/host/k93focal/v5.37.4/d119/lib/site_perl/5.37.4/Catalyst.pm line 482
Catalyst::forward(ComponentUI=HASH(0x56497676f520), "/testmodel/baz/_DISPATCH") called at /home/sand/src/perl/repoperls/installed-perls/host/k93focal/v5.37.4/d119/lib/site_perl/5.37.4/Catalyst/Dispatcher.pm line 107
Catalyst::Dispatcher::dispatch(Catalyst::Dispatcher=HASH(0x5649705af0a8), ComponentUI=HASH(0x56497676f520)) called at /home/sand/src/perl/repoperls/installed-perls/host/k93focal/v5.37.4/d119/lib/site_perl/5.37.4/Catalyst.pm line 2006
Catalyst::dispatch(ComponentUI=HASH(0x56497676f520)) called at /home/sand/src/perl/repoperls/installed-perls/host/k93focal/v5.37.4/d119/lib/site_perl/5.37.4/Catalyst/Plugin/Static/Simple.pm line 85
Class::MOP::Class:::around(CODE(0x564970ac4410), ComponentUI=HASH(0x56497676f520)) called at /home/sand/src/perl/repoperls/installed-perls/host/k93focal/v5.37.4/d119/lib/site_perl/5.37.4/x86_64-linux-thread-multi/Class/MOP/Method/Wrapped.pm line 166
ComponentUI::_wrapped_dispatch(ComponentUI=HASH(0x56497676f520)) called at /home/sand/src/perl/repoperls/installed-perls/host/k93focal/v5.37.4/d119/lib/site_perl/5.37.4/x86_64-linux-thread-multi/Class/MOP/Method/Wrapped.pm line 97
ComponentUI::dispatch(ComponentUI=HASH(0x56497676f520)) called at /home/sand/src/perl/repoperls/installed-perls/host/k93focal/v5.37.4/d119/lib/site_perl/5.37.4/Catalyst.pm line 2412
Catalyst::try {...} () called at /home/sand/src/perl/repoperls/installed-perls/host/k93focal/v5.37.4/d119/lib/site_perl/5.37.4/Try/Tiny.pm line 102
eval {...} called at /home/sand/src/perl/repoperls/installed-perls/host/k93focal/v5.37.4/d119/lib/site_perl/5.37.4/Try/Tiny.pm line 93
Try::Tiny::try(CODE(0x56497673be88), Try::Tiny::Catch=REF(0x56497673bc90)) called at /home/sand/src/perl/repoperls/installed-perls/host/k93focal/v5.37.4/d119/lib/site_perl/5.37.4/Catalyst.pm line 2421
Catalyst::handle_request("ComponentUI", "env", HASH(0x5649767366c0), "response_cb", CODE(0x56497673bcf0)) called at /home/sand/src/perl/repoperls/installed-perls/host/k93focal/v5.37.4/d119/lib/site_perl/5.37.4/Catalyst/Engine.pm line 807
Catalyst::Engine::__ANON__(CODE(0x56497673bcf0)) called at /home/sand/src/perl/repoperls/installed-perls/host/k93focal/v5.37.4/d119/lib/site_perl/5.37.4/Plack/Middleware/HTTPExceptions.pm line 32
Plack::Middleware::HTTPExceptions::try {...} () called at /home/sand/src/perl/repoperls/installed-perls/host/k93focal/v5.37.4/d119/lib/site_perl/5.37.4/Try/Tiny.pm line 102
eval {...} called at /home/sand/src/perl/repoperls/installed-perls/host/k93focal/v5.37.4/d119/lib/site_perl/5.37.4/Try/Tiny.pm line 93
Try::Tiny::try(CODE(0x56497673bb28), Try::Tiny::Catch=REF(0x56497673b3a8)) called at /home/sand/src/perl/repoperls/installed-perls/host/k93focal/v5.37.4/d119/lib/site_perl/5.37.4/Plack/Middleware/HTTPExceptions.pm line 41
Plack::Middleware::HTTPExceptions::__ANON__(CODE(0x564976762ec0)) called at /home/sand/src/perl/repoperls/installed-perls/host/k93focal/v5.37.4/d119/lib/site_perl/5.37.4/Plack/Util.pm line 339
Plack::Util::__ANON__(CODE(0x564976736618)) called at /home/sand/src/perl/repoperls/installed-perls/host/k93focal/v5.37.4/d119/lib/site_perl/5.37.4/Plack/Util.pm line 339
Plack::Util::__ANON__(CODE(0x564976736630)) called at /home/sand/src/perl/repoperls/installed-perls/host/k93focal/v5.37.4/d119/lib/site_perl/5.37.4/Plack/Util.pm line 339
Plack::Util::__ANON__(CODE(0x5649766179e8)) called at /home/sand/src/perl/repoperls/installed-perls/host/k93focal/v5.37.4/d119/lib/site_perl/5.37.4/HTTP/Message/PSGI.pm line 100
HTTP::Message::PSGI::res_from_psgi(CODE(0x56497673b8d0)) called at /home/sand/src/perl/repoperls/installed-perls/host/k93focal/v5.37.4/d119/lib/site_perl/5.37.4/HTTP/Message/PSGI.pm line 157
HTTP::Response::from_psgi("HTTP::Response", CODE(0x56497673b8d0)) called at /home/sand/src/perl/repoperls/installed-perls/host/k93focal/v5.37.4/d119/lib/site_perl/5.37.4/Plack/Test/MockHTTP.pm line 24
Plack::Test::MockHTTP::try {...} () called at /home/sand/src/perl/repoperls/installed-perls/host/k93focal/v5.37.4/d119/lib/site_perl/5.37.4/Try/Tiny.pm line 100
eval {...} called at /home/sand/src/perl/repoperls/installed-perls/host/k93focal/v5.37.4/d119/lib/site_perl/5.37.4/Try/Tiny.pm line 93
Try::Tiny::try(CODE(0x5649766a7388), Try::Tiny::Catch=REF(0x5649764fd5a8)) called at /home/sand/src/perl/repoperls/installed-perls/host/k93focal/v5.37.4/d119/lib/site_perl/5.37.4/Plack/Test/MockHTTP.pm line 27
Plack::Test::MockHTTP::request(Plack::Test::MockHTTP=HASH(0x564976617730), HTTP::Request=HASH(0x5649766c50d0)) called at /home/sand/src/perl/repoperls/installed-perls/host/k93focal/v5.37.4/d119/lib/site_perl/5.37.4/Plack/Test.pm line 38
Plack::Test::__ANON__(HTTP::Request=HASH(0x5649766c50d0)) called at /home/sand/src/perl/repoperls/installed-perls/host/k93focal/v5.37.4/d119/lib/site_perl/5.37.4/Catalyst/Test.pm line 290
Catalyst::Test::__ANON__(CODE(0x5649766176e8)) called at /home/sand/src/perl/repoperls/installed-perls/host/k93focal/v5.37.4/d119/lib/site_perl/5.37.4/Plack/Test.pm line 38
Plack::Test::test_psgi("app", CODE(0x564976617298), "mangle_response", CODE(0x56496fdb6600), "app", CODE(0x5649766174d8), "client", CODE(0x564976617580)) called at /home/sand/src/perl/repoperls/installed-perls/host/k93focal/v5.37.4/d119/lib/site_perl/5.37.4/Catalyst/Test.pm line 293
Catalyst::Test::_request(HASH(0x564976725aa0), HTTP::Request=HASH(0x5649766c50d0)) called at /home/sand/src/perl/repoperls/installed-perls/host/k93focal/v5.37.4/d119/lib/site_perl/5.37.4/Catalyst/Test.pm line 336
Catalyst::Test::_local_request("ComponentUI", HTTP::Request=HASH(0x5649766c50d0)) called at /home/sand/src/perl/repoperls/installed-perls/host/k93focal/v5.37.4/d119/lib/site_perl/5.37.4/Test/WWW/Mechanize/Catalyst.pm line 176
Test::WWW::Mechanize::Catalyst::_do_catalyst_request(Test::WWW::Mechanize::Catalyst=HASH(0x564970a219e8), HTTP::Request=HASH(0x5649766c50d0)) called at /home/sand/src/perl/repoperls/installed-perls/host/k93focal/v5.37.4/d119/lib/site_perl/5.37.4/Test/WWW/Mechanize/Catalyst.pm line 78
Test::WWW::Mechanize::Catalyst::_make_request(Test::WWW::Mechanize::Catalyst=HASH(0x564970a219e8), HTTP::Request=HASH(0x5649766c50d0)) called at /home/sand/src/perl/repoperls/installed-perls/host/k93focal/v5.37.4/d119/lib/site_perl/5.37.4/WWW/Mechanize.pm line 1424
WWW::Mechanize::request(Test::WWW::Mechanize::Catalyst=HASH(0x564970a219e8), HTTP::Request=HASH(0x5649766c50d0)) called at /home/sand/src/perl/repoperls/installed-perls/host/k93focal/v5.37.4/d119/lib/site_perl/5.37.4/LWP/UserAgent.pm line 446
LWP::UserAgent::get(Test::WWW::Mechanize::Catalyst=HASH(0x564970a219e8), "http://localhost/testmodel/baz/id/1/update") called at /home/sand/src/perl/repoperls/installed-perls/host/k93focal/v5.37.4/d119/lib/site_perl/5.37.4/WWW/Mechanize.pm line 123
WWW::Mechanize::get(Test::WWW::Mechanize::Catalyst=HASH(0x564970a219e8), "http://localhost/testmodel/baz/id/1/update") called at /home/sand/src/perl/repoperls/installed-perls/host/k93focal/v5.37.4/d119/lib/site_perl/5.37.4/Test/WWW/Mechanize.pm line 192
Test::WWW::Mechanize::get_ok(Test::WWW::Mechanize::Catalyst=HASH(0x564970a219e8), "http://localhost/testmodel/baz/id/1/update") called at t/uncheck_bool_field.t line 9
Class::MOP::load_class is deprecated at /home/sand/src/perl/repoperls/installed-perls/host/k93focal/v5.37.4/d119/lib/site_perl/5.37.4/x86_64-linux-thread-multi/Class/MOP.pm line 69.
Class::MOP::load_class("Reaction::UI::Widget::SiteLayout") called at /tmp/loop_over_bdir-2945421-pdrHb6/Reaction-0.002005-0/blib/lib/Reaction/UI/Skin.pm line 181
eval {...} called at /tmp/loop_over_bdir-2945421-pdrHb6/Reaction-0.002005-0/blib/lib/Reaction/UI/Skin.pm line 181
Reaction::UI::Skin::widget_class_for(Reaction::UI::Skin=HASH(0x564976c16370), Reaction::UI::LayoutSet::TT=HASH(0x564976ceefb8)) called at /tmp/loop_over_bdir-2945421-pdrHb6/Reaction-0.002005-0/blib/lib/Reaction/UI/LayoutSet.pm line 29
Reaction::UI::LayoutSet::BUILD(Reaction::UI::LayoutSet::TT=HASH(0x564976ceefb8), HASH(0x564976ceefa0)) called at constructor Reaction::UI::LayoutSet::TT::new (defined at /tmp/loop_over_bdir-2945421-pdrHb6/Reaction-0.002005-0/blib/lib/Reaction/UI/LayoutSet/TT.pm line 43) line 80
Reaction::UI::LayoutSet::TT::new("Reaction::UI::LayoutSet::TT", "name", "site_layout", "skin", Reaction::UI::Skin=HASH(0x564976c16370), "tt_object", Template=HASH(0x5649761b6670), "source_file", ...) called at /tmp/loop_over_bdir-2945421-pdrHb6/Reaction-0.002005-0/blib/lib/Reaction/UI/Skin.pm line 115
Reaction::UI::Skin::_create_layout_set(Reaction::UI::Skin=HASH(0x564976c16370), "site_layout", ARRAY(0x56497678b098), Reaction::UI::Skin=HASH(0x564976c16370)) called at /tmp/loop_over_bdir-2945421-pdrHb6/Reaction-0.002005-0/blib/lib/Reaction/UI/Skin.pm line 110
Reaction::UI::Skin::create_layout_set(Reaction::UI::Skin=HASH(0x564976c16370), "site_layout") called at /tmp/loop_over_bdir-2945421-pdrHb6/Reaction-0.002005-0/blib/lib/Reaction/UI/LayoutSet.pm line 83
Reaction::UI::LayoutSet::_load_file(Reaction::UI::LayoutSet::TT=HASH(0x564976cc9930), Path::Class::File=HASH(0x564976c5c3b8), HASH(0x564976c78388)) called at /tmp/loop_over_bdir-2945421-pdrHb6/Reaction-0.002005-0/blib/lib/Reaction/UI/LayoutSet.pm line 27
Reaction::UI::LayoutSet::BUILD(Reaction::UI::LayoutSet::TT=HASH(0x564976cc9930), HASH(0x564976c78388)) called at constructor Reaction::UI::LayoutSet::TT::new (defined at /tmp/loop_over_bdir-2945421-pdrHb6/Reaction-0.002005-0/blib/lib/Reaction/UI/LayoutSet/TT.pm line 43) line 80
Reaction::UI::LayoutSet::TT::new("Reaction::UI::LayoutSet::TT", "name", "site_layout", "skin", Reaction::UI::Skin=HASH(0x564976b3f060), "next_skin", Reaction::UI::Skin=HASH(0x564976c16370), "tt_object", ...) called at /tmp/loop_over_bdir-2945421-pdrHb6/Reaction-0.002005-0/blib/lib/Reaction/UI/Skin.pm line 115
Reaction::UI::Skin::_create_layout_set(Reaction::UI::Skin=HASH(0x564976b3f060), "site_layout", ARRAY(0x5649761222b0), Reaction::UI::Skin=HASH(0x564976b3f060)) called at /tmp/loop_over_bdir-2945421-pdrHb6/Reaction-0.002005-0/blib/lib/Reaction/UI/Skin.pm line 110
Reaction::UI::Skin::create_layout_set(Reaction::UI::Skin=HASH(0x564976b3f060), "site_layout") called at /tmp/loop_over_bdir-2945421-pdrHb6/Reaction-0.002005-0/blib/lib/Reaction/UI/LayoutSet.pm line 83
Reaction::UI::LayoutSet::_load_file(Reaction::UI::LayoutSet::TT=HASH(0x564976cb9928), Path::Class::File=HASH(0x56496d6e80f0), HASH(0x564976c387b0)) called at /tmp/loop_over_bdir-2945421-pdrHb6/Reaction-0.002005-0/blib/lib/Reaction/UI/LayoutSet.pm line 27
Reaction::UI::LayoutSet::BUILD(Reaction::UI::LayoutSet::TT=HASH(0x564976cb9928), HASH(0x564976c387b0)) called at constructor Reaction::UI::LayoutSet::TT::new (defined at /tmp/loop_over_bdir-2945421-pdrHb6/Reaction-0.002005-0/blib/lib/Reaction/UI/LayoutSet/TT.pm line 43) line 80
Reaction::UI::LayoutSet::TT::new("Reaction::UI::LayoutSet::TT", "name", "site_layout", "skin", Reaction::UI::Skin=HASH(0x564976cb1620), "next_skin", Reaction::UI::Skin=HASH(0x564976b3f060), "tt_object", ...) called at /tmp/loop_over_bdir-2945421-pdrHb6/Reaction-0.002005-0/blib/lib/Reaction/UI/Skin.pm line 115
Reaction::UI::Skin::_create_layout_set(Reaction::UI::Skin=HASH(0x564976cb1620), "site_layout", ARRAY(0x564976cb9040), Reaction::UI::Skin=HASH(0x564976cb1620)) called at /tmp/loop_over_bdir-2945421-pdrHb6/Reaction-0.002005-0/blib/lib/Reaction/UI/Skin.pm line 110
Reaction::UI::Skin::create_layout_set(Reaction::UI::Skin=HASH(0x564976cb1620), "site_layout") called at inline delegation in Reaction::UI::View for skin->create_layout_set (attribute declared in /tmp/loop_over_bdir-2945421-pdrHb6/Reaction-0.002005-0/blib/lib/Reaction/UI/View.pm at line 22) line 18
Reaction::UI::View::create_layout_set(ComponentUI::View::Site=HASH(0x564972556fe0), "site_layout") called at /tmp/loop_over_bdir-2945421-pdrHb6/Reaction-0.002005-0/blib/lib/Reaction/UI/View.pm line 99
Reaction::UI::View::layout_set_for(ComponentUI::View::Site=HASH(0x564972556fe0), Reaction::UI::ViewPort::SiteLayout=HASH(0x564976784f48)) called at /tmp/loop_over_bdir-2945421-pdrHb6/Reaction-0.002005-0/blib/lib/Reaction/UI/View.pm line 78
Reaction::UI::View::render_viewport_args(ComponentUI::View::Site=HASH(0x564972556fe0), Reaction::UI::ViewPort::SiteLayout=HASH(0x564976784f48)) called at /tmp/loop_over_bdir-2945421-pdrHb6/Reaction-0.002005-0/blib/lib/Reaction/UI/View.pm line 61
Reaction::UI::View::render_window(ComponentUI::View::Site=HASH(0x564972556fe0), Reaction::UI::Window=HASH(0x564976784798)) called at /tmp/loop_over_bdir-2945421-pdrHb6/Reaction-0.002005-0/blib/lib/Reaction/UI/Window.pm line 74
Reaction::UI::Window::flush_view(Reaction::UI::Window=HASH(0x564976784798)) called at /tmp/loop_over_bdir-2945421-pdrHb6/Reaction-0.002005-0/blib/lib/Reaction/UI/Window.pm line 36
Reaction::UI::Window::flush(Reaction::UI::Window=HASH(0x564976784798)) called at /tmp/loop_over_bdir-2945421-pdrHb6/Reaction-0.002005-0/blib/lib/Reaction/UI/Controller/Root.pm line 38
Reaction::UI::Controller::Root::end(ComponentUI::Controller::Root=HASH(0x5649767848a0), ComponentUI=HASH(0x56497676f520)) called at /home/sand/src/perl/repoperls/installed-perls/host/k93focal/v5.37.4/d119/lib/site_perl/5.37.4/Catalyst/Action.pm line 369
Catalyst::Action::execute(Catalyst::Action=HASH(0x5649764428a8), ComponentUI::Controller::Root=HASH(0x5649767848a0), ComponentUI=HASH(0x56497676f520)) called at /home/sand/src/perl/repoperls/installed-perls/host/k93focal/v5.37.4/d119/lib/site_perl/5.37.4/Catalyst.pm line 2060
eval {...} called at /home/sand/src/perl/repoperls/installed-perls/host/k93focal/v5.37.4/d119/lib/site_perl/5.37.4/Catalyst.pm line 2060
Catalyst::execute(ComponentUI=HASH(0x56497676f520), "ComponentUI::Controller::Root", Catalyst::Action=HASH(0x5649764428a8)) called at /home/sand/src/perl/repoperls/installed-perls/host/k93focal/v5.37.4/d119/lib/site_perl/5.37.4/Catalyst/Action.pm line 364
Catalyst::Action::dispatch(Catalyst::Action=HASH(0x5649764428a8), ComponentUI=HASH(0x56497676f520)) called at /home/sand/src/perl/repoperls/installed-perls/host/k93focal/v5.37.4/d119/lib/site_perl/5.37.4/Catalyst/Controller.pm line 188
Catalyst::Controller::_END(ComponentUI::Controller::TestModel::Baz=HASH(0x564976745fb0), ComponentUI=HASH(0x56497676f520)) called at /home/sand/src/perl/repoperls/installed-perls/host/k93focal/v5.37.4/d119/lib/site_perl/5.37.4/Catalyst/Action.pm line 369
Catalyst::Action::execute(Catalyst::Action=HASH(0x5649764ed360), ComponentUI::Controller::TestModel::Baz=HASH(0x564976745fb0), ComponentUI=HASH(0x56497676f520)) called at /home/sand/src/perl/repoperls/installed-perls/host/k93focal/v5.37.4/d119/lib/site_perl/5.37.4/Catalyst.pm line 2060
eval {...} called at /home/sand/src/perl/repoperls/installed-perls/host/k93focal/v5.37.4/d119/lib/site_perl/5.37.4/Catalyst.pm line 2060
Catalyst::execute(ComponentUI=HASH(0x56497676f520), "ComponentUI::Controller::TestModel::Baz", Catalyst::Action=HASH(0x5649764ed360)) called at /home/sand/src/perl/repoperls/installed-perls/host/k93focal/v5.37.4/d119/lib/site_perl/5.37.4/Catalyst/Action.pm line 364
Catalyst::Action::dispatch(Catalyst::Action=HASH(0x5649764ed360), ComponentUI=HASH(0x56497676f520)) called at /home/sand/src/perl/repoperls/installed-perls/host/k93focal/v5.37.4/d119/lib/site_perl/5.37.4/Catalyst/Dispatcher.pm line 261
Catalyst::Dispatcher::_do_forward(Catalyst::Dispatcher=HASH(0x5649705af0a8), "forward", ComponentUI=HASH(0x56497676f520), "_END") called at /home/sand/src/perl/repoperls/installed-perls/host/k93focal/v5.37.4/d119/lib/site_perl/5.37.4/Catalyst/Dispatcher.pm line 241
Catalyst::Dispatcher::forward(Catalyst::Dispatcher=HASH(0x5649705af0a8), ComponentUI=HASH(0x56497676f520), "_END") called at /home/sand/src/perl/repoperls/installed-perls/host/k93focal/v5.37.4/d119/lib/site_perl/5.37.4/Catalyst.pm line 482
Catalyst::forward(ComponentUI=HASH(0x56497676f520), "_END") called at /home/sand/src/perl/repoperls/installed-perls/host/k93focal/v5.37.4/d119/lib/site_perl/5.37.4/Catalyst/Controller.pm line 137
Catalyst::Controller::_DISPATCH(ComponentUI::Controller::TestModel::Baz=HASH(0x564976745fb0), ComponentUI=HASH(0x56497676f520)) called at /home/sand/src/perl/repoperls/installed-perls/host/k93focal/v5.37.4/d119/lib/site_perl/5.37.4/Catalyst/Action.pm line 369
Catalyst::Action::execute(Catalyst::Action=HASH(0x5649764d9748), ComponentUI::Controller::TestModel::Baz=HASH(0x564976745fb0), ComponentUI=HASH(0x56497676f520)) called at /home/sand/src/perl/repoperls/installed-perls/host/k93focal/v5.37.4/d119/lib/site_perl/5.37.4/Catalyst.pm line 2060
eval {...} called at /home/sand/src/perl/repoperls/installed-perls/host/k93focal/v5.37.4/d119/lib/site_perl/5.37.4/Catalyst.pm line 2060
Catalyst::execute(ComponentUI=HASH(0x56497676f520), "ComponentUI::Controller::TestModel::Baz", Catalyst::Action=HASH(0x5649764d9748)) called at /home/sand/src/perl/repoperls/installed-perls/host/k93focal/v5.37.4/d119/lib/site_perl/5.37.4/Catalyst/Action.pm line 364
Catalyst::Action::dispatch(Catalyst::Action=HASH(0x5649764d9748), ComponentUI=HASH(0x56497676f520)) called at /home/sand/src/perl/repoperls/installed-perls/host/k93focal/v5.37.4/d119/lib/site_perl/5.37.4/Catalyst/Dispatcher.pm line 261
Catalyst::Dispatcher::_do_forward(Catalyst::Dispatcher=HASH(0x5649705af0a8), "forward", ComponentUI=HASH(0x56497676f520), "/testmodel/baz/_DISPATCH") called at /home/sand/src/perl/repoperls/installed-perls/host/k93focal/v5.37.4/d119/lib/site_perl/5.37.4/Catalyst/Dispatcher.pm line 241
Catalyst::Dispatcher::forward(Catalyst::Dispatcher=HASH(0x5649705af0a8), ComponentUI=HASH(0x56497676f520), "/testmodel/baz/_DISPATCH") called at /home/sand/src/perl/repoperls/installed-perls/host/k93focal/v5.37.4/d119/lib/site_perl/5.37.4/Catalyst.pm line 482
Catalyst::forward(ComponentUI=HASH(0x56497676f520), "/testmodel/baz/_DISPATCH") called at /home/sand/src/perl/repoperls/installed-perls/host/k93focal/v5.37.4/d119/lib/site_perl/5.37.4/Catalyst/Dispatcher.pm line 107
Catalyst::Dispatcher::dispatch(Catalyst::Dispatcher=HASH(0x5649705af0a8), ComponentUI=HASH(0x56497676f520)) called at /home/sand/src/perl/repoperls/installed-perls/host/k93focal/v5.37.4/d119/lib/site_perl/5.37.4/Catalyst.pm line 2006
Catalyst::dispatch(ComponentUI=HASH(0x56497676f520)) called at /home/sand/src/perl/repoperls/installed-perls/host/k93focal/v5.37.4/d119/lib/site_perl/5.37.4/Catalyst/Plugin/Static/Simple.pm line 85
Class::MOP::Class:::around(CODE(0x564970ac4410), ComponentUI=HASH(0x56497676f520)) called at /home/sand/src/perl/repoperls/installed-perls/host/k93focal/v5.37.4/d119/lib/site_perl/5.37.4/x86_64-linux-thread-multi/Class/MOP/Method/Wrapped.pm line 166
ComponentUI::_wrapped_dispatch(ComponentUI=HASH(0x56497676f520)) called at /home/sand/src/perl/repoperls/installed-perls/host/k93focal/v5.37.4/d119/lib/site_perl/5.37.4/x86_64-linux-thread-multi/Class/MOP/Method/Wrapped.pm line 97
ComponentUI::dispatch(ComponentUI=HASH(0x56497676f520)) called at /home/sand/src/perl/repoperls/installed-perls/host/k93focal/v5.37.4/d119/lib/site_perl/5.37.4/Catalyst.pm line 2412
Catalyst::try {...} () called at /home/sand/src/perl/repoperls/installed-perls/host/k93focal/v5.37.4/d119/lib/site_perl/5.37.4/Try/Tiny.pm line 102
eval {...} called at /home/sand/src/perl/repoperls/installed-perls/host/k93focal/v5.37.4/d119/lib/site_perl/5.37.4/Try/Tiny.pm line 93
Try::Tiny::try(CODE(0x56497673be88), Try::Tiny::Catch=REF(0x56497673bc90)) called at /home/sand/src/perl/repoperls/installed-perls/host/k93focal/v5.37.4/d119/lib/site_perl/5.37.4/Catalyst.pm line 2421
Catalyst::handle_request("ComponentUI", "env", HASH(0x5649767366c0), "response_cb", CODE(0x56497673bcf0)) called at /home/sand/src/perl/repoperls/installed-perls/host/k93focal/v5.37.4/d119/lib/site_perl/5.37.4/Catalyst/Engine.pm line 807
Catalyst::Engine::__ANON__(CODE(0x56497673bcf0)) called at /home/sand/src/perl/repoperls/installed-perls/host/k93focal/v5.37.4/d119/lib/site_perl/5.37.4/Plack/Middleware/HTTPExceptions.pm line 32
Plack::Middleware::HTTPExceptions::try {...} () called at /home/sand/src/perl/repoperls/installed-perls/host/k93focal/v5.37.4/d119/lib/site_perl/5.37.4/Try/Tiny.pm line 102
eval {...} called at /home/sand/src/perl/repoperls/installed-perls/host/k93focal/v5.37.4/d119/lib/site_perl/5.37.4/Try/Tiny.pm line 93
Try::Tiny::try(CODE(0x56497673bb28), Try::Tiny::Catch=REF(0x56497673b3a8)) called at /home/sand/src/perl/repoperls/installed-perls/host/k93focal/v5.37.4/d119/lib/site_perl/5.37.4/Plack/Middleware/HTTPExceptions.pm line 41
Plack::Middleware::HTTPExceptions::__ANON__(CODE(0x564976762ec0)) called at /home/sand/src/perl/repoperls/installed-perls/host/k93focal/v5.37.4/d119/lib/site_perl/5.37.4/Plack/Util.pm line 339
Plack::Util::__ANON__(CODE(0x564976736618)) called at /home/sand/src/perl/repoperls/installed-perls/host/k93focal/v5.37.4/d119/lib/site_perl/5.37.4/Plack/Util.pm line 339
Plack::Util::__ANON__(CODE(0x564976736630)) called at /home/sand/src/perl/repoperls/installed-perls/host/k93focal/v5.37.4/d119/lib/site_perl/5.37.4/Plack/Util.pm line 339
Plack::Util::__ANON__(CODE(0x5649766179e8)) called at /home/sand/src/perl/repoperls/installed-perls/host/k93focal/v5.37.4/d119/lib/site_perl/5.37.4/HTTP/Message/PSGI.pm line 100
HTTP::Message::PSGI::res_from_psgi(CODE(0x56497673b8d0)) called at /home/sand/src/perl/repoperls/installed-perls/host/k93focal/v5.37.4/d119/lib/site_perl/5.37.4/HTTP/Message/PSGI.pm line 157
HTTP::Response::from_psgi("HTTP::Response", CODE(0x56497673b8d0)) called at /home/sand/src/perl/repoperls/installed-perls/host/k93focal/v5.37.4/d119/lib/site_perl/5.37.4/Plack/Test/MockHTTP.pm line 24
Plack::Test::MockHTTP::try {...} () called at /home/sand/src/perl/repoperls/installed-perls/host/k93focal/v5.37.4/d119/lib/site_perl/5.37.4/Try/Tiny.pm line 100
eval {...} called at /home/sand/src/perl/repoperls/installed-perls/host/k93focal/v5.37.4/d119/lib/site_perl/5.37.4/Try/Tiny.pm line 93
Try::Tiny::try(CODE(0x5649766a7388), Try::Tiny::Catch=REF(0x5649764fd5a8)) called at /home/sand/src/perl/repoperls/installed-perls/host/k93focal/v5.37.4/d119/lib/site_perl/5.37.4/Plack/Test/MockHTTP.pm line 27
Plack::Test::MockHTTP::request(Plack::Test::MockHTTP=HASH(0x564976617730), HTTP::Request=HASH(0x5649766c50d0)) called at /home/sand/src/perl/repoperls/installed-perls/host/k93focal/v5.37.4/d119/lib/site_perl/5.37.4/Plack/Test.pm line 38
Plack::Test::__ANON__(HTTP::Request=HASH(0x5649766c50d0)) called at /home/sand/src/perl/repoperls/installed-perls/host/k93focal/v5.37.4/d119/lib/site_perl/5.37.4/Catalyst/Test.pm line 290
Catalyst::Test::__ANON__(CODE(0x5649766176e8)) called at /home/sand/src/perl/repoperls/installed-perls/host/k93focal/v5.37.4/d119/lib/site_perl/5.37.4/Plack/Test.pm line 38
Plack::Test::test_psgi("app", CODE(0x564976617298), "mangle_response", CODE(0x56496fdb6600), "app", CODE(0x5649766174d8), "client", CODE(0x564976617580)) called at /home/sand/src/perl/repoperls/installed-perls/host/k93focal/v5.37.4/d119/lib/site_perl/5.37.4/Catalyst/Test.pm line 293
Catalyst::Test::_request(HASH(0x564976725aa0), HTTP::Request=HASH(0x5649766c50d0)) called at /home/sand/src/perl/repoperls/installed-perls/host/k93focal/v5.37.4/d119/lib/site_perl/5.37.4/Catalyst/Test.pm line 336
Catalyst::Test::_local_request("ComponentUI", HTTP::Request=HASH(0x5649766c50d0)) called at /home/sand/src/perl/repoperls/installed-perls/host/k93focal/v5.37.4/d119/lib/site_perl/5.37.4/Test/WWW/Mechanize/Catalyst.pm line 176
Test::WWW::Mechanize::Catalyst::_do_catalyst_request(Test::WWW::Mechanize::Catalyst=HASH(0x564970a219e8), HTTP::Request=HASH(0x5649766c50d0)) called at /home/sand/src/perl/repoperls/installed-perls/host/k93focal/v5.37.4/d119/lib/site_perl/5.37.4/Test/WWW/Mechanize/Catalyst.pm line 78
Test::WWW::Mechanize::Catalyst::_make_request(Test::WWW::Mechanize::Catalyst=HASH(0x564970a219e8), HTTP::Request=HASH(0x5649766c50d0)) called at /home/sand/src/perl/repoperls/installed-perls/host/k93focal/v5.37.4/d119/lib/site_perl/5.37.4/WWW/Mechanize.pm line 1424
WWW::Mechanize::request(Test::WWW::Mechanize::Catalyst=HASH(0x564970a219e8), HTTP::Request=HASH(0x5649766c50d0)) called at /home/sand/src/perl/repoperls/installed-perls/host/k93focal/v5.37.4/d119/lib/site_perl/5.37.4/LWP/UserAgent.pm line 446
LWP::UserAgent::get(Test::WWW::Mechanize::Catalyst=HASH(0x564970a219e8), "http://localhost/testmodel/baz/id/1/update") called at /home/sand/src/perl/repoperls/installed-perls/host/k93focal/v5.37.4/d119/lib/site_perl/5.37.4/WWW/Mechanize.pm line 123
WWW::Mechanize::get(Test::WWW::Mechanize::Catalyst=HASH(0x564970a219e8), "http://localhost/testmodel/baz/id/1/update") called at /home/sand/src/perl/repoperls/installed-perls/host/k93focal/v5.37.4/d119/lib/site_perl/5.37.4/Test/WWW/Mechanize.pm line 192
Test::WWW::Mechanize::get_ok(Test::WWW::Mechanize::Catalyst=HASH(0x564970a219e8), "http://localhost/testmodel/baz/id/1/update") called at t/uncheck_bool_field.t line 9
t/uncheck_bool_field.t ...... ok
All tests successful.
Files=9, Tests=604, 18 wallclock secs ( 0.09 usr 0.02 sys + 15.65 cusr 1.31 csys = 17.07 CPU)
Result: PASS
------------------------------
PREREQUISITES
------------------------------
Prerequisite modules loaded:
requires:
Module Need Have
--------------------------------------- --------- --------
aliased 0.22 0.34
Catalyst 5.80002 5.90129
Catalyst::Component::ACCEPT_CONTEXT 0.05 0.07
Catalyst::Component::InstancePerContext 0.001001 0.001001
Catalyst::Model::DBIC::Schema 0.23 0.65
Catalyst::Plugin::ConfigLoader 0.23 0.35
Catalyst::Plugin::I18N 0.09 0.10
Catalyst::Plugin::Static::Simple 0.21 0.37
Catalyst::View::TT 0.29 0.46
Class::MOP 0.81 2.2201
Config::General 2.42 2.65
Crypt::Eksblowfish::Bcrypt 0.005 0.009
DateTime 0.47 1.58
DateTime::Event::Recurrence 0.16 0.19
DateTime::Span 0 0.3900
DBIx::Class 0.08100 0.082843
DBIx::Class::IntrospectableM2M 0.001001 0.001002
Devel::Declare 0.005000 0.006022
Email::Valid 0.181 1.203
ExtUtils::MakeMaker 6.11 7.64
File::ShareDir 1.00 1.118
File::Spec 3.29 3.87
JSON 0 4.09
metaclass 0.81 2.2201
Method::Signatures::Simple 0.03 1.07
Moose 0.74 2.2201
MooseX::MethodAttributes 0.18 0.32
MooseX::Role::Parameterized 0.24 1.11
MooseX::Types 0.10 0.50
MooseX::Types::Common 0.001000 0.001014
MooseX::Types::DateTime 0.03 0.13
MooseX::Types::URI 0.02 0.09
namespace::clean 0.11 0.27
Path::Class::Dir 0 0.37
Path::Class::File 0 0.37
perl 5.008001 5.037004
Scalar::Util 1.19 1.63
signatures 0.05 0.14
SQL::Translator 0.11002 1.62
Sub::Exporter 0.982 0.988
Sub::Name 0.04 0.26
Template 2.20 3.101
Test::Class 0.31 0.52
Test::Memory::Cycle 1.04 1.06
Test::WWW::Mechanize::Catalyst 0.51 0.62
Time::ParseDate 2006.0814 2015.103
URI 1.37 5.12
build_requires:
Module Need Have
--------------------------------------- --------- --------
ExtUtils::MakeMaker 6.42 7.64
SQL::Translator 0.11002 1.62
Test::Class 0.31 0.52
Test::Memory::Cycle 1.04 1.06
Test::WWW::Mechanize::Catalyst 0.51 0.62
configure_requires:
Module Need Have
--------------------------------------- --------- --------
ExtUtils::MakeMaker 6.42 7.64
------------------------------
ENVIRONMENT AND OTHER CONTEXT
------------------------------
Environment variables:
AUTOMATED_TESTING = 1
LANG = en_US.UTF-8
PATH = /home/sand/bin:/usr/local/bin:/usr/local/sbin:/usr/sbin:/usr/bin:/sbin:/bin:/usr/games:/usr/local/games:/snap/bin:/usr/local/perl/bin:/usr/X11/bin
PERL5LIB = /tmp/loop_over_bdir-2945421-pdrHb6/mmds-1.902-0/blib/arch:/tmp/loop_over_bdir-2945421-pdrHb6/mmds-1.902-0/blib/lib:/tmp/loop_over_bdir-2945421-pdrHb6/Sysync-0.35-0/blib/arch:/tmp/loop_over_bdir-2945421-pdrHb6/Sysync-0.35-0/blib/lib:/tmp/loop_over_bdir-2945421-pdrHb6/Captive-Portal-4.10-0/blib/arch:/tmp/loop_over_bdir-2945421-pdrHb6/Captive-Portal-4.10-0/blib/lib:/tmp/loop_over_bdir-2945421-pdrHb6/App-nrun-v1.1.2-0/blib/arch:/tmp/loop_over_bdir-2945421-pdrHb6/App-nrun-v1.1.2-0/blib/lib:/tmp/loop_over_bdir-2945421-pdrHb6/downsexta-0/blib/arch:/tmp/loop_over_bdir-2945421-pdrHb6/downsexta-0/blib/lib:/tmp/loop_over_bdir-2945421-pdrHb6/Debian-Packages-0.03-0/blib/arch:/tmp/loop_over_bdir-2945421-pdrHb6/Debian-Packages-0.03-0/blib/lib:/tmp/loop_over_bdir-2945421-pdrHb6/MP3-PodcastFetch-1.05-0/blib/arch:/tmp/loop_over_bdir-2945421-pdrHb6/MP3-PodcastFetch-1.05-0/blib/lib:/tmp/loop_over_bdir-2945421-pdrHb6/HTML-Menu-TreeView-1.22-0/blib/arch:/tmp/loop_over_bdir-2945421-pdrHb6/HTML-Menu-TreeView-1.22-0/blib/lib:/tmp/loop_over_bdir-2945421-pdrHb6/Net-OpenVPN-DDNS-0.1-0/blib/arch:/tmp/loop_over_bdir-2945421-pdrHb6/Net-OpenVPN-DDNS-0.1-0/blib/lib:/tmp/loop_over_bdir-2945421-pdrHb6/DBIx-Migration-Directories-0.12-0/blib/arch:/tmp/loop_over_bdir-2945421-pdrHb6/DBIx-Migration-Directories-0.12-0/blib/lib:/tmp/loop_over_bdir-2945421-pdrHb6/LiquidWeb-Storm-CLI-1.03-0/blib/arch:/tmp/loop_over_bdir-2945421-pdrHb6/LiquidWeb-Storm-CLI-1.03-0/blib/lib:/tmp/loop_over_bdir-2945421-pdrHb6/NoZone-1.3-0/blib/arch:/tmp/loop_over_bdir-2945421-pdrHb6/NoZone-1.3-0/blib/lib:/tmp/loop_over_bdir-2945421-pdrHb6/Simulation-Automate-1.0.1-0/blib/arch:/tmp/loop_over_bdir-2945421-pdrHb6/Simulation-Automate-1.0.1-0/blib/lib:/tmp/loop_over_bdir-2945421-pdrHb6/App-oo_modulino_zsh_completion_helper-0.04-0/blib/arch:/tmp/loop_over_bdir-2945421-pdrHb6/App-oo_modulino_zsh_completion_helper-0.04-0/blib/lib:/tmp/loop_over_bdir-2945421-pdrHb6/dta-tokwrap-0.98-0/blib/arch:/tmp/loop_over_bdir-2945421-pdrHb6/dta-tokwrap-0.98-0/blib/lib:/tmp/loop_over_bdir-2945421-pdrHb6/Business-Shipping-DataFiles-1.02-0/blib/arch:/tmp/loop_over_bdir-2945421-pdrHb6/Business-Shipping-DataFiles-1.02-0/blib/lib:/tmp/loop_over_bdir-2945421-pdrHb6/Lingua-BioYaTeA-0.11-0/blib/arch:/tmp/loop_over_bdir-2945421-pdrHb6/Lingua-BioYaTeA-0.11-0/blib/lib:/tmp/loop_over_bdir-2945421-pdrHb6/Lingua-YaTeA-0.626-0/blib/arch:/tmp/loop_over_bdir-2945421-pdrHb6/Lingua-YaTeA-0.626-0/blib/lib:/tmp/loop_over_bdir-2945421-pdrHb6/Dpkg-1.21.9-0/blib/arch:/tmp/loop_over_bdir-2945421-pdrHb6/Dpkg-1.21.9-0/blib/lib:/tmp/loop_over_bdir-2945421-pdrHb6/EJBCA-CrlPublish-0.60-0/blib/arch:/tmp/loop_over_bdir-2945421-pdrHb6/EJBCA-CrlPublish-0.60-0/blib/lib:/tmp/loop_over_bdir-2945421-pdrHb6/Devel-Required-0.16-0/blib/arch:/tmp/loop_over_bdir-2945421-pdrHb6/Devel-Required-0.16-0/blib/lib:/tmp/loop_over_bdir-2945421-pdrHb6/App-rmcd-0.280-0/blib/arch:/tmp/loop_over_bdir-2945421-pdrHb6/App-rmcd-0.280-0/blib/lib:/tmp/loop_over_bdir-2945421-pdrHb6/Linux-InitFS-0.2-0/blib/arch:/tmp/loop_over_bdir-2945421-pdrHb6/Linux-InitFS-0.2-0/blib/lib:/tmp/loop_over_bdir-2945421-pdrHb6/ProjectBuilder-0.14.1-0/blib/arch:/tmp/loop_over_bdir-2945421-pdrHb6/ProjectBuilder-0.14.1-0/blib/lib
PERL5OPT =
PERL5_CPANPLUS_IS_RUNNING = 2945431
PERL5_CPAN_IS_RUNNING = 2945431
PERL_CANARY_STABILITY_NOPROMPT = 1
PERL_MM_USE_DEFAULT = 1
PERL_USE_UNSAFE_INC = 1
SHELL = /usr/bin/zsh
TERM = screen
Perl special variables (and OS-specific diagnostics, for MSWin32):
$^X = /tmp/basesmoker-reloperl-paRY/bin/perl
$UID/$EUID = 1005 / 1005
$GID = 1005 1005
$EGID = 1005 1005
Perl module toolchain versions installed:
Module Have
------------------- --------
CPAN 2.34
CPAN::Meta 2.150010
Cwd 3.86
ExtUtils::CBuilder 0.280237
ExtUtils::Command 7.64
ExtUtils::Install 2.20
ExtUtils::MakeMaker 7.64
ExtUtils::Manifest 1.73
ExtUtils::ParseXS 3.46
File::Spec 3.87
JSON 4.09
JSON::PP 4.11
Module::Build 0.4231
Module::Signature 0.88
Parse::CPAN::Meta 2.150010
Test::Harness 3.44
Test::More 1.302191
YAML 1.30
YAML::Syck 1.34
version 0.9929
--
Summary of my perl5 (revision 5 version 37 subversion 4) configuration:
Commit id: f2582f5b18658f945a763f2edc110cdc7c5220e7
Platform:
osname=linux
osvers=5.4.0-125-generic
archname=x86_64-linux-thread-multi
uname='linux k93focal 5.4.0-125-generic #141-ubuntu smp wed aug 10 13:42:03 utc 2022 x86_64 x86_64 x86_64 gnulinux '
config_args='-Dprefix=/home/sand/src/perl/repoperls/installed-perls/host/k93focal/v5.37.4/d119 -Dmyhostname=k93focal -Dinstallusrbinperl=n -Uversiononly -Dusedevel -des -Ui_db -Dlibswanted=cl pthread socket inet nsl gdbm dbm malloc dl ld sun m crypt sec util c cposix posix ucb BSD gdbm_compat -Duseithreads -Uuselongdouble -DEBUGGING=both'
hint=recommended
useposix=true
d_sigaction=define
useithreads=define
usemultiplicity=define
use64bitint=define
use64bitall=define
uselongdouble=undef
usemymalloc=n
default_inc_excludes_dot=define
Compiler:
cc='cc'
ccflags ='-D_REENTRANT -D_GNU_SOURCE -fwrapv -DDEBUGGING -fno-strict-aliasing -pipe -fstack-protector-strong -I/usr/local/include -D_LARGEFILE_SOURCE -D_FILE_OFFSET_BITS=64'
optimize='-O2 -g'
cppflags='-D_REENTRANT -D_GNU_SOURCE -fwrapv -DDEBUGGING -fno-strict-aliasing -pipe -fstack-protector-strong -I/usr/local/include'
ccversion=''
gccversion='9.4.0'
gccosandvers=''
intsize=4
longsize=8
ptrsize=8
doublesize=8
byteorder=12345678
doublekind=3
d_longlong=define
longlongsize=8
d_longdbl=define
longdblsize=16
longdblkind=3
ivtype='long'
ivsize=8
nvtype='double'
nvsize=8
Off_t='off_t'
lseeksize=8
alignbytes=8
prototype=define
Linker and Libraries:
ld='cc'
ldflags =' -fstack-protector-strong -L/usr/local/lib'
libpth=/usr/local/lib /usr/lib/x86_64-linux-gnu /usr/lib /usr/lib64
libs=-lpthread -lnsl -ldl -lm -lcrypt -lutil -lc
perllibs=-lpthread -lnsl -ldl -lm -lcrypt -lutil -lc
libc=libc-2.31.so
so=so
useshrplib=false
libperl=libperl.a
gnulibc_version='2.31'
Dynamic Linking:
dlsrc=dl_dlopen.xs
dlext=so
d_dlsymun=undef
ccdlflags='-Wl,-E'
cccdlflags='-fPIC'
lddlflags='-shared -O2 -g -L/usr/local/lib -fstack-protector-strong'
Characteristics of this binary (from libperl):
Compile-time options:
DEBUGGING
HAS_TIMES
MULTIPLICITY
PERLIO_LAYERS
PERL_COPY_ON_WRITE
PERL_DONT_CREATE_GVSV
PERL_HASH_FUNC_SIPHASH13
PERL_HASH_USE_SBOX32
PERL_MALLOC_WRAP
PERL_OP_PARENT
PERL_PRESERVE_IVUV
PERL_TRACK_MEMPOOL
PERL_USE_DEVEL
PERL_USE_SAFE_PUTENV
USE_64_BIT_ALL
USE_64_BIT_INT
USE_ITHREADS
USE_LARGE_FILES
USE_LOCALE
USE_LOCALE_COLLATE
USE_LOCALE_CTYPE
USE_LOCALE_NUMERIC
USE_LOCALE_TIME
USE_PERLIO
USE_PERL_ATOF
USE_REENTRANT_API
USE_THREAD_SAFE_LOCALE
Built under linux
Compiled at Sep 21 2022 03:04:18
%ENV:
PERL5LIB="/tmp/loop_over_bdir-2945421-pdrHb6/mmds-1.902-0/blib/arch:/tmp/loop_over_bdir-2945421-pdrHb6/mmds-1.902-0/blib/lib:/tmp/loop_over_bdir-2945421-pdrHb6/Sysync-0.35-0/blib/arch:/tmp/loop_over_bdir-2945421-pdrHb6/Sysync-0.35-0/blib/lib:/tmp/loop_over_bdir-2945421-pdrHb6/Captive-Portal-4.10-0/blib/arch:/tmp/loop_over_bdir-2945421-pdrHb6/Captive-Portal-4.10-0/blib/lib:/tmp/loop_over_bdir-2945421-pdrHb6/App-nrun-v1.1.2-0/blib/arch:/tmp/loop_over_bdir-2945421-pdrHb6/App-nrun-v1.1.2-0/blib/lib:/tmp/loop_over_bdir-2945421-pdrHb6/downsexta-0/blib/arch:/tmp/loop_over_bdir-2945421-pdrHb6/downsexta-0/blib/lib:/tmp/loop_over_bdir-2945421-pdrHb6/Debian-Packages-0.03-0/blib/arch:/tmp/loop_over_bdir-2945421-pdrHb6/Debian-Packages-0.03-0/blib/lib:/tmp/loop_over_bdir-2945421-pdrHb6/MP3-PodcastFetch-1.05-0/blib/arch:/tmp/loop_over_bdir-2945421-pdrHb6/MP3-PodcastFetch-1.05-0/blib/lib:/tmp/loop_over_bdir-2945421-pdrHb6/HTML-Menu-TreeView-1.22-0/blib/arch:/tmp/loop_over_bdir-2945421-pdrHb6/HTML-Menu-TreeView-1.22-0/blib/lib:/tmp/loop_over_bdir-2945421-pdrHb6/Net-OpenVPN-DDNS-0.1-0/blib/arch:/tmp/loop_over_bdir-2945421-pdrHb6/Net-OpenVPN-DDNS-0.1-0/blib/lib:/tmp/loop_over_bdir-2945421-pdrHb6/DBIx-Migration-Directories-0.12-0/blib/arch:/tmp/loop_over_bdir-2945421-pdrHb6/DBIx-Migration-Directories-0.12-0/blib/lib:/tmp/loop_over_bdir-2945421-pdrHb6/LiquidWeb-Storm-CLI-1.03-0/blib/arch:/tmp/loop_over_bdir-2945421-pdrHb6/LiquidWeb-Storm-CLI-1.03-0/blib/lib:/tmp/loop_over_bdir-2945421-pdrHb6/NoZone-1.3-0/blib/arch:/tmp/loop_over_bdir-2945421-pdrHb6/NoZone-1.3-0/blib/lib:/tmp/loop_over_bdir-2945421-pdrHb6/Simulation-Automate-1.0.1-0/blib/arch:/tmp/loop_over_bdir-2945421-pdrHb6/Simulation-Automate-1.0.1-0/blib/lib:/tmp/loop_over_bdir-2945421-pdrHb6/App-oo_modulino_zsh_completion_helper-0.04-0/blib/arch:/tmp/loop_over_bdir-2945421-pdrHb6/App-oo_modulino_zsh_completion_helper-0.04-0/blib/lib:/tmp/loop_over_bdir-2945421-pdrHb6/dta-tokwrap-0.98-0/blib/arch:/tmp/loop_over_bdir-2945421-pdrHb6/dta-tokwrap-0.98-0/blib/lib:/tmp/loop_over_bdir-2945421-pdrHb6/Business-Shipping-DataFiles-1.02-0/blib/arch:/tmp/loop_over_bdir-2945421-pdrHb6/Business-Shipping-DataFiles-1.02-0/blib/lib:/tmp/loop_over_bdir-2945421-pdrHb6/Lingua-BioYaTeA-0.11-0/blib/arch:/tmp/loop_over_bdir-2945421-pdrHb6/Lingua-BioYaTeA-0.11-0/blib/lib:/tmp/loop_over_bdir-2945421-pdrHb6/Lingua-YaTeA-0.626-0/blib/arch:/tmp/loop_over_bdir-2945421-pdrHb6/Lingua-YaTeA-0.626-0/blib/lib:/tmp/loop_over_bdir-2945421-pdrHb6/Dpkg-1.21.9-0/blib/arch:/tmp/loop_over_bdir-2945421-pdrHb6/Dpkg-1.21.9-0/blib/lib:/tmp/loop_over_bdir-2945421-pdrHb6/EJBCA-CrlPublish-0.60-0/blib/arch:/tmp/loop_over_bdir-2945421-pdrHb6/EJBCA-CrlPublish-0.60-0/blib/lib:/tmp/loop_over_bdir-2945421-pdrHb6/Devel-Required-0.16-0/blib/arch:/tmp/loop_over_bdir-2945421-pdrHb6/Devel-Required-0.16-0/blib/lib:/tmp/loop_over_bdir-2945421-pdrHb6/App-rmcd-0.280-0/blib/arch:/tmp/loop_over_bdir-2945421-pdrHb6/App-rmcd-0.280-0/blib/lib:/tmp/loop_over_bdir-2945421-pdrHb6/Linux-InitFS-0.2-0/blib/arch:/tmp/loop_over_bdir-2945421-pdrHb6/Linux-InitFS-0.2-0/blib/lib:/tmp/loop_over_bdir-2945421-pdrHb6/ProjectBuilder-0.14.1-0/blib/arch:/tmp/loop_over_bdir-2945421-pdrHb6/ProjectBuilder-0.14.1-0/blib/lib"
PERL5OPT=""
PERL5_CPANPLUS_IS_RUNNING="2945431"
PERL5_CPAN_IS_RUNNING="2945431"
PERL_CANARY_STABILITY_NOPROMPT="1"
PERL_MM_USE_DEFAULT="1"
PERL_USE_UNSAFE_INC="1"
@INC:
/tmp/loop_over_bdir-2945421-pdrHb6/mmds-1.902-0/blib/arch
/tmp/loop_over_bdir-2945421-pdrHb6/mmds-1.902-0/blib/lib
/tmp/loop_over_bdir-2945421-pdrHb6/Sysync-0.35-0/blib/arch
/tmp/loop_over_bdir-2945421-pdrHb6/Sysync-0.35-0/blib/lib
/tmp/loop_over_bdir-2945421-pdrHb6/Captive-Portal-4.10-0/blib/arch
/tmp/loop_over_bdir-2945421-pdrHb6/Captive-Portal-4.10-0/blib/lib
/tmp/loop_over_bdir-2945421-pdrHb6/App-nrun-v1.1.2-0/blib/arch
/tmp/loop_over_bdir-2945421-pdrHb6/App-nrun-v1.1.2-0/blib/lib
/tmp/loop_over_bdir-2945421-pdrHb6/downsexta-0/blib/arch
/tmp/loop_over_bdir-2945421-pdrHb6/downsexta-0/blib/lib
/tmp/loop_over_bdir-2945421-pdrHb6/Debian-Packages-0.03-0/blib/arch
/tmp/loop_over_bdir-2945421-pdrHb6/Debian-Packages-0.03-0/blib/lib
/tmp/loop_over_bdir-2945421-pdrHb6/MP3-PodcastFetch-1.05-0/blib/arch
/tmp/loop_over_bdir-2945421-pdrHb6/MP3-PodcastFetch-1.05-0/blib/lib
/tmp/loop_over_bdir-2945421-pdrHb6/HTML-Menu-TreeView-1.22-0/blib/arch
/tmp/loop_over_bdir-2945421-pdrHb6/HTML-Menu-TreeView-1.22-0/blib/lib
/tmp/loop_over_bdir-2945421-pdrHb6/Net-OpenVPN-DDNS-0.1-0/blib/arch
/tmp/loop_over_bdir-2945421-pdrHb6/Net-OpenVPN-DDNS-0.1-0/blib/lib
/tmp/loop_over_bdir-2945421-pdrHb6/DBIx-Migration-Directories-0.12-0/blib/arch
/tmp/loop_over_bdir-2945421-pdrHb6/DBIx-Migration-Directories-0.12-0/blib/lib
/tmp/loop_over_bdir-2945421-pdrHb6/LiquidWeb-Storm-CLI-1.03-0/blib/arch
/tmp/loop_over_bdir-2945421-pdrHb6/LiquidWeb-Storm-CLI-1.03-0/blib/lib
/tmp/loop_over_bdir-2945421-pdrHb6/NoZone-1.3-0/blib/arch
/tmp/loop_over_bdir-2945421-pdrHb6/NoZone-1.3-0/blib/lib
/tmp/loop_over_bdir-2945421-pdrHb6/Simulation-Automate-1.0.1-0/blib/arch
/tmp/loop_over_bdir-2945421-pdrHb6/Simulation-Automate-1.0.1-0/blib/lib
/tmp/loop_over_bdir-2945421-pdrHb6/App-oo_modulino_zsh_completion_helper-0.04-0/blib/arch
/tmp/loop_over_bdir-2945421-pdrHb6/App-oo_modulino_zsh_completion_helper-0.04-0/blib/lib
/tmp/loop_over_bdir-2945421-pdrHb6/dta-tokwrap-0.98-0/blib/arch
/tmp/loop_over_bdir-2945421-pdrHb6/dta-tokwrap-0.98-0/blib/lib
/tmp/loop_over_bdir-2945421-pdrHb6/Business-Shipping-DataFiles-1.02-0/blib/arch
/tmp/loop_over_bdir-2945421-pdrHb6/Business-Shipping-DataFiles-1.02-0/blib/lib
/tmp/loop_over_bdir-2945421-pdrHb6/Lingua-BioYaTeA-0.11-0/blib/arch
/tmp/loop_over_bdir-2945421-pdrHb6/Lingua-BioYaTeA-0.11-0/blib/lib
/tmp/loop_over_bdir-2945421-pdrHb6/Lingua-YaTeA-0.626-0/blib/arch
/tmp/loop_over_bdir-2945421-pdrHb6/Lingua-YaTeA-0.626-0/blib/lib
/tmp/loop_over_bdir-2945421-pdrHb6/Dpkg-1.21.9-0/blib/arch
/tmp/loop_over_bdir-2945421-pdrHb6/Dpkg-1.21.9-0/blib/lib
/tmp/loop_over_bdir-2945421-pdrHb6/EJBCA-CrlPublish-0.60-0/blib/arch
/tmp/loop_over_bdir-2945421-pdrHb6/EJBCA-CrlPublish-0.60-0/blib/lib
/tmp/loop_over_bdir-2945421-pdrHb6/Devel-Required-0.16-0/blib/arch
/tmp/loop_over_bdir-2945421-pdrHb6/Devel-Required-0.16-0/blib/lib
/tmp/loop_over_bdir-2945421-pdrHb6/App-rmcd-0.280-0/blib/arch
/tmp/loop_over_bdir-2945421-pdrHb6/App-rmcd-0.280-0/blib/lib
/tmp/loop_over_bdir-2945421-pdrHb6/Linux-InitFS-0.2-0/blib/arch
/tmp/loop_over_bdir-2945421-pdrHb6/Linux-InitFS-0.2-0/blib/lib
/tmp/loop_over_bdir-2945421-pdrHb6/ProjectBuilder-0.14.1-0/blib/arch
/tmp/loop_over_bdir-2945421-pdrHb6/ProjectBuilder-0.14.1-0/blib/lib
/home/sand/src/perl/repoperls/installed-perls/host/k93focal/v5.37.4/d119/lib/site_perl/5.37.4/x86_64-linux-thread-multi
/home/sand/src/perl/repoperls/installed-perls/host/k93focal/v5.37.4/d119/lib/site_perl/5.37.4
/home/sand/src/perl/repoperls/installed-perls/host/k93focal/v5.37.4/d119/lib/5.37.4/x86_64-linux-thread-multi
/home/sand/src/perl/repoperls/installed-perls/host/k93focal/v5.37.4/d119/lib/5.37.4
.