Back
From: metabase:user:e76af90a-4850-11e2-8113-cbd16183b4ae
Subject: PASS Class-Agreement-0.02 v5.8.6 Mac OS X
Date: 2012-12-19T12:16:57Z
This distribution has been tested as part of the CPAN Testers
project, supporting the Perl programming language.  See
http://wiki.cpantesters.org/ for more information or email
questions to cpan-testers-discuss@perl.org
--
Dear Ian Langworth,
This is a computer-generated report for Class-Agreement-0.02
on perl 5.8.6, created by CPAN-Reporter-1.2008.
Thank you for uploading your work to CPAN.  Congratulations!
All tests were successful.
Sections of this report:
    * Tester comments
    * Program output
    * Prerequisites
    * Environment and other context
------------------------------
TESTER COMMENTS
------------------------------
Additional comments from tester:
this report is from an automated smoke testing program
and was not reviewed by a human for accuracy
------------------------------
PROGRAM OUTPUT
------------------------------
Output from '/usr/bin/make test':
PERL_DL_NONLAZY=1 /usr/bin/perl "-MExtUtils::Command::MM" "-e" "test_harness(0, 'blib/lib', 'blib/arch')" t/*.t
t/0-signature.t .............. ok
t/00-load.t .................. ok
t/context.t .................. ok
t/data-validate.t ............ skipped: Optional module Data::Validate 0.04 required for this test
t/dependent-function.t ....... ok
t/dependent-method.t ......... ok
t/explicitpackage.t .......... ok
t/firstorder-blame.t ......... ok
t/generate-assertions.t ...... ok
t/generated-methods.t ........ ok
t/invariant.t ................ ok
t/overrides.t ................ ok
t/pod-coverage.t ............. ok
t/pod.t ...................... ok
t/postcondition-function.t ... ok
t/postcondition-method.t ..... ok
t/precondition-function.t .... ok
t/precondition-method.t ...... ok
t/propagate-to-subclasses.t .. ok
t/result-badusage.t .......... ok
t/specify-constructors.t ..... ok
t/use-twice.t ................ ok
All tests successful.
Files=22, Tests=249, 17 wallclock secs ( 0.72 usr  0.39 sys + 13.11 cusr  1.53 csys = 15.75 CPU)
Result: PASS
------------------------------
PREREQUISITES
------------------------------
Prerequisite modules loaded:
requires:
    Module              Need Have
    ------------------- ---- ----
    Class::Inspector    1.13 1.28
    Scalar::Util        1.17 1.26
    Test::Exception     0.20 0.31
    Test::More          0.54 0.98
build_requires:
    Module              Need Have
    ------------------- ---- ----
    ExtUtils::MakeMaker 0    6.64
------------------------------
ENVIRONMENT AND OTHER CONTEXT
------------------------------
Environment variables:
    AUTHOR_TESTING = 1
    AUTOMATED_TESTING = 1
    PATH = /bin:/sbin:/usr/bin:/usr/sbin
    PERL5LIB = 
    PERL5OPT = 
    PERL5_CPANPLUS_IS_RUNNING = 6685
    PERL5_CPAN_IS_RUNNING = 6685
    PERL_MM_USE_DEFAULT = 1
    SHELL = /bin/bash
    TERM = xterm-color
Perl special variables (and OS-specific diagnostics, for MSWin32):
    $^X = /usr/bin/perl
    $UID/$EUID = 0 / 0
    $GID = 0 20 80 5 29 4 3 2 1 0
    $EGID = 0 20 80 5 29 4 3 2 1 0
Perl module toolchain versions installed:
    Module              Have    
    ------------------- --------
    CPAN                1.9800  
    CPAN::Meta          2.120921
    Cwd                 3.33    
    ExtUtils::CBuilder  0.280205
    ExtUtils::Command   1.17    
    ExtUtils::Install   1.54    
    ExtUtils::MakeMaker 6.64    
    ExtUtils::Manifest  1.61    
    ExtUtils::ParseXS   3.18    
    File::Spec          3.33    
    JSON                2.53    
    JSON::PP            2.27200 
    Module::Build       0.4003  
    Module::Signature   n/a     
    Parse::CPAN::Meta   1.4404  
    Test::Harness       3.25    
    Test::More          0.98    
    YAML                0.84    
    YAML::Syck          1.22    
    version             0.9901  
--
Summary of my perl5 (revision 5 version 8 subversion 6) configuration:
  Platform:
    osname=darwin, osvers=8.0, archname=darwin-thread-multi-2level
    uname='darwin b07.apple.com 8.0 darwin kernel version 8.3.0: mon oct 3 20:04:04 pdt 2005; root:xnu-792.6.22.obj~2release_ppc power macintosh powerpc '
    config_args='-ds -e -Dprefix=/usr -Dccflags=-g  -pipe  -Dldflags=-Dman3ext=3pm -Duseithreads -Duseshrplib'
    hint=recommended, useposix=true, d_sigaction=define
    usethreads=define use5005threads=undef useithreads=define usemultiplicity=define
    useperlio=define d_sfio=undef uselargefiles=define usesocks=undef
    use64bitint=undef use64bitall=undef uselongdouble=undef
    usemymalloc=n, bincompat5005=undef
  Compiler:
    cc='cc', ccflags ='-g -pipe -fno-common -DPERL_DARWIN -no-cpp-precomp -fno-strict-aliasing -I/usr/local/include',
    optimize='-Os',
    cppflags='-no-cpp-precomp -g -pipe -fno-common -DPERL_DARWIN -no-cpp-precomp -fno-strict-aliasing -I/usr/local/include'
    ccversion='', gccversion='3.3 20030304 (Apple Computer, Inc. build 1819)', gccosandvers=''
    intsize=4, longsize=4, ptrsize=4, doublesize=8, byteorder=4321
    d_longlong=define, longlongsize=8, d_longdbl=define, longdblsize=8
    ivtype='long', ivsize=4, nvtype='double', nvsize=8, Off_t='off_t', lseeksize=8
    alignbytes=8, prototype=define
  Linker and Libraries:
    ld='env MACOSX_DEPLOYMENT_TARGET=10.3 cc', ldflags ='-L/usr/local/lib'
    libpth=/usr/local/lib /usr/lib
    libs=-ldbm -ldl -lm -lc
    perllibs=-ldl -lm -lc
    libc=/usr/lib/libc.dylib, so=dylib, useshrplib=true, libperl=libperl.dylib
    gnulibc_version=''
  Dynamic Linking:
    dlsrc=dl_dlopen.xs, dlext=bundle, d_dlsymun=undef, ccdlflags=' '
    cccdlflags=' ', lddlflags='-bundle -undefined dynamic_lookup -L/usr/local/lib'
Characteristics of this binary (from libperl): 
  Compile-time options: MULTIPLICITY USE_ITHREADS USE_LARGE_FILES PERL_IMPLICIT_CONTEXT
  Locally applied patches:
	23953 - fix for File::Path::rmtree CAN-2004-0452 security issue
	33990 - fix for setuid perl security issues
	SPRINTF0 - fixes for sprintf formatting issues - CVE-2005-3962
  Built under darwin
  Compiled at Nov  2 2006 10:37:00
  %ENV:
    PERL5LIB=""
    PERL5OPT=""
    PERL5_CPANPLUS_IS_RUNNING="6685"
    PERL5_CPAN_IS_RUNNING="6685"
    PERL_MM_USE_DEFAULT="1"
  @INC:
    /System/Library/Perl/5.8.6/darwin-thread-multi-2level
    /System/Library/Perl/5.8.6
    /Library/Perl/5.8.6/darwin-thread-multi-2level
    /Library/Perl/5.8.6
    /Library/Perl
    /Network/Library/Perl/5.8.6/darwin-thread-multi-2level
    /Network/Library/Perl/5.8.6
    /Network/Library/Perl
    /System/Library/Perl/Extras/5.8.6/darwin-thread-multi-2level
    /System/Library/Perl/Extras/5.8.6
    /Library/Perl/5.8.1
    .