Report for Catalyst-ActionRole-MatchRequestMethod-0.03

Back
From: metabase:user:6b7c0268-6bfa-1014-b492-d6f6123e60b2
Subject: PASS Catalyst-ActionRole-MatchRequestMethod-0.03 v5.18.2 
Date: 2014-01-16T20:07:58Z

This distribution has been tested as part of the CPAN Testers
project, supporting the Perl programming language.  See
http://wiki.cpantesters.org/ for more information or email
questions to cpan-testers-discuss@perl.org


--
Dear Florian Ragwitz,

This is a computer-generated report for Catalyst-ActionRole-MatchRequestMethod-0.03
on perl 5.18.2, created by CPAN-Reporter-1.2010.

Thank you for uploading your work to CPAN.  Congratulations!
All tests were successful.

Sections of this report:

    * Tester comments
    * Program output
    * Prerequisites
    * Environment and other context

------------------------------
TESTER COMMENTS
------------------------------

Additional comments from tester:

this report is from an automated smoke testing program
and was not reviewed by a human for accuracy

------------------------------
PROGRAM OUTPUT
------------------------------

Output from 'C:\smoker\51821x64\c\bin\dmake.exe test':

C:\smoker\51821x64\perl\bin\perl.exe "-MExtUtils::Command::MM" "-MTest::Harness" "-e" "undef *Test::Harness::Switches; test_harness(0, 'blib\lib', 'blib\arch')" t/*.t
Class::MOP::load_first_existing_class is deprecated at C:/smoker/51821x64/perl/site/lib/Class/MOP.pm line 85.
	Class::MOP::load_first_existing_class("TestApp::ActionRole::MatchRequestMethod", "Catalyst::ActionRole::MatchRequestMethod") called at C:/smoker/51821x64/perl/site/lib/Catalyst/Controller/ActionRole.pm line 120
	Catalyst::Controller::ActionRole::__ANON__("MatchRequestMethod") called at C:/smoker/51821x64/perl/site/lib/String/RewritePrefix.pm line 44
	String::RewritePrefix::__ANON__("MatchRequestMethod") called at C:/smoker/51821x64/perl/site/lib/String/RewritePrefix.pm line 18
	String::RewritePrefix::rewrite("String::RewritePrefix", HASH(0x4d657e8), "MatchRequestMethod") called at C:/smoker/51821x64/perl/site/lib/Catalyst/Controller/ActionRole.pm line 125
	Catalyst::Controller::ActionRole::_expand_role_shortname(TestApp::Controller::Root=HASH(0x4a9b748), "MatchRequestMethod") called at C:/smoker/51821x64/perl/site/lib/Catalyst/Controller/ActionRole.pm line 49
	Catalyst::Controller::ActionRole::_build__action_roles(TestApp::Controller::Root=HASH(0x4a9b748)) called at native delegation method Catalyst::Controller::ActionRole::_action_roles (elements) of attribute _action_roles (defined at C:/smoker/51821x64/perl/site/lib/Catalyst/Controller/ActionRole.pm line 37) line 8
	Catalyst::Controller::ActionRole::_action_roles(TestApp::Controller::Root=HASH(0x4a9b748)) called at C:/smoker/51821x64/perl/site/lib/Catalyst/Controller.pm line 84
	Catalyst::Controller::BUILD(TestApp::Controller::Root=HASH(0x4a9b748), HASH(0x4593a70)) called at constructor TestApp::Controller::Root::new (defined at C:/smoker/51821x64/cpan/build/Catalyst-ActionRole-MatchRequestMethod-0.03-1SBzdA/t/lib/TestApp/Controller/Root.pm line 40) line 56
	TestApp::Controller::Root::new("TestApp::Controller::Root", "TestApp", HASH(0x4a6bdc0)) called at C:/smoker/51821x64/perl/site/lib/Catalyst/Component.pm line 123
	Catalyst::Component::COMPONENT("TestApp::Controller::Root", "TestApp", HASH(0x4a6bdc0)) called at C:/smoker/51821x64/perl/site/lib/Catalyst.pm line 2652
	eval {...} called at C:/smoker/51821x64/perl/site/lib/Catalyst.pm line 2652
	Catalyst::setup_component("TestApp", "TestApp::Controller::Root") called at C:/smoker/51821x64/perl/site/lib/Catalyst.pm line 2579
	Catalyst::setup_components("TestApp") called at C:/smoker/51821x64/perl/site/lib/Catalyst.pm line 1174
	Catalyst::setup("TestApp") called at C:/smoker/51821x64/cpan/build/Catalyst-ActionRole-MatchRequestMethod-0.03-1SBzdA/t/lib/TestApp.pm line 8
	require TestApp.pm called at C:/smoker/51821x64/perl/vendor/lib/Module/Runtime.pm line 317
	Module::Runtime::require_module("TestApp") called at C:/smoker/51821x64/perl/vendor/lib/Class/Load.pm line 177
	Class::Load::try {...} () called at C:/smoker/51821x64/perl/vendor/lib/Try/Tiny.pm line 78
	eval {...} called at C:/smoker/51821x64/perl/vendor/lib/Try/Tiny.pm line 74
	Try::Tiny::try(CODE(0x374ce00), Try::Tiny::Catch=REF(0x36c44d8)) called at C:/smoker/51821x64/perl/vendor/lib/Class/Load.pm line 183
	Class::Load::try_load_class("TestApp", undef) called at C:/smoker/51821x64/perl/vendor/lib/Class/Load.pm line 38
	Class::Load::load_class("TestApp") called at C:/smoker/51821x64/perl/site/lib/Catalyst/Test.pm line 29
	Catalyst::Test::_build_request_export("Catalyst::Test", HASH(0x3a8a4f8)) called at C:/smoker/51821x64/perl/site/lib/Catalyst/Test.pm line 92
	Catalyst::Test::__ANON__("Catalyst::Test", "all", HASH(0x3a8a4b0), HASH(0x252eaf0)) called at C:/smoker/51821x64/perl/vendor/lib/Sub/Exporter.pm line 108
	Sub::Exporter::_expand_group("Catalyst::Test", HASH(0x3a89bc8), ARRAY(0x2614ec8), HASH(0x252eaf0), HASH(0x3a8a528), HASH(0x3a8a2e8)) called at C:/smoker/51821x64/perl/vendor/lib/Sub/Exporter.pm line 39
	Sub::Exporter::_expand_groups("Catalyst::Test", HASH(0x3a89bc8), ARRAY(0x3a89d00), HASH(0x252eaf0)) called at C:/smoker/51821x64/perl/vendor/lib/Sub/Exporter.pm line 323
	Sub::Exporter::__ANON__("Catalyst::Test", "-all", HASH(0x22b8b48)) called at C:/smoker/51821x64/perl/site/lib/Catalyst/Test.pm line 155
	Catalyst::Test::import("Catalyst::Test", "TestApp") called at t/basic.t line 9
	main::BEGIN() called at C:/smoker/51821x64/cpan/build/Catalyst-ActionRole-MatchRequestMethod-0.03-1SBzdA/t/lib/TestApp.pm line 0
	eval {...} called at C:/smoker/51821x64/cpan/build/Catalyst-ActionRole-MatchRequestMethod-0.03-1SBzdA/t/lib/TestApp.pm line 0
Class::MOP::load_class is deprecated at C:/smoker/51821x64/perl/site/lib/Class/MOP.pm line 76.
	Class::MOP::load_class("Catalyst::ActionRole::MatchRequestMethod") called at C:/smoker/51821x64/perl/site/lib/Catalyst/Controller/ActionRole.pm line 50
	Catalyst::Controller::ActionRole::_build__action_roles(TestApp::Controller::Root=HASH(0x4a9b748)) called at native delegation method Catalyst::Controller::ActionRole::_action_roles (elements) of attribute _action_roles (defined at C:/smoker/51821x64/perl/site/lib/Catalyst/Controller/ActionRole.pm line 37) line 8
	Catalyst::Controller::ActionRole::_action_roles(TestApp::Controller::Root=HASH(0x4a9b748)) called at C:/smoker/51821x64/perl/site/lib/Catalyst/Controller.pm line 84
	Catalyst::Controller::BUILD(TestApp::Controller::Root=HASH(0x4a9b748), HASH(0x4593a70)) called at constructor TestApp::Controller::Root::new (defined at C:/smoker/51821x64/cpan/build/Catalyst-ActionRole-MatchRequestMethod-0.03-1SBzdA/t/lib/TestApp/Controller/Root.pm line 40) line 56
	TestApp::Controller::Root::new("TestApp::Controller::Root", "TestApp", HASH(0x4a6bdc0)) called at C:/smoker/51821x64/perl/site/lib/Catalyst/Component.pm line 123
	Catalyst::Component::COMPONENT("TestApp::Controller::Root", "TestApp", HASH(0x4a6bdc0)) called at C:/smoker/51821x64/perl/site/lib/Catalyst.pm line 2652
	eval {...} called at C:/smoker/51821x64/perl/site/lib/Catalyst.pm line 2652
	Catalyst::setup_component("TestApp", "TestApp::Controller::Root") called at C:/smoker/51821x64/perl/site/lib/Catalyst.pm line 2579
	Catalyst::setup_components("TestApp") called at C:/smoker/51821x64/perl/site/lib/Catalyst.pm line 1174
	Catalyst::setup("TestApp") called at C:/smoker/51821x64/cpan/build/Catalyst-ActionRole-MatchRequestMethod-0.03-1SBzdA/t/lib/TestApp.pm line 8
	require TestApp.pm called at C:/smoker/51821x64/perl/vendor/lib/Module/Runtime.pm line 317
	Module::Runtime::require_module("TestApp") called at C:/smoker/51821x64/perl/vendor/lib/Class/Load.pm line 177
	Class::Load::try {...} () called at C:/smoker/51821x64/perl/vendor/lib/Try/Tiny.pm line 78
	eval {...} called at C:/smoker/51821x64/perl/vendor/lib/Try/Tiny.pm line 74
	Try::Tiny::try(CODE(0x374ce00), Try::Tiny::Catch=REF(0x36c44d8)) called at C:/smoker/51821x64/perl/vendor/lib/Class/Load.pm line 183
	Class::Load::try_load_class("TestApp", undef) called at C:/smoker/51821x64/perl/vendor/lib/Class/Load.pm line 38
	Class::Load::load_class("TestApp") called at C:/smoker/51821x64/perl/site/lib/Catalyst/Test.pm line 29
	Catalyst::Test::_build_request_export("Catalyst::Test", HASH(0x3a8a4f8)) called at C:/smoker/51821x64/perl/site/lib/Catalyst/Test.pm line 92
	Catalyst::Test::__ANON__("Catalyst::Test", "all", HASH(0x3a8a4b0), HASH(0x252eaf0)) called at C:/smoker/51821x64/perl/vendor/lib/Sub/Exporter.pm line 108
	Sub::Exporter::_expand_group("Catalyst::Test", HASH(0x3a89bc8), ARRAY(0x2614ec8), HASH(0x252eaf0), HASH(0x3a8a528), HASH(0x3a8a2e8)) called at C:/smoker/51821x64/perl/vendor/lib/Sub/Exporter.pm line 39
	Sub::Exporter::_expand_groups("Catalyst::Test", HASH(0x3a89bc8), ARRAY(0x3a89d00), HASH(0x252eaf0)) called at C:/smoker/51821x64/perl/vendor/lib/Sub/Exporter.pm line 323
	Sub::Exporter::__ANON__("Catalyst::Test", "-all", HASH(0x22b8b48)) called at C:/smoker/51821x64/perl/site/lib/Catalyst/Test.pm line 155
	Catalyst::Test::import("Catalyst::Test", "TestApp") called at t/basic.t line 9
	main::BEGIN() called at C:/smoker/51821x64/cpan/build/Catalyst-ActionRole-MatchRequestMethod-0.03-1SBzdA/t/lib/TestApp.pm line 0
	eval {...} called at C:/smoker/51821x64/cpan/build/Catalyst-ActionRole-MatchRequestMethod-0.03-1SBzdA/t/lib/TestApp.pm line 0
t/basic.t ................. ok
t/release-pod-coverage.t .. skipped: these tests are for release candidate testing
t/release-pod-syntax.t .... skipped: these tests are for release candidate testing
All tests successful.
Files=3, Tests=9,  3 wallclock secs ( 0.09 usr +  0.03 sys =  0.13 CPU)
Result: PASS

------------------------------
PREREQUISITES
------------------------------

Prerequisite modules loaded:

requires:

    Module                           Need Have    
    -------------------------------- ---- --------
    Catalyst::Controller::ActionRole 0    0.15    
    Catalyst::Runtime                5.80 5.90053 
    Moose::Role                      0    2.1201  
    namespace::autoclean             0    0.15    
    Perl6::Junction                  0    1.60000 

build_requires:

    Module                           Need Have    
    -------------------------------- ---- --------
    Catalyst::Controller::ActionRole 0    0.15    
    Catalyst::Test                   0    0       
    FindBin                          0    1.51    
    HTTP::Request::Common            0    6.04    
    Moose                            1.03 2.1201  
    Test::More                       0.89 1.001002

configure_requires:

    Module                           Need Have    
    -------------------------------- ---- --------
    ExtUtils::MakeMaker              6.31 6.87_01 


------------------------------
ENVIRONMENT AND OTHER CONTEXT
------------------------------

Environment variables:

    AUTOMATED_TESTING = 1
    COMSPEC = C:\Windows\system32\cmd.exe
    NUMBER_OF_PROCESSORS = 3
    PATH = C:\smoker\51821x64\perl\site\bin;C:\smoker\51821x64\perl\bin;C:\smoker\51821x64\c\bin;C:\Windows\system32;C:\Windows;C:\Windows\System32\Wbem
    PERL5LIB = 
    PERL5OPT = 
    PERL5_CPANPLUS_IS_RUNNING = 2628
    PERL5_CPAN_IS_RUNNING = 2628
    PERL5_CPAN_IS_RUNNING_IN_RECURSION = 2328,2628
    PERL_CR_SMOKER_CURRENT = CatalystX-Crudite-0.20
    PERL_EXTUTILS_AUTOINSTALL = --defaultdeps
    PERL_MM_USE_DEFAULT = 1
    PROCESSOR_IDENTIFIER = Intel64 Family 6 Model 13 Stepping 3, GenuineIntel
    TEMP = C:\Users\smoker\AppData\Local\Temp\2

Perl special variables (and OS-specific diagnostics, for MSWin32):

    $^X = C:\smoker\51821x64\perl\bin\perl.exe
    $UID/$EUID = 0 / 0
    $GID = 0
    $EGID = 0
    Win32::GetOSName = Win2012
    Win32::GetOSVersion = , 6, 2, 9200, 2, 0, 0, 400, 3
    Win32::FsType = NTFS
    Win32::IsAdminUser = 0

Perl module toolchain versions installed:

    Module              Have    
    ------------------- --------
    CPAN                2.00    
    CPAN::Meta          2.133380
    Cwd                 3.40    
    ExtUtils::CBuilder  0.280212
    ExtUtils::Command   1.18    
    ExtUtils::Install   1.59    
    ExtUtils::MakeMaker 6.87_01 
    ExtUtils::Manifest  1.63    
    ExtUtils::ParseXS   3.22    
    File::Spec          3.40    
    JSON                2.90    
    JSON::PP            2.27203 
    Module::Build       0.4204  
    Module::Signature   n/a     
    Parse::CPAN::Meta   1.4409  
    Test::Harness       3.30    
    Test::More          1.001002
    YAML                0.88    
    YAML::Syck          n/a     
    version             0.9907  


--

Summary of my perl5 (revision 5 version 18 subversion 2) configuration:
   
  Platform:
    osname=MSWin32, osvers=6.2, archname=MSWin32-x64-multi-thread
    uname='Win32 strawberry-perl 5.18.2.1 #1 Tue Jan  7 22:32:35 2014 x64'
    config_args='undef'
    hint=recommended, useposix=true, d_sigaction=undef
    useithreads=define, usemultiplicity=define
    useperlio=define, d_sfio=undef, uselargefiles=define, usesocks=undef
    use64bitint=define, use64bitall=undef, uselongdouble=undef
    usemymalloc=n, bincompat5005=undef
  Compiler:
    cc='gcc', ccflags =' -s -O2 -DWIN32 -DWIN64 -DCONSERVATIVE  -DPERL_TEXTMODE_SCRIPTS -DPERL_IMPLICIT_CONTEXT -DPERL_IMPLICIT_SYS -DUSE_PERLIO -fno-strict-aliasing -mms-bitfields',
    optimize='-s -O2',
    cppflags='-DWIN32'
    ccversion='', gccversion='4.7.3', gccosandvers=''
    intsize=4, longsize=4, ptrsize=8, doublesize=8, byteorder=12345678
    d_longlong=define, longlongsize=8, d_longdbl=define, longdblsize=12
    ivtype='long long', ivsize=8, nvtype='double', nvsize=8, Off_t='long long', lseeksize=8
    alignbytes=8, prototype=define
  Linker and Libraries:
    ld='g++', ldflags ='-s -L"C:\smoker\51821x64\perl\lib\CORE" -L"C:\smoker\51821x64\c\lib"'
    libpth=C:\smoker\51821x64\c\lib C:\smoker\51821x64\c\x86_64-w64-mingw32\lib C:\smoker\51821x64\c\lib\gcc\x86_64-w64-mingw32\4.7.3
    libs=-lmoldname -lkernel32 -luser32 -lgdi32 -lwinspool -lcomdlg32 -ladvapi32 -lshell32 -lole32 -loleaut32 -lnetapi32 -luuid -lws2_32 -lmpr -lwinmm -lversion -lodbc32 -lodbccp32 -lcomctl32
    perllibs=-lmoldname -lkernel32 -luser32 -lgdi32 -lwinspool -lcomdlg32 -ladvapi32 -lshell32 -lole32 -loleaut32 -lnetapi32 -luuid -lws2_32 -lmpr -lwinmm -lversion -lodbc32 -lodbccp32 -lcomctl32
    libc=, so=dll, useshrplib=true, libperl=libperl518.a
    gnulibc_version=''
  Dynamic Linking:
    dlsrc=dl_win32.xs, dlext=dll, d_dlsymun=undef, ccdlflags=' '
    cccdlflags=' ', lddlflags='-mdll -s -L"C:\smoker\51821x64\perl\lib\CORE" -L"C:\smoker\51821x64\c\lib"'


Characteristics of this binary (from libperl): 
  Compile-time options: HAS_TIMES HAVE_INTERP_INTERN MULTIPLICITY
                        PERLIO_LAYERS PERL_DONT_CREATE_GVSV
                        PERL_HASH_FUNC_ONE_AT_A_TIME_HARD
                        PERL_IMPLICIT_CONTEXT PERL_IMPLICIT_SYS
                        PERL_MALLOC_WRAP PERL_PRESERVE_IVUV PERL_SAWAMPERSAND
                        USE_64_BIT_INT USE_ITHREADS USE_LARGE_FILES
                        USE_LOCALE USE_LOCALE_COLLATE USE_LOCALE_CTYPE
                        USE_LOCALE_NUMERIC USE_PERLIO USE_PERL_ATOF
  Built under MSWin32
  Compiled at Jan  7 2014 22:40:30
  %ENV:
    PERL5_CPANPLUS_IS_RUNNING="2628"
    PERL5_CPAN_IS_RUNNING="2628"
    PERL5_CPAN_IS_RUNNING_IN_RECURSION="2328,2628"
    PERL_CR_SMOKER_CURRENT="CatalystX-Crudite-0.20"
    PERL_EXTUTILS_AUTOINSTALL="--defaultdeps"
    PERL_MM_USE_DEFAULT="1"
  @INC:
    C:/smoker/51821x64/perl/site/lib
    C:/smoker/51821x64/perl/vendor/lib
    C:/smoker/51821x64/perl/lib
    .