CXC-Exporter-Util v0.08 Perl 5 v5.41.4 x86_64-linux

Status
Pass
From
Slaven Rezić
Dist
CXC-Exporter-Util v0.08
Platform
Perl 5 v5.41.4 x86_64-linux
Date
2024-09-29 06:35:13
ID
fbad71b2-7e2c-11ef-8059-9cff6d8775ea
This distribution has been tested as part of the CPAN Testers
project, supporting the Perl programming language.  See
http://wiki.cpantesters.org/ for more information or email
questions to cpan-testers-discuss@perl.org


--
Dear Diab Jerius,

This is a computer-generated report for CXC-Exporter-Util-0.08
on perl 5.41.4, created by CPAN-Reporter-1.2020.

Thank you for uploading your work to CPAN.  Congratulations!
All tests were successful.

Sections of this report:

    * Tester comments
    * Program output
    * Prerequisites
    * Environment and other context

------------------------------
TESTER COMMENTS
------------------------------

Additional comments from tester:

none provided

------------------------------
PROGRAM OUTPUT
------------------------------

Output from './Build test':

t/00-compile.t ......... ok
# 
# Versions for all modules listed in MYMETA.json (including optional ones):
# 
# === Configure Requires ===
# 
#     Module               Want  Have
#     ------------------- ----- -----
#     Module::Build::Tiny 0.034 0.051
# 
# === Test Requires ===
# 
#     Module                  Want      Have
#     ------------------- -------- ---------
#     Exporter::Tiny           any  1.006002
#     ExtUtils::MakeMaker      any      7.70
#     File::Spec               any      3.93
#     IO::Handle               any      1.55
#     IPC::Open3               any      1.22
#     Import::Into             any  1.002005
#     Test2::V0                any  1.302204
#     Test::Lib                any     0.003
#     Test::More               any  1.302204
#     Type::Library            any 2.005_002
#     Type::Tiny          1.012000 2.005_002
#     Type::Tiny::Class        any 2.005_002
#     Type::Utils              any 2.005_002
#     base                     any      2.27
#     constant                 any      1.33
#     feature                  any      1.91
# 
# === Test Recommends ===
# 
#     Module         Want     Have
#     ---------- -------- --------
#     CPAN::Meta 2.120900 2.150010
# 
# === Runtime Requires ===
# 
#     Module          Want     Have
#     ------------ ------- --------
#     Carp             any     1.54
#     Exporter         any     5.78
#     Import::Into     any 1.002005
#     List::Util      1.45     1.66
#     Scalar::Util     any     1.66
#     experimental     any    0.032
#     perl         5.02200 5.041004
#     strict           any     1.13
#     warnings         any     1.70
# 
t/00-report-prereqs.t .. ok
"all" is not defined in %My::Exporter::Exporter::False::EXPORT_TAGS at /opt/perl-5.41.4/lib/site_perl/5.41.4/Import/Into.pm line 40.
t/all.t ................ ok
t/basic.t .............. ok
t/bugs/backcompat.t .... ok
t/constants.t .......... ok
t/types.t .............. ok
All tests successful.
Files=7, Tests=25,  1 wallclock secs ( 0.05 usr  0.01 sys +  0.99 cusr  0.15 csys =  1.20 CPU)
Result: PASS

------------------------------
PREREQUISITES
------------------------------

Prerequisite modules loaded:

requires:

    Module              Need     Have     
    ------------------- -------- ---------
    Carp                0        1.54     
    experimental        0        0.032    
    Exporter            0        5.78     
    Import::Into        0        1.002005 
    List::Util          1.45     1.66     
    perl                5.02200  5.041004 
    Scalar::Util        0        1.66     
    strict              0        1.13     
    warnings            0        1.70     

build_requires:

    Module              Need     Have     
    ------------------- -------- ---------
    base                0        2.27     
    constant            0        1.33     
    Exporter::Tiny      0        1.006002 
    ExtUtils::MakeMaker 0        7.70     
    feature             0        1.91     
    File::Spec          0        3.93     
    Import::Into        0        1.002005 
    IO::Handle          0        1.55     
    IPC::Open3          0        1.22     
    Test2::V0           0        1.302204 
    Test::Lib           0        0.003    
    Test::More          0        1.302204 
    Type::Library       0        2.005_002
    Type::Tiny          1.012000 2.005_002
    Type::Tiny::Class   0        2.005_002
    Type::Utils         0        2.005_002

configure_requires:

    Module              Need     Have     
    ------------------- -------- ---------
    Module::Build::Tiny 0.034    0.051    


------------------------------
ENVIRONMENT AND OTHER CONTEXT
------------------------------

Environment variables:

    LANG = C
    PATH = /usr/local/bin:/usr/bin:/bin:/usr/local/sbin:/usr/sbin:/sbin:/home/cpansand/bin/linux-gnu:/home/cpansand/bin/sh:/home/cpansand/bin:/usr/games:/home/cpansand/devel:/home/eserte/src/srezic-misc/scripts
    PERL5LIB = 
    PERL5OPT = 
    PERL5_CPANPLUS_IS_RUNNING = 1058144
    PERL5_CPAN_IS_RUNNING = 1058144
    PERL5_CPAN_IS_RUNNING_IN_RECURSION = 1044152,1058144
    PERLDOC = -MPod::Perldoc::ToTextOverstrike
    PERL_BATCH = yes
    PERL_CANARY_STABILITY_NOPROMPT = 1
    PERL_CPAN_REPORTER_CONFIG = /var/tmp/cpansmoker-1023/2024092906/cpanreporter_001_config.ini
    PERL_EXTUTILS_AUTOINSTALL = --defaultdeps
    PERL_USE_UNSAFE_INC = 1
    SHELL = /usr/bin/zsh
    TERM = screen
    TMPDIR = /var/tmp/cpansmoker-1023/2024092906

Perl special variables (and OS-specific diagnostics, for MSWin32):

    $^X = /opt/perl-5.41.4/bin/perl5.41.4
    $UID/$EUID = 1023 / 1023
    $GID = 1023 1023
    $EGID = 1023 1023

Perl module toolchain versions installed:

    Module              Have    
    ------------------- --------
    CPAN                2.37    
    CPAN::Meta          2.150010
    Cwd                 3.92    
    ExtUtils::CBuilder  0.280240
    ExtUtils::Command   7.70    
    ExtUtils::Install   2.22    
    ExtUtils::MakeMaker 7.70    
    ExtUtils::Manifest  1.75    
    ExtUtils::ParseXS   3.54    
    File::Spec          3.93    
    JSON                4.10    
    JSON::PP            4.16    
    Module::Build       0.4234  
    Module::Signature   n/a     
    Parse::CPAN::Meta   2.150010
    Test2               1.302204
    Test::Harness       3.50    
    Test::More          1.302204
    YAML                1.31    
    YAML::Syck          1.34    
    version             0.9933  


--

Summary of my perl5 (revision 5 version 41 subversion 4) configuration:
   
  Platform:
    osname=linux
    osvers=6.1.0-25-amd64
    archname=x86_64-linux
    uname='linux cloud5.bbbike.org 6.1.0-25-amd64 #1 smp preempt_dynamic debian 6.1.106-3 (2024-08-26) x86_64 gnulinux '
    config_args='-ds -e -Dprefix=/opt/perl-5.41.4 -Dusedevel -Dusemallocwrap=no -Dcf_email=srezic@cpan.org'
    hint=recommended
    useposix=true
    d_sigaction=define
    useithreads=undef
    usemultiplicity=undef
    use64bitint=define
    use64bitall=define
    uselongdouble=undef
    usemymalloc=n
    default_inc_excludes_dot=define
  Compiler:
    cc='cc'
    ccflags ='-fwrapv -fno-strict-aliasing -pipe -fstack-protector-strong -I/usr/local/include -D_LARGEFILE_SOURCE -D_FILE_OFFSET_BITS=64 -D_FORTIFY_SOURCE=2'
    optimize='-O2'
    cppflags='-fwrapv -fno-strict-aliasing -pipe -fstack-protector-strong -I/usr/local/include'
    ccversion=''
    gccversion='12.2.0'
    gccosandvers=''
    intsize=4
    longsize=8
    ptrsize=8
    doublesize=8
    byteorder=12345678
    doublekind=3
    d_longlong=define
    longlongsize=8
    d_longdbl=define
    longdblsize=16
    longdblkind=3
    ivtype='long'
    ivsize=8
    nvtype='double'
    nvsize=8
    Off_t='off_t'
    lseeksize=8
    alignbytes=8
    prototype=define
  Linker and Libraries:
    ld='cc'
    ldflags =' -fstack-protector-strong -L/usr/local/lib'
    libpth=/usr/local/lib /usr/lib/x86_64-linux-gnu /usr/lib /usr/lib64
    libs=-lpthread -lgdbm -ldb -ldl -lm -lcrypt -lutil -lc
    perllibs=-lpthread -ldl -lm -lcrypt -lutil -lc
    libc=/lib/x86_64-linux-gnu/libc.so.6
    so=so
    useshrplib=false
    libperl=libperl.a
    gnulibc_version='2.36'
  Dynamic Linking:
    dlsrc=dl_dlopen.xs
    dlext=so
    d_dlsymun=undef
    ccdlflags='-Wl,-E'
    cccdlflags='-fPIC'
    lddlflags='-shared -O2 -L/usr/local/lib -fstack-protector-strong'


Characteristics of this binary (from libperl): 
  Compile-time options:
    HAS_LONG_DOUBLE
    HAS_STRTOLD
    HAS_TIMES
    PERLIO_LAYERS
    PERL_COPY_ON_WRITE
    PERL_DONT_CREATE_GVSV
    PERL_HASH_FUNC_SIPHASH13
    PERL_HASH_USE_SBOX32
    PERL_OP_PARENT
    PERL_PRESERVE_IVUV
    PERL_USE_DEVEL
    PERL_USE_SAFE_PUTENV
    USE_64_BIT_ALL
    USE_64_BIT_INT
    USE_LARGE_FILES
    USE_LOCALE
    USE_LOCALE_COLLATE
    USE_LOCALE_CTYPE
    USE_LOCALE_NUMERIC
    USE_LOCALE_TIME
    USE_PERLIO
    USE_PERL_ATOF
  Built under linux
  Compiled at Sep 28 2024 08:44:34
  %ENV:
    PERL5LIB=""
    PERL5OPT=""
    PERL5_CPANPLUS_IS_RUNNING="1058144"
    PERL5_CPAN_IS_RUNNING="1058144"
    PERL5_CPAN_IS_RUNNING_IN_RECURSION="1044152,1058144"
    PERLDOC="-MPod::Perldoc::ToTextOverstrike"
    PERL_BATCH="yes"
    PERL_CANARY_STABILITY_NOPROMPT="1"
    PERL_CPAN_REPORTER_CONFIG="/var/tmp/cpansmoker-1023/2024092906/cpanreporter_001_config.ini"
    PERL_EXTUTILS_AUTOINSTALL="--defaultdeps"
    PERL_USE_UNSAFE_INC="1"
  @INC:
    /opt/perl-5.41.4/lib/site_perl/5.41.4/x86_64-linux
    /opt/perl-5.41.4/lib/site_perl/5.41.4
    /opt/perl-5.41.4/lib/5.41.4/x86_64-linux
    /opt/perl-5.41.4/lib/5.41.4
    .