Report for Dist-Zilla-Plugin-GenerateFile-ShareDir-0.004

Back
From: metabase:user:1eed3a18-483e-11e2-a87b-a3931c712682
Subject: PASS Dist-Zilla-Plugin-GenerateFile-ShareDir-0.004 v5.16.3 Mac OS X
Date: 2014-01-13T07:04:45Z

This distribution has been tested as part of the CPAN Testers
project, supporting the Perl programming language.  See
http://wiki.cpantesters.org/ for more information or email
questions to cpan-testers-discuss@perl.org


--
Dear ETHER,

This is a computer-generated report for Dist-Zilla-Plugin-GenerateFile-ShareDir-0.004
on perl 5.16.3, created by App::cpanminus::reporter 0.10 (1.7000).

Thank you for uploading your work to CPAN.  Congratulations!
All tests were successful.

Sections of this report:

    * Tester comments
    * Program output
    * Prerequisites
    * Environment and other context

------------------------------
TESTER COMMENTS
------------------------------

Additional comments from tester:

none provided

------------------------------
PROGRAM OUTPUT
------------------------------

Output from '':

Building and testing Dist-Zilla-Plugin-GenerateFile-ShareDir-0.004
cp lib/Dist/Zilla/Plugin/GenerateFile/ShareDir.pm blib/lib/Dist/Zilla/Plugin/GenerateFile/ShareDir.pm
# 
# Versions for all modules listed in MYMETA.json (including optional ones):
#    Version Module                         
#   -------- -------------------------------
#   2.133380 CPAN::Meta                     
#      2.125 CPAN::Meta::Requirements       
#      5.011 Dist::Zilla::File::InMemory    
#      5.011 Dist::Zilla::Role::FileGatherer
#      5.011 Dist::Zilla::Role::FileMunger  
#      5.011 Dist::Zilla::Role::TextTemplate
#       2.57 Encode                         
#       6.86 ExtUtils::MakeMaker            
#       1.03 File::ShareDir                 
#       3.40 File::Spec::Functions          
#       1.35 List::Util                     
#      0.030 Module::Build::Tiny            
#     2.1201 Moose                          
#        1.2 MooseX::SlurpyConstructor      
#      0.051 Path::Tiny                     
#       1.35 Scalar::Util                   
#      5.011 Test::DZil                     
#      0.4.1 Test::File::ShareDir           
#   1.001002 Test::More                     
#     0.0602 if                             
#       0.15 namespace::autoclean           
#       1.07 strict                         
#       1.09 utf8                           
#       1.13 warnings                       
t/00-report-prereqs.t .. ok
t/01-basic.t ........... ok
t/02-other-encoding.t .. ok
All tests successful.
Files=3, Tests=12,  2 wallclock secs ( 0.03 usr  0.00 sys +  2.09 cusr  0.11 csys =  2.23 CPU)
Result: PASS

------------------------------
PREREQUISITES
------------------------------

Prerequisite modules loaded:

    No requirements found

------------------------------
ENVIRONMENT AND OTHER CONTEXT
------------------------------

Environment variables:

    LANG = en_US.UTF-8
    LC_ALL = en_US.UTF-8
    LC_CTYPE = en_US.UTF-8
    PATH = /Users/stas/perl5/perlbrew/bin:/Users/stas/perl5/perlbrew/perls/perl-5.16.3/bin:/Users/stas/.vim/bin:/Users/stas/bin:/Users/stas/node_modules/.bin:/opt/local/Library/Frameworks/Python.framework/Versions/2.7/bin:/opt/local/lib/postgresql92/bin:/opt/local/bin:/opt/local/sbin:/usr/bin:/bin:/usr/sbin:/sbin:/usr/local/bin:/opt/X11/bin:/Users/stas/.vim/bin:/Users/stas/bin:/Users/stas/node_modules/.bin:/opt/local/Library/Frameworks/Python.framework/Versions/2.7/bin:/opt/local/lib/postgresql92/bin:/opt/local/bin:/opt/local/sbin
    PERLBREW_BASHRC_VERSION = 0.65
    PERLBREW_HOME = /Users/stas/.perlbrew
    PERLBREW_MANPATH = /Users/stas/perl5/perlbrew/perls/perl-5.16.3/man
    PERLBREW_PATH = /Users/stas/perl5/perlbrew/bin:/Users/stas/perl5/perlbrew/perls/perl-5.16.3/bin
    PERLBREW_PERL = perl-5.16.3
    PERLBREW_ROOT = /Users/stas/perl5/perlbrew
    PERLBREW_VERSION = 0.65
    PERL_MM_USE_DEFAULT = 1
    SHELL = /opt/local/bin/zsh
    TERM = screen
    TMPDIR = /var/folders/k7/cj2hxbn162362g2150r7t9480000gn/T/

Perl special variables (and OS-specific diagnostics, for MSWin32):

    EGID = 20 20 508 12 61 79 80 81 98 398 399 33 100 204
    EUID = 501
    EXECUTABLE_NAME = /Users/stas/perl5/perlbrew/perls/perl-5.16.3/bin/perl
    GID = 20 20 508 12 61 79 80 81 98 398 399 33 100 204
    UID = 501

Perl module toolchain versions installed:

    Module              Have    
    ------------------- --------
    CPAN                2.00    
    CPAN::Meta          2.133380
    Cwd                 3.40    
    ExtUtils::CBuilder  0.280212
    ExtUtils::Command   1.18    
    ExtUtils::Install   1.58    
    ExtUtils::MakeMaker 6.86    
    ExtUtils::Manifest  1.63    
    ExtUtils::ParseXS   3.22    
    File::Spec          3.40    
    JSON                2.90    
    JSON::PP            2.27203 
    Module::Build       0.4204  
    Module::Signature   0.73    
    Parse::CPAN::Meta   1.4409  
    Test::Harness       3.30    
    Test::More          1.001002
    YAML                0.88    
    YAML::Syck          1.27    
    version             0.9906  


--

Summary of my perl5 (revision 5 version 16 subversion 3) configuration:
   
  Platform:
    osname=darwin, osvers=13.0.0, archname=darwin-2level
    uname='darwin stas-macbook 13.0.0 darwin kernel version 13.0.0: thu sep 19 22:22:27 pdt 2013; root:xnu-2422.1.72~6release_x86_64 x86_64 '
    config_args='-de -Dprefix=/Users/stas/perl5/perlbrew/perls/perl-5.16.3 -Aeval:scriptdir=/Users/stas/perl5/perlbrew/perls/perl-5.16.3/bin'
    hint=recommended, useposix=true, d_sigaction=define
    useithreads=undef, usemultiplicity=undef
    useperlio=define, d_sfio=undef, uselargefiles=define, usesocks=undef
    use64bitint=define, use64bitall=define, uselongdouble=undef
    usemymalloc=n, bincompat5005=undef
  Compiler:
    cc='cc', ccflags ='-fno-common -DPERL_DARWIN -fno-strict-aliasing -pipe -fstack-protector -I/opt/local/include',
    optimize='-O3',
    cppflags='-fno-common -DPERL_DARWIN -fno-strict-aliasing -pipe -fstack-protector -I/opt/local/include'
    ccversion='', gccversion='4.2.1 Compatible Apple LLVM 5.0 (clang-500.2.79)', gccosandvers=''
    intsize=4, longsize=8, ptrsize=8, doublesize=8, byteorder=12345678
    d_longlong=define, longlongsize=8, d_longdbl=define, longdblsize=16
    ivtype='long', ivsize=8, nvtype='double', nvsize=8, Off_t='off_t', lseeksize=8
    alignbytes=8, prototype=define
  Linker and Libraries:
    ld='env MACOSX_DEPLOYMENT_TARGET=10.3 cc', ldflags =' -fstack-protector -L/usr/local/lib -L/opt/local/lib'
    libpth=/usr/local/lib /opt/local/lib /usr/lib
    libs=-lgdbm -ldbm -ldl -lm -lutil -lc
    perllibs=-ldl -lm -lutil -lc
    libc=, so=dylib, useshrplib=false, libperl=libperl.a
    gnulibc_version=''
  Dynamic Linking:
    dlsrc=dl_dlopen.xs, dlext=bundle, d_dlsymun=undef, ccdlflags=' '
    cccdlflags=' ', lddlflags=' -bundle -undefined dynamic_lookup -L/usr/local/lib -L/opt/local/lib -fstack-protector'


Characteristics of this binary (from libperl): 
  Compile-time options: HAS_TIMES PERLIO_LAYERS PERL_DONT_CREATE_GVSV
                        PERL_MALLOC_WRAP PERL_PRESERVE_IVUV USE_64_BIT_ALL
                        USE_64_BIT_INT USE_LARGE_FILES USE_LOCALE
                        USE_LOCALE_COLLATE USE_LOCALE_CTYPE
                        USE_LOCALE_NUMERIC USE_PERLIO USE_PERL_ATOF
  Built under darwin
  Compiled at Dec 24 2013 21:09:42
  %ENV:
    PERLBREW_BASHRC_VERSION="0.65"
    PERLBREW_HOME="/Users/stas/.perlbrew"
    PERLBREW_MANPATH="/Users/stas/perl5/perlbrew/perls/perl-5.16.3/man"
    PERLBREW_PATH="/Users/stas/perl5/perlbrew/bin:/Users/stas/perl5/perlbrew/perls/perl-5.16.3/bin"
    PERLBREW_PERL="perl-5.16.3"
    PERLBREW_ROOT="/Users/stas/perl5/perlbrew"
    PERLBREW_VERSION="0.65"
    PERL_MM_USE_DEFAULT="1"
  @INC:
    /Users/stas/perl5/perlbrew/perls/perl-5.16.3/lib/site_perl/5.16.3/darwin-2level
    /Users/stas/perl5/perlbrew/perls/perl-5.16.3/lib/site_perl/5.16.3
    /Users/stas/perl5/perlbrew/perls/perl-5.16.3/lib/5.16.3/darwin-2level
    /Users/stas/perl5/perlbrew/perls/perl-5.16.3/lib/5.16.3
    .