Bat-Interpreter v0.024 Perl 5 v5.16.3 x86_64-linux

Status
Pass
From
Slaven Rezić (SREZIC)
Dist
Bat-Interpreter v0.024
Platform
Perl 5 v5.16.3 x86_64-linux
Date
2020-08-17 18:17:59
ID
fb69b602-e0b5-11ea-8f9c-ea1e1f24ea8f
This distribution has been tested as part of the CPAN Testers
project, supporting the Perl programming language.  See
http://wiki.cpantesters.org/ for more information or email
questions to cpan-testers-discuss@perl.org


--
Dear Pablo Rodriguez,

This is a computer-generated report for Bat-Interpreter-0.024
on perl 5.16.3, created by CPAN-Reporter-1.2018.

Thank you for uploading your work to CPAN.  Congratulations!
All tests were successful.

Sections of this report:

    * Tester comments
    * Program output
    * Prerequisites
    * Environment and other context

------------------------------
TESTER COMMENTS
------------------------------

Additional comments from tester:

none provided

------------------------------
PROGRAM OUTPUT
------------------------------

Output from './Build test':

t/00-load.t ........................................ ok
t/01-basic.t ....................................... ok
t/02-comparison.t .................................. ok
t/03-negated_condition.t ........................... ok
t/04-substring_manipulation.t ...................... ok
t/05-NEQ_operator.t ................................ ok
t/06-EQU_operator.t ................................ ok
t/07-LSS_operator.t ................................ ok
t/08-LEQ_operator.t ................................ ok
t/09-GEQ_operator.t ................................ ok
t/10-call_command.t ................................ ok
t/10-call_command_path_with_colon.t ................ ok
t/11-for_loop.t .................................... ok
t/12-env_variables.t ............................... ok
t/13-comparison_with_spaces.t ...................... ok
t/13-error_on_unsupported_condition.t .............. skipped: All parsed conditions supported. Waiting for support in App::BatParser for more conditions
t/14-if_exists_with_variable_substitution.t ........ ok
t/14-if_exists_without_variable_substitution.t ..... ok
t/15-NEQ_mixedcase_operator.t ...................... ok
t/16-LEQ_mixedcase_operator.t ...................... ok
t/17-line_logger.t ................................. ok
t/18-call_subroutine_label.t ....................... ok
t/19-call_subroutine_label_exit.t .................. ok
t/20-goto_eof_with_previous_goto.t ................. ok
t/21-if_exists_glob_with_variable_substitution.t ... ok
t/21-if_exists_glob_without_variable_substution.t .. ok
t/author-pod-coverage.t ............................ skipped: these tests are for testing by the author
t/author-pod-syntax.t .............................. skipped: these tests are for testing by the author
t/author-synopsis.t ................................ skipped: these tests are for testing by the author
All tests successful.
Files=29, Tests=26,  4 wallclock secs ( 0.05 usr  0.19 sys +  2.89 cusr  0.58 csys =  3.71 CPU)
Result: PASS

------------------------------
PREREQUISITES
------------------------------

Prerequisite modules loaded:

requires:

    Module               Need  Have    
    -------------------- ----- --------
    App::BatParser       0.011 0.011   
    Carp                 0     1.50    
    Data::Dumper         0     2.173   
    File::Glob           0     1.17    
    Moo                  0     2.004000
    Moo::Role            0     2.004000
    namespace::autoclean 0     0.29    
    Path::Tiny           0     0.114   
    perl                 5.014 5.016003
    Types::Standard      0     1.010003
    utf8                 0     1.09    

build_requires:

    Module               Need  Have    
    -------------------- ----- --------
    English              0     1.05    
    Module::Build        0.28  0.4231  
    strict               0     1.07    
    Test::Exception      0     0.43    
    Test::More           0     1.302177
    Test::Most           0     0.37    
    warnings             0     1.13    

configure_requires:

    Module               Need  Have    
    -------------------- ----- --------
    Module::Build        0.28  0.4231  


------------------------------
ENVIRONMENT AND OTHER CONTEXT
------------------------------

Environment variables:

    LANG = en_US.UTF-8
    PATH = /usr/local/bin:/usr/bin:/bin:/usr/local/sbin:/usr/sbin:/sbin:/home/cpansand/bin/linux-gnu:/home/cpansand/bin/sh:/home/cpansand/bin:/usr/games:/home/cpansand/devel:/home/eserte/src/srezic-misc/scripts
    PERL5LIB = 
    PERL5OPT = 
    PERL5_CPANPLUS_IS_RUNNING = 5782
    PERL5_CPAN_IS_RUNNING = 5782
    PERL5_CPAN_IS_RUNNING_IN_RECURSION = 5432,5782
    PERLDOC = -MPod::Perldoc::ToTextOverstrike
    PERL_BATCH = yes
    PERL_CANARY_STABILITY_NOPROMPT = 1
    PERL_CPAN_REPORTER_CONFIG = /var/tmp/cpansmoker-1023/2020081717/cpanreporter_000_config.ini
    PERL_EXTUTILS_AUTOINSTALL = --defaultdeps
    PERL_USE_UNSAFE_INC = 1
    SHELL = /usr/bin/zsh
    TERM = screen
    TMPDIR = /var/tmp/cpansmoker-1023/2020081717

Perl special variables (and OS-specific diagnostics, for MSWin32):

    $^X = /opt/perl-5.16.3/bin/perl
    $UID/$EUID = 1023 / 1023
    $GID = 1023 1023
    $EGID = 1023 1023

Perl module toolchain versions installed:

    Module              Have    
    ------------------- --------
    CPAN                2.27    
    CPAN::Meta          2.150010
    Cwd                 3.75    
    ExtUtils::CBuilder  0.280231
    ExtUtils::Command   7.46    
    ExtUtils::Install   2.06    
    ExtUtils::MakeMaker 7.46    
    ExtUtils::Manifest  1.70    
    ExtUtils::ParseXS   3.35    
    File::Spec          3.75    
    JSON                4.02    
    JSON::PP            4.05    
    Module::Build       0.4231  
    Module::Signature   n/a     
    Parse::CPAN::Meta   2.150010
    Test::Harness       3.42    
    Test::More          1.302177
    YAML                1.29    
    YAML::Syck          1.31    
    version             0.9924  


--

Summary of my perl5 (revision 5 version 16 subversion 3) configuration:
   
  Platform:
    osname=linux, osvers=4.4.0-157-generic, archname=x86_64-linux
    uname='linux ubuntu16 4.4.0-157-generic #185-ubuntu smp tue jul 23 09:17:01 utc 2019 x86_64 x86_64 x86_64 gnulinux '
    config_args='-ds -e -Dprefix=/opt/perl-5.16.3 -Dcf_email=srezic@cpan.org'
    hint=recommended, useposix=true, d_sigaction=define
    useithreads=undef, usemultiplicity=undef
    useperlio=define, d_sfio=undef, uselargefiles=define, usesocks=undef
    use64bitint=define, use64bitall=define, uselongdouble=undef
    usemymalloc=n, bincompat5005=undef
  Compiler:
    cc='cc', ccflags ='-fwrapv -fno-strict-aliasing -pipe -fstack-protector -I/usr/local/include -D_LARGEFILE_SOURCE -D_FILE_OFFSET_BITS=64',
    optimize='-O2',
    cppflags='-fwrapv -fno-strict-aliasing -pipe -fstack-protector -I/usr/local/include'
    ccversion='', gccversion='5.4.0 20160609', gccosandvers=''
    intsize=4, longsize=8, ptrsize=8, doublesize=8, byteorder=12345678
    d_longlong=define, longlongsize=8, d_longdbl=define, longdblsize=16
    ivtype='long', ivsize=8, nvtype='double', nvsize=8, Off_t='off_t', lseeksize=8
    alignbytes=8, prototype=define
  Linker and Libraries:
    ld='cc', ldflags =' -fstack-protector -L/usr/local/lib'
    libpth=/usr/local/lib /lib/x86_64-linux-gnu /lib/../lib /usr/lib/x86_64-linux-gnu /usr/lib/../lib /lib /usr/lib
    libs=-lnsl -lgdbm -ldb -ldl -lm -lcrypt -lutil -lc -lgdbm_compat
    perllibs=-lnsl -ldl -lm -lcrypt -lutil -lc
    libc=libc-2.23.so, so=so, useshrplib=false, libperl=libperl.a
    gnulibc_version='2.23'
  Dynamic Linking:
    dlsrc=dl_dlopen.xs, dlext=so, d_dlsymun=undef, ccdlflags='-Wl,-E'
    cccdlflags='-fPIC', lddlflags='-shared -O2 -L/usr/local/lib -fstack-protector'


Characteristics of this binary (from libperl): 
  Compile-time options: HAS_TIMES PERLIO_LAYERS PERL_DONT_CREATE_GVSV
                        PERL_MALLOC_WRAP PERL_PRESERVE_IVUV USE_64_BIT_ALL
                        USE_64_BIT_INT USE_LARGE_FILES USE_LOCALE
                        USE_LOCALE_COLLATE USE_LOCALE_CTYPE
                        USE_LOCALE_NUMERIC USE_PERLIO USE_PERL_ATOF
  Locally applied patches:
	Devel::PatchPerl 1.64
  Built under linux
  Compiled at Aug  6 2019 21:04:50
  %ENV:
    PERL5LIB=""
    PERL5OPT=""
    PERL5_CPANPLUS_IS_RUNNING="5782"
    PERL5_CPAN_IS_RUNNING="5782"
    PERL5_CPAN_IS_RUNNING_IN_RECURSION="5432,5782"
    PERLDOC="-MPod::Perldoc::ToTextOverstrike"
    PERL_BATCH="yes"
    PERL_CANARY_STABILITY_NOPROMPT="1"
    PERL_CPAN_REPORTER_CONFIG="/var/tmp/cpansmoker-1023/2020081717/cpanreporter_000_config.ini"
    PERL_EXTUTILS_AUTOINSTALL="--defaultdeps"
    PERL_USE_UNSAFE_INC="1"
  @INC:
    /opt/perl-5.16.3/lib/site_perl/5.16.3/x86_64-linux
    /opt/perl-5.16.3/lib/site_perl/5.16.3
    /opt/perl-5.16.3/lib/5.16.3/x86_64-linux
    /opt/perl-5.16.3/lib/5.16.3
    .