Report for HPC-Runner-Command-Plugin-Logger-Sqlite-0.0.4

Back
From: metabase:user:314402c4-2aae-11df-837a-5e0a49663a4f
Subject: PASS HPC-Runner-Command-Plugin-Logger-Sqlite-0.0.4 v5.18.4 FreeBSD
Date: 2017-05-01T07:51:27Z

This distribution has been tested as part of the CPAN Testers
project, supporting the Perl programming language.  See
http://wiki.cpantesters.org/ for more information or email
questions to cpan-testers-discuss@perl.org


--
Dear Jillian Rowe,

This is a computer-generated report for HPC-Runner-Command-Plugin-Logger-Sqlite-0.0.4
on perl 5.18.4, created by CPAN-Reporter-1.2018.

Thank you for uploading your work to CPAN.  Congratulations!
All tests were successful.

Sections of this report:

    * Tester comments
    * Program output
    * Prerequisites
    * Environment and other context

------------------------------
TESTER COMMENTS
------------------------------

Additional comments from tester:

none provided

------------------------------
PROGRAM OUTPUT
------------------------------

Output from './Build test':

t/author-pod-syntax.t .. skipped: these tests are for testing by the author
t/basic.t .............. ok
[2017/05/01 07:22:09] Loaded plugin Dummy 
[2017/05/01 07:22:09] Loaded plugin Logger::Sqlite 
[2017/05/01 07:22:10] Saving to sqlite db as submission id : 1 
[2017/05/01 07:22:10] Here is your tabular dependency list in alphabetical order 
[2017/05/01 07:22:10] 

.--------------------------------.
| JobName    | Deps | Task Count |
+------------+------+------------+
| hpcjob_001 |      |          4 |
'------------+------+------------'
 
[2017/05/01 07:22:10] Beginning to submit jobs to the scheduler 
[2017/05/01 07:22:10] Schedule is hpcjob_001
 
[2017/05/01 07:22:10] Submitting all hpcjob_001 job types 
[2017/05/01 07:22:10] SUBMITTING DUMMY JOB /tmp/hpcrunner/gAW4To9L/hpc-runner/0.01/scratch/001_hpcjob_001.sh
	With dummy jobid 1234 
[2017/05/01 07:22:10] There are 4 tasks for job type hpcjob_001 
[2017/05/01 07:22:10] Submitted in 1 job arrays.
 
[2017/05/01 07:22:10] Job Summary 
[2017/05/01 07:22:10] 
.--------------------------------------------------------.
| Job Name   | Scheduler ID | Task Indices | Total Tasks |
+------------+--------------+--------------+-------------+
| hpcjob_001 |         1234 | 1-4          |           4 |
'------------+--------------+--------------+-------------'
 
[2017/05/01 07:22:11] Loaded plugin Logger::Sqlite 
t/test_class_tests.t ... ok
All tests successful.
Files=3, Tests=2, 19 wallclock secs ( 0.01 usr  0.04 sys +  0.62 cusr  1.87 csys =  2.54 CPU)
Result: PASS

------------------------------
PREREQUISITES
------------------------------

Prerequisite modules loaded:

requires:

    Module                     Need  Have    
    -------------------------- ----- --------
    base                       0     2.18    
    Cwd                        0     3.62    
    Data::Dumper               0     2.161   
    DateTime                   0     1.42    
    DBIx::Class::Core          0     0       
    DBIx::Class::Schema        0     0       
    HPC::Runner::Command       0     3.1.5   
    JSON                       0     2.90    
    JSON::XS                   0     3.03    
    Log::Log4perl              0     1.48    
    Moose::Role                0     2.2001  
    MooseX::App::Command       0     0       
    strict                     0     1.07    
    Text::ASCIITable           0     0.20    
    utf8                       0     1.10    
    warnings                   0     1.18    

build_requires:

    Module                     Need  Have    
    -------------------------- ----- --------
    Capture::Tiny              0     0.46    
    File::Path                 0     2.12    
    File::Slurp                0     9999.19 
    File::Spec::Functions      0     3.62    
    FindBin                    0     1.51    
    IPC::Cmd                   0     0.96    
    Slurp                      0     0.4     
    Test::Class::Moose         0     0.82    
    Test::Class::Moose::Load   0     0.82    
    Test::Class::Moose::Runner 0     0.82    
    Test::More                 0     1.302083

configure_requires:

    Module                     Need  Have    
    -------------------------- ----- --------
    Module::Build::Tiny        0.034 0.039   


------------------------------
ENVIRONMENT AND OTHER CONTEXT
------------------------------

Environment variables:

    LC_ALL = de_DE.ISO8859-1
    PATH = /usr/local/bin:/usr/bin:/bin:/usr/local/sbin:/usr/sbin:/sbin:/home/cpansand/bin/freebsd10.3:/home/cpansand/bin/sh:/home/cpansand/bin:/usr/games:/home/cpansand/devel:/home/eserte/src/srezic-misc/scripts
    PERL5LIB = /home/cpansand/.cpan/build/2017050106/HPC-Runner-Command-3.1.5-0/blib/arch:/home/cpansand/.cpan/build/2017050106/HPC-Runner-Command-3.1.5-0/blib/lib
    PERL5OPT = 
    PERL5_CPANPLUS_IS_RUNNING = 24768
    PERL5_CPAN_IS_RUNNING = 24768
    PERL5_CPAN_IS_RUNNING_IN_RECURSION = 24733,24768
    PERLDOC = -MPod::Perldoc::ToTextOverstrike
    PERL_BATCH = yes
    PERL_CANARY_STABILITY_NOPROMPT = 1
    PERL_CPAN_REPORTER_CONFIG = /var/tmp/cpansmoker-1023/2017050106/cpanreporter_000_config.ini
    PERL_EXTUTILS_AUTOINSTALL = --defaultdeps
    SHELL = /usr/local/bin/zsh
    TERM = screen
    TMPDIR = /var/tmp/cpansmoker-1023/2017050106

Perl special variables (and OS-specific diagnostics, for MSWin32):

    $^X = /usr/perl5.18.4p/bin/perl5.18.4
    $UID/$EUID = 1023 / 1023
    $GID = 1023 1023
    $EGID = 1023 1023

Perl module toolchain versions installed:

    Module              Have    
    ------------------- --------
    CPAN                2.16    
    CPAN::Meta          2.150010
    Cwd                 3.62    
    ExtUtils::CBuilder  0.280224
    ExtUtils::Command   7.24    
    ExtUtils::Install   2.04    
    ExtUtils::MakeMaker 7.24    
    ExtUtils::Manifest  1.70    
    ExtUtils::ParseXS   3.24    
    File::Spec          3.62    
    JSON                2.90    
    JSON::PP            2.27400 
    Module::Build       0.4222  
    Module::Signature   0.79    
    Parse::CPAN::Meta   2.150010
    Test::Harness       3.38    
    Test::More          1.302083
    YAML                1.21    
    YAML::Syck          1.29    
    version             0.9917  


--

Summary of my perl5 (revision 5 version 18 subversion 4) configuration:
   
  Platform:
    osname=freebsd, osvers=10.1-release, archname=amd64-freebsd
    uname='freebsd cvrsnica-freebsd-101.herceg.de 10.1-release freebsd 10.1-release #0 r274401: tue nov 11 21:02:49 utc 2014 root@releng1.nyi.freebsd.org:usrobjusrsrcsysgeneric amd64 '
    config_args='-ds -e -Dprefix=/usr/perl5.18.4p'
    hint=recommended, useposix=true, d_sigaction=define
    useithreads=undef, usemultiplicity=undef
    useperlio=define, d_sfio=undef, uselargefiles=define, usesocks=undef
    use64bitint=define, use64bitall=define, uselongdouble=undef
    usemymalloc=n, bincompat5005=undef
  Compiler:
    cc='cc', ccflags ='-DHAS_FPSETMASK -DHAS_FLOATINGPOINT_H -fno-strict-aliasing -pipe -fstack-protector -I/usr/local/include',
    optimize='-O',
    cppflags='-DHAS_FPSETMASK -DHAS_FLOATINGPOINT_H -fno-strict-aliasing -pipe -fstack-protector -I/usr/local/include'
    ccversion='', gccversion='4.2.1 Compatible FreeBSD Clang 3.4.1 (tags/RELEASE_34/dot1-final 208032)', gccosandvers=''
    intsize=4, longsize=8, ptrsize=8, doublesize=8, byteorder=12345678
    d_longlong=define, longlongsize=8, d_longdbl=define, longdblsize=16
    ivtype='long', ivsize=8, nvtype='double', nvsize=8, Off_t='off_t', lseeksize=8
    alignbytes=8, prototype=define
  Linker and Libraries:
    ld='cc', ldflags ='-pthread -Wl,-E  -fstack-protector -L/usr/local/lib'
    libpth=/usr/lib /usr/local/lib
    libs=-lgdbm -lm -lcrypt -lutil -lc
    perllibs=-lm -lcrypt -lutil -lc
    libc=, so=so, useshrplib=false, libperl=libperl.a
    gnulibc_version=''
  Dynamic Linking:
    dlsrc=dl_dlopen.xs, dlext=so, d_dlsymun=undef, ccdlflags=' '
    cccdlflags='-DPIC -fPIC', lddlflags='-shared  -L/usr/local/lib -fstack-protector'


Characteristics of this binary (from libperl): 
  Compile-time options: HAS_TIMES PERLIO_LAYERS PERL_DONT_CREATE_GVSV
                        PERL_HASH_FUNC_ONE_AT_A_TIME_HARD PERL_MALLOC_WRAP
                        PERL_PRESERVE_IVUV PERL_SAWAMPERSAND USE_64_BIT_ALL
                        USE_64_BIT_INT USE_LARGE_FILES USE_LOCALE
                        USE_LOCALE_COLLATE USE_LOCALE_CTYPE
                        USE_LOCALE_NUMERIC USE_PERLIO USE_PERL_ATOF
  Built under freebsd
  Compiled at Apr  4 2015 13:03:15
  %ENV:
    PERL5LIB="/home/cpansand/.cpan/build/2017050106/HPC-Runner-Command-3.1.5-0/blib/arch:/home/cpansand/.cpan/build/2017050106/HPC-Runner-Command-3.1.5-0/blib/lib"
    PERL5OPT=""
    PERL5_CPANPLUS_IS_RUNNING="24768"
    PERL5_CPAN_IS_RUNNING="24768"
    PERL5_CPAN_IS_RUNNING_IN_RECURSION="24733,24768"
    PERLDOC="-MPod::Perldoc::ToTextOverstrike"
    PERL_BATCH="yes"
    PERL_CANARY_STABILITY_NOPROMPT="1"
    PERL_CPAN_REPORTER_CONFIG="/var/tmp/cpansmoker-1023/2017050106/cpanreporter_000_config.ini"
    PERL_EXTUTILS_AUTOINSTALL="--defaultdeps"
  @INC:
    /home/cpansand/.cpan/build/2017050106/HPC-Runner-Command-3.1.5-0/blib/arch
    /home/cpansand/.cpan/build/2017050106/HPC-Runner-Command-3.1.5-0/blib/lib
    /usr/perl5.18.4p/lib/site_perl/5.18.4/amd64-freebsd
    /usr/perl5.18.4p/lib/site_perl/5.18.4
    /usr/perl5.18.4p/lib/5.18.4/amd64-freebsd
    /usr/perl5.18.4p/lib/5.18.4
    .