Kelp-Module-Template-XslateTT v1.002 Perl 5 v5.18.4 x86_64-linux-thread-multi

Status
Pass
From
Serguei Trouchelle (STRO)
Dist
Kelp-Module-Template-XslateTT v1.002
Platform
Perl 5 v5.18.4 x86_64-linux-thread-multi
Date
2018-12-13 10:29:32
ID
fb0b2984-fec1-11e8-b68b-92c722281c79
This distribution has been tested as part of the CPAN Testers
project, supporting the Perl programming language.  See
http://wiki.cpantesters.org/ for more information or email
questions to cpan-testers-discuss@perl.org


--
Dear Serguei Trouchelle,

This is a computer-generated report for Kelp-Module-Template-XslateTT-1.002
on perl 5.18.4, created by CPAN-Reporter-1.2018.

Thank you for uploading your work to CPAN.  Congratulations!
All tests were successful.

Sections of this report:

    * Tester comments
    * Program output
    * Prerequisites
    * Environment and other context

------------------------------
TESTER COMMENTS
------------------------------

Additional comments from tester:

this report is from an automated smoke testing program
and was not reviewed by a human for accuracy

------------------------------
PROGRAM OUTPUT
------------------------------

Output from '/usr/bin/make test':

PERL_DL_NONLAZY=1 "/home/stro/perl/5.18.4t/bin/perl" "-MExtUtils::Command::MM" "-MTest::Harness" "-e" "undef *Test::Harness::Switches; test_harness(0, 'blib/lib', 'blib/arch')" t/*.t t/00-compile/*.t
# Listing %INC
#           B::Hooks::EndOfScope 0.21
#       B::Hooks::EndOfScope::XS 0.21
#                           Carp 1.50
#                            Cwd 3.75
#              Data::MessagePack 1.00
#                       Exporter 5.73
#                     File::Spec 3.75
#               File::Spec::Unix 3.75
#                     Kelp::Base undef
#                   Kelp::Module undef
#         Kelp::Module::Template undef
# Kelp::Module::Template::Xslate 0.01
#                 Kelp::Template undef
#                     List::Util 1.5
#         Module::Implementation 0.09
#                Module::Runtime 0.016
#                 Package::Stash 0.37
#             Package::Stash::XS 0.28
#                   Scalar::Util 1.5
#     Sub::Exporter::Progressive 0.001013
#                  Sub::Identify 0.14
#                      Sub::Util 1.5
#                 Template::Tiny 1.12
#                   Text::Xslate v3.5.6
#             Text::Xslate::Util undef
#                      Try::Tiny 0.30
#                Variable::Magic 0.62
#                       XSLoader 0.24
#                           base 2.18
#                       constant 1.33
#                        feature 1.32
#           namespace::autoclean 0.28
#               namespace::clean 0.27
#        namespace::clean::_Util undef
#                    overloading 0.02
#                         parent 0.237
#                         strict 1.07
#                           vars 1.03
#                        version 0.9918
#                 version::regex 0.9918
#                   version::vxs 0.9918
#                       warnings 1.18
#             warnings::register 1.02
t/00-all_prereqs.t ................................... ok
t/00-compile.t ....................................... ok
t/00-compile/lib_Kelp_Module_Template_XslateTT_pm.t .. ok
# 
# Versions for all modules listed in MYMETA.json (including optional ones):
# 
# === Configure Requires ===
# 
#     Module              Want Have
#     ------------------- ---- ----
#     ExtUtils::MakeMaker  any 7.34
# 
# === Build Requires ===
# 
#     Module              Want Have
#     ------------------- ---- ----
#     ExtUtils::MakeMaker  any 7.34
# 
# === Test Requires ===
# 
#     Module              Want     Have
#     ------------------- ---- --------
#     ExtUtils::MakeMaker  any     7.34
#     File::Spec           any     3.75
#     IO::Handle           any     1.34
#     IPC::Open3           any     1.13
#     Test::More           any 1.302140
# 
# === Test Recommends ===
# 
#     Module         Want     Have
#     ---------- -------- --------
#     CPAN::Meta 2.120900 2.150010
# 
# === Runtime Requires ===
# 
#     Module                         Want Have
#     ------------------------------ ---- ----
#     Kelp::Module::Template::Xslate 0.01 0.01
# 
t/00-report-prereqs.t ................................ ok
# Testing with Perl 5.018004, /home/stro/perl/5.18.4t/bin/perl
#     ExtUtils::MakeMaker version is 7.34
#     File::Spec version is 3.75
#     IO::Handle version is 1.34
#     IPC::Open3 version is 1.13
#     Kelp::Module::Template::Xslate version is 0.01
#     Test::More version is 1.302140
t/000-report-versions.t .............................. ok
t/01sanity.t ......................................... ok
t/02template.t ....................................... ok
t/author-critic.t .................................... skipped: these tests are for testing by the author
t/author-eol.t ....................................... skipped: these tests are for testing by the author
t/author-minimum-version.t ........................... skipped: these tests are for testing by the author
t/author-no-tabs.t ................................... skipped: these tests are for testing by the author
t/author-pod-syntax.t ................................ skipped: these tests are for testing by the author
t/release-distmeta.t ................................. skipped: these tests are for release candidate testing
t/release-fixme.t .................................... skipped: these tests are for release candidate testing
t/release-has-version.t .............................. skipped: these tests are for release candidate testing
t/release-meta-json.t ................................ skipped: these tests are for release candidate testing
t/release-pause-permissions.t ........................ skipped: these tests are for release candidate testing
All tests successful.
Files=17, Tests=45,  1 wallclock secs ( 0.04 usr  0.00 sys +  0.56 cusr  0.04 csys =  0.64 CPU)
Result: PASS

------------------------------
PREREQUISITES
------------------------------

Prerequisite modules loaded:

requires:

    Module                         Need Have    
    ------------------------------ ---- --------
    Kelp::Module::Template::Xslate 0.01 0.01    

build_requires:

    Module                         Need Have    
    ------------------------------ ---- --------
    ExtUtils::MakeMaker            0    7.34    
    File::Spec                     0    3.75    
    IO::Handle                     0    1.34    
    IPC::Open3                     0    1.13    
    Test::More                     0    1.302140

configure_requires:

    Module                         Need Have    
    ------------------------------ ---- --------
    ExtUtils::MakeMaker            0    7.34    


------------------------------
ENVIRONMENT AND OTHER CONTEXT
------------------------------

Environment variables:

    AUTOMATED_TESTING = 1
    LANG = en_US.UTF-8
    PATH = /usr/local/bin:/usr/bin:/bin:/usr/local/games:/usr/games
    PERL5LIB = 
    PERL5OPT = 
    PERL5_CPANPLUS_IS_RUNNING = 24490
    PERL5_CPAN_IS_RUNNING = 24490
    PERL5_CPAN_IS_RUNNING_IN_RECURSION = 18992,24490
    PERL_CR_SMOKER_CURRENT = Kelp-Module-Template-XslateTT-1.002
    PERL_EXTUTILS_AUTOINSTALL = --defaultdeps
    PERL_MM_USE_DEFAULT = 1
    SHELL = /bin/bash
    TERM = xterm

Perl special variables (and OS-specific diagnostics, for MSWin32):

    $^X = /home/stro/perl/5.18.4t/bin/perl
    $UID/$EUID = 1000 / 1000
    $GID = 1000 24 25 29 30 44 46 108 114 1000
    $EGID = 1000 24 25 29 30 44 46 108 114 1000

Perl module toolchain versions installed:

    Module              Have    
    ------------------- --------
    CPAN                2.16    
    CPAN::Meta          2.150010
    Cwd                 3.75    
    ExtUtils::CBuilder  0.280230
    ExtUtils::Command   7.34    
    ExtUtils::Install   2.06    
    ExtUtils::MakeMaker 7.34    
    ExtUtils::Manifest  1.70    
    ExtUtils::ParseXS   3.35    
    File::Spec          3.75    
    JSON                2.97001 
    JSON::PP            2.97001 
    Module::Build       0.4224  
    Module::Signature   0.83    
    Parse::CPAN::Meta   2.150010
    Test::Harness       3.42    
    Test::More          1.302140
    YAML                1.26    
    YAML::Syck          1.30    
    version             0.9918  


--

Summary of my perl5 (revision 5 version 18 subversion 4) configuration:
   
  Platform:
    osname=linux, osvers=3.16.0-4-amd64, archname=x86_64-linux-thread-multi
    uname='linux vm-debian-001 3.16.0-4-amd64 #1 smp debian 3.16.7-ckt11-1 (2015-05-24) x86_64 gnulinux '
    config_args=''
    hint=recommended, useposix=true, d_sigaction=define
    useithreads=define, usemultiplicity=define
    useperlio=define, d_sfio=undef, uselargefiles=define, usesocks=undef
    use64bitint=define, use64bitall=define, uselongdouble=undef
    usemymalloc=n, bincompat5005=undef
  Compiler:
    cc='cc', ccflags ='-D_REENTRANT -D_GNU_SOURCE -fno-strict-aliasing -pipe -fstack-protector -I/usr/local/include -D_LARGEFILE_SOURCE -D_FILE_OFFSET_BITS=64',
    optimize='-O2',
    cppflags='-D_REENTRANT -D_GNU_SOURCE -fno-strict-aliasing -pipe -fstack-protector -I/usr/local/include'
    ccversion='', gccversion='4.9.2', gccosandvers=''
    intsize=4, longsize=8, ptrsize=8, doublesize=8, byteorder=12345678
    d_longlong=define, longlongsize=8, d_longdbl=define, longdblsize=16
    ivtype='long', ivsize=8, nvtype='double', nvsize=8, Off_t='off_t', lseeksize=8
    alignbytes=8, prototype=define
  Linker and Libraries:
    ld='cc', ldflags =' -fstack-protector -L/usr/local/lib'
    libpth=/usr/local/lib /lib/x86_64-linux-gnu /lib/../lib /usr/lib/x86_64-linux-gnu /usr/lib/../lib /lib /usr/lib
    libs=-lnsl -ldl -lm -lcrypt -lutil -lpthread -lc
    perllibs=-lnsl -ldl -lm -lcrypt -lutil -lpthread -lc
    libc=, so=so, useshrplib=false, libperl=libperl.a
    gnulibc_version='2.19'
  Dynamic Linking:
    dlsrc=dl_dlopen.xs, dlext=so, d_dlsymun=undef, ccdlflags='-Wl,-E'
    cccdlflags='-fPIC', lddlflags='-shared -O2 -L/usr/local/lib -fstack-protector'


Characteristics of this binary (from libperl): 
  Compile-time options: HAS_TIMES MULTIPLICITY PERLIO_LAYERS
                        PERL_DONT_CREATE_GVSV
                        PERL_HASH_FUNC_ONE_AT_A_TIME_HARD
                        PERL_IMPLICIT_CONTEXT PERL_MALLOC_WRAP
                        PERL_PRESERVE_IVUV PERL_SAWAMPERSAND USE_64_BIT_ALL
                        USE_64_BIT_INT USE_ITHREADS USE_LARGE_FILES
                        USE_LOCALE USE_LOCALE_COLLATE USE_LOCALE_CTYPE
                        USE_LOCALE_NUMERIC USE_PERLIO USE_PERL_ATOF
                        USE_REENTRANT_API
  Built under linux
  Compiled at Oct 26 2017 02:24:04
  %ENV:
    PERL5LIB=""
    PERL5OPT=""
    PERL5_CPANPLUS_IS_RUNNING="24490"
    PERL5_CPAN_IS_RUNNING="24490"
    PERL5_CPAN_IS_RUNNING_IN_RECURSION="18992,24490"
    PERL_CR_SMOKER_CURRENT="Kelp-Module-Template-XslateTT-1.002"
    PERL_EXTUTILS_AUTOINSTALL="--defaultdeps"
    PERL_MM_USE_DEFAULT="1"
  @INC:
    /home/stro/perl/5.18.4t/lib/site_perl/5.18.4/x86_64-linux-thread-multi
    /home/stro/perl/5.18.4t/lib/site_perl/5.18.4
    /home/stro/perl/5.18.4t/lib/5.18.4/x86_64-linux-thread-multi
    /home/stro/perl/5.18.4t/lib/5.18.4
    .