Back
From: metabase:user:a3316fee-ef64-11e5-b0d0-7c6c3cb8ce43
Subject: PASS Text-Unaccent-PurePerl-0.05 v5.22.2 GNU/Linux
Date: 2016-10-07T09:31:47Z
This distribution has been tested as part of the CPAN Testers
project, supporting the Perl programming language. See
http://wiki.cpantesters.org/ for more information or email
questions to cpan-testers-discuss@perl.org
--
Dear Peter John Acklam,
This is a computer-generated report for Text-Unaccent-PurePerl-0.05
on perl 5.22.2, created by CPAN-Reporter-1.2018.
Thank you for uploading your work to CPAN. Congratulations!
All tests were successful.
Sections of this report:
* Tester comments
* Program output
* Prerequisites
* Environment and other context
------------------------------
TESTER COMMENTS
------------------------------
Additional comments from tester:
none provided
------------------------------
PROGRAM OUTPUT
------------------------------
Output from '/usr/bin/make test':
PERL_DL_NONLAZY=1 PERL_USE_UNSAFE_INC=1 "/usr/bin/perl" "-MExtUtils::Command::MM" "-MTest::Harness" "-e" "undef *Test::Harness::Switches; test_harness(0, 'blib/lib', 'blib/arch')" t/*.t
t/00-signature.t ............... skipped: Set the environment variable TEST_SIGNATURE to enable this test
# Testing Text::Unaccent::PurePerl 0.05, Perl 5.022002, /usr/bin/perl
t/01-load.t .................... ok
t/02-pod.t ..................... ok
t/03-pod-coverage.t ............ ok
t/04-unac_string-iso-8859-1.t .. ok
t/05-unac_string-utf-8.t ....... ok
t/07-unac_string-with-enc.t .... ok
t/08-unac_string_utf16.t ....... ok
All tests successful.
Files=8, Tests=66, 0 wallclock secs ( 0.00 usr 0.05 sys + 0.00 cusr 0.56 csys = 0.61 CPU)
Result: PASS
------------------------------
PREREQUISITES
------------------------------
Prerequisite modules loaded:
requires:
Module Need Have
------------------- ---- --------
Test::More 0 1.001014
build_requires:
Module Need Have
------------------- ---- --------
ExtUtils::MakeMaker 0 7.04_01
configure_requires:
Module Need Have
------------------- ---- --------
ExtUtils::MakeMaker 0 7.04_01
------------------------------
ENVIRONMENT AND OTHER CONTEXT
------------------------------
Environment variables:
LANG = en_US.UTF-8
LANGUAGE = en_US:en
LC_ADDRESS = en_GB.UTF-8
LC_IDENTIFICATION = en_GB.UTF-8
LC_MEASUREMENT = en_GB.UTF-8
LC_MONETARY = en_GB.UTF-8
LC_NAME = en_GB.UTF-8
LC_NUMERIC = en_GB.UTF-8
LC_PAPER = en_GB.UTF-8
LC_TELEPHONE = en_GB.UTF-8
LC_TIME = en_GB.UTF-8
NONINTERACTIVE_TESTING = 1
PATH = /home/sebbe/.autojump/bin:/home/sebbe/.rakudobrew/bin:/home/sebbe/build/fstar/bin:/home/sebbe/.smackage/lib/twelf/v1/bin/:/home/sebbe/.smackage/bin:/home/sebbe/build/mosml/bin:/home/sebbe/bin:/home/sebbe/.cabal/bin:/home/sebbe/.autojump/bin:/home/sebbe/.smackage/lib/twelf/v1/bin/:/home/sebbe/.smackage/bin:/home/sebbe/build/mosml/bin:/home/sebbe/bin:/home/sebbe/.cabal/bin:/usr/local/bin:/usr/bin:/bin:/usr/games
PERL5LIB =
PERL5OPT =
PERL5_CPANPLUS_IS_RUNNING = 27941
PERL5_CPAN_IS_RUNNING = 27941
PERL_CPANM_OPT = -S
PERL_MM_USE_DEFAULT = 1
PERL_USE_UNSAFE_INC = 1
SHELL = /usr/bin/zsh
TERM = screen.xterm-256color
Perl special variables (and OS-specific diagnostics, for MSWin32):
$^X = /usr/bin/perl
$UID/$EUID = 1000 / 1000
$GID = 1000 24 25 27 29 30 33 44 46 999 1000 1001
$EGID = 1000 24 25 27 29 30 33 44 46 999 1000 1001
Perl module toolchain versions installed:
Module Have
------------------- --------
CPAN 2.14
CPAN::Meta 2.150001
Cwd 3.56_01
ExtUtils::CBuilder 0.280221
ExtUtils::Command 1.20
ExtUtils::Install 2.04
ExtUtils::MakeMaker 7.04_01
ExtUtils::Manifest 1.70
ExtUtils::ParseXS 3.28
File::Spec 3.56_01
JSON 2.90
JSON::PP 2.27300
Module::Build 0.4216
Module::Signature 0.80
Parse::CPAN::Meta 1.4414
Test::Harness 3.35
Test::More 1.001014
YAML 1.18
YAML::Syck n/a
version 0.9909
--
Summary of my perl5 (revision 5 version 22 subversion 2) configuration:
Platform:
osname=linux, osvers=3.16.0, archname=x86_64-linux-gnu-thread-multi
uname='linux localhost 3.16.0 #1 smp debian 3.16.0 x86_64 gnulinux '
config_args='-Dusethreads -Duselargefiles -Dcc=x86_64-linux-gnu-gcc -Dcpp=x86_64-linux-gnu-cpp -Dld=x86_64-linux-gnu-gcc -Dccflags=-DDEBIAN -Wdate-time -D_FORTIFY_SOURCE=2 -g -O2 -fstack-protector-strong -Wformat -Werror=format-security -Dldflags= -Wl,-z,relro -Dlddlflags=-shared -Wl,-z,relro -Dcccdlflags=-fPIC -Darchname=x86_64-linux-gnu -Dprefix=/usr -Dprivlib=/usr/share/perl/5.22 -Darchlib=/usr/lib/x86_64-linux-gnu/perl/5.22 -Dvendorprefix=/usr -Dvendorlib=/usr/share/perl5 -Dvendorarch=/usr/lib/x86_64-linux-gnu/perl5/5.22 -Dsiteprefix=/usr/local -Dsitelib=/usr/local/share/perl/5.22.2 -Dsitearch=/usr/local/lib/x86_64-linux-gnu/perl/5.22.2 -Dman1dir=/usr/share/man/man1 -Dman3dir=/usr/share/man/man3 -Dsiteman1dir=/usr/local/man/man1 -Dsiteman3dir=/usr/local/man/man3 -Dusesitecustomize -Duse64bitint -Dman1ext=1 -Dman3ext=3perl -Dpager=/usr/bin/sensible-pager -Uafs -Ud_csh -Ud_ualarm -Uusesfio -Uusenm -Ui_libutil -Uversiononly -DDEBUGGING=-g -Doptimize=-O2 -dEs -Duseshrplib -Dlibperl=libperl.so.5.22.2'
hint=recommended, useposix=true, d_sigaction=define
useithreads=define, usemultiplicity=define
use64bitint=define, use64bitall=define, uselongdouble=undef
usemymalloc=n, bincompat5005=undef
Compiler:
cc='x86_64-linux-gnu-gcc', ccflags ='-D_REENTRANT -D_GNU_SOURCE -DDEBIAN -fwrapv -fno-strict-aliasing -pipe -I/usr/local/include -D_LARGEFILE_SOURCE -D_FILE_OFFSET_BITS=64',
optimize='-O2 -g',
cppflags='-D_REENTRANT -D_GNU_SOURCE -DDEBIAN -fwrapv -fno-strict-aliasing -pipe -I/usr/local/include'
ccversion='', gccversion='5.4.0 20160609', gccosandvers=''
intsize=4, longsize=8, ptrsize=8, doublesize=8, byteorder=12345678, doublekind=3
d_longlong=define, longlongsize=8, d_longdbl=define, longdblsize=16, longdblkind=3
ivtype='long', ivsize=8, nvtype='double', nvsize=8, Off_t='off_t', lseeksize=8
alignbytes=8, prototype=define
Linker and Libraries:
ld='x86_64-linux-gnu-gcc', ldflags =' -fstack-protector-strong -L/usr/local/lib'
libpth=/usr/local/lib /usr/lib/gcc/x86_64-linux-gnu/5/include-fixed /usr/include/x86_64-linux-gnu /usr/lib /lib/x86_64-linux-gnu /lib/../lib /usr/lib/x86_64-linux-gnu /usr/lib/../lib /lib
libs=-lgdbm -lgdbm_compat -ldb -ldl -lm -lpthread -lc -lcrypt
perllibs=-ldl -lm -lpthread -lc -lcrypt
libc=libc-2.23.so, so=so, useshrplib=true, libperl=libperl.so.5.22
gnulibc_version='2.23'
Dynamic Linking:
dlsrc=dl_dlopen.xs, dlext=so, d_dlsymun=undef, ccdlflags='-Wl,-E'
cccdlflags='-fPIC', lddlflags='-shared -L/usr/local/lib -fstack-protector-strong'
Characteristics of this binary (from libperl):
Compile-time options: HAS_TIMES MULTIPLICITY PERLIO_LAYERS
PERL_DONT_CREATE_GVSV
PERL_HASH_FUNC_ONE_AT_A_TIME_HARD
PERL_IMPLICIT_CONTEXT PERL_MALLOC_WRAP
PERL_NEW_COPY_ON_WRITE PERL_PRESERVE_IVUV
USE_64_BIT_ALL USE_64_BIT_INT USE_ITHREADS
USE_LARGE_FILES USE_LOCALE USE_LOCALE_COLLATE
USE_LOCALE_CTYPE USE_LOCALE_NUMERIC USE_LOCALE_TIME
USE_PERLIO USE_PERL_ATOF USE_REENTRANT_API
USE_SITECUSTOMIZE
Locally applied patches:
DEBPKG:debian/cpan_definstalldirs - Provide a sensible INSTALLDIRS default for modules installed from CPAN.
DEBPKG:debian/db_file_ver - http://bugs.debian.org/340047 Remove overly restrictive DB_File version check.
DEBPKG:debian/doc_info - Replace generic man(1) instructions with Debian-specific information.
DEBPKG:debian/enc2xs_inc - http://bugs.debian.org/290336 Tweak enc2xs to follow symlinks and ignore missing @INC directories.
DEBPKG:debian/errno_ver - http://bugs.debian.org/343351 Remove Errno version check due to upgrade problems with long-running processes.
DEBPKG:debian/libperl_embed_doc - http://bugs.debian.org/186778 Note that libperl-dev package is required for embedded linking
DEBPKG:fixes/respect_umask - Respect umask during installation
DEBPKG:debian/writable_site_dirs - Set umask approproately for site install directories
DEBPKG:debian/extutils_set_libperl_path - EU:MM: set location of libperl.a under /usr/lib
DEBPKG:debian/no_packlist_perllocal - Don't install .packlist or perllocal.pod for perl or vendor
DEBPKG:debian/fakeroot - Postpone LD_LIBRARY_PATH evaluation to the binary targets.
DEBPKG:debian/instmodsh_doc - Debian policy doesn't install .packlist files for core or vendor.
DEBPKG:debian/ld_run_path - Remove standard libs from LD_RUN_PATH as per Debian policy.
DEBPKG:debian/libnet_config_path - Set location of libnet.cfg to /etc/perl/Net as /usr may not be writable.
DEBPKG:debian/mod_paths - Tweak @INC ordering for Debian
DEBPKG:debian/prune_libs - http://bugs.debian.org/128355 Prune the list of libraries wanted to what we actually need.
DEBPKG:fixes/net_smtp_docs - [rt.cpan.org #36038] http://bugs.debian.org/100195 Document the Net::SMTP 'Port' option
DEBPKG:debian/perlivp - http://bugs.debian.org/510895 Make perlivp skip include directories in /usr/local
DEBPKG:debian/deprecate-with-apt - http://bugs.debian.org/747628 Point users to Debian packages of deprecated core modules
DEBPKG:debian/squelch-locale-warnings - http://bugs.debian.org/508764 Squelch locale warnings in Debian package maintainer scripts
DEBPKG:debian/skip-upstream-git-tests - Skip tests specific to the upstream Git repository
DEBPKG:debian/patchlevel - http://bugs.debian.org/567489 List packaged patches for 5.22.2-3 in patchlevel.h
DEBPKG:debian/skip-kfreebsd-crash - http://bugs.debian.org/628493 [perl #96272] Skip a crashing test case in t/op/threads.t on GNU/kFreeBSD
DEBPKG:fixes/document_makemaker_ccflags - http://bugs.debian.org/628522 [rt.cpan.org #68613] Document that CCFLAGS should include $Config{ccflags}
DEBPKG:debian/find_html2text - http://bugs.debian.org/640479 Configure CPAN::Distribution with correct name of html2text
DEBPKG:debian/perl5db-x-terminal-emulator.patch - http://bugs.debian.org/668490 Invoke x-terminal-emulator rather than xterm in perl5db.pl
DEBPKG:debian/cpan-missing-site-dirs - http://bugs.debian.org/688842 Fix CPAN::FirstTime defaults with nonexisting site dirs if a parent is writable
DEBPKG:fixes/memoize_storable_nstore - [rt.cpan.org #77790] http://bugs.debian.org/587650 Memoize::Storable: respect 'nstore' option not respected
DEBPKG:debian/regen-skip - Skip a regeneration check in unrelated git repositories
DEBPKG:debian/makemaker-pasthru - http://bugs.debian.org/758471 Pass LD settings through to subdirectories
DEBPKG:fixes/pod_man_reproducible_date - http://bugs.debian.org/759405 Support POD_MAN_DATE in Pod::Man for the left-hand footer
DEBPKG:debian/locale-robustness - http://bugs.debian.org/782068 [perl #124310] Make t/run/locale.t survive missing locales masked by LC_ALL
DEBPKG:fixes/podman-utc - http://bugs.debian.org/780259 Make the embedded date from Pod::Man reproducible
DEBPKG:fixes/podman-utc-docs - http://bugs.debian.org/780259 Documentation and test suite updates for UTC fix
DEBPKG:fixes/podman-empty-date - http://bugs.debian.org/780259 Support an empty POD_MAN_DATE environment variable
DEBPKG:fixes/podman-pipe - http://bugs.debian.org/777405 Better errors for man pages from standard input
DEBPKG:debian/pod2man-customized - Update porting/customized.dat for pod2man modifications
DEBPKG:debian/makemaker-manext - http://bugs.debian.org/247370 Make EU::MakeMaker honour MANnEXT settings in generated manpage headers
DEBPKG:debian/makemaker_customized - Update t/porting/customized.dat for files patched in Debian
DEBPKG:debian/do-not-record-build-date - [6baa8db] http://bugs.debian.org/774422 [perl #125830] Allow overriding the compile time in "perl -V" output
DEBPKG:fixes/podman-source-date-epoch - http://bugs.debian.org/801621 Make Pod::Man honor the SOURCE_DATE_EPOCH environment variable
DEBPKG:fixes/podman-source-date-epoch-cleanups - http://bugs.debian.org/801621 Coding style and documentation for SOURCE_EPOCH_DATE
DEBPKG:fixes/podman-source-date-epoch-testfix - http://bugs.debian.org/807086 Guard for building with SOURCE_DATE_EPOCH or POD_MAN_DATE set
DEBPKG:debian/devel-ppport-reproducibility - http://bugs.debian.org/801523 Sort the list of XS code files when generating RealPPPort.xs
DEBPKG:fixes/encode-unicode-bom - http://bugs.debian.org/798727 [rt.cpan.org #107043] Address https://rt.cpan.org/Public/Bug/Display.html?id=107043
DEBPKG:debian/encode-unicode-bom-doc - http://bugs.debian.org/798727 Document Debian backport of Encode::Unicode fix
DEBPKG:debian/kfreebsd-softupdates - http://bugs.debian.org/796798 Work around Debian Bug#796798
DEBPKG:fixes/autodie-scope - http://bugs.debian.org/798096 Fix a scoping issue with "no autodie" and the "system" sub
DEBPKG:debian/debugperl-compat-fix - [perl #127212] http://bugs.debian.org/810326 Disable PERL_TRACK_MEMPOOL for debugging builds
DEBPKG:fixes/crosscompile-no-targethost - [perl #127234] Fix the Configure escape with usecrosscompile but no targethost
DEBPKG:fixes/podlators-no-encode - [rt.cpan.org #111156] Degrade gracefully if utf8 is requested but Encode is not available
DEBPKG:debian/cross-time-hires - [rt.cpan.org #111391] Add an environment variable to skip running configuration probes
DEBPKG:fixes/encode-unicode-pod - Unicode.pm: Fix POD error
DEBPKG:fixes/memoize-pod - [rt.cpan.org #89441] Fix POD errors in Memoize
DEBPKG:fixes/ok-pod - Added encoding for pod.
DEBPKG:debian/hurd-softupdates - http://bugs.debian.org/822735 Fix t/op/stat.t failures on hurd
DEBPKG:fixes/xsloader-eval - [rt.cpan.org #115808] http://bugs.debian.org/829578 =?UTF-8?q?Don=E2=80=99t=20let=20XSLoader=20load=20relative=20path?= =?UTF-8?q?s?=
DEBPKG:fixes/extutils-parsexs-reproducibility - [perl #128517] http://bugs.debian.org/829296 Make the output of ExtUtils::ParseXS reproducible
DEBPKG:fixes/CVE-2016-1238/remove-dot-when-loading - [perl #127834] (perl #127834) remove . from the end of @INC if complex modules are loaded
DEBPKG:fixes/CVE-2016-1238/remove-dot-in-padwalker - [perl #127834] perl5db.pl: ensure PadWalker is loaded from standard paths
DEBPKG:fixes/CVE-2016-1238/remove-dot-in-dist - [perl #127834] dist/: remove . from @INC when loading optional modules
DEBPKG:fixes/CVE-2016-1238/remove-dot-in-cpan - [perl #127834] cpan/: remove . from @INC when loading optional modules
DEBPKG:debian/CVE-2016-1238/test-suite-without-dot - [perl #127810] Patch unit tests to explicitly insert "." into @INC when needed.
DEBPKG:debian/CVE-2016-1238/eumm-without-dot - [perl #127810] Add PERL_USE_UNSAFE_INC support to EU::MM for fortify_inc support.
DEBPKG:debian/CVE-2016-1238/cpan-without-dot - [perl #127810] Set PERL_USE_UNSAFE_INC for cpan usage
DEBPKG:debian/CVE-2016-1238/sitecustomize-in-etc - Look for sitecustomize.pl in /etc/perl rather than sitelib on Debian systems
DEBPKG:debian/CVE-2016-1238/customized - Update customized.dat for CVE-2016-1238 changes
Built under linux
Compiled at Jul 25 2016 15:00:43
%ENV:
PERL5LIB=""
PERL5OPT=""
PERL5_CPANPLUS_IS_RUNNING="27941"
PERL5_CPAN_IS_RUNNING="27941"
PERL_CPANM_OPT="-S"
PERL_MM_USE_DEFAULT="1"
PERL_USE_UNSAFE_INC="1"
@INC:
/etc/perl
/usr/local/lib/x86_64-linux-gnu/perl/5.22.2
/usr/local/share/perl/5.22.2
/usr/lib/x86_64-linux-gnu/perl5/5.22
/usr/share/perl5
/usr/lib/x86_64-linux-gnu/perl/5.22
/usr/share/perl/5.22
/usr/local/lib/site_perl
/usr/local/lib/x86_64-linux-gnu/perl/5.22.1
/usr/local/share/perl/5.22.1
/usr/lib/x86_64-linux-gnu/perl-base
.