Test-CleanNamespaces v0.24 Perl 5 v5.42.0 x86_64-linux

Status
Pass
From
Chris Williams (BINGOS)
Dist
Test-CleanNamespaces v0.24
Platform
Perl 5 v5.42.0 x86_64-linux
Date
2025-08-20 14:07:17
ID
facd611a-7dce-11f0-b084-ad1bacb4f31a
This distribution has been tested as part of the CPAN Testers
project, supporting the Perl programming language.  See
http://wiki.cpantesters.org/ for more information or email
questions to cpan-testers-discuss@perl.org


--

Dear Karen Etheridge,

This is a computer-generated error report created automatically by
CPANPLUS, version 0.9916. Testers personal comments may appear
at the end of this report.


Thank you for uploading your work to CPAN.  Congratulations!
All tests were successful.

TEST RESULTS:

Below is the error stack from stage 'make test':

PERL_DL_NONLAZY=1 "/home/cpan/pit/bare/perl-5.42.0/bin/perl" "-MExtUtils::Command::MM" "-MTest::Harness" "-e" "undef *Test::Harness::Switches; test_harness(0, 'blib/lib', 'blib/arch')" t/*.t
# 
# Versions for all modules listed in MYMETA.json (including optional ones):
# 
# === Configure Requires ===
# 
#     Module                       Want     Have
#     ------------------------ -------- --------
#     CPAN::Meta::Requirements 2.120620    2.143
#     ExtUtils::MakeMaker           any     7.76
#     Module::Metadata              any 1.000038
# 
# === Build Requires ===
# 
#     Module              Want Have
#     ------------------- ---- ----
#     ExtUtils::MakeMaker  any 7.76
# 
# === Test Requires ===
# 
#     Module                 Want     Have
#     --------------------- ----- --------
#     ExtUtils::MakeMaker     any     7.76
#     File::Spec              any     3.94
#     File::Spec::Functions   any     3.94
#     File::pushd             any    1.016
#     Scalar::Util            any  1.68_01
#     Sub::Exporter           any    0.991
#     Test::Deep              any    1.205
#     Test::More             0.96 1.302214
#     Test::Needs             any 0.002010
#     Test::Tester            any 1.302214
#     Test::Warnings        0.009    0.038
#     constant                any     1.33
#     if                      any   0.0610
#     lib                     any     0.65
#     namespace::clean        any     0.27
#     overload                any     1.40
#     parent                  any    0.244
# 
# === Test Recommends ===
# 
#     Module         Want     Have
#     ---------- -------- --------
#     CPAN::Meta 2.120900 2.150010
# 
# === Test Suggests ===
# 
#     Module                          Want     Have
#     --------------------------- -------- --------
#     Class::MOP::Class                any  missing
#     Moo                              any 2.005005
#     Moo::Role                        any 2.005005
#     Moose                            any  missing
#     Moose::Exporter                  any  missing
#     Moose::Role                      any  missing
#     MooseX::Role::Parameterized      any  missing
#     Mouse                            any  missing
#     Mouse::Role                      any  missing
#     Role::Tiny                  1.003000 2.002004
#     metaclass                        any  missing
# 
# === Runtime Requires ===
# 
#     Module              Want     Have
#     --------------- -------- --------
#     Exporter            5.57     5.79
#     File::Find           any     1.44
#     File::Spec           any     3.94
#     Module::Runtime      any    0.018
#     Package::Stash      0.14     0.40
#     Role::Tiny      1.003000 2.002004
#     Sub::Identify        any     0.14
#     Test::Builder        any 1.302214
#     strict               any     1.14
#     warnings             any     1.74
# 
# === Runtime Recommends ===
# 
#     Module             Want Have
#     ------------------ ---- ----
#     Package::Stash::XS  any 0.30
# 
# === Runtime Suggests ===
# 
#     Module     Want     Have
#     ---------- ---- --------
#     Role::Tiny  any 2.002004
# 
# === Other Modules ===
# 
#     Module             Have
#     --------------- -------
#     Encode             3.21
#     File::Temp       0.2311
#     JSON::PP           4.16
#     Module::Runtime   0.018
#     Pod::Coverage   missing
#     Sub::Name       missing
#     YAML            missing
#     autodie            2.37
# 
t/00-report-prereqs.t ......... ok
t/basic.t ..................... ok
t/class_mop.t ................. skipped: Need Class::MOP
t/clean-namespaces.t .......... ok
t/find_modules.t .............. ok
t/moo.t ....................... ok
t/moose-parameterized-role.t .. skipped: Need Moose, MooseX::Role::Parameterized
t/moose.t ..................... skipped: Need Moose
t/mouse.t ..................... skipped: Need Mouse
t/overload.t .................. ok
t/role_tiny.t ................. ok
t/self.t ...................... ok
t/zzz-check-breaks.t .......... ok
All tests successful.
Files=13, Tests=134,  1 wallclock secs ( 0.05 usr  0.01 sys +  0.94 cusr  0.18 csys =  1.18 CPU)
Result: PASS


PREREQUISITES:

Here is a list of prerequisites you specified and versions we
managed to load:

	  Module Name                        Have     Want
	  Exporter                           5.79     5.57
	  ExtUtils::MakeMaker                7.76        0
	  File::Find                         1.44        0
	  File::Spec                         3.94        0
	  File::Spec::Functions              3.94        0
	  File::pushd                       1.016        0
	  Module::Runtime                   0.018        0
	  Package::Stash                     0.40     0.14
	  Role::Tiny                     2.002004 1.003000
	  Scalar::Util                    1.68_01        0
	  Sub::Exporter                     0.991        0
	  Sub::Identify                      0.14        0
	  Test::Builder                  1.302214        0
	  Test::Deep                        1.205        0
	  Test::More                     1.302214     0.96
	  Test::Needs                    0.002010        0
	  Test::Tester                   1.302214        0
	  Test::Warnings                    0.038    0.009
	  constant                           1.33        0
	  if                               0.0610        0
	  lib                                0.65        0
	  namespace::clean                   0.27        0
	  overload                           1.40        0
	  parent                            0.244        0
	  strict                             1.14        0
	  warnings                           1.74        0

Perl module toolchain versions installed:
	Module Name                        Have
	CPANPLUS                         0.9916
	CPANPLUS::Dist::Build              0.90
	Cwd                                3.94
	ExtUtils::CBuilder             0.280242
	ExtUtils::Command                  7.76
	ExtUtils::Install                  2.22
	ExtUtils::MakeMaker                7.76
	ExtUtils::Manifest                 1.75
	ExtUtils::ParseXS                  3.58
	File::Spec                         3.94
	Module::Build                    0.4234
	Pod::Parser                           0
	Pod::Simple                        3.45
	Test2                          1.302214
	Test::Harness                      3.52
	Test::More                     1.302214
	version                          0.9933

******************************** NOTE ********************************
The comments above are created mechanically, possibly without manual
checking by the sender.  As there are many people performing automatic
tests on each upload to CPAN, it is likely that you will receive
identical messages about the same problem.

If you believe that the message is mistaken, please reply to the first
one with correction and/or additional informations, and do not take
it personally.  We appreciate your patience. :)
**********************************************************************

Additional comments:


This report was machine-generated by CPANPLUS::Dist::YACSmoke 1.08.
Powered by minismokebox version 0.68

CPANPLUS is prefering Build.PL

------------------------------
ENVIRONMENT AND OTHER CONTEXT
------------------------------

Environment variables:

    AUTOMATED_TESTING = 1
    LANG = C.UTF-8
    LC_COLLATE = C
    NONINTERACTIVE_TESTING = 1
    PATH = /usr/local/sbin:/usr/local/bin:/usr/sbin:/usr/bin:/sbin:/bin
    PERL5LIB = /home/cpan/pit/jail/7ZPcQjPti7/lib/perl5:/home/cpan/pit/bare/conf/perl-5.42.0/.cpanplus/5.42.0/build/OtcvzwYVjV/Test-CleanNamespaces-0.24/blib/lib:/home/cpan/pit/bare/conf/perl-5.42.0/.cpanplus/5.42.0/build/OtcvzwYVjV/Test-CleanNamespaces-0.24/blib/arch
    PERL5_CPANPLUS_IS_RUNNING = 20762
    PERL5_CPANPLUS_IS_VERSION = 0.9916
    PERL5_MINISMOKEBOX = 0.68
    PERL5_YACSMOKE_BASE = /home/cpan/pit/bare/conf/perl-5.42.0
    PERL_EXTUTILS_AUTOINSTALL = --defaultdeps
    PERL_LOCAL_LIB_ROOT = /home/cpan/pit/jail/7ZPcQjPti7
    PERL_MB_OPT = --install_base "/home/cpan/pit/jail/7ZPcQjPti7"
    PERL_MM_OPT = INSTALL_BASE=/home/cpan/pit/jail/7ZPcQjPti7
    PERL_MM_USE_DEFAULT = 1
    PERL_USE_UNSAFE_INC = 1
    SHELL = /bin/bash
    TERM = screen

Perl special variables (and OS-specific diagnostics, for MSWin32):

    Perl: $^X = /home/cpan/pit/bare/perl-5.42.0/bin/perl
    UID:  $<  = 1001
    EUID: $>  = 1001
    GID:  $(  = 1001 1001
    EGID: $)  = 1001 1001


-------------------------------


--

Summary of my perl5 (revision 5 version 42 subversion 0) configuration:
   
  Platform:
    osname=linux
    osvers=6.12.41-0-lts
    archname=x86_64-linux
    uname='linux agaric 6.12.41-0-lts #1-alpine smp preempt_dynamic 2025-08-07 06:15:54 x86_64 linux '
    config_args='-des -Dprefix=/home/cpan/pit/bare/perl-5.42.0'
    hint=recommended
    useposix=true
    d_sigaction=define
    useithreads=undef
    usemultiplicity=undef
    use64bitint=define
    use64bitall=define
    uselongdouble=undef
    usemymalloc=n
    default_inc_excludes_dot=define
  Compiler:
    cc='cc'
    ccflags ='-D_GNU_SOURCE -fwrapv -fno-strict-aliasing -pipe -fstack-protector-strong -D_LARGEFILE_SOURCE -D_FILE_OFFSET_BITS=64'
    optimize='-O2'
    cppflags='-D_GNU_SOURCE -fwrapv -fno-strict-aliasing -pipe -fstack-protector-strong'
    ccversion=''
    gccversion='14.2.0'
    gccosandvers=''
    intsize=4
    longsize=8
    ptrsize=8
    doublesize=8
    byteorder=12345678
    doublekind=3
    d_longlong=define
    longlongsize=8
    d_longdbl=define
    longdblsize=16
    longdblkind=3
    ivtype='long'
    ivsize=8
    nvtype='double'
    nvsize=8
    Off_t='off_t'
    lseeksize=8
    alignbytes=8
    prototype=define
  Linker and Libraries:
    ld='cc'
    ldflags =' -fstack-protector-strong -L/usr/local/lib'
    libpth=/usr/lib /usr/local/lib /lib
    libs=-lpthread -lgdbm -ldl -lm -lcrypt -lutil -lc -lgdbm_compat
    perllibs=-lpthread -ldl -lm -lcrypt -lutil -lc
    libc=/usr/lib/libc.a
    so=so
    useshrplib=false
    libperl=libperl.a
    gnulibc_version=''
  Dynamic Linking:
    dlsrc=dl_dlopen.xs
    dlext=so
    d_dlsymun=undef
    ccdlflags='-Wl,-E'
    cccdlflags='-fPIC'
    lddlflags='-shared -O2 -L/usr/local/lib -fstack-protector-strong'


Characteristics of this binary (from libperl): 
  Compile-time options:
    HAS_LONG_DOUBLE
    HAS_STRTOLD
    HAS_TIMES
    PERLIO_LAYERS
    PERL_COPY_ON_WRITE
    PERL_DONT_CREATE_GVSV
    PERL_HASH_FUNC_SIPHASH13
    PERL_HASH_USE_SBOX32
    PERL_MALLOC_WRAP
    PERL_OP_PARENT
    PERL_PRESERVE_IVUV
    PERL_USE_SAFE_PUTENV
    USE_64_BIT_ALL
    USE_64_BIT_INT
    USE_LARGE_FILES
    USE_LOCALE
    USE_LOCALE_COLLATE
    USE_LOCALE_CTYPE
    USE_LOCALE_NUMERIC
    USE_LOCALE_TIME
    USE_PERLIO
    USE_PERL_ATOF
  Built under linux
  Compiled at Aug 19 2025 00:22:21
  %ENV:
    PERL5LIB="/home/cpan/pit/jail/7ZPcQjPti7/lib/perl5:/home/cpan/pit/bare/conf/perl-5.42.0/.cpanplus/5.42.0/build/OtcvzwYVjV/Test-CleanNamespaces-0.24/blib/lib:/home/cpan/pit/bare/conf/perl-5.42.0/.cpanplus/5.42.0/build/OtcvzwYVjV/Test-CleanNamespaces-0.24/blib/arch"
    PERL5_CPANPLUS_IS_RUNNING="20762"
    PERL5_CPANPLUS_IS_VERSION="0.9916"
    PERL5_MINISMOKEBOX="0.68"
    PERL5_YACSMOKE_BASE="/home/cpan/pit/bare/conf/perl-5.42.0"
    PERL_EXTUTILS_AUTOINSTALL="--defaultdeps"
    PERL_LOCAL_LIB_ROOT="/home/cpan/pit/jail/7ZPcQjPti7"
    PERL_MB_OPT="--install_base "/home/cpan/pit/jail/7ZPcQjPti7""
    PERL_MM_OPT="INSTALL_BASE=/home/cpan/pit/jail/7ZPcQjPti7"
    PERL_MM_USE_DEFAULT="1"
    PERL_USE_UNSAFE_INC="1"
  @INC:
    /home/cpan/pit/jail/7ZPcQjPti7/lib/perl5/5.42.0/x86_64-linux
    /home/cpan/pit/jail/7ZPcQjPti7/lib/perl5/5.42.0
    /home/cpan/pit/jail/7ZPcQjPti7/lib/perl5/x86_64-linux
    /home/cpan/pit/jail/7ZPcQjPti7/lib/perl5
    /home/cpan/pit/bare/conf/perl-5.42.0/.cpanplus/5.42.0/build/OtcvzwYVjV/Test-CleanNamespaces-0.24/blib/lib
    /home/cpan/pit/bare/conf/perl-5.42.0/.cpanplus/5.42.0/build/OtcvzwYVjV/Test-CleanNamespaces-0.24/blib/arch
    /home/cpan/pit/bare/perl-5.42.0/lib/site_perl/5.42.0/x86_64-linux
    /home/cpan/pit/bare/perl-5.42.0/lib/site_perl/5.42.0
    /home/cpan/pit/bare/perl-5.42.0/lib/5.42.0/x86_64-linux
    /home/cpan/pit/bare/perl-5.42.0/lib/5.42.0
    .