Report for Object-Container-0.14

Back
From: metabase:user:314402c4-2aae-11df-837a-5e0a49663a4f
Subject: PASS Object-Container-0.14 v5.21.10 GNU/Linux
Date: 2015-03-21T17:37:43Z

This distribution has been tested as part of the CPAN Testers
project, supporting the Perl programming language.  See
http://wiki.cpantesters.org/ for more information or email
questions to cpan-testers-discuss@perl.org


--
Dear Daisuke Murase,

This is a computer-generated report for Object-Container-0.14
on perl 5.21.10, created by CPAN-Reporter-1.2011.

Thank you for uploading your work to CPAN.  Congratulations!
All tests were successful.

Sections of this report:

    * Tester comments
    * Program output
    * Prerequisites
    * Environment and other context

------------------------------
TESTER COMMENTS
------------------------------

Additional comments from tester:

none provided

------------------------------
PROGRAM OUTPUT
------------------------------

Output from '/usr/bin/make test':

PERL_DL_NONLAZY=1 "/bbbike/perl-5.21.10/bin/perl5.21.10" "-MExtUtils::Command::MM" "-MTest::Harness" "-e" "undef *Test::Harness::Switches; test_harness(0, 'inc', 'blib/lib', 'blib/arch')" t/*.t
Possible precedence issue with control flow operator at /tmpfs/.cpan-build/Object-Container-0.14-5p5luy/inc/Test/Builder.pm line 915.
t/00_compile.t ..................... ok
Possible precedence issue with control flow operator at /tmpfs/.cpan-build/Object-Container-0.14-5p5luy/inc/Test/Builder.pm line 915.
Redundant argument in sprintf at /tmpfs/.cpan-build/Object-Container-0.14-5p5luy/inc/Spiffy.pm line 225.
Redundant argument in sprintf at /tmpfs/.cpan-build/Object-Container-0.14-5p5luy/inc/Spiffy.pm line 225.
Redundant argument in sprintf at /tmpfs/.cpan-build/Object-Container-0.14-5p5luy/inc/Spiffy.pm line 225.
Redundant argument in sprintf at /tmpfs/.cpan-build/Object-Container-0.14-5p5luy/inc/Spiffy.pm line 225.
t/01_object.t ...................... ok
Possible precedence issue with control flow operator at /tmpfs/.cpan-build/Object-Container-0.14-5p5luy/inc/Test/Builder.pm line 915.
Redundant argument in sprintf at /tmpfs/.cpan-build/Object-Container-0.14-5p5luy/inc/Spiffy.pm line 225.
Redundant argument in sprintf at /tmpfs/.cpan-build/Object-Container-0.14-5p5luy/inc/Spiffy.pm line 225.
Redundant argument in sprintf at /tmpfs/.cpan-build/Object-Container-0.14-5p5luy/inc/Spiffy.pm line 225.
Redundant argument in sprintf at /tmpfs/.cpan-build/Object-Container-0.14-5p5luy/inc/Spiffy.pm line 225.
t/02_singleton.t ................... ok
Possible precedence issue with control flow operator at /tmpfs/.cpan-build/Object-Container-0.14-5p5luy/inc/Test/Builder.pm line 915.
Redundant argument in sprintf at /tmpfs/.cpan-build/Object-Container-0.14-5p5luy/inc/Spiffy.pm line 225.
Redundant argument in sprintf at /tmpfs/.cpan-build/Object-Container-0.14-5p5luy/inc/Spiffy.pm line 225.
Redundant argument in sprintf at /tmpfs/.cpan-build/Object-Container-0.14-5p5luy/inc/Spiffy.pm line 225.
Redundant argument in sprintf at /tmpfs/.cpan-build/Object-Container-0.14-5p5luy/inc/Spiffy.pm line 225.
t/03_args_and_initializer.t ........ ok
Possible precedence issue with control flow operator at /tmpfs/.cpan-build/Object-Container-0.14-5p5luy/inc/Test/Builder.pm line 915.
Redundant argument in sprintf at /tmpfs/.cpan-build/Object-Container-0.14-5p5luy/inc/Spiffy.pm line 225.
Redundant argument in sprintf at /tmpfs/.cpan-build/Object-Container-0.14-5p5luy/inc/Spiffy.pm line 225.
Redundant argument in sprintf at /tmpfs/.cpan-build/Object-Container-0.14-5p5luy/inc/Spiffy.pm line 225.
Redundant argument in sprintf at /tmpfs/.cpan-build/Object-Container-0.14-5p5luy/inc/Spiffy.pm line 225.
t/04_export.t ...................... ok
Possible precedence issue with control flow operator at /tmpfs/.cpan-build/Object-Container-0.14-5p5luy/inc/Test/Builder.pm line 915.
Redundant argument in sprintf at /tmpfs/.cpan-build/Object-Container-0.14-5p5luy/inc/Spiffy.pm line 225.
Redundant argument in sprintf at /tmpfs/.cpan-build/Object-Container-0.14-5p5luy/inc/Spiffy.pm line 225.
Redundant argument in sprintf at /tmpfs/.cpan-build/Object-Container-0.14-5p5luy/inc/Spiffy.pm line 225.
Redundant argument in sprintf at /tmpfs/.cpan-build/Object-Container-0.14-5p5luy/inc/Spiffy.pm line 225.
t/05_subclass.t .................... skipped: Test requires module 'Exporter::AutoClean' but it's not found
Possible precedence issue with control flow operator at /tmpfs/.cpan-build/Object-Container-0.14-5p5luy/inc/Test/Builder.pm line 915.
t/05_subclass_no_autoclean.t ....... ok
Possible precedence issue with control flow operator at /tmpfs/.cpan-build/Object-Container-0.14-5p5luy/inc/Test/Builder.pm line 915.
t/06_remove.t ...................... ok
Possible precedence issue with control flow operator at /tmpfs/.cpan-build/Object-Container-0.14-5p5luy/inc/Test/Builder.pm line 915.
t/07_hashref.t ..................... ok
Possible precedence issue with control flow operator at /tmpfs/.cpan-build/Object-Container-0.14-5p5luy/inc/Test/Builder.pm line 915.
t/07_preload.t ..................... ok
Possible precedence issue with control flow operator at /tmpfs/.cpan-build/Object-Container-0.14-5p5luy/inc/Test/Builder.pm line 915.
t/08_preload_subclass.t ............ skipped: Test requires module 'Exporter::AutoClean' but it's not found
Possible precedence issue with control flow operator at /tmpfs/.cpan-build/Object-Container-0.14-5p5luy/inc/Test/Builder.pm line 915.
t/09_autoload.t .................... ok
Possible precedence issue with control flow operator at /tmpfs/.cpan-build/Object-Container-0.14-5p5luy/inc/Test/Builder.pm line 915.
t/10_class_singleton_compatible.t .. ok
All tests successful.
Files=13, Tests=40,  0 wallclock secs ( 0.05 usr  0.06 sys +  0.36 cusr  0.16 csys =  0.63 CPU)
Result: PASS

------------------------------
PREREQUISITES
------------------------------

Prerequisite modules loaded:

requires:

    Module                Need Have    
    --------------------- ---- --------
    Carp                  0    1.36    
    Class::Accessor::Fast 0    0.34    
    Filter::Util::Call    0    1.54    
    parent                0    0.232   

build_requires:

    Module                Need Have    
    --------------------- ---- --------
    ExtUtils::MakeMaker   6.42 7.04    
    Test::More            0.88 1.001014
    Test::Requires        0    0.08    

configure_requires:

    Module                Need Have    
    --------------------- ---- --------
    ExtUtils::MakeMaker   6.42 7.04    


------------------------------
ENVIRONMENT AND OTHER CONTEXT
------------------------------

Environment variables:

    DBIC_NO_WARN_BAD_PERL = 1
    LANG = C
    PATH = /usr/local/bin:/usr/bin:/bin:/usr/local/sbin:/usr/sbin:/sbin:/home/eserte/bin/linux-gnu:/home/eserte/bin/sh:/home/eserte/bin:/usr/games:/home/eserte/devel:/home/eserte/src/srezic-misc/scripts
    PERL5LIB = 
    PERL5OPT = 
    PERL5_CPANPLUS_IS_RUNNING = 1654
    PERL5_CPAN_IS_RUNNING = 1654
    PERL5_CPAN_IS_RUNNING_IN_RECURSION = 1605,1654
    PERLDOC = -MPod::Perldoc::ToTextOverstrike
    PERL_BATCH = yes
    PERL_CPAN_REPORTER_CONFIG = /var/tmp/cpansmoker-1001/zETOtpWZMs_config.ini
    PERL_EXTUTILS_AUTOINSTALL = --defaultdeps
    PERL_HTML_DISPLAY_CLASS = HTML::Display::Mozilla
    SHELL = /bin/zsh
    TERM = screen
    TMPDIR = /var/tmp/cpansmoker-1001

Perl special variables (and OS-specific diagnostics, for MSWin32):

    $^X = /bbbike/perl-5.21.10/bin/perl5.21.10
    $UID/$EUID = 1001 / 1001
    $GID = 1001 109 1001
    $EGID = 1001 109 1001

Perl module toolchain versions installed:

    Module              Have    
    ------------------- --------
    CPAN                2.10    
    CPAN::Meta          2.150001
    Cwd                 3.55    
    ExtUtils::CBuilder  0.280221
    ExtUtils::Command   1.20    
    ExtUtils::Install   2.04    
    ExtUtils::MakeMaker 7.04    
    ExtUtils::Manifest  1.70    
    ExtUtils::ParseXS   3.27    
    File::Spec          3.55    
    JSON                2.90    
    JSON::PP            2.27300 
    Module::Build       0.4211  
    Module::Signature   0.73    
    Parse::CPAN::Meta   1.4414  
    Test::Harness       3.35    
    Test::More          1.001014
    YAML                1.14    
    YAML::Syck          1.29    
    version             0.9909  


--

Summary of my perl5 (revision 5 version 21 subversion 10) configuration:
   
  Platform:
    osname=linux, osvers=3.2.0-4-amd64, archname=x86_64-linux
    uname='linux eserte 3.2.0-4-amd64 #1 smp debian 3.2.65-1+deb7u2 x86_64 gnulinux '
    config_args='-ds -e -Dprefix=/opt/perl-5.21.10 -Dusedevel -Dusemallocwrap=no'
    hint=recommended, useposix=true, d_sigaction=define
    useithreads=undef, usemultiplicity=undef
    use64bitint=define, use64bitall=define, uselongdouble=undef
    usemymalloc=n, bincompat5005=undef
  Compiler:
    cc='cc', ccflags ='-fwrapv -fno-strict-aliasing -pipe -fstack-protector -I/usr/local/include -D_LARGEFILE_SOURCE -D_FILE_OFFSET_BITS=64 -D_FORTIFY_SOURCE=2',
    optimize='-O2',
    cppflags='-fwrapv -fno-strict-aliasing -pipe -fstack-protector -I/usr/local/include'
    ccversion='', gccversion='4.7.2', gccosandvers=''
    intsize=4, longsize=8, ptrsize=8, doublesize=8, byteorder=12345678, doublekind=3
    d_longlong=define, longlongsize=8, d_longdbl=define, longdblsize=16, longdblkind=3
    ivtype='long', ivsize=8, nvtype='double', nvsize=8, Off_t='off_t', lseeksize=8
    alignbytes=8, prototype=define
  Linker and Libraries:
    ld='cc', ldflags =' -fstack-protector -L/usr/local/lib'
    libpth=/usr/local/lib /usr/lib/gcc/x86_64-linux-gnu/4.7/include-fixed /usr/include/x86_64-linux-gnu /usr/lib /lib/x86_64-linux-gnu /lib/../lib /usr/lib/x86_64-linux-gnu /usr/lib/../lib /lib
    libs=-lpthread -lnsl -ldb -ldl -lm -lcrypt -lutil -lc
    perllibs=-lpthread -lnsl -ldl -lm -lcrypt -lutil -lc
    libc=libc-2.13.so, so=so, useshrplib=false, libperl=libperl.a
    gnulibc_version='2.13'
  Dynamic Linking:
    dlsrc=dl_dlopen.xs, dlext=so, d_dlsymun=undef, ccdlflags='-Wl,-E'
    cccdlflags='-fPIC', lddlflags='-shared -O2 -L/usr/local/lib -fstack-protector'


Characteristics of this binary (from libperl): 
  Compile-time options: HAS_TIMES PERLIO_LAYERS PERL_DONT_CREATE_GVSV
                        PERL_HASH_FUNC_ONE_AT_A_TIME_HARD
                        PERL_NEW_COPY_ON_WRITE PERL_PRESERVE_IVUV
                        PERL_USE_DEVEL USE_64_BIT_ALL USE_64_BIT_INT
                        USE_LARGE_FILES USE_LOCALE USE_LOCALE_COLLATE
                        USE_LOCALE_CTYPE USE_LOCALE_NUMERIC USE_LOCALE_TIME
                        USE_PERLIO USE_PERL_ATOF
  Built under linux
  Compiled at Mar 20 2015 18:59:18
  %ENV:
    PERL5LIB=""
    PERL5OPT=""
    PERL5_CPANPLUS_IS_RUNNING="1654"
    PERL5_CPAN_IS_RUNNING="1654"
    PERL5_CPAN_IS_RUNNING_IN_RECURSION="1605,1654"
    PERLDOC="-MPod::Perldoc::ToTextOverstrike"
    PERL_BATCH="yes"
    PERL_CPAN_REPORTER_CONFIG="/var/tmp/cpansmoker-1001/zETOtpWZMs_config.ini"
    PERL_EXTUTILS_AUTOINSTALL="--defaultdeps"
    PERL_HTML_DISPLAY_CLASS="HTML::Display::Mozilla"
  @INC:
    /opt/perl-5.21.10/lib/site_perl/5.21.10/x86_64-linux
    /opt/perl-5.21.10/lib/site_perl/5.21.10
    /opt/perl-5.21.10/lib/5.21.10/x86_64-linux
    /opt/perl-5.21.10/lib/5.21.10
    .