Catalyst-View-HTML-Zoom v0.003 Perl 5 v5.37.8 x86_64-linux-thread-multi

Status
Pass
From
Andreas J. König (ANDK)
Dist
Catalyst-View-HTML-Zoom v0.003
Platform
Perl 5 v5.37.8 x86_64-linux-thread-multi
Date
2023-01-23 19:13:11
ID
fa9c4c72-9b51-11ed-a404-c002e5770b67
This distribution has been tested as part of the CPAN Testers
project, supporting the Perl programming language.  See
http://wiki.cpantesters.org/ for more information or email
questions to cpan-testers-discuss@perl.org


--
Dear Oliver Charles,

This is a computer-generated report for Catalyst-View-HTML-Zoom-0.003
on perl 5.37.8, created by CPAN-Reporter-1.2018.

Thank you for uploading your work to CPAN.  Congratulations!
All tests were successful.

Sections of this report:

    * Tester comments
    * Program output
    * Prerequisites
    * Environment and other context

------------------------------
TESTER COMMENTS
------------------------------

Additional comments from tester:

this report is from an automated smoke testing program
and was not reviewed by a human for accuracy

------------------------------
PROGRAM OUTPUT
------------------------------

Output from '/usr/bin/make test':

PERL_DL_NONLAZY=1 "/tmp/basesmoker-reloperl-i8dx/bin/perl" "-MExtUtils::Command::MM" "-MTest::Harness" "-e" "undef *Test::Harness::Switches; test_harness(0, 'blib/lib', 'blib/arch')" t/*.t
t/00-load.t ............... ok
t/author-pod-coverage.t ... skipped: these tests are for testing by the author
t/author-pod.t ............ skipped: these tests are for testing by the author
Class::MOP::load_class is deprecated at /home/sand/src/perl/repoperls/installed-perls/host/k93focal/v5.37.8/d119/lib/site_perl/5.37.8/x86_64-linux-thread-multi/Class/MOP.pm line 69, <ARGV> line 1.
	Class::MOP::load_class("TestAppAltRoot::View::HTML::Root") called at /tmp/loop_over_bdir-2491094-Zu3b2v/Catalyst-View-HTML-Zoom-0.003-0/blib/lib/Catalyst/View/HTML/Zoom.pm line 138
	Catalyst::View::HTML::Zoom::_zoomer_class_from_context(TestAppAltRoot::View::HTML=HASH(0x55efba400ca0), TestAppAltRoot=HASH(0x55efba5e8df0)) called at /tmp/loop_over_bdir-2491094-Zu3b2v/Catalyst-View-HTML-Zoom-0.003-0/blib/lib/Catalyst/View/HTML/Zoom.pm line 90
	Catalyst::View::HTML::Zoom::_build_renderer_from_zoomer_class(TestAppAltRoot::View::HTML=HASH(0x55efba400ca0), TestAppAltRoot=HASH(0x55efba5e8df0)) called at /tmp/loop_over_bdir-2491094-Zu3b2v/Catalyst-View-HTML-Zoom-0.003-0/blib/lib/Catalyst/View/HTML/Zoom.pm line 76
	Catalyst::View::HTML::Zoom::_build_renderer_from(TestAppAltRoot::View::HTML=HASH(0x55efba400ca0), TestAppAltRoot=HASH(0x55efba5e8df0), undef) called at /tmp/loop_over_bdir-2491094-Zu3b2v/Catalyst-View-HTML-Zoom-0.003-0/blib/lib/Catalyst/View/HTML/Zoom.pm line 67
	Catalyst::View::HTML::Zoom::render(TestAppAltRoot::View::HTML=HASH(0x55efba400ca0), TestAppAltRoot=HASH(0x55efba5e8df0), "/main") called at /tmp/loop_over_bdir-2491094-Zu3b2v/Catalyst-View-HTML-Zoom-0.003-0/blib/lib/Catalyst/View/HTML/Zoom.pm line 41
	Catalyst::View::HTML::Zoom::process(TestAppAltRoot::View::HTML=HASH(0x55efba400ca0), TestAppAltRoot=HASH(0x55efba5e8df0)) called at /home/sand/src/perl/repoperls/installed-perls/host/k93focal/v5.37.8/d119/lib/site_perl/5.37.8/Catalyst/Action.pm line 374
	Catalyst::Action::execute(Catalyst::Action=HASH(0x55efba5f5350), TestAppAltRoot::View::HTML=HASH(0x55efba400ca0), TestAppAltRoot=HASH(0x55efba5e8df0)) called at /home/sand/src/perl/repoperls/installed-perls/host/k93focal/v5.37.8/d119/lib/site_perl/5.37.8/Catalyst.pm line 2067
	eval {...} called at /home/sand/src/perl/repoperls/installed-perls/host/k93focal/v5.37.8/d119/lib/site_perl/5.37.8/Catalyst.pm line 2067
	Catalyst::execute(TestAppAltRoot=HASH(0x55efba5e8df0), TestAppAltRoot::View::HTML=HASH(0x55efba400ca0), Catalyst::Action=HASH(0x55efba5f5350)) called at /home/sand/src/perl/repoperls/installed-perls/host/k93focal/v5.37.8/d119/lib/site_perl/5.37.8/Catalyst/Action.pm line 366
	Catalyst::Action::dispatch(Catalyst::Action=HASH(0x55efba5f5350), TestAppAltRoot=HASH(0x55efba5e8df0)) called at /home/sand/src/perl/repoperls/installed-perls/host/k93focal/v5.37.8/d119/lib/site_perl/5.37.8/Catalyst/Dispatcher.pm line 261
	Catalyst::Dispatcher::_do_forward(Catalyst::Dispatcher=HASH(0x55efb91b27d8), "forward", TestAppAltRoot=HASH(0x55efba5e8df0), TestAppAltRoot::View::HTML=HASH(0x55efba400ca0)) called at /home/sand/src/perl/repoperls/installed-perls/host/k93focal/v5.37.8/d119/lib/site_perl/5.37.8/Catalyst/Dispatcher.pm line 241
	Catalyst::Dispatcher::forward(Catalyst::Dispatcher=HASH(0x55efb91b27d8), TestAppAltRoot=HASH(0x55efba5e8df0), TestAppAltRoot::View::HTML=HASH(0x55efba400ca0)) called at /home/sand/src/perl/repoperls/installed-perls/host/k93focal/v5.37.8/d119/lib/site_perl/5.37.8/Catalyst.pm line 489
	Catalyst::forward(TestAppAltRoot=HASH(0x55efba5e8df0), TestAppAltRoot::View::HTML=HASH(0x55efba400ca0)) called at /home/sand/src/perl/repoperls/installed-perls/host/k93focal/v5.37.8/d119/lib/site_perl/5.37.8/Catalyst/Action/RenderView.pm line 57
	Catalyst::Action::RenderView::execute(Catalyst::Action::RenderView=HASH(0x55efba558ff8), TestAppAltRoot::Controller::Root=HASH(0x55efba400d30), TestAppAltRoot=HASH(0x55efba5e8df0)) called at /home/sand/src/perl/repoperls/installed-perls/host/k93focal/v5.37.8/d119/lib/site_perl/5.37.8/Catalyst.pm line 2067
	eval {...} called at /home/sand/src/perl/repoperls/installed-perls/host/k93focal/v5.37.8/d119/lib/site_perl/5.37.8/Catalyst.pm line 2067
	Catalyst::execute(TestAppAltRoot=HASH(0x55efba5e8df0), "TestAppAltRoot::Controller::Root", Catalyst::Action::RenderView=HASH(0x55efba558ff8)) called at /home/sand/src/perl/repoperls/installed-perls/host/k93focal/v5.37.8/d119/lib/site_perl/5.37.8/Catalyst/Action.pm line 368
	Catalyst::Action::dispatch(Catalyst::Action::RenderView=HASH(0x55efba558ff8), TestAppAltRoot=HASH(0x55efba5e8df0)) called at /home/sand/src/perl/repoperls/installed-perls/host/k93focal/v5.37.8/d119/lib/site_perl/5.37.8/Catalyst/Controller.pm line 188
	Catalyst::Controller::_END(TestAppAltRoot::Controller::Root=HASH(0x55efba400d30), TestAppAltRoot=HASH(0x55efba5e8df0)) called at /home/sand/src/perl/repoperls/installed-perls/host/k93focal/v5.37.8/d119/lib/site_perl/5.37.8/Catalyst/Action.pm line 374
	Catalyst::Action::execute(Catalyst::Action=HASH(0x55efba47bc40), TestAppAltRoot::Controller::Root=HASH(0x55efba400d30), TestAppAltRoot=HASH(0x55efba5e8df0)) called at /home/sand/src/perl/repoperls/installed-perls/host/k93focal/v5.37.8/d119/lib/site_perl/5.37.8/Catalyst.pm line 2067
	eval {...} called at /home/sand/src/perl/repoperls/installed-perls/host/k93focal/v5.37.8/d119/lib/site_perl/5.37.8/Catalyst.pm line 2067
	Catalyst::execute(TestAppAltRoot=HASH(0x55efba5e8df0), "TestAppAltRoot::Controller::Root", Catalyst::Action=HASH(0x55efba47bc40)) called at /home/sand/src/perl/repoperls/installed-perls/host/k93focal/v5.37.8/d119/lib/site_perl/5.37.8/Catalyst/Action.pm line 368
	Catalyst::Action::dispatch(Catalyst::Action=HASH(0x55efba47bc40), TestAppAltRoot=HASH(0x55efba5e8df0)) called at /home/sand/src/perl/repoperls/installed-perls/host/k93focal/v5.37.8/d119/lib/site_perl/5.37.8/Catalyst/Dispatcher.pm line 261
	Catalyst::Dispatcher::_do_forward(Catalyst::Dispatcher=HASH(0x55efb91b27d8), "forward", TestAppAltRoot=HASH(0x55efba5e8df0), "_END") called at /home/sand/src/perl/repoperls/installed-perls/host/k93focal/v5.37.8/d119/lib/site_perl/5.37.8/Catalyst/Dispatcher.pm line 241
	Catalyst::Dispatcher::forward(Catalyst::Dispatcher=HASH(0x55efb91b27d8), TestAppAltRoot=HASH(0x55efba5e8df0), "_END") called at /home/sand/src/perl/repoperls/installed-perls/host/k93focal/v5.37.8/d119/lib/site_perl/5.37.8/Catalyst.pm line 489
	Catalyst::forward(TestAppAltRoot=HASH(0x55efba5e8df0), "_END") called at /home/sand/src/perl/repoperls/installed-perls/host/k93focal/v5.37.8/d119/lib/site_perl/5.37.8/Catalyst/Controller.pm line 137
	Catalyst::Controller::_DISPATCH(TestAppAltRoot::Controller::Root=HASH(0x55efba400d30), TestAppAltRoot=HASH(0x55efba5e8df0)) called at /home/sand/src/perl/repoperls/installed-perls/host/k93focal/v5.37.8/d119/lib/site_perl/5.37.8/Catalyst/Action.pm line 374
	Catalyst::Action::execute(Catalyst::Action=HASH(0x55efba400f70), TestAppAltRoot::Controller::Root=HASH(0x55efba400d30), TestAppAltRoot=HASH(0x55efba5e8df0)) called at /home/sand/src/perl/repoperls/installed-perls/host/k93focal/v5.37.8/d119/lib/site_perl/5.37.8/Catalyst.pm line 2067
	eval {...} called at /home/sand/src/perl/repoperls/installed-perls/host/k93focal/v5.37.8/d119/lib/site_perl/5.37.8/Catalyst.pm line 2067
	Catalyst::execute(TestAppAltRoot=HASH(0x55efba5e8df0), "TestAppAltRoot::Controller::Root", Catalyst::Action=HASH(0x55efba400f70)) called at /home/sand/src/perl/repoperls/installed-perls/host/k93focal/v5.37.8/d119/lib/site_perl/5.37.8/Catalyst/Action.pm line 368
	Catalyst::Action::dispatch(Catalyst::Action=HASH(0x55efba400f70), TestAppAltRoot=HASH(0x55efba5e8df0)) called at /home/sand/src/perl/repoperls/installed-perls/host/k93focal/v5.37.8/d119/lib/site_perl/5.37.8/Catalyst/Dispatcher.pm line 261
	Catalyst::Dispatcher::_do_forward(Catalyst::Dispatcher=HASH(0x55efb91b27d8), "forward", TestAppAltRoot=HASH(0x55efba5e8df0), "//_DISPATCH") called at /home/sand/src/perl/repoperls/installed-perls/host/k93focal/v5.37.8/d119/lib/site_perl/5.37.8/Catalyst/Dispatcher.pm line 241
	Catalyst::Dispatcher::forward(Catalyst::Dispatcher=HASH(0x55efb91b27d8), TestAppAltRoot=HASH(0x55efba5e8df0), "//_DISPATCH") called at /home/sand/src/perl/repoperls/installed-perls/host/k93focal/v5.37.8/d119/lib/site_perl/5.37.8/Catalyst.pm line 489
	Catalyst::forward(TestAppAltRoot=HASH(0x55efba5e8df0), "//_DISPATCH") called at /home/sand/src/perl/repoperls/installed-perls/host/k93focal/v5.37.8/d119/lib/site_perl/5.37.8/Catalyst/Dispatcher.pm line 107
	Catalyst::Dispatcher::dispatch(Catalyst::Dispatcher=HASH(0x55efb91b27d8), TestAppAltRoot=HASH(0x55efba5e8df0)) called at /home/sand/src/perl/repoperls/installed-perls/host/k93focal/v5.37.8/d119/lib/site_perl/5.37.8/Catalyst.pm line 2013
	Catalyst::dispatch(TestAppAltRoot=HASH(0x55efba5e8df0)) called at /home/sand/src/perl/repoperls/installed-perls/host/k93focal/v5.37.8/d119/lib/site_perl/5.37.8/x86_64-linux-thread-multi/Class/MOP/Method/Wrapped.pm line 56
	TestAppAltRoot::_wrapped_dispatch(TestAppAltRoot=HASH(0x55efba5e8df0)) called at /home/sand/src/perl/repoperls/installed-perls/host/k93focal/v5.37.8/d119/lib/site_perl/5.37.8/x86_64-linux-thread-multi/Class/MOP/Method/Wrapped.pm line 97
	TestAppAltRoot::dispatch(TestAppAltRoot=HASH(0x55efba5e8df0)) called at /home/sand/src/perl/repoperls/installed-perls/host/k93focal/v5.37.8/d119/lib/site_perl/5.37.8/Catalyst.pm line 2419
	Catalyst::try {...} () called at /home/sand/src/perl/repoperls/installed-perls/host/k93focal/v5.37.8/d119/lib/site_perl/5.37.8/Try/Tiny.pm line 102
	eval {...} called at /home/sand/src/perl/repoperls/installed-perls/host/k93focal/v5.37.8/d119/lib/site_perl/5.37.8/Try/Tiny.pm line 93
	Try::Tiny::try(CODE(0x55efba5e7160), Try::Tiny::Catch=REF(0x55efba5e6fc8)) called at /home/sand/src/perl/repoperls/installed-perls/host/k93focal/v5.37.8/d119/lib/site_perl/5.37.8/Catalyst.pm line 2428
	Catalyst::handle_request("TestAppAltRoot", "env", HASH(0x55efba5d5db8), "response_cb", CODE(0x55efba5e7028)) called at /home/sand/src/perl/repoperls/installed-perls/host/k93focal/v5.37.8/d119/lib/site_perl/5.37.8/Catalyst/Engine.pm line 807
	Catalyst::Engine::__ANON__(CODE(0x55efba5e7028)) called at /home/sand/src/perl/repoperls/installed-perls/host/k93focal/v5.37.8/d119/lib/site_perl/5.37.8/Plack/Middleware/HTTPExceptions.pm line 32
	Plack::Middleware::HTTPExceptions::try {...} () called at /home/sand/src/perl/repoperls/installed-perls/host/k93focal/v5.37.8/d119/lib/site_perl/5.37.8/Try/Tiny.pm line 102
	eval {...} called at /home/sand/src/perl/repoperls/installed-perls/host/k93focal/v5.37.8/d119/lib/site_perl/5.37.8/Try/Tiny.pm line 93
	Try::Tiny::try(CODE(0x55efba5e6e60), Try::Tiny::Catch=REF(0x55efba5e6698)) called at /home/sand/src/perl/repoperls/installed-perls/host/k93focal/v5.37.8/d119/lib/site_perl/5.37.8/Plack/Middleware/HTTPExceptions.pm line 41
	Plack::Middleware::HTTPExceptions::__ANON__(CODE(0x55efba562e08)) called at /home/sand/src/perl/repoperls/installed-perls/host/k93focal/v5.37.8/d119/lib/site_perl/5.37.8/Plack/Util.pm line 339
	Plack::Util::__ANON__(CODE(0x55efba59d838)) called at /home/sand/src/perl/repoperls/installed-perls/host/k93focal/v5.37.8/d119/lib/site_perl/5.37.8/Plack/Util.pm line 339
	Plack::Util::__ANON__(CODE(0x55efba38bc60)) called at /home/sand/src/perl/repoperls/installed-perls/host/k93focal/v5.37.8/d119/lib/site_perl/5.37.8/Plack/Util.pm line 339
	Plack::Util::__ANON__(CODE(0x55efba205fe8)) called at /home/sand/src/perl/repoperls/installed-perls/host/k93focal/v5.37.8/d119/lib/site_perl/5.37.8/HTTP/Message/PSGI.pm line 100
	HTTP::Message::PSGI::res_from_psgi(CODE(0x55efba5e6bc0)) called at /home/sand/src/perl/repoperls/installed-perls/host/k93focal/v5.37.8/d119/lib/site_perl/5.37.8/HTTP/Message/PSGI.pm line 157
	HTTP::Response::from_psgi("HTTP::Response", CODE(0x55efba5e6bc0)) called at /home/sand/src/perl/repoperls/installed-perls/host/k93focal/v5.37.8/d119/lib/site_perl/5.37.8/Plack/Test/MockHTTP.pm line 24
	Plack::Test::MockHTTP::try {...} () called at /home/sand/src/perl/repoperls/installed-perls/host/k93focal/v5.37.8/d119/lib/site_perl/5.37.8/Try/Tiny.pm line 100
	eval {...} called at /home/sand/src/perl/repoperls/installed-perls/host/k93focal/v5.37.8/d119/lib/site_perl/5.37.8/Try/Tiny.pm line 93
	Try::Tiny::try(CODE(0x55efba427670), Try::Tiny::Catch=REF(0x55efb773f828)) called at /home/sand/src/perl/repoperls/installed-perls/host/k93focal/v5.37.8/d119/lib/site_perl/5.37.8/Plack/Test/MockHTTP.pm line 27
	Plack::Test::MockHTTP::request(Plack::Test::MockHTTP=HASH(0x55efba57b290), HTTP::Request=HASH(0x55efba57af18)) called at /home/sand/src/perl/repoperls/installed-perls/host/k93focal/v5.37.8/d119/lib/site_perl/5.37.8/Plack/Test.pm line 38
	Plack::Test::__ANON__(HTTP::Request=HASH(0x55efba57af18)) called at /home/sand/src/perl/repoperls/installed-perls/host/k93focal/v5.37.8/d119/lib/site_perl/5.37.8/Catalyst/Test.pm line 290
	Catalyst::Test::__ANON__(CODE(0x55efba57b248)) called at /home/sand/src/perl/repoperls/installed-perls/host/k93focal/v5.37.8/d119/lib/site_perl/5.37.8/Plack/Test.pm line 38
	Plack::Test::test_psgi("mangle_response", CODE(0x55efb9195e20), "app", CODE(0x55efba57aa80), "app", CODE(0x55efba47f660), "client", CODE(0x55efba57b0e0)) called at /home/sand/src/perl/repoperls/installed-perls/host/k93focal/v5.37.8/d119/lib/site_perl/5.37.8/Catalyst/Test.pm line 293
	Catalyst::Test::_request(HASH(0x55efba57ac90), "/") called at /home/sand/src/perl/repoperls/installed-perls/host/k93focal/v5.37.8/d119/lib/site_perl/5.37.8/Catalyst/Test.pm line 336
	Catalyst::Test::_local_request("TestAppAltRoot", "/") called at /home/sand/src/perl/repoperls/installed-perls/host/k93focal/v5.37.8/d119/lib/site_perl/5.37.8/Catalyst/Test.pm line 32
	Catalyst::Test::__ANON__("/") called at /home/sand/src/perl/repoperls/installed-perls/host/k93focal/v5.37.8/d119/lib/site_perl/5.37.8/Catalyst/Test.pm line 72
	Catalyst::Test::__ANON__("/") called at t/live-test-alt-root.t line 14
t/live-test-alt-root.t .... ok
Class::MOP::load_class is deprecated at /home/sand/src/perl/repoperls/installed-perls/host/k93focal/v5.37.8/d119/lib/site_perl/5.37.8/x86_64-linux-thread-multi/Class/MOP.pm line 69, <ARGV> line 1.
	Class::MOP::load_class("TestApp::View::HTML::Root") called at /tmp/loop_over_bdir-2491094-Zu3b2v/Catalyst-View-HTML-Zoom-0.003-0/blib/lib/Catalyst/View/HTML/Zoom.pm line 138
	Catalyst::View::HTML::Zoom::_zoomer_class_from_context(TestApp::View::HTML=HASH(0x558d146ca6b0), TestApp=HASH(0x558d1486cc48)) called at /tmp/loop_over_bdir-2491094-Zu3b2v/Catalyst-View-HTML-Zoom-0.003-0/blib/lib/Catalyst/View/HTML/Zoom.pm line 90
	Catalyst::View::HTML::Zoom::_build_renderer_from_zoomer_class(TestApp::View::HTML=HASH(0x558d146ca6b0), TestApp=HASH(0x558d1486cc48)) called at /tmp/loop_over_bdir-2491094-Zu3b2v/Catalyst-View-HTML-Zoom-0.003-0/blib/lib/Catalyst/View/HTML/Zoom.pm line 76
	Catalyst::View::HTML::Zoom::_build_renderer_from(TestApp::View::HTML=HASH(0x558d146ca6b0), TestApp=HASH(0x558d1486cc48), undef) called at /tmp/loop_over_bdir-2491094-Zu3b2v/Catalyst-View-HTML-Zoom-0.003-0/blib/lib/Catalyst/View/HTML/Zoom.pm line 67
	Catalyst::View::HTML::Zoom::render(TestApp::View::HTML=HASH(0x558d146ca6b0), TestApp=HASH(0x558d1486cc48), "/main") called at /tmp/loop_over_bdir-2491094-Zu3b2v/Catalyst-View-HTML-Zoom-0.003-0/blib/lib/Catalyst/View/HTML/Zoom.pm line 41
	Catalyst::View::HTML::Zoom::process(TestApp::View::HTML=HASH(0x558d146ca6b0), TestApp=HASH(0x558d1486cc48)) called at /home/sand/src/perl/repoperls/installed-perls/host/k93focal/v5.37.8/d119/lib/site_perl/5.37.8/Catalyst/Action.pm line 374
	Catalyst::Action::execute(Catalyst::Action=HASH(0x558d148d6e80), TestApp::View::HTML=HASH(0x558d146ca6b0), TestApp=HASH(0x558d1486cc48)) called at /home/sand/src/perl/repoperls/installed-perls/host/k93focal/v5.37.8/d119/lib/site_perl/5.37.8/Catalyst.pm line 2067
	eval {...} called at /home/sand/src/perl/repoperls/installed-perls/host/k93focal/v5.37.8/d119/lib/site_perl/5.37.8/Catalyst.pm line 2067
	Catalyst::execute(TestApp=HASH(0x558d1486cc48), TestApp::View::HTML=HASH(0x558d146ca6b0), Catalyst::Action=HASH(0x558d148d6e80)) called at /home/sand/src/perl/repoperls/installed-perls/host/k93focal/v5.37.8/d119/lib/site_perl/5.37.8/Catalyst/Action.pm line 366
	Catalyst::Action::dispatch(Catalyst::Action=HASH(0x558d148d6e80), TestApp=HASH(0x558d1486cc48)) called at /home/sand/src/perl/repoperls/installed-perls/host/k93focal/v5.37.8/d119/lib/site_perl/5.37.8/Catalyst/Dispatcher.pm line 261
	Catalyst::Dispatcher::_do_forward(Catalyst::Dispatcher=HASH(0x558d1344ad50), "forward", TestApp=HASH(0x558d1486cc48), TestApp::View::HTML=HASH(0x558d146ca6b0)) called at /home/sand/src/perl/repoperls/installed-perls/host/k93focal/v5.37.8/d119/lib/site_perl/5.37.8/Catalyst/Dispatcher.pm line 241
	Catalyst::Dispatcher::forward(Catalyst::Dispatcher=HASH(0x558d1344ad50), TestApp=HASH(0x558d1486cc48), TestApp::View::HTML=HASH(0x558d146ca6b0)) called at /home/sand/src/perl/repoperls/installed-perls/host/k93focal/v5.37.8/d119/lib/site_perl/5.37.8/Catalyst.pm line 489
	Catalyst::forward(TestApp=HASH(0x558d1486cc48), TestApp::View::HTML=HASH(0x558d146ca6b0)) called at /home/sand/src/perl/repoperls/installed-perls/host/k93focal/v5.37.8/d119/lib/site_perl/5.37.8/Catalyst/Action/RenderView.pm line 57
	Catalyst::Action::RenderView::execute(Catalyst::Action::RenderView=HASH(0x558d14834140), TestApp::Controller::Root=HASH(0x558d146e11a0), TestApp=HASH(0x558d1486cc48)) called at /home/sand/src/perl/repoperls/installed-perls/host/k93focal/v5.37.8/d119/lib/site_perl/5.37.8/Catalyst.pm line 2067
	eval {...} called at /home/sand/src/perl/repoperls/installed-perls/host/k93focal/v5.37.8/d119/lib/site_perl/5.37.8/Catalyst.pm line 2067
	Catalyst::execute(TestApp=HASH(0x558d1486cc48), "TestApp::Controller::Root", Catalyst::Action::RenderView=HASH(0x558d14834140)) called at /home/sand/src/perl/repoperls/installed-perls/host/k93focal/v5.37.8/d119/lib/site_perl/5.37.8/Catalyst/Action.pm line 368
	Catalyst::Action::dispatch(Catalyst::Action::RenderView=HASH(0x558d14834140), TestApp=HASH(0x558d1486cc48)) called at /home/sand/src/perl/repoperls/installed-perls/host/k93focal/v5.37.8/d119/lib/site_perl/5.37.8/Catalyst/Controller.pm line 188
	Catalyst::Controller::_END(TestApp::Controller::Root=HASH(0x558d146e11a0), TestApp=HASH(0x558d1486cc48)) called at /home/sand/src/perl/repoperls/installed-perls/host/k93focal/v5.37.8/d119/lib/site_perl/5.37.8/Catalyst/Action.pm line 374
	Catalyst::Action::execute(Catalyst::Action=HASH(0x558d14753508), TestApp::Controller::Root=HASH(0x558d146e11a0), TestApp=HASH(0x558d1486cc48)) called at /home/sand/src/perl/repoperls/installed-perls/host/k93focal/v5.37.8/d119/lib/site_perl/5.37.8/Catalyst.pm line 2067
	eval {...} called at /home/sand/src/perl/repoperls/installed-perls/host/k93focal/v5.37.8/d119/lib/site_perl/5.37.8/Catalyst.pm line 2067
	Catalyst::execute(TestApp=HASH(0x558d1486cc48), "TestApp::Controller::Root", Catalyst::Action=HASH(0x558d14753508)) called at /home/sand/src/perl/repoperls/installed-perls/host/k93focal/v5.37.8/d119/lib/site_perl/5.37.8/Catalyst/Action.pm line 368
	Catalyst::Action::dispatch(Catalyst::Action=HASH(0x558d14753508), TestApp=HASH(0x558d1486cc48)) called at /home/sand/src/perl/repoperls/installed-perls/host/k93focal/v5.37.8/d119/lib/site_perl/5.37.8/Catalyst/Dispatcher.pm line 261
	Catalyst::Dispatcher::_do_forward(Catalyst::Dispatcher=HASH(0x558d1344ad50), "forward", TestApp=HASH(0x558d1486cc48), "_END") called at /home/sand/src/perl/repoperls/installed-perls/host/k93focal/v5.37.8/d119/lib/site_perl/5.37.8/Catalyst/Dispatcher.pm line 241
	Catalyst::Dispatcher::forward(Catalyst::Dispatcher=HASH(0x558d1344ad50), TestApp=HASH(0x558d1486cc48), "_END") called at /home/sand/src/perl/repoperls/installed-perls/host/k93focal/v5.37.8/d119/lib/site_perl/5.37.8/Catalyst.pm line 489
	Catalyst::forward(TestApp=HASH(0x558d1486cc48), "_END") called at /home/sand/src/perl/repoperls/installed-perls/host/k93focal/v5.37.8/d119/lib/site_perl/5.37.8/Catalyst/Controller.pm line 137
	Catalyst::Controller::_DISPATCH(TestApp::Controller::Root=HASH(0x558d146e11a0), TestApp=HASH(0x558d1486cc48)) called at /home/sand/src/perl/repoperls/installed-perls/host/k93focal/v5.37.8/d119/lib/site_perl/5.37.8/Catalyst/Action.pm line 374
	Catalyst::Action::execute(Catalyst::Action=HASH(0x558d14757400), TestApp::Controller::Root=HASH(0x558d146e11a0), TestApp=HASH(0x558d1486cc48)) called at /home/sand/src/perl/repoperls/installed-perls/host/k93focal/v5.37.8/d119/lib/site_perl/5.37.8/Catalyst.pm line 2067
	eval {...} called at /home/sand/src/perl/repoperls/installed-perls/host/k93focal/v5.37.8/d119/lib/site_perl/5.37.8/Catalyst.pm line 2067
	Catalyst::execute(TestApp=HASH(0x558d1486cc48), "TestApp::Controller::Root", Catalyst::Action=HASH(0x558d14757400)) called at /home/sand/src/perl/repoperls/installed-perls/host/k93focal/v5.37.8/d119/lib/site_perl/5.37.8/Catalyst/Action.pm line 368
	Catalyst::Action::dispatch(Catalyst::Action=HASH(0x558d14757400), TestApp=HASH(0x558d1486cc48)) called at /home/sand/src/perl/repoperls/installed-perls/host/k93focal/v5.37.8/d119/lib/site_perl/5.37.8/Catalyst/Dispatcher.pm line 261
	Catalyst::Dispatcher::_do_forward(Catalyst::Dispatcher=HASH(0x558d1344ad50), "forward", TestApp=HASH(0x558d1486cc48), "//_DISPATCH") called at /home/sand/src/perl/repoperls/installed-perls/host/k93focal/v5.37.8/d119/lib/site_perl/5.37.8/Catalyst/Dispatcher.pm line 241
	Catalyst::Dispatcher::forward(Catalyst::Dispatcher=HASH(0x558d1344ad50), TestApp=HASH(0x558d1486cc48), "//_DISPATCH") called at /home/sand/src/perl/repoperls/installed-perls/host/k93focal/v5.37.8/d119/lib/site_perl/5.37.8/Catalyst.pm line 489
	Catalyst::forward(TestApp=HASH(0x558d1486cc48), "//_DISPATCH") called at /home/sand/src/perl/repoperls/installed-perls/host/k93focal/v5.37.8/d119/lib/site_perl/5.37.8/Catalyst/Dispatcher.pm line 107
	Catalyst::Dispatcher::dispatch(Catalyst::Dispatcher=HASH(0x558d1344ad50), TestApp=HASH(0x558d1486cc48)) called at /home/sand/src/perl/repoperls/installed-perls/host/k93focal/v5.37.8/d119/lib/site_perl/5.37.8/Catalyst.pm line 2013
	Catalyst::dispatch(TestApp=HASH(0x558d1486cc48)) called at /home/sand/src/perl/repoperls/installed-perls/host/k93focal/v5.37.8/d119/lib/site_perl/5.37.8/x86_64-linux-thread-multi/Class/MOP/Method/Wrapped.pm line 56
	TestApp::_wrapped_dispatch(TestApp=HASH(0x558d1486cc48)) called at /home/sand/src/perl/repoperls/installed-perls/host/k93focal/v5.37.8/d119/lib/site_perl/5.37.8/x86_64-linux-thread-multi/Class/MOP/Method/Wrapped.pm line 97
	TestApp::dispatch(TestApp=HASH(0x558d1486cc48)) called at /home/sand/src/perl/repoperls/installed-perls/host/k93focal/v5.37.8/d119/lib/site_perl/5.37.8/Catalyst.pm line 2419
	Catalyst::try {...} () called at /home/sand/src/perl/repoperls/installed-perls/host/k93focal/v5.37.8/d119/lib/site_perl/5.37.8/Try/Tiny.pm line 102
	eval {...} called at /home/sand/src/perl/repoperls/installed-perls/host/k93focal/v5.37.8/d119/lib/site_perl/5.37.8/Try/Tiny.pm line 93
	Try::Tiny::try(CODE(0x558d1486c720), Try::Tiny::Catch=REF(0x558d1486c588)) called at /home/sand/src/perl/repoperls/installed-perls/host/k93focal/v5.37.8/d119/lib/site_perl/5.37.8/Catalyst.pm line 2428
	Catalyst::handle_request("TestApp", "env", HASH(0x558d143dcd00), "response_cb", CODE(0x558d1486c5e8)) called at /home/sand/src/perl/repoperls/installed-perls/host/k93focal/v5.37.8/d119/lib/site_perl/5.37.8/Catalyst/Engine.pm line 807
	Catalyst::Engine::__ANON__(CODE(0x558d1486c5e8)) called at /home/sand/src/perl/repoperls/installed-perls/host/k93focal/v5.37.8/d119/lib/site_perl/5.37.8/Plack/Middleware/HTTPExceptions.pm line 32
	Plack::Middleware::HTTPExceptions::try {...} () called at /home/sand/src/perl/repoperls/installed-perls/host/k93focal/v5.37.8/d119/lib/site_perl/5.37.8/Try/Tiny.pm line 102
	eval {...} called at /home/sand/src/perl/repoperls/installed-perls/host/k93focal/v5.37.8/d119/lib/site_perl/5.37.8/Try/Tiny.pm line 93
	Try::Tiny::try(CODE(0x558d1486c420), Try::Tiny::Catch=REF(0x558d148666b0)) called at /home/sand/src/perl/repoperls/installed-perls/host/k93focal/v5.37.8/d119/lib/site_perl/5.37.8/Plack/Middleware/HTTPExceptions.pm line 41
	Plack::Middleware::HTTPExceptions::__ANON__(CODE(0x558d14677d00)) called at /home/sand/src/perl/repoperls/installed-perls/host/k93focal/v5.37.8/d119/lib/site_perl/5.37.8/Plack/Util.pm line 339
	Plack::Util::__ANON__(CODE(0x558d145d1c58)) called at /home/sand/src/perl/repoperls/installed-perls/host/k93focal/v5.37.8/d119/lib/site_perl/5.37.8/Plack/Util.pm line 339
	Plack::Util::__ANON__(CODE(0x558d145e5b28)) called at /home/sand/src/perl/repoperls/installed-perls/host/k93focal/v5.37.8/d119/lib/site_perl/5.37.8/Plack/Util.pm line 339
	Plack::Util::__ANON__(CODE(0x558d145bc5c0)) called at /home/sand/src/perl/repoperls/installed-perls/host/k93focal/v5.37.8/d119/lib/site_perl/5.37.8/HTTP/Message/PSGI.pm line 100
	HTTP::Message::PSGI::res_from_psgi(CODE(0x558d148be868)) called at /home/sand/src/perl/repoperls/installed-perls/host/k93focal/v5.37.8/d119/lib/site_perl/5.37.8/HTTP/Message/PSGI.pm line 157
	HTTP::Response::from_psgi("HTTP::Response", CODE(0x558d148be868)) called at /home/sand/src/perl/repoperls/installed-perls/host/k93focal/v5.37.8/d119/lib/site_perl/5.37.8/Plack/Test/MockHTTP.pm line 24
	Plack::Test::MockHTTP::try {...} () called at /home/sand/src/perl/repoperls/installed-perls/host/k93focal/v5.37.8/d119/lib/site_perl/5.37.8/Try/Tiny.pm line 100
	eval {...} called at /home/sand/src/perl/repoperls/installed-perls/host/k93focal/v5.37.8/d119/lib/site_perl/5.37.8/Try/Tiny.pm line 93
	Try::Tiny::try(CODE(0x558d119da8e0), Try::Tiny::Catch=REF(0x558d119da6e8)) called at /home/sand/src/perl/repoperls/installed-perls/host/k93focal/v5.37.8/d119/lib/site_perl/5.37.8/Plack/Test/MockHTTP.pm line 27
	Plack::Test::MockHTTP::request(Plack::Test::MockHTTP=HASH(0x558d14866a88), HTTP::Request=HASH(0x558d14866710)) called at /home/sand/src/perl/repoperls/installed-perls/host/k93focal/v5.37.8/d119/lib/site_perl/5.37.8/Plack/Test.pm line 38
	Plack::Test::__ANON__(HTTP::Request=HASH(0x558d14866710)) called at /home/sand/src/perl/repoperls/installed-perls/host/k93focal/v5.37.8/d119/lib/site_perl/5.37.8/Catalyst/Test.pm line 290
	Catalyst::Test::__ANON__(CODE(0x558d14866a40)) called at /home/sand/src/perl/repoperls/installed-perls/host/k93focal/v5.37.8/d119/lib/site_perl/5.37.8/Plack/Test.pm line 38
	Plack::Test::test_psgi("app", CODE(0x558d14854748), "mangle_response", CODE(0x558d1342fb00), "app", CODE(0x558d14757ce8), "client", CODE(0x558d148668d8)) called at /home/sand/src/perl/repoperls/installed-perls/host/k93focal/v5.37.8/d119/lib/site_perl/5.37.8/Catalyst/Test.pm line 293
	Catalyst::Test::_request(HASH(0x558d14852440), "/") called at /home/sand/src/perl/repoperls/installed-perls/host/k93focal/v5.37.8/d119/lib/site_perl/5.37.8/Catalyst/Test.pm line 336
	Catalyst::Test::_local_request("TestApp", "/") called at /home/sand/src/perl/repoperls/installed-perls/host/k93focal/v5.37.8/d119/lib/site_perl/5.37.8/Catalyst/Test.pm line 32
	Catalyst::Test::__ANON__("/") called at /home/sand/src/perl/repoperls/installed-perls/host/k93focal/v5.37.8/d119/lib/site_perl/5.37.8/Catalyst/Test.pm line 72
	Catalyst::Test::__ANON__("/") called at t/live-test.t line 14
t/live-test.t ............. ok
t/release-pod-coverage.t .. skipped: these tests are for release candidate testing
t/release-pod-syntax.t .... skipped: these tests are for release candidate testing
All tests successful.
Files=7, Tests=17,  2 wallclock secs ( 0.03 usr  0.01 sys +  2.01 cusr  0.19 csys =  2.24 CPU)
Result: PASS

------------------------------
PREREQUISITES
------------------------------

Prerequisite modules loaded:

requires:

    Module                       Need  Have    
    ---------------------------- ----- --------
    Class::MOP                   1.12  2.2202  
    HTML::Zoom                   0.009 0.009009
    Moose                        1.21  2.2202  
    namespace::autoclean         0.09  0.29    
    Path::Class                  0.23  0.37    

build_requires:

    Module                       Need  Have    
    ---------------------------- ----- --------
    Catalyst::Action::RenderView 0.14  0.16    
    Catalyst::Runtime            5.8   5.90130 
    Test::More                   0.96  1.302191

configure_requires:

    Module                       Need  Have    
    ---------------------------- ----- --------
    ExtUtils::MakeMaker          6.31  7.66    


------------------------------
ENVIRONMENT AND OTHER CONTEXT
------------------------------

Environment variables:

    AUTOMATED_TESTING = 1
    LANG = en_US.UTF-8
    PATH = /home/sand/bin:/usr/local/bin:/usr/local/sbin:/usr/sbin:/usr/bin:/sbin:/bin:/usr/games:/usr/local/games:/snap/bin:/usr/local/perl/bin:/usr/X11/bin
    PERL5LIB = /tmp/loop_over_bdir-2491094-Zu3b2v/DBIx-Migration-Directories-0.12-0/blib/arch:/tmp/loop_over_bdir-2491094-Zu3b2v/DBIx-Migration-Directories-0.12-0/blib/lib:/tmp/loop_over_bdir-2491094-Zu3b2v/Devel-Required-0.16-0/blib/arch:/tmp/loop_over_bdir-2491094-Zu3b2v/Devel-Required-0.16-0/blib/lib:/tmp/loop_over_bdir-2491094-Zu3b2v/NoZone-1.3-0/blib/arch:/tmp/loop_over_bdir-2491094-Zu3b2v/NoZone-1.3-0/blib/lib:/tmp/loop_over_bdir-2491094-Zu3b2v/Dpkg-1.21.14-0/blib/arch:/tmp/loop_over_bdir-2491094-Zu3b2v/Dpkg-1.21.14-0/blib/lib
    PERL5OPT = 
    PERL5_CPANPLUS_IS_RUNNING = 2491102
    PERL5_CPAN_IS_RUNNING = 2491102
    PERL_CANARY_STABILITY_NOPROMPT = 1
    PERL_MM_USE_DEFAULT = 1
    PERL_USE_UNSAFE_INC = 1
    SHELL = /usr/bin/zsh
    TERM = screen

Perl special variables (and OS-specific diagnostics, for MSWin32):

    $^X = /tmp/basesmoker-reloperl-i8dx/bin/perl
    $UID/$EUID = 1005 / 1005
    $GID = 1005 1005
    $EGID = 1005 1005

Perl module toolchain versions installed:

    Module              Have    
    ------------------- --------
    CPAN                2.34    
    CPAN::Meta          2.150010
    Cwd                 3.88    
    ExtUtils::CBuilder  0.280238
    ExtUtils::Command   7.66    
    ExtUtils::Install   2.22    
    ExtUtils::MakeMaker 7.66    
    ExtUtils::Manifest  1.73    
    ExtUtils::ParseXS   3.49    
    File::Spec          3.88    
    JSON                4.10    
    JSON::PP            4.16    
    Module::Build       0.4232  
    Module::Signature   0.88    
    Parse::CPAN::Meta   2.150010
    Test::Harness       3.44    
    Test::More          1.302191
    YAML                1.30    
    YAML::Syck          1.34    
    version             0.9929  


--

Summary of my perl5 (revision 5 version 37 subversion 8) configuration:
  Commit id: aaff26e0f2e98dc425f7514531d35dfec6948f6d
  Platform:
    osname=linux
    osvers=5.4.0-137-generic
    archname=x86_64-linux-thread-multi
    uname='linux k93focal 5.4.0-137-generic #154-ubuntu smp thu jan 5 17:03:22 utc 2023 x86_64 x86_64 x86_64 gnulinux '
    config_args='-Dprefix=/home/sand/src/perl/repoperls/installed-perls/host/k93focal/v5.37.8/d119 -Dmyhostname=k93focal -Dinstallusrbinperl=n -Uversiononly -Dusedevel -des -Ui_db -Dlibswanted=cl pthread socket inet nsl gdbm dbm malloc dl ld sun m crypt sec util c cposix posix ucb BSD gdbm_compat -Duseithreads -Uuselongdouble -DEBUGGING=both'
    hint=recommended
    useposix=true
    d_sigaction=define
    useithreads=define
    usemultiplicity=define
    use64bitint=define
    use64bitall=define
    uselongdouble=undef
    usemymalloc=n
    default_inc_excludes_dot=define
  Compiler:
    cc='cc'
    ccflags ='-D_REENTRANT -D_GNU_SOURCE -fwrapv -DDEBUGGING -fno-strict-aliasing -pipe -fstack-protector-strong -I/usr/local/include -D_LARGEFILE_SOURCE -D_FILE_OFFSET_BITS=64'
    optimize='-O2 -g'
    cppflags='-D_REENTRANT -D_GNU_SOURCE -fwrapv -DDEBUGGING -fno-strict-aliasing -pipe -fstack-protector-strong -I/usr/local/include'
    ccversion=''
    gccversion='9.4.0'
    gccosandvers=''
    intsize=4
    longsize=8
    ptrsize=8
    doublesize=8
    byteorder=12345678
    doublekind=3
    d_longlong=define
    longlongsize=8
    d_longdbl=define
    longdblsize=16
    longdblkind=3
    ivtype='long'
    ivsize=8
    nvtype='double'
    nvsize=8
    Off_t='off_t'
    lseeksize=8
    alignbytes=8
    prototype=define
  Linker and Libraries:
    ld='cc'
    ldflags =' -fstack-protector-strong -L/usr/local/lib'
    libpth=/usr/local/lib /usr/lib/x86_64-linux-gnu /usr/lib /usr/lib64
    libs=-lpthread -lnsl -ldl -lm -lcrypt -lutil -lc
    perllibs=-lpthread -lnsl -ldl -lm -lcrypt -lutil -lc
    libc=libc-2.31.so
    so=so
    useshrplib=false
    libperl=libperl.a
    gnulibc_version='2.31'
  Dynamic Linking:
    dlsrc=dl_dlopen.xs
    dlext=so
    d_dlsymun=undef
    ccdlflags='-Wl,-E'
    cccdlflags='-fPIC'
    lddlflags='-shared -O2 -g -L/usr/local/lib -fstack-protector-strong'


Characteristics of this binary (from libperl): 
  Compile-time options:
    DEBUGGING
    HAS_TIMES
    MULTIPLICITY
    PERLIO_LAYERS
    PERL_COPY_ON_WRITE
    PERL_DONT_CREATE_GVSV
    PERL_HASH_FUNC_SIPHASH13
    PERL_HASH_USE_SBOX32
    PERL_MALLOC_WRAP
    PERL_OP_PARENT
    PERL_PRESERVE_IVUV
    PERL_TRACK_MEMPOOL
    PERL_USE_DEVEL
    PERL_USE_SAFE_PUTENV
    USE_64_BIT_ALL
    USE_64_BIT_INT
    USE_ITHREADS
    USE_LARGE_FILES
    USE_LOCALE
    USE_LOCALE_COLLATE
    USE_LOCALE_CTYPE
    USE_LOCALE_NUMERIC
    USE_LOCALE_TIME
    USE_PERLIO
    USE_PERL_ATOF
    USE_REENTRANT_API
    USE_THREAD_SAFE_LOCALE
  Built under linux
  Compiled at Jan 21 2023 06:39:57
  %ENV:
    PERL5LIB="/tmp/loop_over_bdir-2491094-Zu3b2v/DBIx-Migration-Directories-0.12-0/blib/arch:/tmp/loop_over_bdir-2491094-Zu3b2v/DBIx-Migration-Directories-0.12-0/blib/lib:/tmp/loop_over_bdir-2491094-Zu3b2v/Devel-Required-0.16-0/blib/arch:/tmp/loop_over_bdir-2491094-Zu3b2v/Devel-Required-0.16-0/blib/lib:/tmp/loop_over_bdir-2491094-Zu3b2v/NoZone-1.3-0/blib/arch:/tmp/loop_over_bdir-2491094-Zu3b2v/NoZone-1.3-0/blib/lib:/tmp/loop_over_bdir-2491094-Zu3b2v/Dpkg-1.21.14-0/blib/arch:/tmp/loop_over_bdir-2491094-Zu3b2v/Dpkg-1.21.14-0/blib/lib"
    PERL5OPT=""
    PERL5_CPANPLUS_IS_RUNNING="2491102"
    PERL5_CPAN_IS_RUNNING="2491102"
    PERL_CANARY_STABILITY_NOPROMPT="1"
    PERL_MM_USE_DEFAULT="1"
    PERL_USE_UNSAFE_INC="1"
  @INC:
    /tmp/loop_over_bdir-2491094-Zu3b2v/DBIx-Migration-Directories-0.12-0/blib/arch
    /tmp/loop_over_bdir-2491094-Zu3b2v/DBIx-Migration-Directories-0.12-0/blib/lib
    /tmp/loop_over_bdir-2491094-Zu3b2v/Devel-Required-0.16-0/blib/arch
    /tmp/loop_over_bdir-2491094-Zu3b2v/Devel-Required-0.16-0/blib/lib
    /tmp/loop_over_bdir-2491094-Zu3b2v/NoZone-1.3-0/blib/arch
    /tmp/loop_over_bdir-2491094-Zu3b2v/NoZone-1.3-0/blib/lib
    /tmp/loop_over_bdir-2491094-Zu3b2v/Dpkg-1.21.14-0/blib/arch
    /tmp/loop_over_bdir-2491094-Zu3b2v/Dpkg-1.21.14-0/blib/lib
    /home/sand/src/perl/repoperls/installed-perls/host/k93focal/v5.37.8/d119/lib/site_perl/5.37.8/x86_64-linux-thread-multi
    /home/sand/src/perl/repoperls/installed-perls/host/k93focal/v5.37.8/d119/lib/site_perl/5.37.8
    /home/sand/src/perl/repoperls/installed-perls/host/k93focal/v5.37.8/d119/lib/5.37.8/x86_64-linux-thread-multi
    /home/sand/src/perl/repoperls/installed-perls/host/k93focal/v5.37.8/d119/lib/5.37.8
    .