Report for WebService-Zoopla-API-0.001

Back
From: metabase:user:cd035d39-6d5b-1014-ab3a-39c0c09612a1
Subject: PASS WebService-Zoopla-API-0.001 v5.22.1 
Date: 2016-02-06T19:18:38Z

This distribution has been tested as part of the CPAN Testers
project, supporting the Perl programming language.  See
http://wiki.cpantesters.org/ for more information or email
questions to cpan-testers-discuss@perl.org


--
Dear Willem Basson,

This is a computer-generated report for WebService-Zoopla-API-0.001
on perl 5.22.1, created by CPAN-Reporter-1.2015.

Thank you for uploading your work to CPAN.  Congratulations!
All tests were successful.

Sections of this report:

    * Tester comments
    * Program output
    * Prerequisites
    * Environment and other context

------------------------------
TESTER COMMENTS
------------------------------

Additional comments from tester:

this report is from an automated smoke testing program
and was not reviewed by a human for accuracy

------------------------------
PROGRAM OUTPUT
------------------------------

Output from 'C:\strawberry\c\bin\dmake.EXE test':

"C:\Strawberry\perl\bin\perl.exe" "-MExtUtils::Command::MM" "-MTest::Harness" "-e" "undef *Test::Harness::Switches; test_harness(0, 'blib\lib', 'blib\arch')" t/*.t
Passing a list of values to enum is deprecated. Enum values should be wrapped in an arrayref. at C:\cpan\build\Net-HTTP-Spore-0.06-iPTdGm/blib/lib/Net/HTTP/Spore/Meta/Types.pm line 18.
	require Net/HTTP/Spore/Meta/Types.pm called at C:\cpan\build\Net-HTTP-Spore-0.06-iPTdGm/blib/lib/Net/HTTP/Spore/Meta/Method.pm line 16
	Net::HTTP::Spore::Meta::Method::BEGIN() called at C:\cpan\build\Net-HTTP-Spore-0.06-iPTdGm/blib/lib/Net/HTTP/Spore/Meta/Types.pm line 0
	eval {...} called at C:\cpan\build\Net-HTTP-Spore-0.06-iPTdGm/blib/lib/Net/HTTP/Spore/Meta/Types.pm line 0
	require Net/HTTP/Spore/Meta/Method.pm called at C:\cpan\build\Net-HTTP-Spore-0.06-iPTdGm/blib/lib/Net/HTTP/Spore/Meta/Method/Spore.pm line 11
	Net::HTTP::Spore::Meta::Method::Spore::BEGIN() called at C:\cpan\build\Net-HTTP-Spore-0.06-iPTdGm/blib/lib/Net/HTTP/Spore/Meta/Types.pm line 0
	eval {...} called at C:\cpan\build\Net-HTTP-Spore-0.06-iPTdGm/blib/lib/Net/HTTP/Spore/Meta/Types.pm line 0
	require Net/HTTP/Spore/Meta/Method/Spore.pm called at C:/Strawberry/perl/vendor/lib/Module/Runtime.pm line 317
	Module::Runtime::require_module("Net::HTTP::Spore::Meta::Method::Spore") called at C:/Strawberry/perl/vendor/lib/Module/Runtime.pm line 348
	Module::Runtime::use_module("Net::HTTP::Spore::Meta::Method::Spore") called at C:/Strawberry/perl/site/lib/Moose/Util.pm line 147
	Moose::Util::_apply_all_roles(Moose::Meta::Role=HASH(0x14bbfcc), undef, "Net::HTTP::Spore::Meta::Method::Spore") called at C:/Strawberry/perl/site/lib/Moose/Util.pm line 114
	Moose::Util::apply_all_roles(Moose::Meta::Role=HASH(0x14bbfcc), "Net::HTTP::Spore::Meta::Method::Spore") called at C:/Strawberry/perl/site/lib/Moose/Role.pm line 25
	Moose::Role::with(Moose::Meta::Role=HASH(0x14bbfcc), "Net::HTTP::Spore::Meta::Method::Spore") called at C:/Strawberry/perl/site/lib/Moose/Exporter.pm line 419
	Moose::Role::with("Net::HTTP::Spore::Meta::Method::Spore") called at C:\cpan\build\Net-HTTP-Spore-0.06-iPTdGm/blib/lib/Net/HTTP/Spore/Meta/Class.pm line 10
	require Net/HTTP/Spore/Meta/Class.pm called at C:/Strawberry/perl/vendor/lib/Module/Runtime.pm line 317
	Module::Runtime::require_module("Net::HTTP::Spore::Meta::Class") called at C:/Strawberry/perl/vendor/lib/Module/Runtime.pm line 348
	Module::Runtime::use_module("Net::HTTP::Spore::Meta::Class") called at C:/Strawberry/perl/site/lib/Moose/Util.pm line 147
	Moose::Util::_apply_all_roles(Moose::Meta::Class=HASH(0x14bb45c), undef, "Net::HTTP::Spore::Meta::Class") called at C:/Strawberry/perl/site/lib/Moose/Util.pm line 114
	Moose::Util::apply_all_roles(Moose::Meta::Class=HASH(0x14bb45c), "Net::HTTP::Spore::Meta::Class") called at C:/Strawberry/perl/site/lib/Moose/Meta/Class.pm line 89
	Moose::Meta::Class::create("Moose::Meta::Class", "Moose::Meta::Class::__ANON__::SERIAL::1", "weaken", "", "superclasses", ARRAY(0x14b7bcc), "roles", ARRAY(0x14af28c)) called at C:/Strawberry/perl/site/lib/Class/MOP/Package.pm line 120
	Class::MOP::Package::create_anon("Moose::Meta::Class", "superclasses", ARRAY(0x14b7bcc), "roles", ARRAY(0x14af28c), "cache", 1) called at C:/Strawberry/perl/site/lib/Class/MOP/Class.pm line 472
	Class::MOP::Class::create_anon_class("Moose::Meta::Class", "superclasses", ARRAY(0x14b7bcc), "roles", ARRAY(0x14af28c), "cache", 1) called at C:/Strawberry/perl/site/lib/Moose/Util/MetaRole.pm line 108
	Moose::Util::MetaRole::_make_new_class("Moose::Meta::Class", ARRAY(0x14af28c)) called at C:/Strawberry/perl/site/lib/Moose/Util/MetaRole.pm line 53
	Moose::Util::MetaRole::_make_new_metaclass(Moose::Meta::Class=HASH(0x14b7c5c), HASH(0x14a10bc), "class") called at C:/Strawberry/perl/site/lib/Moose/Util/MetaRole.pm line 21
	Moose::Util::MetaRole::apply_metaroles("for", "Net::HTTP::Spore::Core", "class_metaroles", HASH(0x14a10bc)) called at C:\cpan\build\Net-HTTP-Spore-0.06-iPTdGm/blib/lib/Net/HTTP/Spore/Meta.pm line 28
	Net::HTTP::Spore::Meta::init_meta("Net::HTTP::Spore::Meta", "for_class", "Net::HTTP::Spore::Meta::Types", "metaclass", undef, "meta_name", "meta") called at C:/Strawberry/perl/site/lib/Moose/Exporter.pm line 484
	Net::HTTP::Spore::Meta::import("Net::HTTP::Spore::Meta") called at C:\cpan\build\Net-HTTP-Spore-0.06-iPTdGm/blib/lib/Net/HTTP/Spore/Core.pm line 6
	Net::HTTP::Spore::Core::BEGIN() called at C:\cpan\build\Net-HTTP-Spore-0.06-iPTdGm/blib/lib/Net/HTTP/Spore/Meta/Types.pm line 0
	eval {...} called at C:\cpan\build\Net-HTTP-Spore-0.06-iPTdGm/blib/lib/Net/HTTP/Spore/Meta/Types.pm line 0
	require Net/HTTP/Spore/Core.pm called at C:\cpan\build\Net-HTTP-Spore-0.06-iPTdGm/blib/lib/Net/HTTP/Spore.pm line 16
	Net::HTTP::Spore::BEGIN() called at C:\cpan\build\Net-HTTP-Spore-0.06-iPTdGm/blib/lib/Net/HTTP/Spore/Meta/Types.pm line 0
	eval {...} called at C:\cpan\build\Net-HTTP-Spore-0.06-iPTdGm/blib/lib/Net/HTTP/Spore/Meta/Types.pm line 0
	require Net/HTTP/Spore.pm called at lib/WebService/Zoopla/API.pm line 3
	WebService::Zoopla::API::BEGIN() called at C:\cpan\build\Net-HTTP-Spore-0.06-iPTdGm/blib/lib/Net/HTTP/Spore/Meta/Types.pm line 0
	eval {...} called at C:\cpan\build\Net-HTTP-Spore-0.06-iPTdGm/blib/lib/Net/HTTP/Spore/Meta/Types.pm line 0
	require WebService/Zoopla/API.pm called at -e line 1
t/00-compile.t ............... ok
t/01_basic_test.t ............ skipped: Set the following environment variables or these tests are skipped: $ENV{'ZOOPLA_API_KEY'}
t/author-critic.t ............ skipped: these tests are for testing by the author
t/release-dist-manifest.t .... skipped: these tests are for release candidate testing
t/release-distmeta.t ......... skipped: these tests are for release candidate testing
t/release-eol.t .............. skipped: these tests are for release candidate testing
t/release-has-version.t ...... skipped: these tests are for release candidate testing
t/release-kwalitee.t ......... skipped: these tests are for release candidate testing
t/release-minimum-version.t .. skipped: these tests are for release candidate testing
t/release-no-tabs.t .......... skipped: these tests are for release candidate testing
t/release-pod-coverage.t ..... skipped: these tests are for release candidate testing
t/release-pod-syntax.t ....... skipped: these tests are for release candidate testing
t/release-portability.t ...... skipped: these tests are for release candidate testing
t/release-synopsis.t ......... skipped: these tests are for release candidate testing
t/release-unused-vars.t ...... skipped: these tests are for release candidate testing
All tests successful.
Files=15, Tests=1,  7 wallclock secs ( 0.20 usr +  0.06 sys =  0.27 CPU)
Result: PASS

------------------------------
PREREQUISITES
------------------------------

Prerequisite modules loaded:

requires:

    Module              Need Have    
    ------------------- ---- --------
    List::Util          0    1.42    
    Moose               0    2.1604  
    Net::HTTP::Spore    0    0.06    

build_requires:

    Module              Need Have    
    ------------------- ---- --------
    Data::Dumper        0    2.158   
    English             0    1.09    
    File::Find          0    1.29    
    File::Temp          0    0.2304  
    Test::More          0    1.001014
    Test::Most          0    0.34    

configure_requires:

    Module              Need Have    
    ------------------- ---- --------
    ExtUtils::MakeMaker 6.31 7.10    


------------------------------
ENVIRONMENT AND OTHER CONTEXT
------------------------------

Environment variables:

    AUTOMATED_TESTING = 1
    COMSPEC = C:\WINDOWS.0\system32\cmd.exe
    NONINTERACTIVE_TESTING = 1
    NUMBER_OF_PROCESSORS = 1
    PATH = C:\WINDOWS.0\system32;C:\strawberry\c\bin;C:\strawberry\perl\site\bin;C:\strawberry\perl\bin
    PERL5LIB = C:\cpan\build\Net-HTTP-Spore-0.06-iPTdGm/blib/arch;C:\cpan\build\Net-HTTP-Spore-0.06-iPTdGm/blib/lib;C:\cpan\build\MooseX-Types-URI-0.08-O24lEZ/blib/arch;C:\cpan\build\MooseX-Types-URI-0.08-O24lEZ/blib/lib;C:\cpan\build\MooseX-Types-Path-Class-0.08-1hmyYQ/blib/arch;C:\cpan\build\MooseX-Types-Path-Class-0.08-1hmyYQ/blib/lib;C:\cpan\build\MooseX-SimpleConfig-0.11-EzoVSN/blib/arch;C:\cpan\build\MooseX-SimpleConfig-0.11-EzoVSN/blib/lib;C:\cpan\build\MooseX-ConfigFromFile-0.14-g0baSQ/blib/arch;C:\cpan\build\MooseX-ConfigFromFile-0.14-g0baSQ/blib/lib;C:\cpan\build\MooseX-Types-Path-Tiny-0.011-iml_eI/blib/arch;C:\cpan\build\MooseX-Types-Path-Tiny-0.011-iml_eI/blib/lib;C:\cpan\build\MooseX-Types-Stringlike-0.003-IDWGDu/blib/arch;C:\cpan\build\MooseX-Types-Stringlike-0.003-IDWGDu/blib/lib;C:\cpan\build\MooseX-Getopt-0.68-vxyE8z/blib/arch;C:\cpan\build\MooseX-Getopt-0.68-vxyE8z/blib/lib;C:\cpan\build\Getopt-Long-Descriptive-0.099-z1AJSU/blib/arch;C:\cpan\build\Getopt-Long-Descriptive-0.099-z1AJSU/blib/lib;C:\cpan\build\Test-Trap-v0.3.2-d9lA6D/blib/arch;C:\cpan\build\Test-Trap-v0.3.2-d9lA6D/blib/lib;C:\cpan\build\URI-FromHash-0.05-HZME3Z/blib/arch;C:\cpan\build\URI-FromHash-0.05-HZME3Z/blib/lib
    PERL5OPT = 
    PERL5_CPANPLUS_IS_RUNNING = 1092
    PERL5_CPAN_IS_RUNNING = 1092
    PERL5_CPAN_IS_RUNNING_IN_RECURSION = 2856,1092
    PERL_CR_SMOKER_CURRENT = WebService-Zoopla-API-0.001
    PERL_EXTUTILS_AUTOINSTALL = --defaultdeps
    PERL_MM_USE_DEFAULT = 1
    PROCESSOR_IDENTIFIER = x86 Family 6 Model 14 Stepping 8, GenuineIntel
    TEMP = C:\DOKUME~1\smoker\LOKALE~1\Temp
    TERM = dumb

Perl special variables (and OS-specific diagnostics, for MSWin32):

    $^X = C:\Strawberry\perl\bin\perl.exe
    $UID/$EUID = 0 / 0
    $GID = 0
    $EGID = 0
    Win32::GetOSName = WinXP/.Net
    Win32::GetOSVersion = Service Pack 3, 5, 1, 2600, 2, 3, 0, 256, 1
    Win32::FsType = NTFS
    Win32::IsAdminUser = 1

Perl module toolchain versions installed:

    Module              Have    
    ------------------- --------
    CPAN                2.11    
    CPAN::Meta          2.150005
    Cwd                 3.62    
    ExtUtils::CBuilder  0.280224
    ExtUtils::Command   7.10    
    ExtUtils::Install   2.04    
    ExtUtils::MakeMaker 7.10    
    ExtUtils::Manifest  1.70    
    ExtUtils::ParseXS   3.30    
    File::Spec          3.62    
    JSON                2.90    
    JSON::PP            2.27300 
    Module::Build       0.4216  
    Module::Signature   0.79    
    Parse::CPAN::Meta   1.4417  
    Test::Harness       3.36    
    Test::More          1.001014
    YAML                1.15    
    YAML::Syck          n/a     
    version             0.9912  


--

Summary of my perl5 (revision 5 version 22 subversion 1) configuration:
   
  Platform:
    osname=MSWin32, osvers=6.3, archname=MSWin32-x86-multi-thread-64int
    uname='Win32 strawberry-perl 5.22.1.2 #1 Wed Jan  6 13:49:46 2016 i386'
    config_args='undef'
    hint=recommended, useposix=true, d_sigaction=undef
    useithreads=define, usemultiplicity=define
    use64bitint=define, use64bitall=undef, uselongdouble=undef
    usemymalloc=n, bincompat5005=undef
  Compiler:
    cc='gcc', ccflags =' -s -O2 -DWIN32  -DPERL_TEXTMODE_SCRIPTS -DPERL_IMPLICIT_CONTEXT -DPERL_IMPLICIT_SYS -fwrapv -fno-strict-aliasing -mms-bitfields',
    optimize='-s -O2',
    cppflags='-DWIN32'
    ccversion='', gccversion='4.9.2', gccosandvers=''
    intsize=4, longsize=4, ptrsize=4, doublesize=8, byteorder=12345678, doublekind=3
    d_longlong=define, longlongsize=8, d_longdbl=define, longdblsize=12, longdblkind=3
    ivtype='long long', ivsize=8, nvtype='double', nvsize=8, Off_t='long long', lseeksize=8
    alignbytes=8, prototype=define
  Linker and Libraries:
    ld='g++', ldflags ='-s -L"C:\STRAWB~1\perl\lib\CORE" -L"C:\STRAWB~1\c\lib"'
    libpth=C:\STRAWB~1\c\lib C:\STRAWB~1\c\i686-w64-mingw32\lib C:\STRAWB~1\c\lib\gcc\i686-w64-mingw32\4.9.2
    libs=-lmoldname -lkernel32 -luser32 -lgdi32 -lwinspool -lcomdlg32 -ladvapi32 -lshell32 -lole32 -loleaut32 -lnetapi32 -luuid -lws2_32 -lmpr -lwinmm -lversion -lodbc32 -lodbccp32 -lcomctl32
    perllibs=-lmoldname -lkernel32 -luser32 -lgdi32 -lwinspool -lcomdlg32 -ladvapi32 -lshell32 -lole32 -loleaut32 -lnetapi32 -luuid -lws2_32 -lmpr -lwinmm -lversion -lodbc32 -lodbccp32 -lcomctl32
    libc=, so=dll, useshrplib=true, libperl=libperl522.a
    gnulibc_version=''
  Dynamic Linking:
    dlsrc=dl_win32.xs, dlext=xs.dll, d_dlsymun=undef, ccdlflags=' '
    cccdlflags=' ', lddlflags='-mdll -s -L"C:\STRAWB~1\perl\lib\CORE" -L"C:\STRAWB~1\c\lib"'


Characteristics of this binary (from libperl): 
  Compile-time options: HAS_TIMES HAVE_INTERP_INTERN MULTIPLICITY
                        PERLIO_LAYERS PERL_DONT_CREATE_GVSV
                        PERL_HASH_FUNC_ONE_AT_A_TIME_HARD
                        PERL_IMPLICIT_CONTEXT PERL_IMPLICIT_SYS
                        PERL_MALLOC_WRAP PERL_NEW_COPY_ON_WRITE
                        PERL_PRESERVE_IVUV USE_64_BIT_INT USE_ITHREADS
                        USE_LARGE_FILES USE_LOCALE USE_LOCALE_COLLATE
                        USE_LOCALE_CTYPE USE_LOCALE_NUMERIC USE_LOCALE_TIME
                        USE_PERLIO USE_PERL_ATOF
  Built under MSWin32
  Compiled at Jan  6 2016 13:55:01
  %ENV:
    PERL5LIB="C:\cpan\build\Net-HTTP-Spore-0.06-iPTdGm/blib/arch;C:\cpan\build\Net-HTTP-Spore-0.06-iPTdGm/blib/lib;C:\cpan\build\MooseX-Types-URI-0.08-O24lEZ/blib/arch;C:\cpan\build\MooseX-Types-URI-0.08-O24lEZ/blib/lib;C:\cpan\build\MooseX-Types-Path-Class-0.08-1hmyYQ/blib/arch;C:\cpan\build\MooseX-Types-Path-Class-0.08-1hmyYQ/blib/lib;C:\cpan\build\MooseX-SimpleConfig-0.11-EzoVSN/blib/arch;C:\cpan\build\MooseX-SimpleConfig-0.11-EzoVSN/blib/lib;C:\cpan\build\MooseX-ConfigFromFile-0.14-g0baSQ/blib/arch;C:\cpan\build\MooseX-ConfigFromFile-0.14-g0baSQ/blib/lib;C:\cpan\build\MooseX-Types-Path-Tiny-0.011-iml_eI/blib/arch;C:\cpan\build\MooseX-Types-Path-Tiny-0.011-iml_eI/blib/lib;C:\cpan\build\MooseX-Types-Stringlike-0.003-IDWGDu/blib/arch;C:\cpan\build\MooseX-Types-Stringlike-0.003-IDWGDu/blib/lib;C:\cpan\build\MooseX-Getopt-0.68-vxyE8z/blib/arch;C:\cpan\build\MooseX-Getopt-0.68-vxyE8z/blib/lib;C:\cpan\build\Getopt-Long-Descriptive-0.099-z1AJSU/blib/arch;C:\cpan\build\Getopt-Long-Descriptive-0.099-z1AJSU/blib/lib;C:\cpan\build\Test-Trap-v0.3.2-d9lA6D/blib/arch;C:\cpan\build\Test-Trap-v0.3.2-d9lA6D/blib/lib;C:\cpan\build\URI-FromHash-0.05-HZME3Z/blib/arch;C:\cpan\build\URI-FromHash-0.05-HZME3Z/blib/lib"
    PERL5_CPANPLUS_IS_RUNNING="1092"
    PERL5_CPAN_IS_RUNNING="1092"
    PERL5_CPAN_IS_RUNNING_IN_RECURSION="2856,1092"
    PERL_CR_SMOKER_CURRENT="WebService-Zoopla-API-0.001"
    PERL_EXTUTILS_AUTOINSTALL="--defaultdeps"
    PERL_MM_USE_DEFAULT="1"
  @INC:
    C:\cpan\build\Net-HTTP-Spore-0.06-iPTdGm/blib/arch
    C:\cpan\build\Net-HTTP-Spore-0.06-iPTdGm/blib/lib
    C:\cpan\build\MooseX-Types-URI-0.08-O24lEZ/blib/arch
    C:\cpan\build\MooseX-Types-URI-0.08-O24lEZ/blib/lib
    C:\cpan\build\MooseX-Types-Path-Class-0.08-1hmyYQ/blib/arch
    C:\cpan\build\MooseX-Types-Path-Class-0.08-1hmyYQ/blib/lib
    C:\cpan\build\MooseX-SimpleConfig-0.11-EzoVSN/blib/arch
    C:\cpan\build\MooseX-SimpleConfig-0.11-EzoVSN/blib/lib
    C:\cpan\build\MooseX-ConfigFromFile-0.14-g0baSQ/blib/arch
    C:\cpan\build\MooseX-ConfigFromFile-0.14-g0baSQ/blib/lib
    C:\cpan\build\MooseX-Types-Path-Tiny-0.011-iml_eI/blib/arch
    C:\cpan\build\MooseX-Types-Path-Tiny-0.011-iml_eI/blib/lib
    C:\cpan\build\MooseX-Types-Stringlike-0.003-IDWGDu/blib/arch
    C:\cpan\build\MooseX-Types-Stringlike-0.003-IDWGDu/blib/lib
    C:\cpan\build\MooseX-Getopt-0.68-vxyE8z/blib/arch
    C:\cpan\build\MooseX-Getopt-0.68-vxyE8z/blib/lib
    C:\cpan\build\Getopt-Long-Descriptive-0.099-z1AJSU/blib/arch
    C:\cpan\build\Getopt-Long-Descriptive-0.099-z1AJSU/blib/lib
    C:\cpan\build\Test-Trap-v0.3.2-d9lA6D/blib/arch
    C:\cpan\build\Test-Trap-v0.3.2-d9lA6D/blib/lib
    C:\cpan\build\URI-FromHash-0.05-HZME3Z/blib/arch
    C:\cpan\build\URI-FromHash-0.05-HZME3Z/blib/lib
    C:/Strawberry/perl/site/lib
    C:/Strawberry/perl/vendor/lib
    C:/Strawberry/perl/lib
    .